{"text_format":"1","workbook":"xlsx","n_sheets":8,"sheets":["Instructions","Scenario Data","Alternative Calibration","SRC & Scaling Factors","Extrapolation","2020 Review Term Structures","RfrAltConfig","Shocks"],"not_rendered":{"charts":7,"images":2,"macros":1,"external_links":1,"defined_names":62,"comments":0,"pivot_tables":0},"unopened":[],"bounds":{"document_bytes":16777216,"sheet_cells":100000,"rows_first":2000,"rows_last":500,"rows_between":2000,"halvings":0,"cell_chars":16384,"cell_head_chars":4096},"cells_cut":0,"cells_raw":0,"read":"whole","date_system":"1900"}

{"sheet":"Instructions","index":0,"n_rows":34,"n_cols":9,"rows_kept":34,"cut":false,"hidden":false,"merged":[]}
[]
[]
[]
[]
[]
[]
[null,"This workbook sets out amended risk-free interest rate term structures:"]
[]
[null,"Worksheet \"Scenario Data\""]
[null,"Scenario 1: CP interest rate risk shocks based on LLP 20Y"]
[null,"Scenario 2: Current SCR interest rate risk shocks"]
[]
[null,"Worksheet \"Alternative Calibration\""]
[null,"Alternative Calibration 1: Like scenario 1, but with a constant floor at -1.25% for the down shock"]
[null,"Alternative Calibration 2: Like scenario 1, but alternative shocks in case the FSP is less than 15Y"]
[]
[null,"Worksheet \"SRC & Scaling Factors\""]
[null,"Risk-corrected currency spreads and scaling factors"]
[]
[]
[null,"Inputs are provided for integer term maturities"]
[]
[null,"Undertakings shall apply appropriate interpolation techniques for discounting inter-annual cash flows"]
[]
[]
[]
[]
[]
[null,"Log of changes",null,null,null,null,null,null,"Amendments"]
[]
[null,"Version"]
[null,"v1.0 (02-03-2020)",null,null,null,null,null,null,"-"]
[null,"v1.1 (05-03-2020)",null,null,null,null,null,null,"Scenario 2 shocks were updated"]
[null,"v1.2 (01-04-2020)",null,null,null,null,null,null,"Alternative Calibration 2 with VA - Up Shock was updated for currencies with a FSP less than 15Y"]

{"sheet":"Scenario Data","index":1,"n_rows":162,"n_cols":26,"rows_kept":162,"cut":false,"hidden":false,"merged":[[5,9,5,10],[6,9,6,10],[10,1,10,5],[10,7,10,11]]}
[]
[]
[]
[]
[]
[null,null,null,null,null,null,null,null,null,"EUR"]
[null,null,null,null,null,null,null,null,null,15]
[]
[]
[]
[null,"NO volatility adjustment",null,null,null,null,null,"WITH volatility adjustment"]
[null,"Alternative Extrapolation Method RFR","Scenario 1- Up Shock","Scenario 1 - Down Shock","Scenario 2 - Up Shock","Scenario 2 - Down Shock",null,"Alternative Extrapolation Method RFR","Scenario 1 - Up Shock","Scenario 1 - Down Shock","Scenario 2 - Up Shock","Scenario 2 - Down Shock"]
[1,{"$f":"BaseCurve","v":-4.1609999999998593E-3},{"$f":"ROUND(B13*(1+Shocks!H12)+Shocks!I12,5)","v":1.47E-2},{"$f":"ROUND(B13*(1-Shocks!F12)-Shocks!G12,5)","v":-1.3350000000000001E-2},{"$f":"ROUND(B13 + MAX(0.01,Shocks!E12*ABS(B13) ),5)","v":5.8399999999999997E-3},{"$f":"ROUND(IF(B13<0,B13, B13 - Shocks!D12 * ABS(B13)),5)","v":-4.1599999999999996E-3},null,{"$f":"BaseCurveWithVA","v":-2.6672414999997507E-3},{"$f":"ROUND(B13*(1+Shocks!H12)+Shocks!I12,5)+Extrapolation!T15","v":1.6193758500000106E-2},{"$f":"ROUND(B13*(1-Shocks!F12)-Shocks!G12,5)+Extrapolation!T15","v":-1.1856241499999892E-2},{"$f":"ROUND(B13 + MAX(0.01,Shocks!E12*ABS(B13) )+Extrapolation!T15, 5)","v":7.3299999999999997E-3},{"$f":"ROUND(IF(B13<0,B13, B13 - Shocks!D12 * ABS(B13))+Extrapolation!T15, 5)","v":-2.6700000000000001E-3},null,null,null,null,null,null,null,null,null,null,null,null,"Czech Republic",1]
[2,-3.9354447556139149E-3,{"$f":"ROUND(B14*(1+Shocks!H13)+Shocks!I13,5)","v":1.2579999999999999E-2},{"$f":"ROUND(B14*(1-Shocks!F13)-Shocks!G13,5)","v":-1.183E-2},{"$f":"ROUND(B14 + MAX(0.01,Shocks!E13*ABS(B14) ),5)","v":6.0600000000000003E-3},{"$f":"ROUND(IF(B14<0,B14, B14 - Shocks!D13 * ABS(B14)),5)","v":-3.9399999999999999E-3},null,-2.4413479227473056E-3,{"$f":"ROUND(B14*(1+Shocks!H13)+Shocks!I13,5)+Extrapolation!T16","v":1.4074096832866608E-2},{"$f":"ROUND(B14*(1-Shocks!F13)-Shocks!G13,5)+Extrapolation!T16","v":-1.0335903167133391E-2},{"$f":"ROUND(B14 + MAX(0.01,Shocks!E13*ABS(B14) )+Extrapolation!T16, 5)","v":7.5599999999999999E-3},{"$f":"ROUND(IF(B14<0,B14, B14 - Shocks!D13 * ABS(B14))+Extrapolation!T16, 5)","v":-2.4399999999999999E-3},null,null,null,null,null,null,null,null,null,null,null,null,"Hungary",2]
[3,-3.3821302804601938E-3,{"$f":"ROUND(B15*(1+Shocks!H14)+Shocks!I14,5)","v":1.2160000000000001E-2},{"$f":"ROUND(B15*(1-Shocks!F14)-Shocks!G14,5)","v":-1.0189999999999999E-2},{"$f":"ROUND(B15 + MAX(0.01,Shocks!E14*ABS(B15) ),5)","v":6.62E-3},{"$f":"ROUND(IF(B15<0,B15, B15 - Shocks!D14 * ABS(B15)),5)","v":-3.3800000000000002E-3},null,-1.8872034758807832E-3,{"$f":"ROUND(B15*(1+Shocks!H14)+Shocks!I14,5)+Extrapolation!T17","v":1.3654926804579411E-2},{"$f":"ROUND(B15*(1-Shocks!F14)-Shocks!G14,5)+Extrapolation!T17","v":-8.6950731954205888E-3},{"$f":"ROUND(B15 + MAX(0.01,Shocks!E14*ABS(B15) )+Extrapolation!T17, 5)","v":8.1099999999999992E-3},{"$f":"ROUND(IF(B15<0,B15, B15 - Shocks!D14 * ABS(B15))+Extrapolation!T17, 5)","v":-1.89E-3},null,null,null,null,null,null,null,null,null,null,null,null,"Poland",3]
[4,-2.7489134307021601E-3,{"$f":"ROUND(B16*(1+Shocks!H15)+Shocks!I15,5)","v":1.209E-2},{"$f":"ROUND(B16*(1-Shocks!F15)-Shocks!G15,5)","v":-9.0500000000000008E-3},{"$f":"ROUND(B16 + MAX(0.01,Shocks!E15*ABS(B16) ),5)","v":7.2500000000000004E-3},{"$f":"ROUND(IF(B16<0,B16, B16 - Shocks!D15 * ABS(B16)),5)","v":-2.7499999999999998E-3},null,-1.2530368008482062E-3,{"$f":"ROUND(B16*(1+Shocks!H15)+Shocks!I15,5)+Extrapolation!T18","v":1.3585876629853954E-2},{"$f":"ROUND(B16*(1-Shocks!F15)-Shocks!G15,5)+Extrapolation!T18","v":-7.5541233701460469E-3},{"$f":"ROUND(B16 + MAX(0.01,Shocks!E15*ABS(B16) )+Extrapolation!T18, 5)","v":8.7500000000000008E-3},{"$f":"ROUND(IF(B16<0,B16, B16 - Shocks!D15 * ABS(B16))+Extrapolation!T18, 5)","v":-1.25E-3},null,null,null,null,null,null,null,null,null,null,null,null,"Romania",4]
[5,-2.1999221839471561E-3,{"$f":"ROUND(B17*(1+Shocks!H16)+Shocks!I16,5)","v":1.261E-2},{"$f":"ROUND(B17*(1-Shocks!F16)-Shocks!G16,5)","v":-8.4200000000000004E-3},{"$f":"ROUND(B17 + MAX(0.01,Shocks!E16*ABS(B17) ),5)","v":7.7999999999999996E-3},{"$f":"ROUND(IF(B17<0,B17, B17 - Shocks!D16 * ABS(B17)),5)","v":-2.2000000000000001E-3},null,-7.032220672230638E-4,{"$f":"ROUND(B17*(1+Shocks!H16)+Shocks!I16,5)+Extrapolation!T19","v":1.4106700116724092E-2},{"$f":"ROUND(B17*(1-Shocks!F16)-Shocks!G16,5)+Extrapolation!T19","v":-6.9232998832759081E-3},{"$f":"ROUND(B17 + MAX(0.01,Shocks!E16*ABS(B17) )+Extrapolation!T19, 5)","v":9.2999999999999992E-3},{"$f":"ROUND(IF(B17<0,B17, B17 - Shocks!D16 * ABS(B17))+Extrapolation!T19, 5)","v":-6.9999999999999999E-4},null,null,null,null,null,null,null,null,null,null,null,null,"Switzerland",5]
[6,-1.670325243930515E-3,{"$f":"ROUND(B18*(1+Shocks!H17)+Shocks!I17,5)","v":1.204E-2},{"$f":"ROUND(B18*(1-Shocks!F17)-Shocks!G17,5)","v":-7.7400000000000004E-3},{"$f":"ROUND(B18 + MAX(0.01,Shocks!E17*ABS(B18) ),5)","v":8.3300000000000006E-3},{"$f":"ROUND(IF(B18<0,B18, B18 - Shocks!D17 * ABS(B18)),5)","v":-1.67E-3},null,-1.7283073179630293E-4,{"$f":"ROUND(B18*(1+Shocks!H17)+Shocks!I17,5)+Extrapolation!T20","v":1.3537494512134212E-2},{"$f":"ROUND(B18*(1-Shocks!F17)-Shocks!G17,5)+Extrapolation!T20","v":-6.2425054878657883E-3},{"$f":"ROUND(B18 + MAX(0.01,Shocks!E17*ABS(B18) )+Extrapolation!T20, 5)","v":9.8300000000000002E-3},{"$f":"ROUND(IF(B18<0,B18, B18 - Shocks!D17 * ABS(B18))+Extrapolation!T20, 5)","v":-1.7000000000000001E-4},null,null,null,null,null,null,null,null,null,null,null,null,"United States",6]
[7,-8.4439680119796634E-4,{"$f":"ROUND(B19*(1+Shocks!H18)+Shocks!I18,5)","v":1.184E-2},{"$f":"ROUND(B19*(1-Shocks!F18)-Shocks!G18,5)","v":-6.8300000000000001E-3},{"$f":"ROUND(B19 + MAX(0.01,Shocks!E18*ABS(B19) ),5)","v":9.1599999999999997E-3},{"$f":"ROUND(IF(B19<0,B19, B19 - Shocks!D18 * ABS(B19)),5)","v":-8.4000000000000003E-4},null,6.5433660360025847E-4,{"$f":"ROUND(B19*(1+Shocks!H18)+Shocks!I18,5)+Extrapolation!T21","v":1.3338733404798225E-2},{"$f":"ROUND(B19*(1-Shocks!F18)-Shocks!G18,5)+Extrapolation!T21","v":-5.3312665952017753E-3},{"$f":"ROUND(B19 + MAX(0.01,Shocks!E18*ABS(B19) )+Extrapolation!T21, 5)","v":1.065E-2},{"$f":"ROUND(IF(B19<0,B19, B19 - Shocks!D18 * ABS(B19))+Extrapolation!T21, 5)","v":6.4999999999999997E-4}]
[8,-1.8124524932772168E-4,{"$f":"ROUND(B20*(1+Shocks!H19)+Shocks!I19,5)","v":1.166E-2},{"$f":"ROUND(B20*(1-Shocks!F19)-Shocks!G19,5)","v":-6.3099999999999996E-3},{"$f":"ROUND(B20 + MAX(0.01,Shocks!E19*ABS(B20) ),5)","v":9.8200000000000006E-3},{"$f":"ROUND(IF(B20<0,B20, B20 - Shocks!D19 * ABS(B20)),5)","v":-1.8000000000000001E-4},null,1.3184828827983441E-3,{"$f":"ROUND(B20*(1+Shocks!H19)+Shocks!I19,5)+Extrapolation!T22","v":1.3159728132126066E-2},{"$f":"ROUND(B20*(1-Shocks!F19)-Shocks!G19,5)+Extrapolation!T22","v":-4.8102718678739338E-3},{"$f":"ROUND(B20 + MAX(0.01,Shocks!E19*ABS(B20) )+Extrapolation!T22, 5)","v":1.132E-2},{"$f":"ROUND(IF(B20<0,B20, B20 - Shocks!D19 * ABS(B20))+Extrapolation!T22, 5)","v":1.32E-3}]
[9,4.6402653194910215E-4,{"$f":"ROUND(B21*(1+Shocks!H20)+Shocks!I20,5)","v":1.1809999999999999E-2},{"$f":"ROUND(B21*(1-Shocks!F20)-Shocks!G20,5)","v":-5.8199999999999997E-3},{"$f":"ROUND(B21 + MAX(0.01,Shocks!E20*ABS(B21) ),5)","v":1.0460000000000001E-2},{"$f":"ROUND(IF(B21<0,B21, B21 - Shocks!D20 * ABS(B21)),5)","v":3.1E-4},null,1.9647225717471795E-3,{"$f":"ROUND(B21*(1+Shocks!H20)+Shocks!I20,5)+Extrapolation!T23","v":1.3310696039798077E-2},{"$f":"ROUND(B21*(1-Shocks!F20)-Shocks!G20,5)+Extrapolation!T23","v":-4.3193039602019223E-3},{"$f":"ROUND(B21 + MAX(0.01,Shocks!E20*ABS(B21) )+Extrapolation!T23, 5)","v":1.196E-2},{"$f":"ROUND(IF(B21<0,B21, B21 - Shocks!D20 * ABS(B21))+Extrapolation!T23, 5)","v":1.81E-3}]
[10,1.122066320614179E-3,{"$f":"ROUND(B22*(1+Shocks!H21)+Shocks!I21,5)","v":1.196E-2},{"$f":"ROUND(B22*(1-Shocks!F21)-Shocks!G21,5)","v":-5.4299999999999999E-3},{"$f":"ROUND(B22 + MAX(0.01,Shocks!E21*ABS(B22) ),5)","v":1.112E-2},{"$f":"ROUND(IF(B22<0,B22, B22 - Shocks!D21 * ABS(B22)),5)","v":7.6999999999999996E-4},null,2.6237494200951339E-3,{"$f":"ROUND(B22*(1+Shocks!H21)+Shocks!I21,5)+Extrapolation!T24","v":1.3461683099480955E-2},{"$f":"ROUND(B22*(1-Shocks!F21)-Shocks!G21,5)+Extrapolation!T24","v":-3.928316900519045E-3},{"$f":"ROUND(B22 + MAX(0.01,Shocks!E21*ABS(B22) )+Extrapolation!T24, 5)","v":1.2619999999999999E-2},{"$f":"ROUND(IF(B22<0,B22, B22 - Shocks!D21 * ABS(B22))+Extrapolation!T24, 5)","v":2.2799999999999999E-3}]
[11,1.5688248540970395E-3,{"$f":"ROUND(B23*(1+Shocks!H22)+Shocks!I22,5)","v":1.2540000000000001E-2},{"$f":"ROUND(B23*(1-Shocks!F22)-Shocks!G22,5)","v":-5.0699999999999999E-3},{"$f":"ROUND(B23 + MAX(0.01,Shocks!E22*ABS(B23) ),5)","v":1.157E-2},{"$f":"ROUND(IF(B23<0,B23, B23 - Shocks!D22 * ABS(B23)),5)","v":1.1000000000000001E-3},null,3.071178091378135E-3,{"$f":"ROUND(B23*(1+Shocks!H22)+Shocks!I22,5)+Extrapolation!T25","v":1.4042353237281096E-2},{"$f":"ROUND(B23*(1-Shocks!F22)-Shocks!G22,5)+Extrapolation!T25","v":-3.5676467627189044E-3},{"$f":"ROUND(B23 + MAX(0.01,Shocks!E22*ABS(B23) )+Extrapolation!T25, 5)","v":1.307E-2},{"$f":"ROUND(IF(B23<0,B23, B23 - Shocks!D22 * ABS(B23))+Extrapolation!T25, 5)","v":2.5999999999999999E-3}]
[12,2.2326333432145518E-3,{"$f":"ROUND(B24*(1+Shocks!H23)+Shocks!I23,5)","v":1.34E-2},{"$f":"ROUND(B24*(1-Shocks!F23)-Shocks!G23,5)","v":-4.7099999999999998E-3},{"$f":"ROUND(B24 + MAX(0.01,Shocks!E23*ABS(B24) ),5)","v":1.223E-2},{"$f":"ROUND(IF(B24<0,B24, B24 - Shocks!D23 * ABS(B24)),5)","v":1.5900000000000001E-3},null,3.7359822932294673E-3,{"$f":"ROUND(B24*(1+Shocks!H23)+Shocks!I23,5)+Extrapolation!T26","v":1.4903348950014916E-2},{"$f":"ROUND(B24*(1-Shocks!F23)-Shocks!G23,5)+Extrapolation!T26","v":-3.2066510499850842E-3},{"$f":"ROUND(B24 + MAX(0.01,Shocks!E23*ABS(B24) )+Extrapolation!T26, 5)","v":1.374E-2},{"$f":"ROUND(IF(B24<0,B24, B24 - Shocks!D23 * ABS(B24))+Extrapolation!T26, 5)","v":3.0899999999999999E-3}]
[13,2.8385089567781741E-3,{"$f":"ROUND(B25*(1+Shocks!H24)+Shocks!I24,5)","v":1.4189999999999999E-2},{"$f":"ROUND(B25*(1-Shocks!F24)-Shocks!G24,5)","v":-4.28E-3},{"$f":"ROUND(B25 + MAX(0.01,Shocks!E24*ABS(B25) ),5)","v":1.2840000000000001E-2},{"$f":"ROUND(IF(B25<0,B25, B25 - Shocks!D24 * ABS(B25)),5)","v":2.0400000000000001E-3},null,4.3427667202133868E-3,{"$f":"ROUND(B25*(1+Shocks!H24)+Shocks!I24,5)+Extrapolation!T27","v":1.5694257763435214E-2},{"$f":"ROUND(B25*(1-Shocks!F24)-Shocks!G24,5)+Extrapolation!T27","v":-2.7757422365647872E-3},{"$f":"ROUND(B25 + MAX(0.01,Shocks!E24*ABS(B25) )+Extrapolation!T27, 5)","v":1.434E-2},{"$f":"ROUND(IF(B25<0,B25, B25 - Shocks!D24 * ABS(B25))+Extrapolation!T27, 5)","v":3.5500000000000002E-3}]
[14,3.1358205381835091E-3,{"$f":"ROUND(B26*(1+Shocks!H25)+Shocks!I25,5)","v":1.4250000000000001E-2},{"$f":"ROUND(B26*(1-Shocks!F25)-Shocks!G25,5)","v":-4.0400000000000002E-3},{"$f":"ROUND(B26 + MAX(0.01,Shocks!E25*ABS(B26) ),5)","v":1.3140000000000001E-2},{"$f":"ROUND(IF(B26<0,B26, B26 - Shocks!D25 * ABS(B26)),5)","v":2.2599999999999999E-3},null,4.6405242689908643E-3,{"$f":"ROUND(B26*(1+Shocks!H25)+Shocks!I25,5)+Extrapolation!T28","v":1.5754703730807354E-2},{"$f":"ROUND(B26*(1-Shocks!F25)-Shocks!G25,5)+Extrapolation!T28","v":-2.535296269192645E-3},{"$f":"ROUND(B26 + MAX(0.01,Shocks!E25*ABS(B26) )+Extrapolation!T28, 5)","v":1.464E-2},{"$f":"ROUND(IF(B26<0,B26, B26 - Shocks!D25 * ABS(B26))+Extrapolation!T28, 5)","v":3.7599999999999999E-3}]
[15,3.7481006814281681E-3,{"$f":"ROUND(B27*(1+Shocks!H26)+Shocks!I26,5)","v":1.46E-2},{"$f":"ROUND(B27*(1-Shocks!F26)-Shocks!G26,5)","v":-3.64E-3},{"$f":"ROUND(B27 + MAX(0.01,Shocks!E26*ABS(B27) ),5)","v":1.375E-2},{"$f":"ROUND(IF(B27<0,B27, B27 - Shocks!D26 * ABS(B27)),5)","v":2.7399999999999998E-3},null,5.2537228324502916E-3,{"$f":"ROUND(B27*(1+Shocks!H26)+Shocks!I26,5)+Extrapolation!T29","v":1.6105622151022125E-2},{"$f":"ROUND(B27*(1-Shocks!F26)-Shocks!G26,5)+Extrapolation!T29","v":-2.1343778489778765E-3},{"$f":"ROUND(B27 + MAX(0.01,Shocks!E26*ABS(B27) )+Extrapolation!T29, 5)","v":1.525E-2},{"$f":"ROUND(IF(B27<0,B27, B27 - Shocks!D26 * ABS(B27))+Extrapolation!T29, 5)","v":4.2399999999999998E-3}]
[16,4.0915960479630531E-3,{"$f":"ROUND(B28*(1+Shocks!H27)+Shocks!I27,5)","v":1.504E-2},{"$f":"ROUND(B28*(1-Shocks!F27)-Shocks!G27,5)","v":-3.4299999999999999E-3},{"$f":"ROUND(B28 + MAX(0.01,Shocks!E27*ABS(B28) ),5)","v":1.409E-2},{"$f":"ROUND(IF(B28<0,B28, B28 - Shocks!D27 * ABS(B28)),5)","v":2.9499999999999999E-3},null,5.5977334420349578E-3,{"$f":"ROUND(B28*(1+Shocks!H27)+Shocks!I27,5)+Extrapolation!T30","v":1.6546137394071903E-2},{"$f":"ROUND(B28*(1-Shocks!F27)-Shocks!G27,5)+Extrapolation!T30","v":-1.9238626059280952E-3},{"$f":"ROUND(B28 + MAX(0.01,Shocks!E27*ABS(B28) )+Extrapolation!T30, 5)","v":1.5599999999999999E-2},{"$f":"ROUND(IF(B28<0,B28, B28 - Shocks!D27 * ABS(B28))+Extrapolation!T30, 5)","v":4.45E-3}]
[17,4.3947778117132685E-3,{"$f":"ROUND(B29*(1+Shocks!H28)+Shocks!I28,5)","v":1.508E-2},{"$f":"ROUND(B29*(1-Shocks!F28)-Shocks!G28,5)","v":-3.2100000000000002E-3},{"$f":"ROUND(B29 + MAX(0.01,Shocks!E28*ABS(B29) ),5)","v":1.439E-2},{"$f":"ROUND(IF(B29<0,B29, B29 - Shocks!D28 * ABS(B29)),5)","v":3.16E-3},null,5.901369978430937E-3,{"$f":"ROUND(B29*(1+Shocks!H28)+Shocks!I28,5)+Extrapolation!T31","v":1.6586592166717668E-2},{"$f":"ROUND(B29*(1-Shocks!F28)-Shocks!G28,5)+Extrapolation!T31","v":-1.7034078332823317E-3},{"$f":"ROUND(B29 + MAX(0.01,Shocks!E28*ABS(B29) )+Extrapolation!T31, 5)","v":1.5900000000000001E-2},{"$f":"ROUND(IF(B29<0,B29, B29 - Shocks!D28 * ABS(B29))+Extrapolation!T31, 5)","v":4.6699999999999997E-3}]
[18,4.6643495642373356E-3,{"$f":"ROUND(B30*(1+Shocks!H29)+Shocks!I29,5)","v":1.498E-2},{"$f":"ROUND(B30*(1-Shocks!F29)-Shocks!G29,5)","v":-3.0200000000000001E-3},{"$f":"ROUND(B30 + MAX(0.01,Shocks!E29*ABS(B30) ),5)","v":1.4659999999999999E-2},{"$f":"ROUND(IF(B30<0,B30, B30 - Shocks!D29 * ABS(B30)),5)","v":3.3600000000000001E-3},null,6.1713460885837179E-3,{"$f":"ROUND(B30*(1+Shocks!H29)+Shocks!I29,5)+Extrapolation!T32","v":1.6486996524346383E-2},{"$f":"ROUND(B30*(1-Shocks!F29)-Shocks!G29,5)+Extrapolation!T32","v":-1.5130034756536178E-3},{"$f":"ROUND(B30 + MAX(0.01,Shocks!E29*ABS(B30) )+Extrapolation!T32, 5)","v":1.617E-2},{"$f":"ROUND(IF(B30<0,B30, B30 - Shocks!D29 * ABS(B30))+Extrapolation!T32, 5)","v":4.8700000000000002E-3}]
[19,4.9056066701973489E-3,{"$f":"ROUND(B31*(1+Shocks!H30)+Shocks!I30,5)","v":1.528E-2},{"$f":"ROUND(B31*(1-Shocks!F30)-Shocks!G30,5)","v":-2.7000000000000001E-3},{"$f":"ROUND(B31 + MAX(0.01,Shocks!E30*ABS(B31) ),5)","v":1.491E-2},{"$f":"ROUND(IF(B31<0,B31, B31 - Shocks!D30 * ABS(B31)),5)","v":3.48E-3},null,6.412965080202726E-3,{"$f":"ROUND(B31*(1+Shocks!H30)+Shocks!I30,5)+Extrapolation!T33","v":1.6787358410005379E-2},{"$f":"ROUND(B31*(1-Shocks!F30)-Shocks!G30,5)+Extrapolation!T33","v":-1.192641589994623E-3},{"$f":"ROUND(B31 + MAX(0.01,Shocks!E30*ABS(B31) )+Extrapolation!T33, 5)","v":1.6410000000000001E-2},{"$f":"ROUND(IF(B31<0,B31, B31 - Shocks!D30 * ABS(B31))+Extrapolation!T33, 5)","v":4.9899999999999996E-3}]
[20,5.1227875993873351E-3,{"$f":"ROUND(B32*(1+Shocks!H31)+Shocks!I31,5)","v":1.52E-2},{"$f":"ROUND(B32*(1-Shocks!F31)-Shocks!G31,5)","v":-2.4399999999999999E-3},{"$f":"ROUND(B32 + MAX(0.01,Shocks!E31*ABS(B32) ),5)","v":1.512E-2},{"$f":"ROUND(IF(B32<0,B32, B32 - Shocks!D31 * ABS(B32)),5)","v":3.64E-3},null,6.6304717807865732E-3,{"$f":"ROUND(B32*(1+Shocks!H31)+Shocks!I31,5)+Extrapolation!T34","v":1.6707684181399236E-2},{"$f":"ROUND(B32*(1-Shocks!F31)-Shocks!G31,5)+Extrapolation!T34","v":-9.323158186007618E-4},{"$f":"ROUND(B32 + MAX(0.01,Shocks!E31*ABS(B32) )+Extrapolation!T34, 5)","v":1.6629999999999999E-2},{"$f":"ROUND(IF(B32<0,B32, B32 - Shocks!D31 * ABS(B32))+Extrapolation!T34, 5)","v":5.1399999999999996E-3}]
[21,5.2879901318936273E-3,{"$f":"ROUND(B33*(1+Shocks!H32)+Shocks!I32,5)","v":1.519E-2},{"$f":"ROUND(B33*(1-Shocks!F32)-Shocks!G32,5)","v":-2.2100000000000002E-3},{"$f":"ROUND(B33 + MAX(0.01,Shocks!E32*ABS(B33) ),5)","v":1.529E-2},{"$f":"ROUND(IF(B33<0,B33, B33 - Shocks!D32 * ABS(B33)),5)","v":3.7599999999999999E-3},null,6.746629910765467E-3,{"$f":"ROUND(B33*(1+Shocks!H32)+Shocks!I32,5)+Extrapolation!T35","v":1.6648639778871842E-2},{"$f":"ROUND(B33*(1-Shocks!F32)-Shocks!G32,5)+Extrapolation!T35","v":-7.5136022112816045E-4},{"$f":"ROUND(B33 + MAX(0.01,Shocks!E32*ABS(B33) )+Extrapolation!T35, 5)","v":1.6750000000000001E-2},{"$f":"ROUND(IF(B33<0,B33, B33 - Shocks!D32 * ABS(B33))+Extrapolation!T35, 5)","v":5.2199999999999998E-3}]
[22,5.5673642944644719E-3,{"$f":"ROUND(B34*(1+Shocks!H33)+Shocks!I33,5)","v":1.5310000000000001E-2},{"$f":"ROUND(B34*(1-Shocks!F33)-Shocks!G33,5)","v":-1.92E-3},{"$f":"ROUND(B34 + MAX(0.01,Shocks!E33*ABS(B34) ),5)","v":1.5570000000000001E-2},{"$f":"ROUND(IF(B34<0,B34, B34 - Shocks!D33 * ABS(B34)),5)","v":3.9699999999999996E-3},null,6.9795377134935777E-3,{"$f":"ROUND(B34*(1+Shocks!H33)+Shocks!I33,5)+Extrapolation!T36","v":1.6722173419029106E-2},{"$f":"ROUND(B34*(1-Shocks!F33)-Shocks!G33,5)+Extrapolation!T36","v":-5.0782658097089429E-4},{"$f":"ROUND(B34 + MAX(0.01,Shocks!E33*ABS(B34) )+Extrapolation!T36, 5)","v":1.6979999999999999E-2},{"$f":"ROUND(IF(B34<0,B34, B34 - Shocks!D33 * ABS(B34))+Extrapolation!T36, 5)","v":5.3800000000000002E-3}]
[23,5.9343477793358801E-3,{"$f":"ROUND(B35*(1+Shocks!H34)+Shocks!I34,5)","v":1.555E-2},{"$f":"ROUND(B35*(1-Shocks!F34)-Shocks!G34,5)","v":-1.58E-3},{"$f":"ROUND(B35 + MAX(0.01,Shocks!E34*ABS(B35) ),5)","v":1.593E-2},{"$f":"ROUND(IF(B35<0,B35, B35 - Shocks!D34 * ABS(B35)),5)","v":4.2399999999999998E-3},null,7.302451871936233E-3,{"$f":"ROUND(B35*(1+Shocks!H34)+Shocks!I34,5)+Extrapolation!T37","v":1.6918104092600354E-2},{"$f":"ROUND(B35*(1-Shocks!F34)-Shocks!G34,5)+Extrapolation!T37","v":-2.118959073996471E-4},{"$f":"ROUND(B35 + MAX(0.01,Shocks!E34*ABS(B35) )+Extrapolation!T37, 5)","v":1.7299999999999999E-2},{"$f":"ROUND(IF(B35<0,B35, B35 - Shocks!D34 * ABS(B35))+Extrapolation!T37, 5)","v":5.5999999999999999E-3}]
[24,6.3678855435167492E-3,{"$f":"ROUND(B36*(1+Shocks!H35)+Shocks!I35,5)","v":1.5859999999999999E-2},{"$f":"ROUND(B36*(1-Shocks!F35)-Shocks!G35,5)","v":-1.2099999999999999E-3},{"$f":"ROUND(B36 + MAX(0.01,Shocks!E35*ABS(B36) ),5)","v":1.6369999999999999E-2},{"$f":"ROUND(IF(B36<0,B36, B36 - Shocks!D35 * ABS(B36)),5)","v":4.5500000000000002E-3},null,7.6941542486836934E-3,{"$f":"ROUND(B36*(1+Shocks!H35)+Shocks!I35,5)+Extrapolation!T38","v":1.7186268705166943E-2},{"$f":"ROUND(B36*(1-Shocks!F35)-Shocks!G35,5)+Extrapolation!T38","v":1.1626870516694425E-4},{"$f":"ROUND(B36 + MAX(0.01,Shocks!E35*ABS(B36) )+Extrapolation!T38, 5)","v":1.7690000000000001E-2},{"$f":"ROUND(IF(B36<0,B36, B36 - Shocks!D35 * ABS(B36))+Extrapolation!T38, 5)","v":5.8799999999999998E-3}]
[25,6.8512209183675399E-3,{"$f":"ROUND(B37*(1+Shocks!H36)+Shocks!I36,5)","v":1.6240000000000001E-2},{"$f":"ROUND(B37*(1-Shocks!F36)-Shocks!G36,5)","v":-8.0000000000000004E-4},{"$f":"ROUND(B37 + MAX(0.01,Shocks!E36*ABS(B37) ),5)","v":1.685E-2},{"$f":"ROUND(IF(B37<0,B37, B37 - Shocks!D36 * ABS(B37)),5)","v":4.9100000000000003E-3},null,8.137740273007843E-3,{"$f":"ROUND(B37*(1+Shocks!H36)+Shocks!I36,5)+Extrapolation!T39","v":1.7526519354640304E-2},{"$f":"ROUND(B37*(1-Shocks!F36)-Shocks!G36,5)+Extrapolation!T39","v":4.8651935464030305E-4},{"$f":"ROUND(B37 + MAX(0.01,Shocks!E36*ABS(B37) )+Extrapolation!T39, 5)","v":1.814E-2},{"$f":"ROUND(IF(B37<0,B37, B37 - Shocks!D36 * ABS(B37))+Extrapolation!T39, 5)","v":6.1900000000000002E-3}]
[26,7.3709785667628314E-3,{"$f":"ROUND(B38*(1+Shocks!H37)+Shocks!I37,5)","v":1.6660000000000001E-2},{"$f":"ROUND(B38*(1-Shocks!F37)-Shocks!G37,5)","v":-3.6999999999999999E-4},{"$f":"ROUND(B38 + MAX(0.01,Shocks!E37*ABS(B38) ),5)","v":1.737E-2},{"$f":"ROUND(IF(B38<0,B38, B38 - Shocks!D37 * ABS(B38)),5)","v":5.2900000000000004E-3},null,8.6196997625491711E-3,{"$f":"ROUND(B38*(1+Shocks!H37)+Shocks!I37,5)+Extrapolation!T40","v":1.7908721195786341E-2},{"$f":"ROUND(B38*(1-Shocks!F37)-Shocks!G37,5)+Extrapolation!T40","v":8.7872119578633978E-4},{"$f":"ROUND(B38 + MAX(0.01,Shocks!E37*ABS(B38) )+Extrapolation!T40, 5)","v":1.8620000000000001E-2},{"$f":"ROUND(IF(B38<0,B38, B38 - Shocks!D37 * ABS(B38))+Extrapolation!T40, 5)","v":6.5399999999999998E-3}]
[27,7.9164614708018277E-3,{"$f":"ROUND(B39*(1+Shocks!H38)+Shocks!I38,5)","v":1.712E-2},{"$f":"ROUND(B39*(1-Shocks!F38)-Shocks!G38,5)","v":6.9999999999999994E-5},{"$f":"ROUND(B39 + MAX(0.01,Shocks!E38*ABS(B39) ),5)","v":1.7919999999999998E-2},{"$f":"ROUND(IF(B39<0,B39, B39 - Shocks!D38 * ABS(B39)),5)","v":5.6899999999999997E-3},null,9.1292122084236649E-3,{"$f":"ROUND(B39*(1+Shocks!H38)+Shocks!I38,5)+Extrapolation!T41","v":1.8332750737621837E-2},{"$f":"ROUND(B39*(1-Shocks!F38)-Shocks!G38,5)+Extrapolation!T41","v":1.2827507376218371E-3},{"$f":"ROUND(B39 + MAX(0.01,Shocks!E38*ABS(B39) )+Extrapolation!T41, 5)","v":1.9130000000000001E-2},{"$f":"ROUND(IF(B39<0,B39, B39 - Shocks!D38 * ABS(B39))+Extrapolation!T41, 5)","v":6.8999999999999999E-3}]
[28,8.4791068749425769E-3,{"$f":"ROUND(B40*(1+Shocks!H39)+Shocks!I39,5)","v":1.7590000000000001E-2},{"$f":"ROUND(B40*(1-Shocks!F39)-Shocks!G39,5)","v":5.2999999999999998E-4},{"$f":"ROUND(B40 + MAX(0.01,Shocks!E39*ABS(B40) ),5)","v":1.848E-2},{"$f":"ROUND(IF(B40<0,B40, B40 - Shocks!D39 * ABS(B40)),5)","v":6.11E-3},null,9.6576013396472149E-3,{"$f":"ROUND(B40*(1+Shocks!H39)+Shocks!I39,5)+Extrapolation!T42","v":1.876849446470464E-2},{"$f":"ROUND(B40*(1-Shocks!F39)-Shocks!G39,5)+Extrapolation!T42","v":1.7084944647046381E-3},{"$f":"ROUND(B40 + MAX(0.01,Shocks!E39*ABS(B40) )+Extrapolation!T42, 5)","v":1.966E-2},{"$f":"ROUND(IF(B40<0,B40, B40 - Shocks!D39 * ABS(B40))+Extrapolation!T42, 5)","v":7.2899999999999996E-3}]
[29,9.0520616445124436E-3,{"$f":"ROUND(B41*(1+Shocks!H40)+Shocks!I40,5)","v":1.8079999999999999E-2},{"$f":"ROUND(B41*(1-Shocks!F40)-Shocks!G40,5)","v":1E-3},{"$f":"ROUND(B41 + MAX(0.01,Shocks!E40*ABS(B41) ),5)","v":1.9050000000000001E-2},{"$f":"ROUND(IF(B41<0,B41, B41 - Shocks!D40 * ABS(B41)),5)","v":6.5300000000000002E-3},null,1.0197909348726331E-2,{"$f":"ROUND(B41*(1+Shocks!H40)+Shocks!I40,5)+Extrapolation!T43","v":1.9225847704213886E-2},{"$f":"ROUND(B41*(1-Shocks!F40)-Shocks!G40,5)+Extrapolation!T43","v":2.1458477042138871E-3},{"$f":"ROUND(B41 + MAX(0.01,Shocks!E40*ABS(B41) )+Extrapolation!T43, 5)","v":2.0199999999999999E-2},{"$f":"ROUND(IF(B41<0,B41, B41 - Shocks!D40 * ABS(B41))+Extrapolation!T43, 5)","v":7.6800000000000002E-3}]
[30,9.629848278887021E-3,{"$f":"ROUND(B42*(1+Shocks!H41)+Shocks!I41,5)","v":1.857E-2},{"$f":"ROUND(B42*(1-Shocks!F41)-Shocks!G41,5)","v":1.48E-3},{"$f":"ROUND(B42 + MAX(0.01,Shocks!E41*ABS(B42) ),5)","v":1.9630000000000002E-2},{"$f":"ROUND(IF(B42<0,B42, B42 - Shocks!D41 * ABS(B42)),5)","v":6.96E-3},null,1.0744561961004484E-2,{"$f":"ROUND(B42*(1+Shocks!H41)+Shocks!I41,5)+Extrapolation!T44","v":1.9684713682117463E-2},{"$f":"ROUND(B42*(1-Shocks!F41)-Shocks!G41,5)+Extrapolation!T44","v":2.594713682117463E-3},{"$f":"ROUND(B42 + MAX(0.01,Shocks!E41*ABS(B42) )+Extrapolation!T44, 5)","v":2.0740000000000001E-2},{"$f":"ROUND(IF(B42<0,B42, B42 - Shocks!D41 * ABS(B42))+Extrapolation!T44, 5)","v":8.0800000000000004E-3}]
[31,1.020810040641007E-2,{"$f":"ROUND(B43*(1+Shocks!H42)+Shocks!I42,5)","v":1.9060000000000001E-2},{"$f":"ROUND(B43*(1-Shocks!F42)-Shocks!G42,5)","v":1.9599999999999999E-3},{"$f":"ROUND(B43 + MAX(0.01,Shocks!E42*ABS(B43) ),5)","v":2.0209999999999999E-2},{"$f":"ROUND(IF(B43<0,B43, B43 - Shocks!D42 * ABS(B43)),5)","v":7.3899999999999999E-3},null,1.1293103133172444E-2,{"$f":"ROUND(B43*(1+Shocks!H42)+Shocks!I42,5)+Extrapolation!T45","v":2.0145002726762375E-2},{"$f":"ROUND(B43*(1-Shocks!F42)-Shocks!G42,5)+Extrapolation!T45","v":3.045002726762374E-3},{"$f":"ROUND(B43 + MAX(0.01,Shocks!E42*ABS(B43) )+Extrapolation!T45, 5)","v":2.129E-2},{"$f":"ROUND(IF(B43<0,B43, B43 - Shocks!D42 * ABS(B43))+Extrapolation!T45, 5)","v":8.4799999999999997E-3}]
[32,1.0783352000685476E-2,{"$f":"ROUND(B44*(1+Shocks!H43)+Shocks!I43,5)","v":1.9550000000000001E-2},{"$f":"ROUND(B44*(1-Shocks!F43)-Shocks!G43,5)","v":2.4499999999999999E-3},{"$f":"ROUND(B44 + MAX(0.01,Shocks!E43*ABS(B44) ),5)","v":2.078E-2},{"$f":"ROUND(IF(B44<0,B44, B44 - Shocks!D43 * ABS(B44)),5)","v":7.8200000000000006E-3},null,1.1839983589601033E-2,{"$f":"ROUND(B44*(1+Shocks!H43)+Shocks!I43,5)+Extrapolation!T46","v":2.0606631588915559E-2},{"$f":"ROUND(B44*(1-Shocks!F43)-Shocks!G43,5)+Extrapolation!T46","v":3.5066315889155575E-3},{"$f":"ROUND(B44 + MAX(0.01,Shocks!E43*ABS(B44) )+Extrapolation!T46, 5)","v":2.1839999999999998E-2},{"$f":"ROUND(IF(B44<0,B44, B44 - Shocks!D43 * ABS(B44))+Extrapolation!T46, 5)","v":8.8800000000000007E-3}]
[33,1.1352868466442123E-2,{"$f":"ROUND(B45*(1+Shocks!H44)+Shocks!I44,5)","v":2.0029999999999999E-2},{"$f":"ROUND(B45*(1-Shocks!F44)-Shocks!G44,5)","v":2.9299999999999999E-3},{"$f":"ROUND(B45 + MAX(0.01,Shocks!E44*ABS(B45) ),5)","v":2.1350000000000001E-2},{"$f":"ROUND(IF(B45<0,B45, B45 - Shocks!D44 * ABS(B45)),5)","v":8.2500000000000004E-3},null,1.23823913214125E-2,{"$f":"ROUND(B45*(1+Shocks!H44)+Shocks!I44,5)+Extrapolation!T47","v":2.1059522854970376E-2},{"$f":"ROUND(B45*(1-Shocks!F44)-Shocks!G44,5)+Extrapolation!T47","v":3.9595228549703775E-3},{"$f":"ROUND(B45 + MAX(0.01,Shocks!E44*ABS(B45) )+Extrapolation!T47, 5)","v":2.2380000000000001E-2},{"$f":"ROUND(IF(B45<0,B45, B45 - Shocks!D44 * ABS(B45))+Extrapolation!T47, 5)","v":9.2800000000000001E-3}]
[34,1.1914510597978989E-2,{"$f":"ROUND(B46*(1+Shocks!H45)+Shocks!I45,5)","v":2.0490000000000001E-2},{"$f":"ROUND(B46*(1-Shocks!F45)-Shocks!G45,5)","v":3.4199999999999999E-3},{"$f":"ROUND(B46 + MAX(0.01,Shocks!E45*ABS(B46) ),5)","v":2.1909999999999999E-2},{"$f":"ROUND(IF(B46<0,B46, B46 - Shocks!D45 * ABS(B46)),5)","v":8.6700000000000006E-3},null,1.2918115033601074E-2,{"$f":"ROUND(B46*(1+Shocks!H45)+Shocks!I45,5)+Extrapolation!T48","v":2.1493604435622087E-2},{"$f":"ROUND(B46*(1-Shocks!F45)-Shocks!G45,5)+Extrapolation!T48","v":4.4236044356220847E-3},{"$f":"ROUND(B46 + MAX(0.01,Shocks!E45*ABS(B46) )+Extrapolation!T48, 5)","v":2.2919999999999999E-2},{"$f":"ROUND(IF(B46<0,B46, B46 - Shocks!D45 * ABS(B46))+Extrapolation!T48, 5)","v":9.6799999999999994E-3}]
[35,1.2466624520495184E-2,{"$f":"ROUND(B47*(1+Shocks!H46)+Shocks!I46,5)","v":2.095E-2},{"$f":"ROUND(B47*(1-Shocks!F46)-Shocks!G46,5)","v":3.9100000000000003E-3},{"$f":"ROUND(B47 + MAX(0.01,Shocks!E46*ABS(B47) ),5)","v":2.247E-2},{"$f":"ROUND(IF(B47<0,B47, B47 - Shocks!D46 * ABS(B47)),5)","v":9.0900000000000009E-3},null,1.3445433636926074E-2,{"$f":"ROUND(B47*(1+Shocks!H46)+Shocks!I46,5)+Extrapolation!T49","v":2.192880911643089E-2},{"$f":"ROUND(B47*(1-Shocks!F46)-Shocks!G46,5)+Extrapolation!T49","v":4.8888091164308901E-3},{"$f":"ROUND(B47 + MAX(0.01,Shocks!E46*ABS(B47) )+Extrapolation!T49, 5)","v":2.3449999999999999E-2},{"$f":"ROUND(IF(B47<0,B47, B47 - Shocks!D46 * ABS(B47))+Extrapolation!T49, 5)","v":1.0070000000000001E-2}]
[36,1.3007952295520209E-2,{"$f":"ROUND(B48*(1+Shocks!H47)+Shocks!I47,5)","v":2.1389999999999999E-2},{"$f":"ROUND(B48*(1-Shocks!F47)-Shocks!G47,5)","v":4.4000000000000003E-3},{"$f":"ROUND(B48 + MAX(0.01,Shocks!E47*ABS(B48) ),5)","v":2.3009999999999999E-2},{"$f":"ROUND(IF(B48<0,B48, B48 - Shocks!D47 * ABS(B48)),5)","v":9.4999999999999998E-3},null,1.3963026455235505E-2,{"$f":"ROUND(B48*(1+Shocks!H47)+Shocks!I47,5)+Extrapolation!T50","v":2.2345074159715296E-2},{"$f":"ROUND(B48*(1-Shocks!F47)-Shocks!G47,5)+Extrapolation!T50","v":5.355074159715297E-3},{"$f":"ROUND(B48 + MAX(0.01,Shocks!E47*ABS(B48) )+Extrapolation!T50, 5)","v":2.3959999999999999E-2},{"$f":"ROUND(IF(B48<0,B48, B48 - Shocks!D47 * ABS(B48))+Extrapolation!T50, 5)","v":1.0460000000000001E-2}]
[37,1.3537559053494741E-2,{"$f":"ROUND(B49*(1+Shocks!H48)+Shocks!I48,5)","v":2.1819999999999999E-2},{"$f":"ROUND(B49*(1-Shocks!F48)-Shocks!G48,5)","v":4.8799999999999998E-3},{"$f":"ROUND(B49 + MAX(0.01,Shocks!E48*ABS(B49) ),5)","v":2.3539999999999998E-2},{"$f":"ROUND(IF(B49<0,B49, B49 - Shocks!D48 * ABS(B49)),5)","v":9.9100000000000004E-3},null,1.4469900003006853E-2,{"$f":"ROUND(B49*(1+Shocks!H48)+Shocks!I48,5)+Extrapolation!T51","v":2.2752340949512111E-2},{"$f":"ROUND(B49*(1-Shocks!F48)-Shocks!G48,5)+Extrapolation!T51","v":5.8123409495121113E-3},{"$f":"ROUND(B49 + MAX(0.01,Shocks!E48*ABS(B49) )+Extrapolation!T51, 5)","v":2.4469999999999999E-2},{"$f":"ROUND(IF(B49<0,B49, B49 - Shocks!D48 * ABS(B49))+Extrapolation!T51, 5)","v":1.0840000000000001E-2}]
[38,1.4054773413340049E-2,{"$f":"ROUND(B50*(1+Shocks!H49)+Shocks!I49,5)","v":2.223E-2},{"$f":"ROUND(B50*(1-Shocks!F49)-Shocks!G49,5)","v":5.3600000000000002E-3},{"$f":"ROUND(B50 + MAX(0.01,Shocks!E49*ABS(B50) ),5)","v":2.4049999999999998E-2},{"$f":"ROUND(IF(B50<0,B50, B50 - Shocks!D49 * ABS(B50)),5)","v":1.03E-2},null,1.4965328086382845E-2,{"$f":"ROUND(B50*(1+Shocks!H49)+Shocks!I49,5)+Extrapolation!T52","v":2.3140554673042796E-2},{"$f":"ROUND(B50*(1-Shocks!F49)-Shocks!G49,5)+Extrapolation!T52","v":6.2705546730427962E-3},{"$f":"ROUND(B50 + MAX(0.01,Shocks!E49*ABS(B50) )+Extrapolation!T52, 5)","v":2.4969999999999999E-2},{"$f":"ROUND(IF(B50<0,B50, B50 - Shocks!D49 * ABS(B50))+Extrapolation!T52, 5)","v":1.1209999999999999E-2}]
[39,1.4559138634796298E-2,{"$f":"ROUND(B51*(1+Shocks!H50)+Shocks!I50,5)","v":2.2620000000000001E-2},{"$f":"ROUND(B51*(1-Shocks!F50)-Shocks!G50,5)","v":5.8399999999999997E-3},{"$f":"ROUND(B51 + MAX(0.01,Shocks!E50*ABS(B51) ),5)","v":2.4559999999999998E-2},{"$f":"ROUND(IF(B51<0,B51, B51 - Shocks!D50 * ABS(B51)),5)","v":1.069E-2},null,1.544880266823645E-2,{"$f":"ROUND(B51*(1+Shocks!H50)+Shocks!I50,5)+Extrapolation!T53","v":2.3509664033440153E-2},{"$f":"ROUND(B51*(1-Shocks!F50)-Shocks!G50,5)+Extrapolation!T53","v":6.7296640334401515E-3},{"$f":"ROUND(B51 + MAX(0.01,Shocks!E50*ABS(B51) )+Extrapolation!T53, 5)","v":2.545E-2},{"$f":"ROUND(IF(B51<0,B51, B51 - Shocks!D50 * ABS(B51))+Extrapolation!T53, 5)","v":1.158E-2}]
[40,1.5050372477939611E-2,{"$f":"ROUND(B52*(1+Shocks!H51)+Shocks!I51,5)","v":2.3E-2},{"$f":"ROUND(B52*(1-Shocks!F51)-Shocks!G51,5)","v":6.3200000000000001E-3},{"$f":"ROUND(B52 + MAX(0.01,Shocks!E51*ABS(B52) ),5)","v":2.5049999999999999E-2},{"$f":"ROUND(IF(B52<0,B52, B52 - Shocks!D51 * ABS(B52)),5)","v":1.107E-2},null,1.5919993467428117E-2,{"$f":"ROUND(B52*(1+Shocks!H51)+Shocks!I51,5)+Extrapolation!T54","v":2.3869620989488506E-2},{"$f":"ROUND(B52*(1-Shocks!F51)-Shocks!G51,5)+Extrapolation!T54","v":7.1896209894885066E-3},{"$f":"ROUND(B52 + MAX(0.01,Shocks!E51*ABS(B52) )+Extrapolation!T54, 5)","v":2.5919999999999999E-2},{"$f":"ROUND(IF(B52<0,B52, B52 - Shocks!D51 * ABS(B52))+Extrapolation!T54, 5)","v":1.1939999999999999E-2}]
[41,1.5528334154540691E-2,{"$f":"ROUND(B53*(1+Shocks!H52)+Shocks!I52,5)","v":2.3359999999999999E-2},{"$f":"ROUND(B53*(1-Shocks!F52)-Shocks!G52,5)","v":6.79E-3},{"$f":"ROUND(B53 + MAX(0.01,Shocks!E52*ABS(B53) ),5)","v":2.5530000000000001E-2},{"$f":"ROUND(IF(B53<0,B53, B53 - Shocks!D52 * ABS(B53)),5)","v":1.1440000000000001E-2},null,1.6378714673448425E-2,{"$f":"ROUND(B53*(1+Shocks!H52)+Shocks!I52,5)+Extrapolation!T55","v":2.4210380518907733E-2},{"$f":"ROUND(B53*(1-Shocks!F52)-Shocks!G52,5)+Extrapolation!T55","v":7.6403805189077341E-3},{"$f":"ROUND(B53 + MAX(0.01,Shocks!E52*ABS(B53) )+Extrapolation!T55, 5)","v":2.6380000000000001E-2},{"$f":"ROUND(IF(B53<0,B53, B53 - Shocks!D52 * ABS(B53))+Extrapolation!T55, 5)","v":1.2290000000000001E-2}]
[42,1.5992997076406112E-2,{"$f":"ROUND(B54*(1+Shocks!H53)+Shocks!I53,5)","v":2.3699999999999999E-2},{"$f":"ROUND(B54*(1-Shocks!F53)-Shocks!G53,5)","v":7.2500000000000004E-3},{"$f":"ROUND(B54 + MAX(0.01,Shocks!E53*ABS(B54) ),5)","v":2.5989999999999999E-2},{"$f":"ROUND(IF(B54<0,B54, B54 - Shocks!D53 * ABS(B54)),5)","v":1.1809999999999999E-2},null,1.6824897478724621E-2,{"$f":"ROUND(B54*(1+Shocks!H53)+Shocks!I53,5)+Extrapolation!T56","v":2.4531900402318507E-2},{"$f":"ROUND(B54*(1-Shocks!F53)-Shocks!G53,5)+Extrapolation!T56","v":8.0819004023185079E-3},{"$f":"ROUND(B54 + MAX(0.01,Shocks!E53*ABS(B54) )+Extrapolation!T56, 5)","v":2.682E-2},{"$f":"ROUND(IF(B54<0,B54, B54 - Shocks!D53 * ABS(B54))+Extrapolation!T56, 5)","v":1.264E-2}]
[43,1.6444426357755226E-2,{"$f":"ROUND(B55*(1+Shocks!H54)+Shocks!I54,5)","v":2.4029999999999999E-2},{"$f":"ROUND(B55*(1-Shocks!F54)-Shocks!G54,5)","v":7.7200000000000003E-3},{"$f":"ROUND(B55 + MAX(0.01,Shocks!E54*ABS(B55) ),5)","v":2.6440000000000002E-2},{"$f":"ROUND(IF(B55<0,B55, B55 - Shocks!D54 * ABS(B55)),5)","v":1.2160000000000001E-2},null,1.7258567383250822E-2,{"$f":"ROUND(B55*(1+Shocks!H54)+Shocks!I54,5)+Extrapolation!T57","v":2.4844141025495595E-2},{"$f":"ROUND(B55*(1-Shocks!F54)-Shocks!G54,5)+Extrapolation!T57","v":8.5341410254955972E-3},{"$f":"ROUND(B55 + MAX(0.01,Shocks!E54*ABS(B55) )+Extrapolation!T57, 5)","v":2.726E-2},{"$f":"ROUND(IF(B55<0,B55, B55 - Shocks!D54 * ABS(B55))+Extrapolation!T57, 5)","v":1.298E-2}]
[44,1.6882760227825866E-2,{"$f":"ROUND(B56*(1+Shocks!H55)+Shocks!I55,5)","v":2.4330000000000001E-2},{"$f":"ROUND(B56*(1-Shocks!F55)-Shocks!G55,5)","v":8.1799999999999998E-3},{"$f":"ROUND(B56 + MAX(0.01,Shocks!E55*ABS(B56) ),5)","v":2.6880000000000001E-2},{"$f":"ROUND(IF(B56<0,B56, B56 - Shocks!D55 * ABS(B56)),5)","v":1.251E-2},null,1.7679825425732654E-2,{"$f":"ROUND(B56*(1+Shocks!H55)+Shocks!I55,5)+Extrapolation!T58","v":2.5127065197906789E-2},{"$f":"ROUND(B56*(1-Shocks!F55)-Shocks!G55,5)+Extrapolation!T58","v":8.9770651979067875E-3},{"$f":"ROUND(B56 + MAX(0.01,Shocks!E55*ABS(B56) )+Extrapolation!T58, 5)","v":2.768E-2},{"$f":"ROUND(IF(B56<0,B56, B56 - Shocks!D55 * ABS(B56))+Extrapolation!T58, 5)","v":1.3299999999999999E-2}]
[45,1.7308194668200105E-2,{"$f":"ROUND(B57*(1+Shocks!H56)+Shocks!I56,5)","v":2.4629999999999999E-2},{"$f":"ROUND(B57*(1-Shocks!F56)-Shocks!G56,5)","v":8.6300000000000005E-3},{"$f":"ROUND(B57 + MAX(0.01,Shocks!E56*ABS(B57) ),5)","v":2.7310000000000001E-2},{"$f":"ROUND(IF(B57<0,B57, B57 - Shocks!D56 * ABS(B57)),5)","v":1.285E-2},null,1.808883265402228E-2,{"$f":"ROUND(B57*(1+Shocks!H56)+Shocks!I56,5)+Extrapolation!T59","v":2.5410637985822174E-2},{"$f":"ROUND(B57*(1-Shocks!F56)-Shocks!G56,5)+Extrapolation!T59","v":9.4106379858221751E-3},{"$f":"ROUND(B57 + MAX(0.01,Shocks!E56*ABS(B57) )+Extrapolation!T59, 5)","v":2.809E-2},{"$f":"ROUND(IF(B57<0,B57, B57 - Shocks!D56 * ABS(B57))+Extrapolation!T59, 5)","v":1.363E-2}]
[46,1.7720970715795703E-2,{"$f":"ROUND(B58*(1+Shocks!H57)+Shocks!I57,5)","v":2.4899999999999999E-2},{"$f":"ROUND(B58*(1-Shocks!F57)-Shocks!G57,5)","v":9.0900000000000009E-3},{"$f":"ROUND(B58 + MAX(0.01,Shocks!E57*ABS(B58) ),5)","v":2.7720000000000002E-2},{"$f":"ROUND(IF(B58<0,B58, B58 - Shocks!D57 * ABS(B58)),5)","v":1.3169999999999999E-2},null,1.848579727433286E-2,{"$f":"ROUND(B58*(1+Shocks!H57)+Shocks!I57,5)+Extrapolation!T60","v":2.5664826558537156E-2},{"$f":"ROUND(B58*(1-Shocks!F57)-Shocks!G57,5)+Extrapolation!T60","v":9.8548265585371581E-3},{"$f":"ROUND(B58 + MAX(0.01,Shocks!E57*ABS(B58) )+Extrapolation!T60, 5)","v":2.8490000000000001E-2},{"$f":"ROUND(IF(B58<0,B58, B58 - Shocks!D57 * ABS(B58))+Extrapolation!T60, 5)","v":1.3939999999999999E-2}]
[47,1.8121363973993887E-2,{"$f":"ROUND(B59*(1+Shocks!H58)+Shocks!I58,5)","v":2.5159999999999998E-2},{"$f":"ROUND(B59*(1-Shocks!F58)-Shocks!G58,5)","v":9.5300000000000003E-3},{"$f":"ROUND(B59 + MAX(0.01,Shocks!E58*ABS(B59) ),5)","v":2.8119999999999999E-2},{"$f":"ROUND(IF(B59<0,B59, B59 - Shocks!D58 * ABS(B59)),5)","v":1.35E-2},null,1.8870964020433645E-2,{"$f":"ROUND(B59*(1+Shocks!H58)+Shocks!I58,5)+Extrapolation!T61","v":2.5909600046439756E-2},{"$f":"ROUND(B59*(1-Shocks!F58)-Shocks!G58,5)+Extrapolation!T61","v":1.0279600046439758E-2},{"$f":"ROUND(B59 + MAX(0.01,Shocks!E58*ABS(B59) )+Extrapolation!T61, 5)","v":2.887E-2},{"$f":"ROUND(IF(B59<0,B59, B59 - Shocks!D58 * ABS(B59))+Extrapolation!T61, 5)","v":1.4239999999999999E-2}]
[48,1.850967595621178E-2,{"$f":"ROUND(B60*(1+Shocks!H59)+Shocks!I59,5)","v":2.5409999999999999E-2},{"$f":"ROUND(B60*(1-Shocks!F59)-Shocks!G59,5)","v":9.9799999999999993E-3},{"$f":"ROUND(B60 + MAX(0.01,Shocks!E59*ABS(B60) ),5)","v":2.8510000000000001E-2},{"$f":"ROUND(IF(B60<0,B60, B60 - Shocks!D59 * ABS(B60)),5)","v":1.3809999999999999E-2},null,1.9244605366036449E-2,{"$f":"ROUND(B60*(1+Shocks!H59)+Shocks!I59,5)+Extrapolation!T62","v":2.6144929409824668E-2},{"$f":"ROUND(B60*(1-Shocks!F59)-Shocks!G59,5)+Extrapolation!T62","v":1.0714929409824669E-2},{"$f":"ROUND(B60 + MAX(0.01,Shocks!E59*ABS(B60) )+Extrapolation!T62, 5)","v":2.9239999999999999E-2},{"$f":"ROUND(IF(B60<0,B60, B60 - Shocks!D59 * ABS(B60))+Extrapolation!T62, 5)","v":1.4540000000000001E-2}]
[49,1.8886226952515184E-2,{"$f":"ROUND(B61*(1+Shocks!H60)+Shocks!I60,5)","v":2.564E-2},{"$f":"ROUND(B61*(1-Shocks!F60)-Shocks!G60,5)","v":1.042E-2},{"$f":"ROUND(B61 + MAX(0.01,Shocks!E60*ABS(B61) ),5)","v":2.8889999999999999E-2},{"$f":"ROUND(IF(B61<0,B61, B61 - Shocks!D60 * ABS(B61)),5)","v":1.4109999999999999E-2},null,1.9607014270000667E-2,{"$f":"ROUND(B61*(1+Shocks!H60)+Shocks!I60,5)+Extrapolation!T63","v":2.6360787317485482E-2},{"$f":"ROUND(B61*(1-Shocks!F60)-Shocks!G60,5)+Extrapolation!T63","v":1.1140787317485483E-2},{"$f":"ROUND(B61 + MAX(0.01,Shocks!E60*ABS(B61) )+Extrapolation!T63, 5)","v":2.9610000000000001E-2},{"$f":"ROUND(IF(B61<0,B61, B61 - Shocks!D60 * ABS(B61))+Extrapolation!T63, 5)","v":1.4829999999999999E-2}]
[50,1.925135016373658E-2,{"$f":"ROUND(B62*(1+Shocks!H61)+Shocks!I61,5)","v":2.5850000000000001E-2},{"$f":"ROUND(B62*(1-Shocks!F61)-Shocks!G61,5)","v":1.085E-2},{"$f":"ROUND(B62 + MAX(0.01,Shocks!E61*ABS(B62) ),5)","v":2.9250000000000002E-2},{"$f":"ROUND(IF(B62<0,B62, B62 - Shocks!D61 * ABS(B62)),5)","v":1.4409999999999999E-2},null,1.9958498197970576E-2,{"$f":"ROUND(B62*(1+Shocks!H61)+Shocks!I61,5)+Extrapolation!T64","v":2.6557148034233997E-2},{"$f":"ROUND(B62*(1-Shocks!F61)-Shocks!G61,5)+Extrapolation!T64","v":1.1557148034233996E-2},{"$f":"ROUND(B62 + MAX(0.01,Shocks!E61*ABS(B62) )+Extrapolation!T64, 5)","v":2.9960000000000001E-2},{"$f":"ROUND(IF(B62<0,B62, B62 - Shocks!D61 * ABS(B62))+Extrapolation!T64, 5)","v":1.512E-2}]
[51,1.9605386891520027E-2,{"$f":"ROUND(B63*(1+Shocks!H62)+Shocks!I62,5)","v":2.605E-2},{"$f":"ROUND(B63*(1-Shocks!F62)-Shocks!G62,5)","v":1.128E-2},{"$f":"ROUND(B63 + MAX(0.01,Shocks!E62*ABS(B63) ),5)","v":2.9610000000000001E-2},{"$f":"ROUND(IF(B63<0,B63, B63 - Shocks!D62 * ABS(B63)),5)","v":1.47E-2},null,2.0299374208109899E-2,{"$f":"ROUND(B63*(1+Shocks!H62)+Shocks!I62,5)+Extrapolation!T65","v":2.6743987316589873E-2},{"$f":"ROUND(B63*(1-Shocks!F62)-Shocks!G62,5)+Extrapolation!T65","v":1.1973987316589873E-2},{"$f":"ROUND(B63 + MAX(0.01,Shocks!E62*ABS(B63) )+Extrapolation!T65, 5)","v":3.0300000000000001E-2},{"$f":"ROUND(IF(B63<0,B63, B63 - Shocks!D62 * ABS(B63))+Extrapolation!T65, 5)","v":1.54E-2}]
[52,1.994868260870386E-2,{"$f":"ROUND(B64*(1+Shocks!H63)+Shocks!I63,5)","v":2.6239999999999999E-2},{"$f":"ROUND(B64*(1-Shocks!F63)-Shocks!G63,5)","v":1.171E-2},{"$f":"ROUND(B64 + MAX(0.01,Shocks!E63*ABS(B64) ),5)","v":2.9950000000000001E-2},{"$f":"ROUND(IF(B64<0,B64, B64 - Shocks!D63 * ABS(B64)),5)","v":1.498E-2},null,2.0629964924664845E-2,{"$f":"ROUND(B64*(1+Shocks!H63)+Shocks!I63,5)+Extrapolation!T66","v":2.6921282315960984E-2},{"$f":"ROUND(B64*(1-Shocks!F63)-Shocks!G63,5)+Extrapolation!T66","v":1.2391282315960985E-2},{"$f":"ROUND(B64 + MAX(0.01,Shocks!E63*ABS(B64) )+Extrapolation!T66, 5)","v":3.0630000000000001E-2},{"$f":"ROUND(IF(B64<0,B64, B64 - Shocks!D63 * ABS(B64))+Extrapolation!T66, 5)","v":1.567E-2}]
[53,2.0281583764004241E-2,{"$f":"ROUND(B65*(1+Shocks!H64)+Shocks!I64,5)","v":2.6409999999999999E-2},{"$f":"ROUND(B65*(1-Shocks!F64)-Shocks!G64,5)","v":1.213E-2},{"$f":"ROUND(B65 + MAX(0.01,Shocks!E64*ABS(B65) ),5)","v":3.0280000000000001E-2},{"$f":"ROUND(IF(B65<0,B65, B65 - Shocks!D64 * ABS(B65)),5)","v":1.5259999999999999E-2},null,2.0950595252715365E-2,{"$f":"ROUND(B65*(1+Shocks!H64)+Shocks!I64,5)+Extrapolation!T67","v":2.7079011488711124E-2},{"$f":"ROUND(B65*(1-Shocks!F64)-Shocks!G64,5)+Extrapolation!T67","v":1.2799011488711124E-2},{"$f":"ROUND(B65 + MAX(0.01,Shocks!E64*ABS(B65) )+Extrapolation!T67, 5)","v":3.0949999999999998E-2},{"$f":"ROUND(IF(B65<0,B65, B65 - Shocks!D64 * ABS(B65))+Extrapolation!T67, 5)","v":1.593E-2}]
[54,2.0604435199319759E-2,{"$f":"ROUND(B66*(1+Shocks!H65)+Shocks!I65,5)","v":2.6579999999999999E-2},{"$f":"ROUND(B66*(1-Shocks!F65)-Shocks!G65,5)","v":1.255E-2},{"$f":"ROUND(B66 + MAX(0.01,Shocks!E65*ABS(B66) ),5)","v":3.0599999999999999E-2},{"$f":"ROUND(IF(B66<0,B66, B66 - Shocks!D65 * ABS(B66)),5)","v":1.553E-2},null,2.1261589711886186E-2,{"$f":"ROUND(B66*(1+Shocks!H65)+Shocks!I65,5)+Extrapolation!T68","v":2.7237154512566426E-2},{"$f":"ROUND(B66*(1-Shocks!F65)-Shocks!G65,5)+Extrapolation!T68","v":1.3207154512566427E-2},{"$f":"ROUND(B66 + MAX(0.01,Shocks!E65*ABS(B66) )+Extrapolation!T68, 5)","v":3.1260000000000003E-2},{"$f":"ROUND(IF(B66<0,B66, B66 - Shocks!D65 * ABS(B66))+Extrapolation!T68, 5)","v":1.619E-2}]
[55,2.0917578078088139E-2,{"$f":"ROUND(B67*(1+Shocks!H66)+Shocks!I66,5)","v":2.6720000000000001E-2},{"$f":"ROUND(B67*(1-Shocks!F66)-Shocks!G66,5)","v":1.2970000000000001E-2},{"$f":"ROUND(B67 + MAX(0.01,Shocks!E66*ABS(B67) ),5)","v":3.092E-2},{"$f":"ROUND(IF(B67<0,B67, B67 - Shocks!D66 * ABS(B67)),5)","v":1.5789999999999998E-2},null,2.1563270286951708E-2,{"$f":"ROUND(B67*(1+Shocks!H66)+Shocks!I66,5)+Extrapolation!T69","v":2.7365692208863569E-2},{"$f":"ROUND(B67*(1-Shocks!F66)-Shocks!G66,5)+Extrapolation!T69","v":1.3615692208863569E-2},{"$f":"ROUND(B67 + MAX(0.01,Shocks!E66*ABS(B67) )+Extrapolation!T69, 5)","v":3.1559999999999998E-2},{"$f":"ROUND(IF(B67<0,B67, B67 - Shocks!D66 * ABS(B67))+Extrapolation!T69, 5)","v":1.644E-2}]
[56,2.122134823979116E-2,{"$f":"ROUND(B68*(1+Shocks!H67)+Shocks!I67,5)","v":2.6859999999999998E-2},{"$f":"ROUND(B68*(1-Shocks!F67)-Shocks!G67,5)","v":1.338E-2},{"$f":"ROUND(B68 + MAX(0.01,Shocks!E67*ABS(B68) ),5)","v":3.1220000000000001E-2},{"$f":"ROUND(IF(B68<0,B68, B68 - Shocks!D67 * ABS(B68)),5)","v":1.6049999999999998E-2},null,2.1855954709986358E-2,{"$f":"ROUND(B68*(1+Shocks!H67)+Shocks!I67,5)+Extrapolation!T70","v":2.7494606470195197E-2},{"$f":"ROUND(B68*(1-Shocks!F67)-Shocks!G67,5)+Extrapolation!T70","v":1.4014606470195198E-2},{"$f":"ROUND(B68 + MAX(0.01,Shocks!E67*ABS(B68) )+Extrapolation!T70, 5)","v":3.1859999999999999E-2},{"$f":"ROUND(IF(B68<0,B68, B68 - Shocks!D67 * ABS(B68))+Extrapolation!T70, 5)","v":1.668E-2}]
[57,2.1516074909538441E-2,{"$f":"ROUND(B69*(1+Shocks!H68)+Shocks!I68,5)","v":2.699E-2},{"$f":"ROUND(B69*(1-Shocks!F68)-Shocks!G68,5)","v":1.379E-2},{"$f":"ROUND(B69 + MAX(0.01,Shocks!E68*ABS(B69) ),5)","v":3.1519999999999999E-2},{"$f":"ROUND(IF(B69<0,B69, B69 - Shocks!D68 * ABS(B69)),5)","v":1.6299999999999999E-2},null,2.2139955102575604E-2,{"$f":"ROUND(B69*(1+Shocks!H68)+Shocks!I68,5)+Extrapolation!T71","v":2.7613880193037163E-2},{"$f":"ROUND(B69*(1-Shocks!F68)-Shocks!G68,5)+Extrapolation!T71","v":1.4413880193037163E-2},{"$f":"ROUND(B69 + MAX(0.01,Shocks!E68*ABS(B69) )+Extrapolation!T71, 5)","v":3.2140000000000002E-2},{"$f":"ROUND(IF(B69<0,B69, B69 - Shocks!D68 * ABS(B69))+Extrapolation!T71, 5)","v":1.6920000000000001E-2}]
[58,2.1802079703175492E-2,{"$f":"ROUND(B70*(1+Shocks!H69)+Shocks!I69,5)","v":2.7099999999999999E-2},{"$f":"ROUND(B70*(1-Shocks!F69)-Shocks!G69,5)","v":1.4200000000000001E-2},{"$f":"ROUND(B70 + MAX(0.01,Shocks!E69*ABS(B70) ),5)","v":3.1800000000000002E-2},{"$f":"ROUND(IF(B70<0,B70, B70 - Shocks!D69 * ABS(B70)),5)","v":1.6539999999999999E-2},null,2.2415576918165314E-2,{"$f":"ROUND(B70*(1+Shocks!H69)+Shocks!I69,5)+Extrapolation!T72","v":2.7713497214989821E-2},{"$f":"ROUND(B70*(1-Shocks!F69)-Shocks!G69,5)+Extrapolation!T72","v":1.4813497214989823E-2},{"$f":"ROUND(B70 + MAX(0.01,Shocks!E69*ABS(B70) )+Extrapolation!T72, 5)","v":3.2419999999999997E-2},{"$f":"ROUND(IF(B70<0,B70, B70 - Shocks!D69 * ABS(B70))+Extrapolation!T72, 5)","v":1.7160000000000002E-2}]
[59,2.207967587796178E-2,{"$f":"ROUND(B71*(1+Shocks!H70)+Shocks!I70,5)","v":2.7199999999999998E-2},{"$f":"ROUND(B71*(1-Shocks!F70)-Shocks!G70,5)","v":1.461E-2},{"$f":"ROUND(B71 + MAX(0.01,Shocks!E70*ABS(B71) ),5)","v":3.2079999999999997E-2},{"$f":"ROUND(IF(B71<0,B71, B71 - Shocks!D70 * ABS(B71)),5)","v":1.678E-2},null,2.268311813424817E-2,{"$f":"ROUND(B71*(1+Shocks!H70)+Shocks!I70,5)+Extrapolation!T73","v":2.7803442256286389E-2},{"$f":"ROUND(B71*(1-Shocks!F70)-Shocks!G70,5)+Extrapolation!T73","v":1.521344225628639E-2},{"$f":"ROUND(B71 + MAX(0.01,Shocks!E70*ABS(B71) )+Extrapolation!T73, 5)","v":3.2680000000000001E-2},{"$f":"ROUND(IF(B71<0,B71, B71 - Shocks!D70 * ABS(B71))+Extrapolation!T73, 5)","v":1.7389999999999999E-2}]
[60,2.2349167786886559E-2,{"$f":"ROUND(B72*(1+Shocks!H71)+Shocks!I71,5)","v":2.7300000000000001E-2},{"$f":"ROUND(B72*(1-Shocks!F71)-Shocks!G71,5)","v":1.5010000000000001E-2},{"$f":"ROUND(B72 + MAX(0.01,Shocks!E71*ABS(B72) ),5)","v":3.2349999999999997E-2},{"$f":"ROUND(IF(B72<0,B72, B72 - Shocks!D71 * ABS(B72)),5)","v":1.702E-2},null,2.2942868652145787E-2,{"$f":"ROUND(B72*(1+Shocks!H71)+Shocks!I71,5)+Extrapolation!T74","v":2.7893700865259229E-2},{"$f":"ROUND(B72*(1-Shocks!F71)-Shocks!G71,5)+Extrapolation!T74","v":1.5603700865259229E-2},{"$f":"ROUND(B72 + MAX(0.01,Shocks!E71*ABS(B72) )+Extrapolation!T74, 5)","v":3.2939999999999997E-2},{"$f":"ROUND(IF(B72<0,B72, B72 - Shocks!D71 * ABS(B72))+Extrapolation!T74, 5)","v":1.7610000000000001E-2}]
[61,2.2610850501407098E-2,{"$f":"ROUND(B73*(1+Shocks!H72)+Shocks!I72,5)","v":2.76E-2},{"$f":"ROUND(B73*(1-Shocks!F72)-Shocks!G72,5)","v":1.528E-2},{"$f":"ROUND(B73 + MAX(0.01,Shocks!E72*ABS(B73) ),5)","v":3.261E-2},{"$f":"ROUND(IF(B73<0,B73, B73 - Shocks!D72 * ABS(B73)),5)","v":1.7250000000000001E-2},null,2.3195109868880293E-2,{"$f":"ROUND(B73*(1+Shocks!H72)+Shocks!I72,5)+Extrapolation!T75","v":2.8184259367473194E-2},{"$f":"ROUND(B73*(1-Shocks!F72)-Shocks!G72,5)+Extrapolation!T75","v":1.5864259367473196E-2},{"$f":"ROUND(B73 + MAX(0.01,Shocks!E72*ABS(B73) )+Extrapolation!T75, 5)","v":3.32E-2},{"$f":"ROUND(IF(B73<0,B73, B73 - Shocks!D72 * ABS(B73))+Extrapolation!T75, 5)","v":1.7829999999999999E-2}]
[62,2.2865009573022288E-2,{"$f":"ROUND(B74*(1+Shocks!H73)+Shocks!I73,5)","v":2.7900000000000001E-2},{"$f":"ROUND(B74*(1-Shocks!F73)-Shocks!G73,5)","v":1.555E-2},{"$f":"ROUND(B74 + MAX(0.01,Shocks!E73*ABS(B74) ),5)","v":3.2870000000000003E-2},{"$f":"ROUND(IF(B74<0,B74, B74 - Shocks!D73 * ABS(B74)),5)","v":1.7469999999999999E-2},null,2.344011439128435E-2,{"$f":"ROUND(B74*(1+Shocks!H73)+Shocks!I73,5)+Extrapolation!T76","v":2.8475104818262063E-2},{"$f":"ROUND(B74*(1-Shocks!F73)-Shocks!G73,5)+Extrapolation!T76","v":1.6125104818262063E-2},{"$f":"ROUND(B74 + MAX(0.01,Shocks!E73*ABS(B74) )+Extrapolation!T76, 5)","v":3.3439999999999998E-2},{"$f":"ROUND(IF(B74<0,B74, B74 - Shocks!D73 * ABS(B74))+Extrapolation!T76, 5)","v":1.804E-2}]
[63,2.3111920908820416E-2,{"$f":"ROUND(B75*(1+Shocks!H74)+Shocks!I74,5)","v":2.818E-2},{"$f":"ROUND(B75*(1-Shocks!F74)-Shocks!G74,5)","v":1.5820000000000001E-2},{"$f":"ROUND(B75 + MAX(0.01,Shocks!E74*ABS(B75) ),5)","v":3.3110000000000001E-2},{"$f":"ROUND(IF(B75<0,B75, B75 - Shocks!D74 * ABS(B75)),5)","v":1.7690000000000001E-2},null,2.3678145867244815E-2,{"$f":"ROUND(B75*(1+Shocks!H74)+Shocks!I74,5)+Extrapolation!T77","v":2.87462249584244E-2},{"$f":"ROUND(B75*(1-Shocks!F74)-Shocks!G74,5)+Extrapolation!T77","v":1.63862249584244E-2},{"$f":"ROUND(B75 + MAX(0.01,Shocks!E74*ABS(B75) )+Extrapolation!T77, 5)","v":3.3680000000000002E-2},{"$f":"ROUND(IF(B75<0,B75, B75 - Shocks!D74 * ABS(B75))+Extrapolation!T77, 5)","v":1.8249999999999999E-2}]
[64,2.3351850740113589E-2,{"$f":"ROUND(B76*(1+Shocks!H75)+Shocks!I75,5)","v":2.8459999999999999E-2},{"$f":"ROUND(B76*(1-Shocks!F75)-Shocks!G75,5)","v":1.6080000000000001E-2},{"$f":"ROUND(B76 + MAX(0.01,Shocks!E75*ABS(B76) ),5)","v":3.3349999999999998E-2},{"$f":"ROUND(IF(B76<0,B76, B76 - Shocks!D75 * ABS(B76)),5)","v":1.7899999999999999E-2},null,2.3909458912968251E-2,{"$f":"ROUND(B76*(1+Shocks!H75)+Shocks!I75,5)+Extrapolation!T78","v":2.9017608172854661E-2},{"$f":"ROUND(B76*(1-Shocks!F75)-Shocks!G75,5)+Extrapolation!T78","v":1.6637608172854663E-2},{"$f":"ROUND(B76 + MAX(0.01,Shocks!E75*ABS(B76) )+Extrapolation!T78, 5)","v":3.3910000000000003E-2},{"$f":"ROUND(IF(B76<0,B76, B76 - Shocks!D75 * ABS(B76))+Extrapolation!T78, 5)","v":1.8460000000000001E-2}]
[65,2.3585055666619725E-2,{"$f":"ROUND(B77*(1+Shocks!H76)+Shocks!I76,5)","v":2.8719999999999999E-2},{"$f":"ROUND(B77*(1-Shocks!F76)-Shocks!G76,5)","v":1.634E-2},{"$f":"ROUND(B77 + MAX(0.01,Shocks!E76*ABS(B77) ),5)","v":3.3590000000000002E-2},{"$f":"ROUND(IF(B77<0,B77, B77 - Shocks!D76 * ABS(B77)),5)","v":1.8110000000000001E-2},null,2.4134299118516944E-2,{"$f":"ROUND(B77*(1+Shocks!H76)+Shocks!I76,5)+Extrapolation!T79","v":2.9269243451897218E-2},{"$f":"ROUND(B77*(1-Shocks!F76)-Shocks!G76,5)+Extrapolation!T79","v":1.6889243451897219E-2},{"$f":"ROUND(B77 + MAX(0.01,Shocks!E76*ABS(B77) )+Extrapolation!T79, 5)","v":3.4130000000000001E-2},{"$f":"ROUND(IF(B77<0,B77, B77 - Shocks!D76 * ABS(B77))+Extrapolation!T79, 5)","v":1.866E-2}]
[66,2.3811782761461231E-2,{"$f":"ROUND(B78*(1+Shocks!H77)+Shocks!I77,5)","v":2.8979999999999999E-2},{"$f":"ROUND(B78*(1-Shocks!F77)-Shocks!G77,5)","v":1.66E-2},{"$f":"ROUND(B78 + MAX(0.01,Shocks!E77*ABS(B78) ),5)","v":3.381E-2},{"$f":"ROUND(IF(B78<0,B78, B78 - Shocks!D77 * ABS(B78)),5)","v":1.831E-2},null,2.4352903116700464E-2,{"$f":"ROUND(B78*(1+Shocks!H77)+Shocks!I77,5)+Extrapolation!T80","v":2.9521120355239232E-2},{"$f":"ROUND(B78*(1-Shocks!F77)-Shocks!G77,5)+Extrapolation!T80","v":1.7141120355239233E-2},{"$f":"ROUND(B78 + MAX(0.01,Shocks!E77*ABS(B78) )+Extrapolation!T80, 5)","v":3.4349999999999999E-2},{"$f":"ROUND(IF(B78<0,B78, B78 - Shocks!D77 * ABS(B78))+Extrapolation!T80, 5)","v":1.8859999999999998E-2}]
[67,2.4032269724636679E-2,{"$f":"ROUND(B79*(1+Shocks!H78)+Shocks!I78,5)","v":2.9229999999999999E-2},{"$f":"ROUND(B79*(1-Shocks!F78)-Shocks!G78,5)","v":1.686E-2},{"$f":"ROUND(B79 + MAX(0.01,Shocks!E78*ABS(B79) ),5)","v":3.4029999999999998E-2},{"$f":"ROUND(IF(B79<0,B79, B79 - Shocks!D78 * ABS(B79)),5)","v":1.8519999999999998E-2},null,2.4565498702793898E-2,{"$f":"ROUND(B79*(1+Shocks!H78)+Shocks!I78,5)+Extrapolation!T81","v":2.9763228978157218E-2},{"$f":"ROUND(B79*(1-Shocks!F78)-Shocks!G78,5)+Extrapolation!T81","v":1.7393228978157219E-2},{"$f":"ROUND(B79 + MAX(0.01,Shocks!E78*ABS(B79) )+Extrapolation!T81, 5)","v":3.4569999999999997E-2},{"$f":"ROUND(IF(B79<0,B79, B79 - Shocks!D78 * ABS(B79))+Extrapolation!T81, 5)","v":1.9050000000000001E-2}]
[68,2.4246745074617548E-2,{"$f":"ROUND(B80*(1+Shocks!H79)+Shocks!I79,5)","v":2.9479999999999999E-2},{"$f":"ROUND(B80*(1-Shocks!F79)-Shocks!G79,5)","v":1.711E-2},{"$f":"ROUND(B80 + MAX(0.01,Shocks!E79*ABS(B80) ),5)","v":3.4250000000000003E-2},{"$f":"ROUND(IF(B80<0,B80, B80 - Shocks!D79 * ABS(B80)),5)","v":1.8710000000000001E-2},null,2.4772304994575167E-2,{"$f":"ROUND(B80*(1+Shocks!H79)+Shocks!I79,5)+Extrapolation!T82","v":3.0005559919957618E-2},{"$f":"ROUND(B80*(1-Shocks!F79)-Shocks!G79,5)+Extrapolation!T82","v":1.7635559919957619E-2},{"$f":"ROUND(B80 + MAX(0.01,Shocks!E79*ABS(B80) )+Extrapolation!T82, 5)","v":3.4770000000000002E-2},{"$f":"ROUND(IF(B80<0,B80, B80 - Shocks!D79 * ABS(B80))+Extrapolation!T82, 5)","v":1.924E-2}]
[69,2.4455428369422494E-2,{"$f":"ROUND(B81*(1+Shocks!H80)+Shocks!I80,5)","v":2.971E-2},{"$f":"ROUND(B81*(1-Shocks!F80)-Shocks!G80,5)","v":1.736E-2},{"$f":"ROUND(B81 + MAX(0.01,Shocks!E80*ABS(B81) ),5)","v":3.4459999999999998E-2},{"$f":"ROUND(IF(B81<0,B81, B81 - Shocks!D80 * ABS(B81)),5)","v":1.89E-2},null,2.4973532623879802E-2,{"$f":"ROUND(B81*(1+Shocks!H80)+Shocks!I80,5)+Extrapolation!T83","v":3.0228104254457308E-2},{"$f":"ROUND(B81*(1-Shocks!F80)-Shocks!G80,5)+Extrapolation!T83","v":1.7878104254457308E-2},{"$f":"ROUND(B81 + MAX(0.01,Shocks!E80*ABS(B81) )+Extrapolation!T83, 5)","v":3.4970000000000001E-2},{"$f":"ROUND(IF(B81<0,B81, B81 - Shocks!D80 * ABS(B81))+Extrapolation!T83, 5)","v":1.942E-2}]
[70,2.465853044994426E-2,{"$f":"ROUND(B82*(1+Shocks!H81)+Shocks!I81,5)","v":2.9940000000000001E-2},{"$f":"ROUND(B82*(1-Shocks!F81)-Shocks!G81,5)","v":1.7610000000000001E-2},{"$f":"ROUND(B82 + MAX(0.01,Shocks!E81*ABS(B82) ),5)","v":3.4660000000000003E-2},{"$f":"ROUND(IF(B82<0,B82, B82 - Shocks!D81 * ABS(B82)),5)","v":1.9089999999999999E-2},null,2.5169383952309055E-2,{"$f":"ROUND(B82*(1+Shocks!H81)+Shocks!I81,5)+Extrapolation!T84","v":3.0450853502364796E-2},{"$f":"ROUND(B82*(1-Shocks!F81)-Shocks!G81,5)+Extrapolation!T84","v":1.8120853502364795E-2},{"$f":"ROUND(B82 + MAX(0.01,Shocks!E81*ABS(B82) )+Extrapolation!T84, 5)","v":3.517E-2},{"$f":"ROUND(IF(B82<0,B82, B82 - Shocks!D81 * ABS(B82))+Extrapolation!T84, 5)","v":1.9599999999999999E-2}]
[71,2.485625369952027E-2,{"$f":"ROUND(B83*(1+Shocks!H82)+Shocks!I82,5)","v":3.0159999999999999E-2},{"$f":"ROUND(B83*(1-Shocks!F82)-Shocks!G82,5)","v":1.7860000000000001E-2},{"$f":"ROUND(B83 + MAX(0.01,Shocks!E82*ABS(B83) ),5)","v":3.4860000000000002E-2},{"$f":"ROUND(IF(B83<0,B83, B83 - Shocks!D82 * ABS(B83)),5)","v":1.9279999999999999E-2},null,2.536005330494806E-2,{"$f":"ROUND(B83*(1+Shocks!H82)+Shocks!I82,5)+Extrapolation!T85","v":3.066379960542779E-2},{"$f":"ROUND(B83*(1-Shocks!F82)-Shocks!G82,5)+Extrapolation!T85","v":1.8363799605427791E-2},{"$f":"ROUND(B83 + MAX(0.01,Shocks!E82*ABS(B83) )+Extrapolation!T85, 5)","v":3.5360000000000003E-2},{"$f":"ROUND(IF(B83<0,B83, B83 - Shocks!D82 * ABS(B83))+Extrapolation!T85, 5)","v":1.9779999999999999E-2}]
[72,2.5048792314750878E-2,{"$f":"ROUND(B84*(1+Shocks!H83)+Shocks!I83,5)","v":3.0380000000000001E-2},{"$f":"ROUND(B84*(1-Shocks!F83)-Shocks!G83,5)","v":1.8110000000000001E-2},{"$f":"ROUND(B84 + MAX(0.01,Shocks!E83*ABS(B84) ),5)","v":3.5049999999999998E-2},{"$f":"ROUND(IF(B84<0,B84, B84 - Shocks!D83 * ABS(B84)),5)","v":1.9460000000000002E-2},null,2.5545727216983671E-2,{"$f":"ROUND(B84*(1+Shocks!H83)+Shocks!I83,5)+Extrapolation!T86","v":3.0876934902232794E-2},{"$f":"ROUND(B84*(1-Shocks!F83)-Shocks!G83,5)+Extrapolation!T86","v":1.8606934902232794E-2},{"$f":"ROUND(B84 + MAX(0.01,Shocks!E83*ABS(B84) )+Extrapolation!T86, 5)","v":3.5549999999999998E-2},{"$f":"ROUND(IF(B84<0,B84, B84 - Shocks!D83 * ABS(B84))+Extrapolation!T86, 5)","v":1.9959999999999999E-2}]
[73,2.5236332583440824E-2,{"$f":"ROUND(B85*(1+Shocks!H84)+Shocks!I84,5)","v":3.0589999999999999E-2},{"$f":"ROUND(B85*(1-Shocks!F84)-Shocks!G84,5)","v":1.8350000000000002E-2},{"$f":"ROUND(B85 + MAX(0.01,Shocks!E84*ABS(B85) ),5)","v":3.524E-2},{"$f":"ROUND(IF(B85<0,B85, B85 - Shocks!D84 * ABS(B85)),5)","v":1.9640000000000001E-2},null,2.572658468897604E-2,{"$f":"ROUND(B85*(1+Shocks!H84)+Shocks!I84,5)+Extrapolation!T87","v":3.1080252105535215E-2},{"$f":"ROUND(B85*(1-Shocks!F84)-Shocks!G84,5)+Extrapolation!T87","v":1.8840252105535218E-2},{"$f":"ROUND(B85 + MAX(0.01,Shocks!E84*ABS(B85) )+Extrapolation!T87, 5)","v":3.5729999999999998E-2},{"$f":"ROUND(IF(B85<0,B85, B85 - Shocks!D84 * ABS(B85))+Extrapolation!T87, 5)","v":2.0129999999999999E-2}]
[74,2.541905316625992E-2,{"$f":"ROUND(B86*(1+Shocks!H85)+Shocks!I85,5)","v":3.0790000000000001E-2},{"$f":"ROUND(B86*(1-Shocks!F85)-Shocks!G85,5)","v":1.8589999999999999E-2},{"$f":"ROUND(B86 + MAX(0.01,Shocks!E85*ABS(B86) ),5)","v":3.542E-2},{"$f":"ROUND(IF(B86<0,B86, B86 - Shocks!D85 * ABS(B86)),5)","v":1.9810000000000001E-2},null,2.5902797447284298E-2,{"$f":"ROUND(B86*(1+Shocks!H85)+Shocks!I85,5)+Extrapolation!T88","v":3.1273744281024377E-2},{"$f":"ROUND(B86*(1-Shocks!F85)-Shocks!G85,5)+Extrapolation!T88","v":1.9073744281024377E-2},{"$f":"ROUND(B86 + MAX(0.01,Shocks!E85*ABS(B86) )+Extrapolation!T88, 5)","v":3.5900000000000001E-2},{"$f":"ROUND(IF(B86<0,B86, B86 - Shocks!D85 * ABS(B86))+Extrapolation!T88, 5)","v":2.0299999999999999E-2}]
[75,2.5597125379337671E-2,{"$f":"ROUND(B87*(1+Shocks!H86)+Shocks!I86,5)","v":3.099E-2},{"$f":"ROUND(B87*(1-Shocks!F86)-Shocks!G86,5)","v":1.883E-2},{"$f":"ROUND(B87 + MAX(0.01,Shocks!E86*ABS(B87) ),5)","v":3.56E-2},{"$f":"ROUND(IF(B87<0,B87, B87 - Shocks!D86 * ABS(B87)),5)","v":1.9980000000000001E-2},null,2.6074530206759094E-2,{"$f":"ROUND(B87*(1+Shocks!H86)+Shocks!I86,5)+Extrapolation!T89","v":3.1467404827421427E-2},{"$f":"ROUND(B87*(1-Shocks!F86)-Shocks!G86,5)+Extrapolation!T89","v":1.9307404827421423E-2},{"$f":"ROUND(B87 + MAX(0.01,Shocks!E86*ABS(B87) )+Extrapolation!T89, 5)","v":3.6069999999999998E-2},{"$f":"ROUND(IF(B87<0,B87, B87 - Shocks!D86 * ABS(B87))+Extrapolation!T89, 5)","v":2.0459999999999999E-2}]
[76,2.5770713475528728E-2,{"$f":"ROUND(B88*(1+Shocks!H87)+Shocks!I87,5)","v":3.1179999999999999E-2},{"$f":"ROUND(B88*(1-Shocks!F87)-Shocks!G87,5)","v":1.907E-2},{"$f":"ROUND(B88 + MAX(0.01,Shocks!E87*ABS(B88) ),5)","v":3.5770000000000003E-2},{"$f":"ROUND(IF(B88<0,B88, B88 - Shocks!D87 * ABS(B88)),5)","v":2.0150000000000001E-2},null,2.6241940933349417E-2,{"$f":"ROUND(B88*(1+Shocks!H87)+Shocks!I87,5)+Extrapolation!T90","v":3.1651227457820688E-2},{"$f":"ROUND(B88*(1-Shocks!F87)-Shocks!G87,5)+Extrapolation!T90","v":1.9541227457820689E-2},{"$f":"ROUND(B88 + MAX(0.01,Shocks!E87*ABS(B88) )+Extrapolation!T90, 5)","v":3.6240000000000001E-2},{"$f":"ROUND(IF(B88<0,B88, B88 - Shocks!D87 * ABS(B88))+Extrapolation!T90, 5)","v":2.0619999999999999E-2}]
[77,2.5939974922517983E-2,{"$f":"ROUND(B89*(1+Shocks!H88)+Shocks!I88,5)","v":3.1370000000000002E-2},{"$f":"ROUND(B89*(1-Shocks!F88)-Shocks!G88,5)","v":1.9310000000000001E-2},{"$f":"ROUND(B89 + MAX(0.01,Shocks!E88*ABS(B89) ),5)","v":3.594E-2},{"$f":"ROUND(IF(B89<0,B89, B89 - Shocks!D88 * ABS(B89)),5)","v":2.0320000000000001E-2},null,2.6405181104711462E-2,{"$f":"ROUND(B89*(1+Shocks!H88)+Shocks!I88,5)+Extrapolation!T91","v":3.183520618219348E-2},{"$f":"ROUND(B89*(1-Shocks!F88)-Shocks!G88,5)+Extrapolation!T91","v":1.9775206182193479E-2},{"$f":"ROUND(B89 + MAX(0.01,Shocks!E88*ABS(B89) )+Extrapolation!T91, 5)","v":3.6409999999999998E-2},{"$f":"ROUND(IF(B89<0,B89, B89 - Shocks!D88 * ABS(B89))+Extrapolation!T91, 5)","v":2.078E-2}]
[78,2.610506067630558E-2,{"$f":"ROUND(B90*(1+Shocks!H89)+Shocks!I89,5)","v":3.1550000000000002E-2},{"$f":"ROUND(B90*(1-Shocks!F89)-Shocks!G89,5)","v":1.9539999999999998E-2},{"$f":"ROUND(B90 + MAX(0.01,Shocks!E89*ABS(B90) ),5)","v":3.6110000000000003E-2},{"$f":"ROUND(IF(B90<0,B90, B90 - Shocks!D89 * ABS(B90)),5)","v":2.0480000000000002E-2},null,2.6564395967278998E-2,{"$f":"ROUND(B90*(1+Shocks!H89)+Shocks!I89,5)+Extrapolation!T92","v":3.2009335290973419E-2},{"$f":"ROUND(B90*(1-Shocks!F89)-Shocks!G89,5)+Extrapolation!T92","v":1.9999335290973416E-2},{"$f":"ROUND(B90 + MAX(0.01,Shocks!E89*ABS(B90) )+Extrapolation!T92, 5)","v":3.6560000000000002E-2},{"$f":"ROUND(IF(B90<0,B90, B90 - Shocks!D89 * ABS(B90))+Extrapolation!T92, 5)","v":2.094E-2}]
[79,2.6266115448921656E-2,{"$f":"ROUND(B91*(1+Shocks!H90)+Shocks!I90,5)","v":3.1730000000000001E-2},{"$f":"ROUND(B91*(1-Shocks!F90)-Shocks!G90,5)","v":1.9769999999999999E-2},{"$f":"ROUND(B91 + MAX(0.01,Shocks!E90*ABS(B91) ),5)","v":3.6269999999999997E-2},{"$f":"ROUND(IF(B91<0,B91, B91 - Shocks!D90 * ABS(B91)),5)","v":2.0639999999999999E-2},null,2.6719724788576427E-2,{"$f":"ROUND(B91*(1+Shocks!H90)+Shocks!I90,5)+Extrapolation!T93","v":3.2183609339654771E-2},{"$f":"ROUND(B91*(1-Shocks!F90)-Shocks!G90,5)+Extrapolation!T93","v":2.022360933965477E-2},{"$f":"ROUND(B91 + MAX(0.01,Shocks!E90*ABS(B91) )+Extrapolation!T93, 5)","v":3.6720000000000003E-2},{"$f":"ROUND(IF(B91<0,B91, B91 - Shocks!D90 * ABS(B91))+Extrapolation!T93, 5)","v":2.1100000000000001E-2}]
[80,2.642327796948174E-2,{"$f":"ROUND(B92*(1+Shocks!H91)+Shocks!I91,5)","v":3.1899999999999998E-2},{"$f":"ROUND(B92*(1-Shocks!F91)-Shocks!G91,5)","v":2.001E-2},{"$f":"ROUND(B92 + MAX(0.01,Shocks!E91*ABS(B92) ),5)","v":3.6420000000000001E-2},{"$f":"ROUND(IF(B92<0,B92, B92 - Shocks!D91 * ABS(B92)),5)","v":2.0799999999999999E-2},null,2.6871301103813083E-2,{"$f":"ROUND(B92*(1+Shocks!H91)+Shocks!I91,5)+Extrapolation!T94","v":3.2348023134331341E-2},{"$f":"ROUND(B92*(1-Shocks!F91)-Shocks!G91,5)+Extrapolation!T94","v":2.0458023134331343E-2},{"$f":"ROUND(B92 + MAX(0.01,Shocks!E91*ABS(B92) )+Extrapolation!T94, 5)","v":3.687E-2},{"$f":"ROUND(IF(B92<0,B92, B92 - Shocks!D91 * ABS(B92))+Extrapolation!T94, 5)","v":2.1250000000000002E-2}]
[81,2.6576681237906685E-2,{"$f":"ROUND(B93*(1+Shocks!H92)+Shocks!I92,5)","v":3.2059999999999998E-2},{"$f":"ROUND(B93*(1-Shocks!F92)-Shocks!G92,5)","v":2.0240000000000001E-2},{"$f":"ROUND(B93 + MAX(0.01,Shocks!E92*ABS(B93) ),5)","v":3.6580000000000001E-2},{"$f":"ROUND(IF(B93<0,B93, B93 - Shocks!D92 * ABS(B93)),5)","v":2.095E-2},null,2.7019252956027806E-2,{"$f":"ROUND(B93*(1+Shocks!H92)+Shocks!I92,5)+Extrapolation!T95","v":3.2502571718121119E-2},{"$f":"ROUND(B93*(1-Shocks!F92)-Shocks!G92,5)+Extrapolation!T95","v":2.0682571718121122E-2},{"$f":"ROUND(B93 + MAX(0.01,Shocks!E92*ABS(B93) )+Extrapolation!T95, 5)","v":3.7019999999999997E-2},{"$f":"ROUND(IF(B93<0,B93, B93 - Shocks!D92 * ABS(B93))+Extrapolation!T95, 5)","v":2.1399999999999999E-2}]
[82,2.6726452770819531E-2,{"$f":"ROUND(B94*(1+Shocks!H93)+Shocks!I93,5)","v":3.2219999999999999E-2},{"$f":"ROUND(B94*(1-Shocks!F93)-Shocks!G93,5)","v":2.0459999999999999E-2},{"$f":"ROUND(B94 + MAX(0.01,Shocks!E93*ABS(B94) ),5)","v":3.6729999999999999E-2},{"$f":"ROUND(IF(B94<0,B94, B94 - Shocks!D93 * ABS(B94)),5)","v":2.111E-2},null,2.7163703129229333E-2,{"$f":"ROUND(B94*(1+Shocks!H93)+Shocks!I93,5)+Extrapolation!T96","v":3.2657250358409801E-2},{"$f":"ROUND(B94*(1-Shocks!F93)-Shocks!G93,5)+Extrapolation!T96","v":2.0897250358409801E-2},{"$f":"ROUND(B94 + MAX(0.01,Shocks!E93*ABS(B94) )+Extrapolation!T96, 5)","v":3.7159999999999999E-2},{"$f":"ROUND(IF(B94<0,B94, B94 - Shocks!D93 * ABS(B94))+Extrapolation!T96, 5)","v":2.154E-2}]
[83,2.687271483927689E-2,{"$f":"ROUND(B95*(1+Shocks!H94)+Shocks!I94,5)","v":3.2379999999999999E-2},{"$f":"ROUND(B95*(1-Shocks!F94)-Shocks!G94,5)","v":2.069E-2},{"$f":"ROUND(B95 + MAX(0.01,Shocks!E94*ABS(B95) ),5)","v":3.687E-2},{"$f":"ROUND(IF(B95<0,B95, B95 - Shocks!D94 * ABS(B95)),5)","v":2.1260000000000001E-2},null,2.7304769374144833E-2,{"$f":"ROUND(B95*(1+Shocks!H94)+Shocks!I94,5)+Extrapolation!T97","v":3.2812054534867942E-2},{"$f":"ROUND(B95*(1-Shocks!F94)-Shocks!G94,5)+Extrapolation!T97","v":2.1122054534867943E-2},{"$f":"ROUND(B95 + MAX(0.01,Shocks!E94*ABS(B95) )+Extrapolation!T97, 5)","v":3.73E-2},{"$f":"ROUND(IF(B95<0,B95, B95 - Shocks!D94 * ABS(B95))+Extrapolation!T97, 5)","v":2.1690000000000001E-2}]
[84,2.7015584698121486E-2,{"$f":"ROUND(B96*(1+Shocks!H95)+Shocks!I95,5)","v":3.2530000000000003E-2},{"$f":"ROUND(B96*(1-Shocks!F95)-Shocks!G95,5)","v":2.0920000000000001E-2},{"$f":"ROUND(B96 + MAX(0.01,Shocks!E95*ABS(B96) ),5)","v":3.7019999999999997E-2},{"$f":"ROUND(IF(B96<0,B96, B96 - Shocks!D95 * ABS(B96)),5)","v":2.1399999999999999E-2},null,2.7442564626304566E-2,{"$f":"ROUND(B96*(1+Shocks!H95)+Shocks!I95,5)+Extrapolation!T98","v":3.2956979928183083E-2},{"$f":"ROUND(B96*(1-Shocks!F95)-Shocks!G95,5)+Extrapolation!T98","v":2.1346979928183081E-2},{"$f":"ROUND(B96 + MAX(0.01,Shocks!E95*ABS(B96) )+Extrapolation!T98, 5)","v":3.7440000000000001E-2},{"$f":"ROUND(IF(B96<0,B96, B96 - Shocks!D95 * ABS(B96))+Extrapolation!T98, 5)","v":2.1829999999999999E-2}]
[85,2.7155174806843929E-2,{"$f":"ROUND(B97*(1+Shocks!H96)+Shocks!I96,5)","v":3.2680000000000001E-2},{"$f":"ROUND(B97*(1-Shocks!F96)-Shocks!G96,5)","v":2.1139999999999999E-2},{"$f":"ROUND(B97 + MAX(0.01,Shocks!E96*ABS(B97) ),5)","v":3.7159999999999999E-2},{"$f":"ROUND(IF(B97<0,B97, B97 - Shocks!D96 * ABS(B97)),5)","v":2.155E-2},null,2.7577197216312577E-2,{"$f":"ROUND(B97*(1+Shocks!H96)+Shocks!I96,5)+Extrapolation!T99","v":3.3102022409468648E-2},{"$f":"ROUND(B97*(1-Shocks!F96)-Shocks!G96,5)+Extrapolation!T99","v":2.1562022409468647E-2},{"$f":"ROUND(B97 + MAX(0.01,Shocks!E96*ABS(B97) )+Extrapolation!T99, 5)","v":3.7580000000000002E-2},{"$f":"ROUND(IF(B97<0,B97, B97 - Shocks!D96 * ABS(B97))+Extrapolation!T99, 5)","v":2.197E-2}]
[86,2.7291593041929296E-2,{"$f":"ROUND(B98*(1+Shocks!H97)+Shocks!I97,5)","v":3.2829999999999998E-2},{"$f":"ROUND(B98*(1-Shocks!F97)-Shocks!G97,5)","v":2.137E-2},{"$f":"ROUND(B98 + MAX(0.01,Shocks!E97*ABS(B98) ),5)","v":3.7289999999999997E-2},{"$f":"ROUND(IF(B98<0,B98, B98 - Shocks!D97 * ABS(B98)),5)","v":2.1690000000000001E-2},null,2.7708771072226579E-2,{"$f":"ROUND(B98*(1+Shocks!H97)+Shocks!I97,5)+Extrapolation!T100","v":3.3247178030297281E-2},{"$f":"ROUND(B98*(1-Shocks!F97)-Shocks!G97,5)+Extrapolation!T100","v":2.1787178030297283E-2},{"$f":"ROUND(B98 + MAX(0.01,Shocks!E97*ABS(B98) )+Extrapolation!T100, 5)","v":3.771E-2},{"$f":"ROUND(IF(B98<0,B98, B98 - Shocks!D97 * ABS(B98))+Extrapolation!T100, 5)","v":2.2110000000000001E-2}]
[87,2.7424942900729388E-2,{"$f":"ROUND(B99*(1+Shocks!H98)+Shocks!I98,5)","v":3.2969999999999999E-2},{"$f":"ROUND(B99*(1-Shocks!F98)-Shocks!G98,5)","v":2.1590000000000002E-2},{"$f":"ROUND(B99 + MAX(0.01,Shocks!E98*ABS(B99) ),5)","v":3.7420000000000002E-2},{"$f":"ROUND(IF(B99<0,B99, B99 - Shocks!D98 * ABS(B99)),5)","v":2.1829999999999999E-2},null,2.7837385914055046E-2,{"$f":"ROUND(B99*(1+Shocks!H98)+Shocks!I98,5)+Extrapolation!T101","v":3.3382443013325658E-2},{"$f":"ROUND(B99*(1-Shocks!F98)-Shocks!G98,5)+Extrapolation!T101","v":2.200244301332566E-2},{"$f":"ROUND(B99 + MAX(0.01,Shocks!E98*ABS(B99) )+Extrapolation!T101, 5)","v":3.7839999999999999E-2},{"$f":"ROUND(IF(B99<0,B99, B99 - Shocks!D98 * ABS(B99))+Extrapolation!T101, 5)","v":2.2249999999999999E-2}]
[88,2.7555323696962342E-2,{"$f":"ROUND(B100*(1+Shocks!H99)+Shocks!I99,5)","v":3.3110000000000001E-2},{"$f":"ROUND(B100*(1-Shocks!F99)-Shocks!G99,5)","v":2.181E-2},{"$f":"ROUND(B100 + MAX(0.01,Shocks!E99*ABS(B100) ),5)","v":3.7560000000000003E-2},{"$f":"ROUND(IF(B100<0,B100, B100 - Shocks!D99 * ABS(B100)),5)","v":2.197E-2},null,2.7963137440430108E-2,{"$f":"ROUND(B100*(1+Shocks!H99)+Shocks!I99,5)+Extrapolation!T102","v":3.3517813743467767E-2},{"$f":"ROUND(B100*(1-Shocks!F99)-Shocks!G99,5)+Extrapolation!T102","v":2.2217813743467766E-2},{"$f":"ROUND(B100 + MAX(0.01,Shocks!E99*ABS(B100) )+Extrapolation!T102, 5)","v":3.7960000000000001E-2},{"$f":"ROUND(IF(B100<0,B100, B100 - Shocks!D99 * ABS(B100))+Extrapolation!T102, 5)","v":2.2380000000000001E-2}]
[89,2.7682830747979503E-2,{"$f":"ROUND(B101*(1+Shocks!H100)+Shocks!I100,5)","v":3.3239999999999999E-2},{"$f":"ROUND(B101*(1-Shocks!F100)-Shocks!G100,5)","v":2.2030000000000001E-2},{"$f":"ROUND(B101 + MAX(0.01,Shocks!E100*ABS(B101) ),5)","v":3.7679999999999998E-2},{"$f":"ROUND(IF(B101<0,B101, B101 - Shocks!D100 * ABS(B101)),5)","v":2.2110000000000001E-2},null,2.8086117507563513E-2,{"$f":"ROUND(B101*(1+Shocks!H100)+Shocks!I100,5)+Extrapolation!T103","v":3.3643286759584008E-2},{"$f":"ROUND(B101*(1-Shocks!F100)-Shocks!G100,5)+Extrapolation!T103","v":2.243328675958401E-2},{"$f":"ROUND(B101 + MAX(0.01,Shocks!E100*ABS(B101) )+Extrapolation!T103, 5)","v":3.8089999999999999E-2},{"$f":"ROUND(IF(B101<0,B101, B101 - Shocks!D100 * ABS(B101))+Extrapolation!T103, 5)","v":2.2509999999999999E-2}]
[90,2.7807555553983399E-2,{"$f":"ROUND(B102*(1+Shocks!H101)+Shocks!I101,5)","v":3.3369999999999997E-2},{"$f":"ROUND(B102*(1-Shocks!F101)-Shocks!G101,5)","v":2.2249999999999999E-2},{"$f":"ROUND(B102 + MAX(0.01,Shocks!E101*ABS(B102) ),5)","v":3.7810000000000003E-2},{"$f":"ROUND(IF(B102<0,B102, B102 - Shocks!D101 * ABS(B102)),5)","v":2.2249999999999999E-2},null,2.8206414300635974E-2,{"$f":"ROUND(B102*(1+Shocks!H101)+Shocks!I101,5)+Extrapolation!T104","v":3.3768858746652572E-2},{"$f":"ROUND(B102*(1-Shocks!F101)-Shocks!G101,5)+Extrapolation!T104","v":2.2648858746652574E-2},{"$f":"ROUND(B102 + MAX(0.01,Shocks!E101*ABS(B102) )+Extrapolation!T104, 5)","v":3.8210000000000001E-2},{"$f":"ROUND(IF(B102<0,B102, B102 - Shocks!D101 * ABS(B102))+Extrapolation!T104, 5)","v":2.264E-2}]
[91,2.7929585969397985E-2,{"$f":"ROUND(B103*(1+Shocks!H102)+Shocks!I102,5)","v":3.3520000000000001E-2},{"$f":"ROUND(B103*(1-Shocks!F102)-Shocks!G102,5)","v":2.2339999999999999E-2},{"$f":"ROUND(B103 + MAX(0.01,Shocks!E102*ABS(B103) ),5)","v":3.7929999999999998E-2},{"$f":"ROUND(IF(B103<0,B103, B103 - Shocks!D102 * ABS(B103)),5)","v":2.2339999999999999E-2},null,2.8324112497791987E-2,{"$f":"ROUND(B103*(1+Shocks!H102)+Shocks!I102,5)+Extrapolation!T105","v":3.3914526528394003E-2},{"$f":"ROUND(B103*(1-Shocks!F102)-Shocks!G102,5)+Extrapolation!T105","v":2.2734526528394E-2},{"$f":"ROUND(B103 + MAX(0.01,Shocks!E102*ABS(B103) )+Extrapolation!T105, 5)","v":3.832E-2},{"$f":"ROUND(IF(B103<0,B103, B103 - Shocks!D102 * ABS(B103))+Extrapolation!T105, 5)","v":2.274E-2}]
[92,2.8049006366623441E-2,{"$f":"ROUND(B104*(1+Shocks!H103)+Shocks!I103,5)","v":3.3660000000000002E-2},{"$f":"ROUND(B104*(1-Shocks!F103)-Shocks!G103,5)","v":2.2440000000000002E-2},{"$f":"ROUND(B104 + MAX(0.01,Shocks!E103*ABS(B104) ),5)","v":3.805E-2},{"$f":"ROUND(IF(B104<0,B104, B104 - Shocks!D103 * ABS(B104)),5)","v":2.2440000000000002E-2},null,2.8439293426937517E-2,{"$f":"ROUND(B104*(1+Shocks!H103)+Shocks!I103,5)+Extrapolation!T106","v":3.4050287060314079E-2},{"$f":"ROUND(B104*(1-Shocks!F103)-Shocks!G103,5)+Extrapolation!T106","v":2.2830287060314078E-2},{"$f":"ROUND(B104 + MAX(0.01,Shocks!E103*ABS(B104) )+Extrapolation!T106, 5)","v":3.8440000000000002E-2},{"$f":"ROUND(IF(B104<0,B104, B104 - Shocks!D103 * ABS(B104))+Extrapolation!T106, 5)","v":2.283E-2}]
[93,2.816589779241041E-2,{"$f":"ROUND(B105*(1+Shocks!H104)+Shocks!I104,5)","v":3.3799999999999997E-2},{"$f":"ROUND(B105*(1-Shocks!F104)-Shocks!G104,5)","v":2.2530000000000001E-2},{"$f":"ROUND(B105 + MAX(0.01,Shocks!E104*ABS(B105) ),5)","v":3.8170000000000003E-2},{"$f":"ROUND(IF(B105<0,B105, B105 - Shocks!D104 * ABS(B105)),5)","v":2.2530000000000001E-2},null,2.8552035215561711E-2,{"$f":"ROUND(B105*(1+Shocks!H104)+Shocks!I104,5)+Extrapolation!T107","v":3.4186137423151297E-2},{"$f":"ROUND(B105*(1-Shocks!F104)-Shocks!G104,5)+Extrapolation!T107","v":2.2916137423151302E-2},{"$f":"ROUND(B105 + MAX(0.01,Shocks!E104*ABS(B105) )+Extrapolation!T107, 5)","v":3.8550000000000001E-2},{"$f":"ROUND(IF(B105<0,B105, B105 - Shocks!D104 * ABS(B105))+Extrapolation!T107, 5)","v":2.2919999999999999E-2}]
[94,2.8280338117113724E-2,{"$f":"ROUND(B106*(1+Shocks!H105)+Shocks!I105,5)","v":3.3939999999999998E-2},{"$f":"ROUND(B106*(1-Shocks!F105)-Shocks!G105,5)","v":2.2620000000000001E-2},{"$f":"ROUND(B106 + MAX(0.01,Shocks!E105*ABS(B106) ),5)","v":3.8280000000000002E-2},{"$f":"ROUND(IF(B106<0,B106, B106 - Shocks!D105 * ABS(B106)),5)","v":2.2620000000000001E-2},null,2.8662412933801562E-2,{"$f":"ROUND(B106*(1+Shocks!H105)+Shocks!I105,5)+Extrapolation!T108","v":3.4322074816687836E-2},{"$f":"ROUND(B106*(1-Shocks!F105)-Shocks!G105,5)+Extrapolation!T108","v":2.300207481668784E-2},{"$f":"ROUND(B106 + MAX(0.01,Shocks!E105*ABS(B106) )+Extrapolation!T108, 5)","v":3.866E-2},{"$f":"ROUND(IF(B106<0,B106, B106 - Shocks!D105 * ABS(B106))+Extrapolation!T108, 5)","v":2.3009999999999999E-2}]
[95,2.8392402177078058E-2,{"$f":"ROUND(B107*(1+Shocks!H106)+Shocks!I106,5)","v":3.4070000000000003E-2},{"$f":"ROUND(B107*(1-Shocks!F106)-Shocks!G106,5)","v":2.2710000000000001E-2},{"$f":"ROUND(B107 + MAX(0.01,Shocks!E106*ABS(B107) ),5)","v":3.8390000000000001E-2},{"$f":"ROUND(IF(B107<0,B107, B107 - Shocks!D106 * ABS(B107)),5)","v":2.2710000000000001E-2},null,2.8770498730993133E-2,{"$f":"ROUND(B107*(1+Shocks!H106)+Shocks!I106,5)+Extrapolation!T109","v":3.4448096553915078E-2},{"$f":"ROUND(B107*(1-Shocks!F106)-Shocks!G106,5)+Extrapolation!T109","v":2.3088096553915076E-2},{"$f":"ROUND(B107 + MAX(0.01,Shocks!E106*ABS(B107) )+Extrapolation!T109, 5)","v":3.8769999999999999E-2},{"$f":"ROUND(IF(B107<0,B107, B107 - Shocks!D106 * ABS(B107))+Extrapolation!T109, 5)","v":2.3089999999999999E-2}]
[96,2.8502161910420654E-2,{"$f":"ROUND(B108*(1+Shocks!H107)+Shocks!I107,5)","v":3.4200000000000001E-2},{"$f":"ROUND(B108*(1-Shocks!F107)-Shocks!G107,5)","v":2.2800000000000001E-2},{"$f":"ROUND(B108 + MAX(0.01,Shocks!E107*ABS(B108) ),5)","v":3.85E-2},{"$f":"ROUND(IF(B108<0,B108, B108 - Shocks!D107 * ABS(B108)),5)","v":2.2800000000000001E-2},null,2.8876361965944231E-2,{"$f":"ROUND(B108*(1+Shocks!H107)+Shocks!I107,5)+Extrapolation!T110","v":3.4574200055523578E-2},{"$f":"ROUND(B108*(1-Shocks!F107)-Shocks!G107,5)+Extrapolation!T110","v":2.3174200055523578E-2},{"$f":"ROUND(B108 + MAX(0.01,Shocks!E107*ABS(B108) )+Extrapolation!T110, 5)","v":3.8879999999999998E-2},{"$f":"ROUND(IF(B108<0,B108, B108 - Shocks!D107 * ABS(B108))+Extrapolation!T110, 5)","v":2.3179999999999999E-2}]
[97,2.8609686486473551E-2,{"$f":"ROUND(B109*(1+Shocks!H108)+Shocks!I108,5)","v":3.4329999999999999E-2},{"$f":"ROUND(B109*(1-Shocks!F108)-Shocks!G108,5)","v":2.2890000000000001E-2},{"$f":"ROUND(B109 + MAX(0.01,Shocks!E108*ABS(B109) ),5)","v":3.8609999999999998E-2},{"$f":"ROUND(IF(B109<0,B109, B109 - Shocks!D108 * ABS(B109)),5)","v":2.2890000000000001E-2},null,2.8980069331172364E-2,{"$f":"ROUND(B109*(1+Shocks!H108)+Shocks!I108,5)+Extrapolation!T111","v":3.4700382844698813E-2},{"$f":"ROUND(B109*(1-Shocks!F108)-Shocks!G108,5)+Extrapolation!T111","v":2.3260382844698814E-2},{"$f":"ROUND(B109 + MAX(0.01,Shocks!E108*ABS(B109) )+Extrapolation!T111, 5)","v":3.8980000000000001E-2},{"$f":"ROUND(IF(B109<0,B109, B109 - Shocks!D108 * ABS(B109))+Extrapolation!T111, 5)","v":2.3259999999999999E-2}]
[98,2.8715042429144022E-2,{"$f":"ROUND(B110*(1+Shocks!H109)+Shocks!I109,5)","v":3.4459999999999998E-2},{"$f":"ROUND(B110*(1-Shocks!F109)-Shocks!G109,5)","v":2.2970000000000001E-2},{"$f":"ROUND(B110 + MAX(0.01,Shocks!E109*ABS(B110) ),5)","v":3.8719999999999997E-2},{"$f":"ROUND(IF(B110<0,B110, B110 - Shocks!D109 * ABS(B110)),5)","v":2.2970000000000001E-2},null,2.9081684971353328E-2,{"$f":"ROUND(B110*(1+Shocks!H109)+Shocks!I109,5)+Extrapolation!T112","v":3.4826642542209303E-2},{"$f":"ROUND(B110*(1-Shocks!F109)-Shocks!G109,5)+Extrapolation!T112","v":2.3336642542209306E-2},{"$f":"ROUND(B110 + MAX(0.01,Shocks!E109*ABS(B110) )+Extrapolation!T112, 5)","v":3.9079999999999997E-2},{"$f":"ROUND(IF(B110<0,B110, B110 - Shocks!D109 * ABS(B110))+Extrapolation!T112, 5)","v":2.334E-2}]
[99,2.8818293734456546E-2,{"$f":"ROUND(B111*(1+Shocks!H110)+Shocks!I110,5)","v":3.458E-2},{"$f":"ROUND(B111*(1-Shocks!F110)-Shocks!G110,5)","v":2.3050000000000001E-2},{"$f":"ROUND(B111 + MAX(0.01,Shocks!E110*ABS(B111) ),5)","v":3.882E-2},{"$f":"ROUND(IF(B111<0,B111, B111 - Shocks!D110 * ABS(B111)),5)","v":2.3050000000000001E-2},null,2.9181270596215558E-2,{"$f":"ROUND(B111*(1+Shocks!H110)+Shocks!I110,5)+Extrapolation!T113","v":3.4942976861759012E-2},{"$f":"ROUND(B111*(1-Shocks!F110)-Shocks!G110,5)+Extrapolation!T113","v":2.3412976861759013E-2},{"$f":"ROUND(B111 + MAX(0.01,Shocks!E110*ABS(B111) )+Extrapolation!T113, 5)","v":3.918E-2},{"$f":"ROUND(IF(B111<0,B111, B111 - Shocks!D110 * ABS(B111))+Extrapolation!T113, 5)","v":2.342E-2}]
[100,2.8919501982523022E-2,{"$f":"ROUND(B112*(1+Shocks!H111)+Shocks!I111,5)","v":3.4700000000000002E-2},{"$f":"ROUND(B112*(1-Shocks!F111)-Shocks!G111,5)","v":2.3140000000000001E-2},{"$f":"ROUND(B112 + MAX(0.01,Shocks!E111*ABS(B112) ),5)","v":3.8920000000000003E-2},{"$f":"ROUND(IF(B112<0,B112, B112 - Shocks!D111 * ABS(B112)),5)","v":2.3140000000000001E-2},null,2.9278885588121639E-2,{"$f":"ROUND(B112*(1+Shocks!H111)+Shocks!I111,5)+Extrapolation!T114","v":3.5059383605598619E-2},{"$f":"ROUND(B112*(1-Shocks!F111)-Shocks!G111,5)+Extrapolation!T114","v":2.3499383605598619E-2},{"$f":"ROUND(B112 + MAX(0.01,Shocks!E111*ABS(B112) )+Extrapolation!T114, 5)","v":3.9280000000000002E-2},{"$f":"ROUND(IF(B112<0,B112, B112 - Shocks!D111 * ABS(B112))+Extrapolation!T114, 5)","v":2.349E-2}]
[101,2.9018726444194121E-2,{"$f":"ROUND(B113*(1+Shocks!H112)+Shocks!I112,5)","v":3.4819999999999997E-2},{"$f":"ROUND(B113*(1-Shocks!F112)-Shocks!G112,5)","v":2.3210000000000001E-2},{"$f":"ROUND(B113 + MAX(0.01,Shocks!E112*ABS(B113) ),5)","v":3.9019999999999999E-2},{"$f":"ROUND(IF(B113<0,B113, B113 - Shocks!D112 * ABS(B113)),5)","v":2.3210000000000001E-2},null,2.9374587104567418E-2,{"$f":"ROUND(B113*(1+Shocks!H112)+Shocks!I112,5)+Extrapolation!T115","v":3.5175860660373294E-2},{"$f":"ROUND(B113*(1-Shocks!F112)-Shocks!G112,5)+Extrapolation!T115","v":2.3565860660373299E-2},{"$f":"ROUND(B113 + MAX(0.01,Shocks!E112*ABS(B113) )+Extrapolation!T115, 5)","v":3.9370000000000002E-2},{"$f":"ROUND(IF(B113<0,B113, B113 - Shocks!D112 * ABS(B113))+Extrapolation!T115, 5)","v":2.3570000000000001E-2}]
[102,2.9116024182631151E-2,{"$f":"ROUND(B114*(1+Shocks!H113)+Shocks!I113,5)","v":3.4939999999999999E-2},{"$f":"ROUND(B114*(1-Shocks!F113)-Shocks!G113,5)","v":2.3290000000000002E-2},{"$f":"ROUND(B114 + MAX(0.01,Shocks!E113*ABS(B114) ),5)","v":3.9120000000000002E-2},{"$f":"ROUND(IF(B114<0,B114, B114 - Shocks!D113 * ABS(B114)),5)","v":2.3290000000000002E-2},null,2.9468430175825011E-2,{"$f":"ROUND(B114*(1+Shocks!H113)+Shocks!I113,5)+Extrapolation!T116","v":3.5292405993193859E-2},{"$f":"ROUND(B114*(1-Shocks!F113)-Shocks!G113,5)+Extrapolation!T116","v":2.3642405993193862E-2},{"$f":"ROUND(B114 + MAX(0.01,Shocks!E113*ABS(B114) )+Extrapolation!T116, 5)","v":3.9469999999999998E-2},{"$f":"ROUND(IF(B114<0,B114, B114 - Shocks!D113 * ABS(B114))+Extrapolation!T116, 5)","v":2.3650000000000001E-2}]
[103,2.921145015003157E-2,{"$f":"ROUND(B115*(1+Shocks!H114)+Shocks!I114,5)","v":3.5049999999999998E-2},{"$f":"ROUND(B115*(1-Shocks!F114)-Shocks!G114,5)","v":2.3369999999999998E-2},{"$f":"ROUND(B115 + MAX(0.01,Shocks!E114*ABS(B115) ),5)","v":3.9210000000000002E-2},{"$f":"ROUND(IF(B115<0,B115, B115 - Shocks!D114 * ABS(B115)),5)","v":2.3369999999999998E-2},null,2.956046779795285E-2,{"$f":"ROUND(B115*(1+Shocks!H114)+Shocks!I114,5)+Extrapolation!T117","v":3.5399017647921277E-2},{"$f":"ROUND(B115*(1-Shocks!F114)-Shocks!G114,5)+Extrapolation!T117","v":2.3719017647921278E-2},{"$f":"ROUND(B115 + MAX(0.01,Shocks!E114*ABS(B115) )+Extrapolation!T117, 5)","v":3.9559999999999998E-2},{"$f":"ROUND(IF(B115<0,B115, B115 - Shocks!D114 * ABS(B115))+Extrapolation!T117, 5)","v":2.3720000000000001E-2}]
[104,2.9305057279736868E-2,{"$f":"ROUND(B116*(1+Shocks!H115)+Shocks!I115,5)","v":3.517E-2},{"$f":"ROUND(B116*(1-Shocks!F115)-Shocks!G115,5)","v":2.3439999999999999E-2},{"$f":"ROUND(B116 + MAX(0.01,Shocks!E115*ABS(B116) ),5)","v":3.9309999999999998E-2},{"$f":"ROUND(IF(B116<0,B116, B116 - Shocks!D115 * ABS(B116)),5)","v":2.3439999999999999E-2},null,2.9650751021383259E-2,{"$f":"ROUND(B116*(1+Shocks!H115)+Shocks!I115,5)+Extrapolation!T118","v":3.5515693741646391E-2},{"$f":"ROUND(B116*(1-Shocks!F115)-Shocks!G115,5)+Extrapolation!T118","v":2.378569374164639E-2},{"$f":"ROUND(B116 + MAX(0.01,Shocks!E115*ABS(B116) )+Extrapolation!T118, 5)","v":3.9649999999999998E-2},{"$f":"ROUND(IF(B116<0,B116, B116 - Shocks!D115 * ABS(B116))+Extrapolation!T118, 5)","v":2.3789999999999999E-2}]
[105,2.9396896573938847E-2,{"$f":"ROUND(B117*(1+Shocks!H116)+Shocks!I116,5)","v":3.5279999999999999E-2},{"$f":"ROUND(B117*(1-Shocks!F116)-Shocks!G116,5)","v":2.3519999999999999E-2},{"$f":"ROUND(B117 + MAX(0.01,Shocks!E116*ABS(B117) ),5)","v":3.9399999999999998E-2},{"$f":"ROUND(IF(B117<0,B117, B117 - Shocks!D116 * ABS(B117)),5)","v":2.3519999999999999E-2},null,2.9739329035296747E-2,{"$f":"ROUND(B117*(1+Shocks!H116)+Shocks!I116,5)+Extrapolation!T119","v":3.5622432461357899E-2},{"$f":"ROUND(B117*(1-Shocks!F116)-Shocks!G116,5)+Extrapolation!T119","v":2.3862432461357899E-2},{"$f":"ROUND(B117 + MAX(0.01,Shocks!E116*ABS(B117) )+Extrapolation!T119, 5)","v":3.9739999999999998E-2},{"$f":"ROUND(IF(B117<0,B117, B117 - Shocks!D116 * ABS(B117))+Extrapolation!T119, 5)","v":2.3859999999999999E-2}]
[106,2.9487017187195486E-2,{"$f":"ROUND(B118*(1+Shocks!H117)+Shocks!I117,5)","v":3.5380000000000002E-2},{"$f":"ROUND(B118*(1-Shocks!F117)-Shocks!G117,5)","v":2.359E-2},{"$f":"ROUND(B118 + MAX(0.01,Shocks!E117*ABS(B118) ),5)","v":3.9489999999999997E-2},{"$f":"ROUND(IF(B118<0,B118, B118 - Shocks!D117 * ABS(B118)),5)","v":2.359E-2},null,2.9826249247981718E-2,{"$f":"ROUND(B118*(1+Shocks!H117)+Shocks!I117,5)+Extrapolation!T120","v":3.5719232060786234E-2},{"$f":"ROUND(B118*(1-Shocks!F117)-Shocks!G117,5)+Extrapolation!T120","v":2.3929232060786232E-2},{"$f":"ROUND(B118 + MAX(0.01,Shocks!E117*ABS(B118) )+Extrapolation!T120, 5)","v":3.9829999999999997E-2},{"$f":"ROUND(IF(B118<0,B118, B118 - Shocks!D117 * ABS(B118))+Extrapolation!T120, 5)","v":2.393E-2}]
[107,2.9575466505961101E-2,{"$f":"ROUND(B119*(1+Shocks!H118)+Shocks!I118,5)","v":3.5490000000000001E-2},{"$f":"ROUND(B119*(1-Shocks!F118)-Shocks!G118,5)","v":2.366E-2},{"$f":"ROUND(B119 + MAX(0.01,Shocks!E118*ABS(B119) ),5)","v":3.9579999999999997E-2},{"$f":"ROUND(IF(B119<0,B119, B119 - Shocks!D118 * ABS(B119)),5)","v":2.366E-2},null,2.9911557363371033E-2,{"$f":"ROUND(B119*(1+Shocks!H118)+Shocks!I118,5)+Extrapolation!T121","v":3.5826090857409933E-2},{"$f":"ROUND(B119*(1-Shocks!F118)-Shocks!G118,5)+Extrapolation!T121","v":2.3996090857409932E-2},{"$f":"ROUND(B119 + MAX(0.01,Shocks!E118*ABS(B119) )+Extrapolation!T121, 5)","v":3.9910000000000001E-2},{"$f":"ROUND(IF(B119<0,B119, B119 - Shocks!D118 * ABS(B119))+Extrapolation!T121, 5)","v":2.4E-2}]
[108,2.9662290224319543E-2,{"$f":"ROUND(B120*(1+Shocks!H119)+Shocks!I119,5)","v":3.5589999999999997E-2},{"$f":"ROUND(B120*(1-Shocks!F119)-Shocks!G119,5)","v":2.3730000000000001E-2},{"$f":"ROUND(B120 + MAX(0.01,Shocks!E119*ABS(B120) ),5)","v":3.9660000000000001E-2},{"$f":"ROUND(IF(B120<0,B120, B120 - Shocks!D119 * ABS(B120)),5)","v":2.3730000000000001E-2},null,2.9995297453939695E-2,{"$f":"ROUND(B120*(1+Shocks!H119)+Shocks!I119,5)+Extrapolation!T122","v":3.5923007229620149E-2},{"$f":"ROUND(B120*(1-Shocks!F119)-Shocks!G119,5)+Extrapolation!T122","v":2.4063007229620154E-2},{"$f":"ROUND(B120 + MAX(0.01,Shocks!E119*ABS(B120) )+Extrapolation!T122, 5)","v":0.04},{"$f":"ROUND(IF(B120<0,B120, B120 - Shocks!D119 * ABS(B120))+Extrapolation!T122, 5)","v":2.4060000000000002E-2}]
[109,2.9747532416110722E-2,{"$f":"ROUND(B121*(1+Shocks!H120)+Shocks!I120,5)","v":3.5700000000000003E-2},{"$f":"ROUND(B121*(1-Shocks!F120)-Shocks!G120,5)","v":2.3800000000000002E-2},{"$f":"ROUND(B121 + MAX(0.01,Shocks!E120*ABS(B121) ),5)","v":3.9750000000000001E-2},{"$f":"ROUND(IF(B121<0,B121, B121 - Shocks!D120 * ABS(B121)),5)","v":2.3800000000000002E-2},null,3.0077512030141529E-2,{"$f":"ROUND(B121*(1+Shocks!H120)+Shocks!I120,5)+Extrapolation!T123","v":3.6029979614030809E-2},{"$f":"ROUND(B121*(1-Shocks!F120)-Shocks!G120,5)+Extrapolation!T123","v":2.4129979614030808E-2},{"$f":"ROUND(B121 + MAX(0.01,Shocks!E120*ABS(B121) )+Extrapolation!T123, 5)","v":4.0079999999999998E-2},{"$f":"ROUND(IF(B121<0,B121, B121 - Shocks!D120 * ABS(B121))+Extrapolation!T123, 5)","v":2.4129999999999999E-2}]
[110,2.9831235603625217E-2,{"$f":"ROUND(B122*(1+Shocks!H121)+Shocks!I121,5)","v":3.5799999999999998E-2},{"$f":"ROUND(B122*(1-Shocks!F121)-Shocks!G121,5)","v":2.3859999999999999E-2},{"$f":"ROUND(B122 + MAX(0.01,Shocks!E121*ABS(B122) ),5)","v":3.9829999999999997E-2},{"$f":"ROUND(IF(B122<0,B122, B122 - Shocks!D121 * ABS(B122)),5)","v":2.3859999999999999E-2},null,3.0158242106551825E-2,{"$f":"ROUND(B122*(1+Shocks!H121)+Shocks!I121,5)+Extrapolation!T124","v":3.6127006502926606E-2},{"$f":"ROUND(B122*(1-Shocks!F121)-Shocks!G121,5)+Extrapolation!T124","v":2.4187006502926607E-2},{"$f":"ROUND(B122 + MAX(0.01,Shocks!E121*ABS(B122) )+Extrapolation!T124, 5)","v":4.0160000000000001E-2},{"$f":"ROUND(IF(B122<0,B122, B122 - Shocks!D121 * ABS(B122))+Extrapolation!T124, 5)","v":2.419E-2}]
[111,2.9913440823039705E-2,{"$f":"ROUND(B123*(1+Shocks!H122)+Shocks!I122,5)","v":3.5900000000000001E-2},{"$f":"ROUND(B123*(1-Shocks!F122)-Shocks!G122,5)","v":2.393E-2},{"$f":"ROUND(B123 + MAX(0.01,Shocks!E122*ABS(B123) ),5)","v":3.9910000000000001E-2},{"$f":"ROUND(IF(B123<0,B123, B123 - Shocks!D122 * ABS(B123)),5)","v":2.393E-2},null,3.0237527264879605E-2,{"$f":"ROUND(B123*(1+Shocks!H122)+Shocks!I122,5)+Extrapolation!T125","v":3.6224086441839901E-2},{"$f":"ROUND(B123*(1-Shocks!F122)-Shocks!G122,5)+Extrapolation!T125","v":2.4254086441839899E-2},{"$f":"ROUND(B123 + MAX(0.01,Shocks!E122*ABS(B123) )+Extrapolation!T125, 5)","v":4.0239999999999998E-2},{"$f":"ROUND(IF(B123<0,B123, B123 - Shocks!D122 * ABS(B123))+Extrapolation!T125, 5)","v":2.4250000000000001E-2}]
[112,2.9994187686749774E-2,{"$f":"ROUND(B124*(1+Shocks!H123)+Shocks!I123,5)","v":3.5990000000000001E-2},{"$f":"ROUND(B124*(1-Shocks!F123)-Shocks!G123,5)","v":2.4E-2},{"$f":"ROUND(B124 + MAX(0.01,Shocks!E123*ABS(B124) ),5)","v":3.9989999999999998E-2},{"$f":"ROUND(IF(B124<0,B124, B124 - Shocks!D123 * ABS(B124)),5)","v":2.4E-2},null,3.0315405714003152E-2,{"$f":"ROUND(B124*(1+Shocks!H123)+Shocks!I123,5)+Extrapolation!T126","v":3.6311218027253379E-2},{"$f":"ROUND(B124*(1-Shocks!F123)-Shocks!G123,5)+Extrapolation!T126","v":2.4321218027253379E-2},{"$f":"ROUND(B124 + MAX(0.01,Shocks!E123*ABS(B124) )+Extrapolation!T126, 5)","v":4.0320000000000002E-2},{"$f":"ROUND(IF(B124<0,B124, B124 - Shocks!D123 * ABS(B124))+Extrapolation!T126, 5)","v":2.4320000000000001E-2}]
[113,3.0073514442761295E-2,{"$f":"ROUND(B125*(1+Shocks!H124)+Shocks!I124,5)","v":3.6089999999999997E-2},{"$f":"ROUND(B125*(1-Shocks!F124)-Shocks!G124,5)","v":2.4060000000000002E-2},{"$f":"ROUND(B125 + MAX(0.01,Shocks!E124*ABS(B125) ),5)","v":4.0070000000000001E-2},{"$f":"ROUND(IF(B125<0,B125, B125 - Shocks!D124 * ABS(B125)),5)","v":2.4060000000000002E-2},null,3.0391914347176474E-2,{"$f":"ROUND(B125*(1+Shocks!H124)+Shocks!I124,5)+Extrapolation!T127","v":3.6408399904415176E-2},{"$f":"ROUND(B125*(1-Shocks!F124)-Shocks!G124,5)+Extrapolation!T127","v":2.437839990441518E-2},{"$f":"ROUND(B125 + MAX(0.01,Shocks!E124*ABS(B125) )+Extrapolation!T127, 5)","v":4.0390000000000002E-2},{"$f":"ROUND(IF(B125<0,B125, B125 - Shocks!D124 * ABS(B125))+Extrapolation!T127, 5)","v":2.4379999999999999E-2}]
[114,3.0151458031281608E-2,{"$f":"ROUND(B126*(1+Shocks!H125)+Shocks!I125,5)","v":3.6179999999999997E-2},{"$f":"ROUND(B126*(1-Shocks!F125)-Shocks!G125,5)","v":2.4119999999999999E-2},{"$f":"ROUND(B126 + MAX(0.01,Shocks!E125*ABS(B126) ),5)","v":4.0149999999999998E-2},{"$f":"ROUND(IF(B126<0,B126, B126 - Shocks!D125 * ABS(B126)),5)","v":2.4119999999999999E-2},null,3.046708879654525E-2,{"$f":"ROUND(B126*(1+Shocks!H125)+Shocks!I125,5)+Extrapolation!T128","v":3.6495630765263638E-2},{"$f":"ROUND(B126*(1-Shocks!F125)-Shocks!G125,5)+Extrapolation!T128","v":2.4435630765263641E-2},{"$f":"ROUND(B126 + MAX(0.01,Shocks!E125*ABS(B126) )+Extrapolation!T128, 5)","v":4.0469999999999999E-2},{"$f":"ROUND(IF(B126<0,B126, B126 - Shocks!D125 * ABS(B126))+Extrapolation!T128, 5)","v":2.444E-2}]
[115,3.022805413865326E-2,{"$f":"ROUND(B127*(1+Shocks!H126)+Shocks!I126,5)","v":3.6269999999999997E-2},{"$f":"ROUND(B127*(1-Shocks!F126)-Shocks!G126,5)","v":2.418E-2},{"$f":"ROUND(B127 + MAX(0.01,Shocks!E126*ABS(B127) ),5)","v":4.0230000000000002E-2},{"$f":"ROUND(IF(B127<0,B127, B127 - Shocks!D126 * ABS(B127)),5)","v":2.418E-2},null,3.0540963485110817E-2,{"$f":"ROUND(B127*(1+Shocks!H126)+Shocks!I126,5)+Extrapolation!T129","v":3.6582909346457554E-2},{"$f":"ROUND(B127*(1-Shocks!F126)-Shocks!G126,5)+Extrapolation!T129","v":2.4492909346457557E-2},{"$f":"ROUND(B127 + MAX(0.01,Shocks!E126*ABS(B127) )+Extrapolation!T129, 5)","v":4.054E-2},{"$f":"ROUND(IF(B127<0,B127, B127 - Shocks!D126 * ABS(B127))+Extrapolation!T129, 5)","v":2.4500000000000001E-2}]
[116,3.0303337248763329E-2,{"$f":"ROUND(B128*(1+Shocks!H127)+Shocks!I127,5)","v":3.6360000000000003E-2},{"$f":"ROUND(B128*(1-Shocks!F127)-Shocks!G127,5)","v":2.4240000000000001E-2},{"$f":"ROUND(B128 + MAX(0.01,Shocks!E127*ABS(B128) ),5)","v":4.0300000000000002E-2},{"$f":"ROUND(IF(B128<0,B128, B128 - Shocks!D127 * ABS(B128)),5)","v":2.4240000000000001E-2},null,3.0613571676264328E-2,{"$f":"ROUND(B128*(1+Shocks!H127)+Shocks!I127,5)+Extrapolation!T130","v":3.6670234427501003E-2},{"$f":"ROUND(B128*(1-Shocks!F127)-Shocks!G127,5)+Extrapolation!T130","v":2.4550234427501001E-2},{"$f":"ROUND(B128 + MAX(0.01,Shocks!E127*ABS(B128) )+Extrapolation!T130, 5)","v":4.061E-2},{"$f":"ROUND(IF(B128<0,B128, B128 - Shocks!D127 * ABS(B128))+Extrapolation!T130, 5)","v":2.4549999999999999E-2}]
[117,3.0377340692054222E-2,{"$f":"ROUND(B129*(1+Shocks!H128)+Shocks!I128,5)","v":3.6450000000000003E-2},{"$f":"ROUND(B129*(1-Shocks!F128)-Shocks!G128,5)","v":2.4299999999999999E-2},{"$f":"ROUND(B129 + MAX(0.01,Shocks!E128*ABS(B129) ),5)","v":4.0379999999999999E-2},{"$f":"ROUND(IF(B129<0,B129, B129 - Shocks!D128 * ABS(B129)),5)","v":2.4299999999999999E-2},null,3.0684945521014972E-2,{"$f":"ROUND(B129*(1+Shocks!H128)+Shocks!I128,5)+Extrapolation!T131","v":3.6757604828960753E-2},{"$f":"ROUND(B129*(1-Shocks!F128)-Shocks!G128,5)+Extrapolation!T131","v":2.4607604828960749E-2},{"$f":"ROUND(B129 + MAX(0.01,Shocks!E128*ABS(B129) )+Extrapolation!T131, 5)","v":4.0680000000000001E-2},{"$f":"ROUND(IF(B129<0,B129, B129 - Shocks!D128 * ABS(B129))+Extrapolation!T131, 5)","v":2.461E-2}]
[118,3.0450096692256512E-2,{"$f":"ROUND(B130*(1+Shocks!H129)+Shocks!I129,5)","v":3.6540000000000003E-2},{"$f":"ROUND(B130*(1-Shocks!F129)-Shocks!G129,5)","v":2.436E-2},{"$f":"ROUND(B130 + MAX(0.01,Shocks!E129*ABS(B130) ),5)","v":4.045E-2},{"$f":"ROUND(IF(B130<0,B130, B130 - Shocks!D129 * ABS(B130)),5)","v":2.436E-2},null,3.075511610302728E-2,{"$f":"ROUND(B130*(1+Shocks!H129)+Shocks!I129,5)+Extrapolation!T132","v":3.6845019410770771E-2},{"$f":"ROUND(B130*(1-Shocks!F129)-Shocks!G129,5)+Extrapolation!T132","v":2.4665019410770768E-2},{"$f":"ROUND(B130 + MAX(0.01,Shocks!E129*ABS(B130) )+Extrapolation!T132, 5)","v":4.0759999999999998E-2},{"$f":"ROUND(IF(B130<0,B130, B130 - Shocks!D129 * ABS(B130))+Extrapolation!T132, 5)","v":2.4670000000000001E-2}]
[119,3.0521636410958175E-2,{"$f":"ROUND(B131*(1+Shocks!H130)+Shocks!I130,5)","v":3.6630000000000003E-2},{"$f":"ROUND(B131*(1-Shocks!F130)-Shocks!G130,5)","v":2.4420000000000001E-2},{"$f":"ROUND(B131 + MAX(0.01,Shocks!E130*ABS(B131) ),5)","v":4.052E-2},{"$f":"ROUND(IF(B131<0,B131, B131 - Shocks!D130 * ABS(B131)),5)","v":2.4420000000000001E-2},null,3.0824113481575877E-2,{"$f":"ROUND(B131*(1+Shocks!H130)+Shocks!I130,5)+Extrapolation!T133","v":3.6932477070617704E-2},{"$f":"ROUND(B131*(1-Shocks!F130)-Shocks!G130,5)+Extrapolation!T133","v":2.4722477070617702E-2},{"$f":"ROUND(B131 + MAX(0.01,Shocks!E130*ABS(B131) )+Extrapolation!T133, 5)","v":4.0820000000000002E-2},{"$f":"ROUND(IF(B131<0,B131, B131 - Shocks!D130 * ABS(B131))+Extrapolation!T133, 5)","v":2.4719999999999999E-2}]
[120,3.059198999011814E-2,{"$f":"ROUND(B132*(1+Shocks!H131)+Shocks!I131,5)","v":3.671E-2},{"$f":"ROUND(B132*(1-Shocks!F131)-Shocks!G131,5)","v":2.4469999999999999E-2},{"$f":"ROUND(B132 + MAX(0.01,Shocks!E131*ABS(B132) ),5)","v":4.0590000000000001E-2},{"$f":"ROUND(IF(B132<0,B132, B132 - Shocks!D131 * ABS(B132)),5)","v":2.4469999999999999E-2},null,3.08919667325247E-2,{"$f":"ROUND(B132*(1+Shocks!H131)+Shocks!I131,5)+Extrapolation!T134","v":3.700997674240656E-2},{"$f":"ROUND(B132*(1-Shocks!F131)-Shocks!G131,5)+Extrapolation!T134","v":2.4769976742406559E-2},{"$f":"ROUND(B132 + MAX(0.01,Shocks!E131*ABS(B132) )+Extrapolation!T134, 5)","v":4.0890000000000003E-2},{"$f":"ROUND(IF(B132<0,B132, B132 - Shocks!D131 * ABS(B132))+Extrapolation!T134, 5)","v":2.477E-2}]
[121,3.0661186592627843E-2,{"$f":"ROUND(B133*(1+Shocks!H132)+Shocks!I132,5)","v":3.6790000000000003E-2},{"$f":"ROUND(B133*(1-Shocks!F132)-Shocks!G132,5)","v":2.453E-2},{"$f":"ROUND(B133 + MAX(0.01,Shocks!E132*ABS(B133) ),5)","v":4.0660000000000002E-2},{"$f":"ROUND(IF(B133<0,B133, B133 - Shocks!D132 * ABS(B133)),5)","v":2.453E-2},null,3.0958703987423508E-2,{"$f":"ROUND(B133*(1+Shocks!H132)+Shocks!I132,5)+Extrapolation!T135","v":3.7087517394795669E-2},{"$f":"ROUND(B133*(1-Shocks!F132)-Shocks!G132,5)+Extrapolation!T135","v":2.4827517394795665E-2},{"$f":"ROUND(B133 + MAX(0.01,Shocks!E132*ABS(B133) )+Extrapolation!T135, 5)","v":4.0960000000000003E-2},{"$f":"ROUND(IF(B133<0,B133, B133 - Shocks!D132 * ABS(B133))+Extrapolation!T135, 5)","v":2.4830000000000001E-2}]
[122,3.0729254441018483E-2,{"$f":"ROUND(B134*(1+Shocks!H133)+Shocks!I133,5)","v":3.6880000000000003E-2},{"$f":"ROUND(B134*(1-Shocks!F133)-Shocks!G133,5)","v":2.4580000000000001E-2},{"$f":"ROUND(B134 + MAX(0.01,Shocks!E133*ABS(B134) ),5)","v":4.0730000000000002E-2},{"$f":"ROUND(IF(B134<0,B134, B134 - Shocks!D133 * ABS(B134)),5)","v":2.4580000000000001E-2},null,3.1024352470822913E-2,{"$f":"ROUND(B134*(1+Shocks!H133)+Shocks!I133,5)+Extrapolation!T136","v":3.7175098029804433E-2},{"$f":"ROUND(B134*(1-Shocks!F133)-Shocks!G133,5)+Extrapolation!T136","v":2.4875098029804431E-2},{"$f":"ROUND(B134 + MAX(0.01,Shocks!E133*ABS(B134) )+Extrapolation!T136, 5)","v":4.1020000000000001E-2},{"$f":"ROUND(IF(B134<0,B134, B134 - Shocks!D133 * ABS(B134))+Extrapolation!T136, 5)","v":2.4879999999999999E-2}]
[123,3.0796220854405254E-2,{"$f":"ROUND(B135*(1+Shocks!H134)+Shocks!I134,5)","v":3.696E-2},{"$f":"ROUND(B135*(1-Shocks!F134)-Shocks!G134,5)","v":2.4639999999999999E-2},{"$f":"ROUND(B135 + MAX(0.01,Shocks!E134*ABS(B135) ),5)","v":4.0800000000000003E-2},{"$f":"ROUND(IF(B135<0,B135, B135 - Shocks!D134 * ABS(B135)),5)","v":2.4639999999999999E-2},null,3.108893853589012E-2,{"$f":"ROUND(B135*(1+Shocks!H134)+Shocks!I134,5)+Extrapolation!T137","v":3.7252717681484866E-2},{"$f":"ROUND(B135*(1-Shocks!F134)-Shocks!G134,5)+Extrapolation!T137","v":2.4932717681484865E-2},{"$f":"ROUND(B135 + MAX(0.01,Shocks!E134*ABS(B135) )+Extrapolation!T137, 5)","v":4.1090000000000002E-2},{"$f":"ROUND(IF(B135<0,B135, B135 - Shocks!D134 * ABS(B135))+Extrapolation!T137, 5)","v":2.4930000000000001E-2}]
[124,3.0862112283758902E-2,{"$f":"ROUND(B136*(1+Shocks!H135)+Shocks!I135,5)","v":3.703E-2},{"$f":"ROUND(B136*(1-Shocks!F135)-Shocks!G135,5)","v":2.469E-2},{"$f":"ROUND(B136 + MAX(0.01,Shocks!E135*ABS(B136) ),5)","v":4.086E-2},{"$f":"ROUND(IF(B136<0,B136, B136 - Shocks!D135 * ABS(B136)),5)","v":2.469E-2},null,3.1152487698414832E-2,{"$f":"ROUND(B136*(1+Shocks!H135)+Shocks!I135,5)+Extrapolation!T138","v":3.7320375414655931E-2},{"$f":"ROUND(B136*(1-Shocks!F135)-Shocks!G135,5)+Extrapolation!T138","v":2.498037541465593E-2},{"$f":"ROUND(B136 + MAX(0.01,Shocks!E135*ABS(B136) )+Extrapolation!T138, 5)","v":4.1149999999999999E-2},{"$f":"ROUND(IF(B136<0,B136, B136 - Shocks!D135 * ABS(B136))+Extrapolation!T138, 5)","v":2.4979999999999999E-2}]
[125,3.0926954345585012E-2,{"$f":"ROUND(B137*(1+Shocks!H136)+Shocks!I136,5)","v":3.7109999999999997E-2},{"$f":"ROUND(B137*(1-Shocks!F136)-Shocks!G136,5)","v":2.4740000000000002E-2},{"$f":"ROUND(B137 + MAX(0.01,Shocks!E136*ABS(B137) ),5)","v":4.0930000000000001E-2},{"$f":"ROUND(IF(B137<0,B137, B137 - Shocks!D136 * ABS(B137)),5)","v":2.4740000000000002E-2},null,3.1215024669281499E-2,{"$f":"ROUND(B137*(1+Shocks!H136)+Shocks!I136,5)+Extrapolation!T139","v":3.7398070323696485E-2},{"$f":"ROUND(B137*(1-Shocks!F136)-Shocks!G136,5)+Extrapolation!T139","v":2.5028070323696489E-2},{"$f":"ROUND(B137 + MAX(0.01,Shocks!E136*ABS(B137) )+Extrapolation!T139, 5)","v":4.122E-2},{"$f":"ROUND(IF(B137<0,B137, B137 - Shocks!D136 * ABS(B137))+Extrapolation!T139, 5)","v":2.503E-2}]
[126,3.0990771854093158E-2,{"$f":"ROUND(B138*(1+Shocks!H137)+Shocks!I137,5)","v":3.7190000000000001E-2},{"$f":"ROUND(B138*(1-Shocks!F137)-Shocks!G137,5)","v":2.479E-2},{"$f":"ROUND(B138 + MAX(0.01,Shocks!E137*ABS(B138) ),5)","v":4.0989999999999999E-2},{"$f":"ROUND(IF(B138<0,B138, B138 - Shocks!D137 * ABS(B138)),5)","v":2.479E-2},null,3.1276573385486284E-2,{"$f":"ROUND(B138*(1+Shocks!H137)+Shocks!I137,5)+Extrapolation!T140","v":3.7475801531393127E-2},{"$f":"ROUND(B138*(1-Shocks!F137)-Shocks!G137,5)+Extrapolation!T140","v":2.5075801531393126E-2},{"$f":"ROUND(B138 + MAX(0.01,Shocks!E137*ABS(B138) )+Extrapolation!T140, 5)","v":4.1279999999999997E-2},{"$f":"ROUND(IF(B138<0,B138, B138 - Shocks!D137 * ABS(B138))+Extrapolation!T140, 5)","v":2.5080000000000002E-2}]
[127,3.1053588851927438E-2,{"$f":"ROUND(B139*(1+Shocks!H138)+Shocks!I138,5)","v":3.7260000000000001E-2},{"$f":"ROUND(B139*(1-Shocks!F138)-Shocks!G138,5)","v":2.4840000000000001E-2},{"$f":"ROUND(B139 + MAX(0.01,Shocks!E138*ABS(B139) ),5)","v":4.1050000000000003E-2},{"$f":"ROUND(IF(B139<0,B139, B139 - Shocks!D138 * ABS(B139)),5)","v":2.4840000000000001E-2},null,3.1337157039770691E-2,{"$f":"ROUND(B139*(1+Shocks!H138)+Shocks!I138,5)+Extrapolation!T141","v":3.7543568187843254E-2},{"$f":"ROUND(B139*(1-Shocks!F138)-Shocks!G138,5)+Extrapolation!T141","v":2.5123568187843254E-2},{"$f":"ROUND(B139 + MAX(0.01,Shocks!E138*ABS(B139) )+Extrapolation!T141, 5)","v":4.1340000000000002E-2},{"$f":"ROUND(IF(B139<0,B139, B139 - Shocks!D138 * ABS(B139))+Extrapolation!T141, 5)","v":2.513E-2}]
[128,3.1115428639532539E-2,{"$f":"ROUND(B140*(1+Shocks!H139)+Shocks!I139,5)","v":3.7339999999999998E-2},{"$f":"ROUND(B140*(1-Shocks!F139)-Shocks!G139,5)","v":2.4889999999999999E-2},{"$f":"ROUND(B140 + MAX(0.01,Shocks!E139*ABS(B140) ),5)","v":4.1119999999999997E-2},{"$f":"ROUND(IF(B140<0,B140, B140 - Shocks!D139 * ABS(B140)),5)","v":2.4889999999999999E-2},null,3.1396798108937807E-2,{"$f":"ROUND(B140*(1+Shocks!H139)+Shocks!I139,5)+Extrapolation!T142","v":3.7621369469405266E-2},{"$f":"ROUND(B140*(1-Shocks!F139)-Shocks!G139,5)+Extrapolation!T142","v":2.5171369469405267E-2},{"$f":"ROUND(B140 + MAX(0.01,Shocks!E139*ABS(B140) )+Extrapolation!T142, 5)","v":4.1399999999999999E-2},{"$f":"ROUND(IF(B140<0,B140, B140 - Shocks!D139 * ABS(B140))+Extrapolation!T142, 5)","v":2.5170000000000001E-2}]
[129,3.1176313803221278E-2,{"$f":"ROUND(B141*(1+Shocks!H140)+Shocks!I140,5)","v":3.7409999999999999E-2},{"$f":"ROUND(B141*(1-Shocks!F140)-Shocks!G140,5)","v":2.494E-2},{"$f":"ROUND(B141 + MAX(0.01,Shocks!E140*ABS(B141) ),5)","v":4.1180000000000001E-2},{"$f":"ROUND(IF(B141<0,B141, B141 - Shocks!D140 * ABS(B141)),5)","v":2.494E-2},null,3.1455518380919312E-2,{"$f":"ROUND(B141*(1+Shocks!H140)+Shocks!I140,5)+Extrapolation!T143","v":3.7689204577698032E-2},{"$f":"ROUND(B141*(1-Shocks!F140)-Shocks!G140,5)+Extrapolation!T143","v":2.5219204577698034E-2},{"$f":"ROUND(B141 + MAX(0.01,Shocks!E140*ABS(B141) )+Extrapolation!T143, 5)","v":4.1459999999999997E-2},{"$f":"ROUND(IF(B141<0,B141, B141 - Shocks!D140 * ABS(B141))+Extrapolation!T143, 5)","v":2.5219999999999999E-2}]
[130,3.1236266242006261E-2,{"$f":"ROUND(B142*(1+Shocks!H141)+Shocks!I141,5)","v":3.7479999999999999E-2},{"$f":"ROUND(B142*(1-Shocks!F141)-Shocks!G141,5)","v":2.4989999999999998E-2},{"$f":"ROUND(B142 + MAX(0.01,Shocks!E141*ABS(B142) ),5)","v":4.1239999999999999E-2},{"$f":"ROUND(IF(B142<0,B142, B142 - Shocks!D141 * ABS(B142)),5)","v":2.4989999999999998E-2},null,3.1513338980650785E-2,{"$f":"ROUND(B142*(1+Shocks!H141)+Shocks!I141,5)+Extrapolation!T144","v":3.7757072738644523E-2},{"$f":"ROUND(B142*(1-Shocks!F141)-Shocks!G141,5)+Extrapolation!T144","v":2.5267072738644522E-2},{"$f":"ROUND(B142 + MAX(0.01,Shocks!E141*ABS(B142) )+Extrapolation!T144, 5)","v":4.1509999999999998E-2},{"$f":"ROUND(IF(B142<0,B142, B142 - Shocks!D141 * ABS(B142))+Extrapolation!T144, 5)","v":2.5270000000000001E-2}]
[131,3.1295307193258237E-2,{"$f":"ROUND(B143*(1+Shocks!H142)+Shocks!I142,5)","v":3.755E-2},{"$f":"ROUND(B143*(1-Shocks!F142)-Shocks!G142,5)","v":2.504E-2},{"$f":"ROUND(B143 + MAX(0.01,Shocks!E142*ABS(B143) ),5)","v":4.1300000000000003E-2},{"$f":"ROUND(IF(B143<0,B143, B143 - Shocks!D142 * ABS(B143)),5)","v":2.504E-2},null,3.1570280394816796E-2,{"$f":"ROUND(B143*(1+Shocks!H142)+Shocks!I142,5)+Extrapolation!T145","v":3.7824973201558559E-2},{"$f":"ROUND(B143*(1-Shocks!F142)-Shocks!G142,5)+Extrapolation!T145","v":2.5314973201558559E-2},{"$f":"ROUND(B143 + MAX(0.01,Shocks!E142*ABS(B143) )+Extrapolation!T145, 5)","v":4.1570000000000003E-2},{"$f":"ROUND(IF(B143<0,B143, B143 - Shocks!D142 * ABS(B143))+Extrapolation!T145, 5)","v":2.5309999999999999E-2}]
[132,3.1353457257247364E-2,{"$f":"ROUND(B144*(1+Shocks!H143)+Shocks!I143,5)","v":3.7620000000000001E-2},{"$f":"ROUND(B144*(1-Shocks!F143)-Shocks!G143,5)","v":2.5080000000000002E-2},{"$f":"ROUND(B144 + MAX(0.01,Shocks!E143*ABS(B144) ),5)","v":4.1349999999999998E-2},{"$f":"ROUND(IF(B144<0,B144, B144 - Shocks!D143 * ABS(B144)),5)","v":2.5080000000000002E-2},null,3.1626362495519311E-2,{"$f":"ROUND(B144*(1+Shocks!H143)+Shocks!I143,5)+Extrapolation!T146","v":3.7892905238271948E-2},{"$f":"ROUND(B144*(1-Shocks!F143)-Shocks!G143,5)+Extrapolation!T146","v":2.5352905238271949E-2},{"$f":"ROUND(B144 + MAX(0.01,Shocks!E143*ABS(B144) )+Extrapolation!T146, 5)","v":4.163E-2},{"$f":"ROUND(IF(B144<0,B144, B144 - Shocks!D143 * ABS(B144))+Extrapolation!T146, 5)","v":2.5360000000000001E-2}]
[133,3.1410736420621532E-2,{"$f":"ROUND(B145*(1+Shocks!H144)+Shocks!I144,5)","v":3.7690000000000001E-2},{"$f":"ROUND(B145*(1-Shocks!F144)-Shocks!G144,5)","v":2.513E-2},{"$f":"ROUND(B145 + MAX(0.01,Shocks!E144*ABS(B145) ),5)","v":4.1410000000000002E-2},{"$f":"ROUND(IF(B145<0,B145, B145 - Shocks!D144 * ABS(B145)),5)","v":2.513E-2},null,3.1681604562922239E-2,{"$f":"ROUND(B145*(1+Shocks!H144)+Shocks!I144,5)+Extrapolation!T147","v":3.7960868142300708E-2},{"$f":"ROUND(B145*(1-Shocks!F144)-Shocks!G144,5)+Extrapolation!T147","v":2.5400868142300706E-2},{"$f":"ROUND(B145 + MAX(0.01,Shocks!E144*ABS(B145) )+Extrapolation!T147, 5)","v":4.1680000000000002E-2},{"$f":"ROUND(IF(B145<0,B145, B145 - Shocks!D144 * ABS(B145))+Extrapolation!T147, 5)","v":2.5399999999999999E-2}]
[134,3.1467164078873955E-2,{"$f":"ROUND(B146*(1+Shocks!H145)+Shocks!I145,5)","v":3.7760000000000002E-2},{"$f":"ROUND(B146*(1-Shocks!F145)-Shocks!G145,5)","v":2.5170000000000001E-2},{"$f":"ROUND(B146 + MAX(0.01,Shocks!E145*ABS(B146) ),5)","v":4.147E-2},{"$f":"ROUND(IF(B146<0,B146, B146 - Shocks!D145 * ABS(B146)),5)","v":2.5170000000000001E-2},null,3.1736025306919879E-2,{"$f":"ROUND(B146*(1+Shocks!H145)+Shocks!I145,5)+Extrapolation!T148","v":3.8028861228045927E-2},{"$f":"ROUND(B146*(1-Shocks!F145)-Shocks!G145,5)+Extrapolation!T148","v":2.5438861228045926E-2},{"$f":"ROUND(B146 + MAX(0.01,Shocks!E145*ABS(B146) )+Extrapolation!T148, 5)","v":4.1739999999999999E-2},{"$f":"ROUND(IF(B146<0,B146, B146 - Shocks!D145 * ABS(B146))+Extrapolation!T148, 5)","v":2.5440000000000001E-2}]
[135,3.1522759057848404E-2,{"$f":"ROUND(B147*(1+Shocks!H146)+Shocks!I146,5)","v":3.7830000000000003E-2},{"$f":"ROUND(B147*(1-Shocks!F146)-Shocks!G146,5)","v":2.5219999999999999E-2},{"$f":"ROUND(B147 + MAX(0.01,Shocks!E146*ABS(B147) ),5)","v":4.1520000000000001E-2},{"$f":"ROUND(IF(B147<0,B147, B147 - Shocks!D146 * ABS(B147)),5)","v":2.5219999999999999E-2},null,3.1789642887879666E-2,{"$f":"ROUND(B147*(1+Shocks!H146)+Shocks!I146,5)+Extrapolation!T149","v":3.8096883830031264E-2},{"$f":"ROUND(B147*(1-Shocks!F146)-Shocks!G146,5)+Extrapolation!T149","v":2.5486883830031261E-2},{"$f":"ROUND(B147 + MAX(0.01,Shocks!E146*ABS(B147) )+Extrapolation!T149, 5)","v":4.1790000000000001E-2},{"$f":"ROUND(IF(B147<0,B147, B147 - Shocks!D146 * ABS(B147))+Extrapolation!T149, 5)","v":2.5489999999999999E-2}]
[136,3.157753963432719E-2,{"$f":"ROUND(B148*(1+Shocks!H147)+Shocks!I147,5)","v":3.789E-2},{"$f":"ROUND(B148*(1-Shocks!F147)-Shocks!G147,5)","v":2.5260000000000001E-2},{"$f":"ROUND(B148 + MAX(0.01,Shocks!E147*ABS(B148) ),5)","v":4.1579999999999999E-2},{"$f":"ROUND(IF(B148<0,B148, B148 - Shocks!D147 * ABS(B148)),5)","v":2.5260000000000001E-2},null,3.1842474936500498E-2,{"$f":"ROUND(B148*(1+Shocks!H147)+Shocks!I147,5)+Extrapolation!T150","v":3.8154935302173308E-2},{"$f":"ROUND(B148*(1-Shocks!F147)-Shocks!G147,5)+Extrapolation!T150","v":2.5524935302173309E-2},{"$f":"ROUND(B148 + MAX(0.01,Shocks!E147*ABS(B148) )+Extrapolation!T150, 5)","v":4.1840000000000002E-2},{"$f":"ROUND(IF(B148<0,B148, B148 - Shocks!D147 * ABS(B148))+Extrapolation!T150, 5)","v":2.5530000000000001E-2}]
[137,3.163152355574983E-2,{"$f":"ROUND(B149*(1+Shocks!H148)+Shocks!I148,5)","v":3.7960000000000001E-2},{"$f":"ROUND(B149*(1-Shocks!F148)-Shocks!G148,5)","v":2.5309999999999999E-2},{"$f":"ROUND(B149 + MAX(0.01,Shocks!E148*ABS(B149) ),5)","v":4.163E-2},{"$f":"ROUND(IF(B149<0,B149, B149 - Shocks!D148 * ABS(B149)),5)","v":2.5309999999999999E-2},null,3.1894538572831088E-2,{"$f":"ROUND(B149*(1+Shocks!H148)+Shocks!I148,5)+Extrapolation!T151","v":3.8223015017081259E-2},{"$f":"ROUND(B149*(1-Shocks!F148)-Shocks!G148,5)+Extrapolation!T151","v":2.5573015017081258E-2},{"$f":"ROUND(B149 + MAX(0.01,Shocks!E148*ABS(B149) )+Extrapolation!T151, 5)","v":4.1889999999999997E-2},{"$f":"ROUND(IF(B149<0,B149, B149 - Shocks!D148 * ABS(B149))+Extrapolation!T151, 5)","v":2.5569999999999999E-2}]
[138,3.1684728059097278E-2,{"$f":"ROUND(B150*(1+Shocks!H149)+Shocks!I149,5)","v":3.8019999999999998E-2},{"$f":"ROUND(B150*(1-Shocks!F149)-Shocks!G149,5)","v":2.5350000000000001E-2},{"$f":"ROUND(B150 + MAX(0.01,Shocks!E149*ABS(B150) ),5)","v":4.1680000000000002E-2},{"$f":"ROUND(IF(B150<0,B150, B150 - Shocks!D149 * ABS(B150)),5)","v":2.5350000000000001E-2},null,3.1945850424487165E-2,{"$f":"ROUND(B150*(1+Shocks!H149)+Shocks!I149,5)+Extrapolation!T152","v":3.8281122365389886E-2},{"$f":"ROUND(B150*(1-Shocks!F149)-Shocks!G149,5)+Extrapolation!T152","v":2.5611122365389889E-2},{"$f":"ROUND(B150 + MAX(0.01,Shocks!E149*ABS(B150) )+Extrapolation!T152, 5)","v":4.1950000000000001E-2},{"$f":"ROUND(IF(B150<0,B150, B150 - Shocks!D149 * ABS(B150))+Extrapolation!T152, 5)","v":2.5610000000000001E-2}]
[139,3.1737169888988781E-2,{"$f":"ROUND(B151*(1+Shocks!H150)+Shocks!I150,5)","v":3.8080000000000003E-2},{"$f":"ROUND(B151*(1-Shocks!F150)-Shocks!G150,5)","v":2.5389999999999999E-2},{"$f":"ROUND(B151 + MAX(0.01,Shocks!E150*ABS(B151) ),5)","v":4.1739999999999999E-2},{"$f":"ROUND(IF(B151<0,B151, B151 - Shocks!D150 * ABS(B151)),5)","v":2.5389999999999999E-2},null,3.1996426644105069E-2,{"$f":"ROUND(B151*(1+Shocks!H150)+Shocks!I150,5)+Extrapolation!T153","v":3.8339256755116291E-2},{"$f":"ROUND(B151*(1-Shocks!F150)-Shocks!G150,5)+Extrapolation!T153","v":2.5649256755116288E-2},{"$f":"ROUND(B151 + MAX(0.01,Shocks!E150*ABS(B151) )+Extrapolation!T153, 5)","v":4.2000000000000003E-2},{"$f":"ROUND(IF(B151<0,B151, B151 - Shocks!D150 * ABS(B151))+Extrapolation!T153, 5)","v":2.5649999999999999E-2}]
[140,3.1788865315021786E-2,{"$f":"ROUND(B152*(1+Shocks!H151)+Shocks!I151,5)","v":3.8150000000000003E-2},{"$f":"ROUND(B152*(1-Shocks!F151)-Shocks!G151,5)","v":2.5430000000000001E-2},{"$f":"ROUND(B152 + MAX(0.01,Shocks!E151*ABS(B152) ),5)","v":4.1790000000000001E-2},{"$f":"ROUND(IF(B152<0,B152, B152 - Shocks!D151 * ABS(B152)),5)","v":2.5430000000000001E-2},null,3.2046282926071035E-2,{"$f":"ROUND(B152*(1+Shocks!H151)+Shocks!I151,5)+Extrapolation!T154","v":3.8407417611049252E-2},{"$f":"ROUND(B152*(1-Shocks!F151)-Shocks!G151,5)+Extrapolation!T154","v":2.568741761104925E-2},{"$f":"ROUND(B152 + MAX(0.01,Shocks!E151*ABS(B152) )+Extrapolation!T154, 5)","v":4.2049999999999997E-2},{"$f":"ROUND(IF(B152<0,B152, B152 - Shocks!D151 * ABS(B152))+Extrapolation!T154, 5)","v":2.5690000000000001E-2}]
[141,3.1839830148396642E-2,{"$f":"ROUND(B153*(1+Shocks!H152)+Shocks!I152,5)","v":3.8210000000000001E-2},{"$f":"ROUND(B153*(1-Shocks!F152)-Shocks!G152,5)","v":2.547E-2},{"$f":"ROUND(B153 + MAX(0.01,Shocks!E152*ABS(B153) ),5)","v":4.1840000000000002E-2},{"$f":"ROUND(IF(B153<0,B153, B153 - Shocks!D152 * ABS(B153)),5)","v":2.547E-2},null,3.2095434522555033E-2,{"$f":"ROUND(B153*(1+Shocks!H152)+Shocks!I152,5)+Extrapolation!T155","v":3.8465604374158392E-2},{"$f":"ROUND(B153*(1-Shocks!F152)-Shocks!G152,5)+Extrapolation!T155","v":2.5725604374158391E-2},{"$f":"ROUND(B153 + MAX(0.01,Shocks!E152*ABS(B153) )+Extrapolation!T155, 5)","v":4.2099999999999999E-2},{"$f":"ROUND(IF(B153<0,B153, B153 - Shocks!D152 * ABS(B153))+Extrapolation!T155, 5)","v":2.5729999999999999E-2}]
[142,3.1890079757854073E-2,{"$f":"ROUND(B154*(1+Shocks!H153)+Shocks!I153,5)","v":3.8269999999999998E-2},{"$f":"ROUND(B154*(1-Shocks!F153)-Shocks!G153,5)","v":2.5510000000000001E-2},{"$f":"ROUND(B154 + MAX(0.01,Shocks!E153*ABS(B154) ),5)","v":4.1889999999999997E-2},{"$f":"ROUND(IF(B154<0,B154, B154 - Shocks!D153 * ABS(B154)),5)","v":2.5510000000000001E-2},null,3.2143896258885807E-2,{"$f":"ROUND(B154*(1+Shocks!H153)+Shocks!I153,5)+Extrapolation!T156","v":3.8523816501031732E-2},{"$f":"ROUND(B154*(1-Shocks!F153)-Shocks!G153,5)+Extrapolation!T156","v":2.5763816501031735E-2},{"$f":"ROUND(B154 + MAX(0.01,Shocks!E153*ABS(B154) )+Extrapolation!T156, 5)","v":4.2139999999999997E-2},{"$f":"ROUND(IF(B154<0,B154, B154 - Shocks!D153 * ABS(B154))+Extrapolation!T156, 5)","v":2.5770000000000001E-2}]
[143,3.1939629084961174E-2,{"$f":"ROUND(B155*(1+Shocks!H154)+Shocks!I154,5)","v":3.8330000000000003E-2},{"$f":"ROUND(B155*(1-Shocks!F154)-Shocks!G154,5)","v":2.555E-2},{"$f":"ROUND(B155 + MAX(0.01,Shocks!E154*ABS(B155) ),5)","v":4.1939999999999998E-2},{"$f":"ROUND(IF(B155<0,B155, B155 - Shocks!D154 * ABS(B155)),5)","v":2.555E-2},null,3.2191682548297518E-2,{"$f":"ROUND(B155*(1+Shocks!H154)+Shocks!I154,5)+Extrapolation!T157","v":3.8582053463336347E-2},{"$f":"ROUND(B155*(1-Shocks!F154)-Shocks!G154,5)+Extrapolation!T157","v":2.5802053463336343E-2},{"$f":"ROUND(B155 + MAX(0.01,Shocks!E154*ABS(B155) )+Extrapolation!T157, 5)","v":4.2189999999999998E-2},{"$f":"ROUND(IF(B155<0,B155, B155 - Shocks!D154 * ABS(B155))+Extrapolation!T157, 5)","v":2.58E-2}]
[144,3.1988492658776568E-2,{"$f":"ROUND(B156*(1+Shocks!H155)+Shocks!I155,5)","v":3.8390000000000001E-2},{"$f":"ROUND(B156*(1-Shocks!F155)-Shocks!G155,5)","v":2.5590000000000002E-2},{"$f":"ROUND(B156 + MAX(0.01,Shocks!E155*ABS(B156) ),5)","v":4.199E-2},{"$f":"ROUND(IF(B156<0,B156, B156 - Shocks!D155 * ABS(B156)),5)","v":2.5590000000000002E-2},null,3.2238807406073988E-2,{"$f":"ROUND(B156*(1+Shocks!H155)+Shocks!I155,5)+Extrapolation!T158","v":3.864031474729742E-2},{"$f":"ROUND(B156*(1-Shocks!F155)-Shocks!G155,5)+Extrapolation!T158","v":2.5840314747297422E-2},{"$f":"ROUND(B156 + MAX(0.01,Shocks!E155*ABS(B156) )+Extrapolation!T158, 5)","v":4.224E-2},{"$f":"ROUND(IF(B156<0,B156, B156 - Shocks!D155 * ABS(B156))+Extrapolation!T158, 5)","v":2.5839999999999998E-2}]
[145,3.2036684609918264E-2,{"$f":"ROUND(B157*(1+Shocks!H156)+Shocks!I156,5)","v":3.8440000000000002E-2},{"$f":"ROUND(B157*(1-Shocks!F156)-Shocks!G156,5)","v":2.563E-2},{"$f":"ROUND(B157 + MAX(0.01,Shocks!E156*ABS(B157) ),5)","v":4.2040000000000001E-2},{"$f":"ROUND(IF(B157<0,B157, B157 - Shocks!D156 * ABS(B157)),5)","v":2.563E-2},null,3.2285284463122954E-2,{"$f":"ROUND(B157*(1+Shocks!H156)+Shocks!I156,5)+Extrapolation!T159","v":3.8688599853204692E-2},{"$f":"ROUND(B157*(1-Shocks!F156)-Shocks!G156,5)+Extrapolation!T159","v":2.587859985320469E-2},{"$f":"ROUND(B157 + MAX(0.01,Shocks!E156*ABS(B157) )+Extrapolation!T159, 5)","v":4.2290000000000001E-2},{"$f":"ROUND(IF(B157<0,B157, B157 - Shocks!D156 * ABS(B157))+Extrapolation!T159, 5)","v":2.588E-2}]
[146,3.2084218684069965E-2,{"$f":"ROUND(B158*(1+Shocks!H157)+Shocks!I157,5)","v":3.85E-2},{"$f":"ROUND(B158*(1-Shocks!F157)-Shocks!G157,5)","v":2.5669999999999998E-2},{"$f":"ROUND(B158 + MAX(0.01,Shocks!E157*ABS(B158) ),5)","v":4.2079999999999999E-2},{"$f":"ROUND(IF(B158<0,B158, B158 - Shocks!D157 * ABS(B158)),5)","v":2.5669999999999998E-2},null,3.2331126979002311E-2,{"$f":"ROUND(B158*(1+Shocks!H157)+Shocks!I157,5)+Extrapolation!T160","v":3.8746908294932346E-2},{"$f":"ROUND(B158*(1-Shocks!F157)-Shocks!G157,5)+Extrapolation!T160","v":2.5916908294932345E-2},{"$f":"ROUND(B158 + MAX(0.01,Shocks!E157*ABS(B158) )+Extrapolation!T160, 5)","v":4.233E-2},{"$f":"ROUND(IF(B158<0,B158, B158 - Shocks!D157 * ABS(B158))+Extrapolation!T160, 5)","v":2.5909999999999999E-2}]
[147,3.2131108254942475E-2,{"$f":"ROUND(B159*(1+Shocks!H158)+Shocks!I158,5)","v":3.8559999999999997E-2},{"$f":"ROUND(B159*(1-Shocks!F158)-Shocks!G158,5)","v":2.5700000000000001E-2},{"$f":"ROUND(B159 + MAX(0.01,Shocks!E158*ABS(B159) ),5)","v":4.2130000000000001E-2},{"$f":"ROUND(IF(B159<0,B159, B159 - Shocks!D158 * ABS(B159)),5)","v":2.5700000000000001E-2},null,3.2376347854426335E-2,{"$f":"ROUND(B159*(1+Shocks!H158)+Shocks!I158,5)+Extrapolation!T161","v":3.8805239599483857E-2},{"$f":"ROUND(B159*(1-Shocks!F158)-Shocks!G158,5)+Extrapolation!T161","v":2.594523959948386E-2},{"$f":"ROUND(B159 + MAX(0.01,Shocks!E158*ABS(B159) )+Extrapolation!T161, 5)","v":4.2380000000000001E-2},{"$f":"ROUND(IF(B159<0,B159, B159 - Shocks!D158 * ABS(B159))+Extrapolation!T161, 5)","v":2.5950000000000001E-2}]
[148,3.2177366336723079E-2,{"$f":"ROUND(B160*(1+Shocks!H159)+Shocks!I159,5)","v":3.8609999999999998E-2},{"$f":"ROUND(B160*(1-Shocks!F159)-Shocks!G159,5)","v":2.5739999999999999E-2},{"$f":"ROUND(B160 + MAX(0.01,Shocks!E159*ABS(B160) ),5)","v":4.2180000000000002E-2},{"$f":"ROUND(IF(B160<0,B160, B160 - Shocks!D159 * ABS(B160)),5)","v":2.5739999999999999E-2},null,3.2420959643273628E-2,{"$f":"ROUND(B160*(1+Shocks!H159)+Shocks!I159,5)+Extrapolation!T162","v":3.8853593306550548E-2},{"$f":"ROUND(B160*(1-Shocks!F159)-Shocks!G159,5)+Extrapolation!T162","v":2.5983593306550548E-2},{"$f":"ROUND(B160 + MAX(0.01,Shocks!E159*ABS(B160) )+Extrapolation!T162, 5)","v":4.2419999999999999E-2},{"$f":"ROUND(IF(B160<0,B160, B160 - Shocks!D159 * ABS(B160))+Extrapolation!T162, 5)","v":2.5989999999999999E-2}]
[149,3.2223005596030418E-2,{"$f":"ROUND(B161*(1+Shocks!H160)+Shocks!I160,5)","v":3.8670000000000003E-2},{"$f":"ROUND(B161*(1-Shocks!F160)-Shocks!G160,5)","v":2.5780000000000001E-2},{"$f":"ROUND(B161 + MAX(0.01,Shocks!E160*ABS(B161) ),5)","v":4.2220000000000001E-2},{"$f":"ROUND(IF(B161<0,B161, B161 - Shocks!D160 * ABS(B161)),5)","v":2.5780000000000001E-2},null,3.2464974564121674E-2,{"$f":"ROUND(B161*(1+Shocks!H160)+Shocks!I160,5)+Extrapolation!T163","v":3.8911968968091258E-2},{"$f":"ROUND(B161*(1-Shocks!F160)-Shocks!G160,5)+Extrapolation!T163","v":2.6021968968091256E-2},{"$f":"ROUND(B161 + MAX(0.01,Shocks!E160*ABS(B161) )+Extrapolation!T163, 5)","v":4.2459999999999998E-2},{"$f":"ROUND(IF(B161<0,B161, B161 - Shocks!D160 * ABS(B161))+Extrapolation!T163, 5)","v":2.6020000000000001E-2}]
[150,3.2268038363400642E-2,{"$f":"ROUND(B162*(1+Shocks!H161)+Shocks!I161,5)","v":3.8719999999999997E-2},{"$f":"ROUND(B162*(1-Shocks!F161)-Shocks!G161,5)","v":2.581E-2},{"$f":"ROUND(B162 + MAX(0.01,Shocks!E161*ABS(B162) ),5)","v":4.2270000000000002E-2},{"$f":"ROUND(IF(B162<0,B162, B162 - Shocks!D161 * ABS(B162)),5)","v":2.581E-2},null,3.2508404511325972E-2,{"$f":"ROUND(B162*(1+Shocks!H161)+Shocks!I161,5)+Extrapolation!T164","v":3.8960366147925328E-2},{"$f":"ROUND(B162*(1-Shocks!F161)-Shocks!G161,5)+Extrapolation!T164","v":2.605036614792533E-2},{"$f":"ROUND(B162 + MAX(0.01,Shocks!E161*ABS(B162) )+Extrapolation!T164, 5)","v":4.2509999999999999E-2},{"$f":"ROUND(IF(B162<0,B162, B162 - Shocks!D161 * ABS(B162))+Extrapolation!T164, 5)","v":2.605E-2}]

{"sheet":"Alternative Calibration","index":2,"n_rows":162,"n_cols":26,"rows_kept":162,"cut":false,"hidden":false,"merged":[[5,9,5,10],[6,9,6,10],[10,1,10,5],[10,7,10,11]]}
[]
[]
[]
[]
[]
[null,null,null,null,null,null,null,null,null,{"$f":"'Scenario Data'!J6","v":"EUR"}]
[null,null,null,null,null,null,null,null,null,{"$f":"'Scenario Data'!J7","v":15}]
[]
[]
[]
[null,"NO volatility adjustment",null,null,null,null,null,"WITH volatility adjustment"]
[null,"Alternative Extrapolation Method RFR","Alternative Calibration 1 - Up Shock","Alternative Calibration 1 - Down Shock","Alternative Calibration 2 - Up Shock","Alternative Calibration 2 - Down Shock",null,"Alternative Extrapolation Method RFR","Alternative Calibration 1 - Up Shock","Alternative Calibration 1 - Down Shock","Alternative Calibration 2 - Up Shock","Alternative Calibration 2 - Down Shock"]
[1,{"$f":"BaseCurve","v":-4.1609999999998593E-3},{"$f":"ROUND(B13*(1+Shocks!H12)+Shocks!I12,5)","v":1.47E-2},{"$f":"MAX(ROUND(B13*(1-Shocks!F12)-Shocks!G12,5), -1.25%)","v":-1.2500000000000001E-2},{"$f":"IF(Extrapolation!FSP >= 15, ROUND(B13*(1+Shocks!H12)+Shocks!I12,5), ROUND(B13*(1+Shocks!L12)+Shocks!M12,5))","v":1.47E-2},{"$f":"IF(Extrapolation!FSP >= 15, ROUND(B13*(1-Shocks!F12)-Shocks!G12,5),  ROUND(B13*(1-Shocks!J12)-Shocks!K12,5))","v":-1.3350000000000001E-2},null,{"$f":"BaseCurveWithVA","v":-2.6672414999997507E-3},{"$f":"ROUND(B13*(1+Shocks!H12)+Shocks!I12,5)+Extrapolation!T15","v":1.6193758500000106E-2},{"$f":"MAX(ROUND(B13*(1-Shocks!F12)-Shocks!G12,5)+Extrapolation!T15, -1.25%)","v":-1.1856241499999892E-2},{"$f":"IF(Extrapolation!FSP >= 15, ROUND(B13*(1+Shocks!H12)+Shocks!I12 + Extrapolation!T15, 5), ROUND(B13*(1+Shocks!L12)+Shocks!M12 + Extrapolation!T15,5))","v":1.619E-2},{"$f":"IF(Extrapolation!FSP >= 15, ROUND(B13*(1-Shocks!F12)-Shocks!G12+Extrapolation!T15, 5), ROUND(B13*(1-Shocks!J12)-Shocks!K12+Extrapolation!T15, 5))","v":-1.1849999999999999E-2},null,null,null,null,null,null,null,null,null,null,null,null,"Czech Republic",1]
[2,-3.9354447556139149E-3,{"$f":"ROUND(B14*(1+Shocks!H13)+Shocks!I13,5)","v":1.2579999999999999E-2},{"$f":"MAX(ROUND(B14*(1-Shocks!F13)-Shocks!G13,5), -1.25%)","v":-1.183E-2},{"$f":"IF(Extrapolation!FSP >= 15, ROUND(B14*(1+Shocks!H13)+Shocks!I13,5), ROUND(B14*(1+Shocks!L13)+Shocks!M13,5))","v":1.2579999999999999E-2},{"$f":"IF(Extrapolation!FSP >= 15, ROUND(B14*(1-Shocks!F13)-Shocks!G13,5),  ROUND(B14*(1-Shocks!J13)-Shocks!K13,5))","v":-1.183E-2},null,-2.4413479227473056E-3,{"$f":"ROUND(B14*(1+Shocks!H13)+Shocks!I13,5)+Extrapolation!T16","v":1.4074096832866608E-2},{"$f":"MAX(ROUND(B14*(1-Shocks!F13)-Shocks!G13,5)+Extrapolation!T16, -1.25%)","v":-1.0335903167133391E-2},{"$f":"IF(Extrapolation!FSP >= 15, ROUND(B14*(1+Shocks!H13)+Shocks!I13 + Extrapolation!T16, 5), ROUND(B14*(1+Shocks!L13)+Shocks!M13 + Extrapolation!T16,5))","v":1.4069999999999999E-2},{"$f":"IF(Extrapolation!FSP >= 15, ROUND(B14*(1-Shocks!F13)-Shocks!G13+Extrapolation!T16, 5), ROUND(B14*(1-Shocks!J13)-Shocks!K13+Extrapolation!T16, 5))","v":-1.0330000000000001E-2},null,null,null,null,null,null,null,null,null,null,null,null,"Hungary",2]
[3,-3.3821302804601938E-3,{"$f":"ROUND(B15*(1+Shocks!H14)+Shocks!I14,5)","v":1.2160000000000001E-2},{"$f":"MAX(ROUND(B15*(1-Shocks!F14)-Shocks!G14,5), -1.25%)","v":-1.0189999999999999E-2},{"$f":"IF(Extrapolation!FSP >= 15, ROUND(B15*(1+Shocks!H14)+Shocks!I14,5), ROUND(B15*(1+Shocks!L14)+Shocks!M14,5))","v":1.2160000000000001E-2},{"$f":"IF(Extrapolation!FSP >= 15, ROUND(B15*(1-Shocks!F14)-Shocks!G14,5),  ROUND(B15*(1-Shocks!J14)-Shocks!K14,5))","v":-1.0189999999999999E-2},null,-1.8872034758807832E-3,{"$f":"ROUND(B15*(1+Shocks!H14)+Shocks!I14,5)+Extrapolation!T17","v":1.3654926804579411E-2},{"$f":"MAX(ROUND(B15*(1-Shocks!F14)-Shocks!G14,5)+Extrapolation!T17, -1.25%)","v":-8.6950731954205888E-3},{"$f":"IF(Extrapolation!FSP >= 15, ROUND(B15*(1+Shocks!H14)+Shocks!I14 + Extrapolation!T17, 5), ROUND(B15*(1+Shocks!L14)+Shocks!M14 + Extrapolation!T17,5))","v":1.366E-2},{"$f":"IF(Extrapolation!FSP >= 15, ROUND(B15*(1-Shocks!F14)-Shocks!G14+Extrapolation!T17, 5), ROUND(B15*(1-Shocks!J14)-Shocks!K14+Extrapolation!T17, 5))","v":-8.6999999999999994E-3},null,null,null,null,null,null,null,null,null,null,null,null,"Poland",3]
[4,-2.7489134307021601E-3,{"$f":"ROUND(B16*(1+Shocks!H15)+Shocks!I15,5)","v":1.209E-2},{"$f":"MAX(ROUND(B16*(1-Shocks!F15)-Shocks!G15,5), -1.25%)","v":-9.0500000000000008E-3},{"$f":"IF(Extrapolation!FSP >= 15, ROUND(B16*(1+Shocks!H15)+Shocks!I15,5), ROUND(B16*(1+Shocks!L15)+Shocks!M15,5))","v":1.209E-2},{"$f":"IF(Extrapolation!FSP >= 15, ROUND(B16*(1-Shocks!F15)-Shocks!G15,5),  ROUND(B16*(1-Shocks!J15)-Shocks!K15,5))","v":-9.0500000000000008E-3},null,-1.2530368008482062E-3,{"$f":"ROUND(B16*(1+Shocks!H15)+Shocks!I15,5)+Extrapolation!T18","v":1.3585876629853954E-2},{"$f":"MAX(ROUND(B16*(1-Shocks!F15)-Shocks!G15,5)+Extrapolation!T18, -1.25%)","v":-7.5541233701460469E-3},{"$f":"IF(Extrapolation!FSP >= 15, ROUND(B16*(1+Shocks!H15)+Shocks!I15 + Extrapolation!T18, 5), ROUND(B16*(1+Shocks!L15)+Shocks!M15 + Extrapolation!T18,5))","v":1.358E-2},{"$f":"IF(Extrapolation!FSP >= 15, ROUND(B16*(1-Shocks!F15)-Shocks!G15+Extrapolation!T18, 5), ROUND(B16*(1-Shocks!J15)-Shocks!K15+Extrapolation!T18, 5))","v":-7.5500000000000003E-3},null,null,null,null,null,null,null,null,null,null,null,null,"Romania",4]
[5,-2.1999221839471561E-3,{"$f":"ROUND(B17*(1+Shocks!H16)+Shocks!I16,5)","v":1.261E-2},{"$f":"MAX(ROUND(B17*(1-Shocks!F16)-Shocks!G16,5), -1.25%)","v":-8.4200000000000004E-3},{"$f":"IF(Extrapolation!FSP >= 15, ROUND(B17*(1+Shocks!H16)+Shocks!I16,5), ROUND(B17*(1+Shocks!L16)+Shocks!M16,5))","v":1.261E-2},{"$f":"IF(Extrapolation!FSP >= 15, ROUND(B17*(1-Shocks!F16)-Shocks!G16,5),  ROUND(B17*(1-Shocks!J16)-Shocks!K16,5))","v":-8.4200000000000004E-3},null,-7.032220672230638E-4,{"$f":"ROUND(B17*(1+Shocks!H16)+Shocks!I16,5)+Extrapolation!T19","v":1.4106700116724092E-2},{"$f":"MAX(ROUND(B17*(1-Shocks!F16)-Shocks!G16,5)+Extrapolation!T19, -1.25%)","v":-6.9232998832759081E-3},{"$f":"IF(Extrapolation!FSP >= 15, ROUND(B17*(1+Shocks!H16)+Shocks!I16 + Extrapolation!T19, 5), ROUND(B17*(1+Shocks!L16)+Shocks!M16 + Extrapolation!T19,5))","v":1.4109999999999999E-2},{"$f":"IF(Extrapolation!FSP >= 15, ROUND(B17*(1-Shocks!F16)-Shocks!G16+Extrapolation!T19, 5), ROUND(B17*(1-Shocks!J16)-Shocks!K16+Extrapolation!T19, 5))","v":-6.9199999999999999E-3},null,null,null,null,null,null,null,null,null,null,null,null,"Switzerland",5]
[6,-1.670325243930515E-3,{"$f":"ROUND(B18*(1+Shocks!H17)+Shocks!I17,5)","v":1.204E-2},{"$f":"MAX(ROUND(B18*(1-Shocks!F17)-Shocks!G17,5), -1.25%)","v":-7.7400000000000004E-3},{"$f":"IF(Extrapolation!FSP >= 15, ROUND(B18*(1+Shocks!H17)+Shocks!I17,5), ROUND(B18*(1+Shocks!L17)+Shocks!M17,5))","v":1.204E-2},{"$f":"IF(Extrapolation!FSP >= 15, ROUND(B18*(1-Shocks!F17)-Shocks!G17,5),  ROUND(B18*(1-Shocks!J17)-Shocks!K17,5))","v":-7.7400000000000004E-3},null,-1.7283073179630293E-4,{"$f":"ROUND(B18*(1+Shocks!H17)+Shocks!I17,5)+Extrapolation!T20","v":1.3537494512134212E-2},{"$f":"MAX(ROUND(B18*(1-Shocks!F17)-Shocks!G17,5)+Extrapolation!T20, -1.25%)","v":-6.2425054878657883E-3},{"$f":"IF(Extrapolation!FSP >= 15, ROUND(B18*(1+Shocks!H17)+Shocks!I17 + Extrapolation!T20, 5), ROUND(B18*(1+Shocks!L17)+Shocks!M17 + Extrapolation!T20,5))","v":1.354E-2},{"$f":"IF(Extrapolation!FSP >= 15, ROUND(B18*(1-Shocks!F17)-Shocks!G17+Extrapolation!T20, 5), ROUND(B18*(1-Shocks!J17)-Shocks!K17+Extrapolation!T20, 5))","v":-6.2399999999999999E-3},null,null,null,null,null,null,null,null,null,null,null,null,"United States",6]
[7,-8.4439680119796634E-4,{"$f":"ROUND(B19*(1+Shocks!H18)+Shocks!I18,5)","v":1.184E-2},{"$f":"MAX(ROUND(B19*(1-Shocks!F18)-Shocks!G18,5), -1.25%)","v":-6.8300000000000001E-3},{"$f":"IF(Extrapolation!FSP >= 15, ROUND(B19*(1+Shocks!H18)+Shocks!I18,5), ROUND(B19*(1+Shocks!L18)+Shocks!M18,5))","v":1.184E-2},{"$f":"IF(Extrapolation!FSP >= 15, ROUND(B19*(1-Shocks!F18)-Shocks!G18,5),  ROUND(B19*(1-Shocks!J18)-Shocks!K18,5))","v":-6.8300000000000001E-3},null,6.5433660360025847E-4,{"$f":"ROUND(B19*(1+Shocks!H18)+Shocks!I18,5)+Extrapolation!T21","v":1.3338733404798225E-2},{"$f":"MAX(ROUND(B19*(1-Shocks!F18)-Shocks!G18,5)+Extrapolation!T21, -1.25%)","v":-5.3312665952017753E-3},{"$f":"IF(Extrapolation!FSP >= 15, ROUND(B19*(1+Shocks!H18)+Shocks!I18 + Extrapolation!T21, 5), ROUND(B19*(1+Shocks!L18)+Shocks!M18 + Extrapolation!T21,5))","v":1.3339999999999999E-2},{"$f":"IF(Extrapolation!FSP >= 15, ROUND(B19*(1-Shocks!F18)-Shocks!G18+Extrapolation!T21, 5), ROUND(B19*(1-Shocks!J18)-Shocks!K18+Extrapolation!T21, 5))","v":-5.3299999999999997E-3}]
[8,-1.8124524932772168E-4,{"$f":"ROUND(B20*(1+Shocks!H19)+Shocks!I19,5)","v":1.166E-2},{"$f":"MAX(ROUND(B20*(1-Shocks!F19)-Shocks!G19,5), -1.25%)","v":-6.3099999999999996E-3},{"$f":"IF(Extrapolation!FSP >= 15, ROUND(B20*(1+Shocks!H19)+Shocks!I19,5), ROUND(B20*(1+Shocks!L19)+Shocks!M19,5))","v":1.166E-2},{"$f":"IF(Extrapolation!FSP >= 15, ROUND(B20*(1-Shocks!F19)-Shocks!G19,5),  ROUND(B20*(1-Shocks!J19)-Shocks!K19,5))","v":-6.3099999999999996E-3},null,1.3184828827983441E-3,{"$f":"ROUND(B20*(1+Shocks!H19)+Shocks!I19,5)+Extrapolation!T22","v":1.3159728132126066E-2},{"$f":"MAX(ROUND(B20*(1-Shocks!F19)-Shocks!G19,5)+Extrapolation!T22, -1.25%)","v":-4.8102718678739338E-3},{"$f":"IF(Extrapolation!FSP >= 15, ROUND(B20*(1+Shocks!H19)+Shocks!I19 + Extrapolation!T22, 5), ROUND(B20*(1+Shocks!L19)+Shocks!M19 + Extrapolation!T22,5))","v":1.316E-2},{"$f":"IF(Extrapolation!FSP >= 15, ROUND(B20*(1-Shocks!F19)-Shocks!G19+Extrapolation!T22, 5), ROUND(B20*(1-Shocks!J19)-Shocks!K19+Extrapolation!T22, 5))","v":-4.81E-3}]
[9,4.6402653194910215E-4,{"$f":"ROUND(B21*(1+Shocks!H20)+Shocks!I20,5)","v":1.1809999999999999E-2},{"$f":"MAX(ROUND(B21*(1-Shocks!F20)-Shocks!G20,5), -1.25%)","v":-5.8199999999999997E-3},{"$f":"IF(Extrapolation!FSP >= 15, ROUND(B21*(1+Shocks!H20)+Shocks!I20,5), ROUND(B21*(1+Shocks!L20)+Shocks!M20,5))","v":1.1809999999999999E-2},{"$f":"IF(Extrapolation!FSP >= 15, ROUND(B21*(1-Shocks!F20)-Shocks!G20,5),  ROUND(B21*(1-Shocks!J20)-Shocks!K20,5))","v":-5.8199999999999997E-3},null,1.9647225717471795E-3,{"$f":"ROUND(B21*(1+Shocks!H20)+Shocks!I20,5)+Extrapolation!T23","v":1.3310696039798077E-2},{"$f":"MAX(ROUND(B21*(1-Shocks!F20)-Shocks!G20,5)+Extrapolation!T23, -1.25%)","v":-4.3193039602019223E-3},{"$f":"IF(Extrapolation!FSP >= 15, ROUND(B21*(1+Shocks!H20)+Shocks!I20 + Extrapolation!T23, 5), ROUND(B21*(1+Shocks!L20)+Shocks!M20 + Extrapolation!T23,5))","v":1.3310000000000001E-2},{"$f":"IF(Extrapolation!FSP >= 15, ROUND(B21*(1-Shocks!F20)-Shocks!G20+Extrapolation!T23, 5), ROUND(B21*(1-Shocks!J20)-Shocks!K20+Extrapolation!T23, 5))","v":-4.3200000000000001E-3}]
[10,1.122066320614179E-3,{"$f":"ROUND(B22*(1+Shocks!H21)+Shocks!I21,5)","v":1.196E-2},{"$f":"MAX(ROUND(B22*(1-Shocks!F21)-Shocks!G21,5), -1.25%)","v":-5.4299999999999999E-3},{"$f":"IF(Extrapolation!FSP >= 15, ROUND(B22*(1+Shocks!H21)+Shocks!I21,5), ROUND(B22*(1+Shocks!L21)+Shocks!M21,5))","v":1.196E-2},{"$f":"IF(Extrapolation!FSP >= 15, ROUND(B22*(1-Shocks!F21)-Shocks!G21,5),  ROUND(B22*(1-Shocks!J21)-Shocks!K21,5))","v":-5.4299999999999999E-3},null,2.6237494200951339E-3,{"$f":"ROUND(B22*(1+Shocks!H21)+Shocks!I21,5)+Extrapolation!T24","v":1.3461683099480955E-2},{"$f":"MAX(ROUND(B22*(1-Shocks!F21)-Shocks!G21,5)+Extrapolation!T24, -1.25%)","v":-3.928316900519045E-3},{"$f":"IF(Extrapolation!FSP >= 15, ROUND(B22*(1+Shocks!H21)+Shocks!I21 + Extrapolation!T24, 5), ROUND(B22*(1+Shocks!L21)+Shocks!M21 + Extrapolation!T24,5))","v":1.346E-2},{"$f":"IF(Extrapolation!FSP >= 15, ROUND(B22*(1-Shocks!F21)-Shocks!G21+Extrapolation!T24, 5), ROUND(B22*(1-Shocks!J21)-Shocks!K21+Extrapolation!T24, 5))","v":-3.9300000000000003E-3}]
[11,1.5688248540970395E-3,{"$f":"ROUND(B23*(1+Shocks!H22)+Shocks!I22,5)","v":1.2540000000000001E-2},{"$f":"MAX(ROUND(B23*(1-Shocks!F22)-Shocks!G22,5), -1.25%)","v":-5.0699999999999999E-3},{"$f":"IF(Extrapolation!FSP >= 15, ROUND(B23*(1+Shocks!H22)+Shocks!I22,5), ROUND(B23*(1+Shocks!L22)+Shocks!M22,5))","v":1.2540000000000001E-2},{"$f":"IF(Extrapolation!FSP >= 15, ROUND(B23*(1-Shocks!F22)-Shocks!G22,5),  ROUND(B23*(1-Shocks!J22)-Shocks!K22,5))","v":-5.0699999999999999E-3},null,3.071178091378135E-3,{"$f":"ROUND(B23*(1+Shocks!H22)+Shocks!I22,5)+Extrapolation!T25","v":1.4042353237281096E-2},{"$f":"MAX(ROUND(B23*(1-Shocks!F22)-Shocks!G22,5)+Extrapolation!T25, -1.25%)","v":-3.5676467627189044E-3},{"$f":"IF(Extrapolation!FSP >= 15, ROUND(B23*(1+Shocks!H22)+Shocks!I22 + Extrapolation!T25, 5), ROUND(B23*(1+Shocks!L22)+Shocks!M22 + Extrapolation!T25,5))","v":1.404E-2},{"$f":"IF(Extrapolation!FSP >= 15, ROUND(B23*(1-Shocks!F22)-Shocks!G22+Extrapolation!T25, 5), ROUND(B23*(1-Shocks!J22)-Shocks!K22+Extrapolation!T25, 5))","v":-3.5699999999999998E-3}]
[12,2.2326333432145518E-3,{"$f":"ROUND(B24*(1+Shocks!H23)+Shocks!I23,5)","v":1.34E-2},{"$f":"MAX(ROUND(B24*(1-Shocks!F23)-Shocks!G23,5), -1.25%)","v":-4.7099999999999998E-3},{"$f":"IF(Extrapolation!FSP >= 15, ROUND(B24*(1+Shocks!H23)+Shocks!I23,5), ROUND(B24*(1+Shocks!L23)+Shocks!M23,5))","v":1.34E-2},{"$f":"IF(Extrapolation!FSP >= 15, ROUND(B24*(1-Shocks!F23)-Shocks!G23,5),  ROUND(B24*(1-Shocks!J23)-Shocks!K23,5))","v":-4.7099999999999998E-3},null,3.7359822932294673E-3,{"$f":"ROUND(B24*(1+Shocks!H23)+Shocks!I23,5)+Extrapolation!T26","v":1.4903348950014916E-2},{"$f":"MAX(ROUND(B24*(1-Shocks!F23)-Shocks!G23,5)+Extrapolation!T26, -1.25%)","v":-3.2066510499850842E-3},{"$f":"IF(Extrapolation!FSP >= 15, ROUND(B24*(1+Shocks!H23)+Shocks!I23 + Extrapolation!T26, 5), ROUND(B24*(1+Shocks!L23)+Shocks!M23 + Extrapolation!T26,5))","v":1.491E-2},{"$f":"IF(Extrapolation!FSP >= 15, ROUND(B24*(1-Shocks!F23)-Shocks!G23+Extrapolation!T26, 5), ROUND(B24*(1-Shocks!J23)-Shocks!K23+Extrapolation!T26, 5))","v":-3.2000000000000002E-3}]
[13,2.8385089567781741E-3,{"$f":"ROUND(B25*(1+Shocks!H24)+Shocks!I24,5)","v":1.4189999999999999E-2},{"$f":"MAX(ROUND(B25*(1-Shocks!F24)-Shocks!G24,5), -1.25%)","v":-4.28E-3},{"$f":"IF(Extrapolation!FSP >= 15, ROUND(B25*(1+Shocks!H24)+Shocks!I24,5), ROUND(B25*(1+Shocks!L24)+Shocks!M24,5))","v":1.4189999999999999E-2},{"$f":"IF(Extrapolation!FSP >= 15, ROUND(B25*(1-Shocks!F24)-Shocks!G24,5),  ROUND(B25*(1-Shocks!J24)-Shocks!K24,5))","v":-4.28E-3},null,4.3427667202133868E-3,{"$f":"ROUND(B25*(1+Shocks!H24)+Shocks!I24,5)+Extrapolation!T27","v":1.5694257763435214E-2},{"$f":"MAX(ROUND(B25*(1-Shocks!F24)-Shocks!G24,5)+Extrapolation!T27, -1.25%)","v":-2.7757422365647872E-3},{"$f":"IF(Extrapolation!FSP >= 15, ROUND(B25*(1+Shocks!H24)+Shocks!I24 + Extrapolation!T27, 5), ROUND(B25*(1+Shocks!L24)+Shocks!M24 + Extrapolation!T27,5))","v":1.5689999999999999E-2},{"$f":"IF(Extrapolation!FSP >= 15, ROUND(B25*(1-Shocks!F24)-Shocks!G24+Extrapolation!T27, 5), ROUND(B25*(1-Shocks!J24)-Shocks!K24+Extrapolation!T27, 5))","v":-2.7799999999999999E-3}]
[14,3.1358205381835091E-3,{"$f":"ROUND(B26*(1+Shocks!H25)+Shocks!I25,5)","v":1.4250000000000001E-2},{"$f":"MAX(ROUND(B26*(1-Shocks!F25)-Shocks!G25,5), -1.25%)","v":-4.0400000000000002E-3},{"$f":"IF(Extrapolation!FSP >= 15, ROUND(B26*(1+Shocks!H25)+Shocks!I25,5), ROUND(B26*(1+Shocks!L25)+Shocks!M25,5))","v":1.4250000000000001E-2},{"$f":"IF(Extrapolation!FSP >= 15, ROUND(B26*(1-Shocks!F25)-Shocks!G25,5),  ROUND(B26*(1-Shocks!J25)-Shocks!K25,5))","v":-4.0400000000000002E-3},null,4.6405242689908643E-3,{"$f":"ROUND(B26*(1+Shocks!H25)+Shocks!I25,5)+Extrapolation!T28","v":1.5754703730807354E-2},{"$f":"MAX(ROUND(B26*(1-Shocks!F25)-Shocks!G25,5)+Extrapolation!T28, -1.25%)","v":-2.535296269192645E-3},{"$f":"IF(Extrapolation!FSP >= 15, ROUND(B26*(1+Shocks!H25)+Shocks!I25 + Extrapolation!T28, 5), ROUND(B26*(1+Shocks!L25)+Shocks!M25 + Extrapolation!T28,5))","v":1.575E-2},{"$f":"IF(Extrapolation!FSP >= 15, ROUND(B26*(1-Shocks!F25)-Shocks!G25+Extrapolation!T28, 5), ROUND(B26*(1-Shocks!J25)-Shocks!K25+Extrapolation!T28, 5))","v":-2.5400000000000002E-3}]
[15,3.7481006814281681E-3,{"$f":"ROUND(B27*(1+Shocks!H26)+Shocks!I26,5)","v":1.46E-2},{"$f":"MAX(ROUND(B27*(1-Shocks!F26)-Shocks!G26,5), -1.25%)","v":-3.64E-3},{"$f":"IF(Extrapolation!FSP >= 15, ROUND(B27*(1+Shocks!H26)+Shocks!I26,5), ROUND(B27*(1+Shocks!L26)+Shocks!M26,5))","v":1.46E-2},{"$f":"IF(Extrapolation!FSP >= 15, ROUND(B27*(1-Shocks!F26)-Shocks!G26,5),  ROUND(B27*(1-Shocks!J26)-Shocks!K26,5))","v":-3.64E-3},null,5.2537228324502916E-3,{"$f":"ROUND(B27*(1+Shocks!H26)+Shocks!I26,5)+Extrapolation!T29","v":1.6105622151022125E-2},{"$f":"MAX(ROUND(B27*(1-Shocks!F26)-Shocks!G26,5)+Extrapolation!T29, -1.25%)","v":-2.1343778489778765E-3},{"$f":"IF(Extrapolation!FSP >= 15, ROUND(B27*(1+Shocks!H26)+Shocks!I26 + Extrapolation!T29, 5), ROUND(B27*(1+Shocks!L26)+Shocks!M26 + Extrapolation!T29,5))","v":1.61E-2},{"$f":"IF(Extrapolation!FSP >= 15, ROUND(B27*(1-Shocks!F26)-Shocks!G26+Extrapolation!T29, 5), ROUND(B27*(1-Shocks!J26)-Shocks!K26+Extrapolation!T29, 5))","v":-2.1299999999999999E-3}]
[16,4.0915960479630531E-3,{"$f":"ROUND(B28*(1+Shocks!H27)+Shocks!I27,5)","v":1.504E-2},{"$f":"MAX(ROUND(B28*(1-Shocks!F27)-Shocks!G27,5), -1.25%)","v":-3.4299999999999999E-3},{"$f":"IF(Extrapolation!FSP >= 15, ROUND(B28*(1+Shocks!H27)+Shocks!I27,5), ROUND(B28*(1+Shocks!L27)+Shocks!M27,5))","v":1.504E-2},{"$f":"IF(Extrapolation!FSP >= 15, ROUND(B28*(1-Shocks!F27)-Shocks!G27,5),  ROUND(B28*(1-Shocks!J27)-Shocks!K27,5))","v":-3.4299999999999999E-3},null,5.5977334420349578E-3,{"$f":"ROUND(B28*(1+Shocks!H27)+Shocks!I27,5)+Extrapolation!T30","v":1.6546137394071903E-2},{"$f":"MAX(ROUND(B28*(1-Shocks!F27)-Shocks!G27,5)+Extrapolation!T30, -1.25%)","v":-1.9238626059280952E-3},{"$f":"IF(Extrapolation!FSP >= 15, ROUND(B28*(1+Shocks!H27)+Shocks!I27 + Extrapolation!T30, 5), ROUND(B28*(1+Shocks!L27)+Shocks!M27 + Extrapolation!T30,5))","v":1.6539999999999999E-2},{"$f":"IF(Extrapolation!FSP >= 15, ROUND(B28*(1-Shocks!F27)-Shocks!G27+Extrapolation!T30, 5), ROUND(B28*(1-Shocks!J27)-Shocks!K27+Extrapolation!T30, 5))","v":-1.9300000000000001E-3}]
[17,4.3947778117132685E-3,{"$f":"ROUND(B29*(1+Shocks!H28)+Shocks!I28,5)","v":1.508E-2},{"$f":"MAX(ROUND(B29*(1-Shocks!F28)-Shocks!G28,5), -1.25%)","v":-3.2100000000000002E-3},{"$f":"IF(Extrapolation!FSP >= 15, ROUND(B29*(1+Shocks!H28)+Shocks!I28,5), ROUND(B29*(1+Shocks!L28)+Shocks!M28,5))","v":1.508E-2},{"$f":"IF(Extrapolation!FSP >= 15, ROUND(B29*(1-Shocks!F28)-Shocks!G28,5),  ROUND(B29*(1-Shocks!J28)-Shocks!K28,5))","v":-3.2100000000000002E-3},null,5.901369978430937E-3,{"$f":"ROUND(B29*(1+Shocks!H28)+Shocks!I28,5)+Extrapolation!T31","v":1.6586592166717668E-2},{"$f":"MAX(ROUND(B29*(1-Shocks!F28)-Shocks!G28,5)+Extrapolation!T31, -1.25%)","v":-1.7034078332823317E-3},{"$f":"IF(Extrapolation!FSP >= 15, ROUND(B29*(1+Shocks!H28)+Shocks!I28 + Extrapolation!T31, 5), ROUND(B29*(1+Shocks!L28)+Shocks!M28 + Extrapolation!T31,5))","v":1.6590000000000001E-2},{"$f":"IF(Extrapolation!FSP >= 15, ROUND(B29*(1-Shocks!F28)-Shocks!G28+Extrapolation!T31, 5), ROUND(B29*(1-Shocks!J28)-Shocks!K28+Extrapolation!T31, 5))","v":-1.7099999999999999E-3}]
[18,4.6643495642373356E-3,{"$f":"ROUND(B30*(1+Shocks!H29)+Shocks!I29,5)","v":1.498E-2},{"$f":"MAX(ROUND(B30*(1-Shocks!F29)-Shocks!G29,5), -1.25%)","v":-3.0200000000000001E-3},{"$f":"IF(Extrapolation!FSP >= 15, ROUND(B30*(1+Shocks!H29)+Shocks!I29,5), ROUND(B30*(1+Shocks!L29)+Shocks!M29,5))","v":1.498E-2},{"$f":"IF(Extrapolation!FSP >= 15, ROUND(B30*(1-Shocks!F29)-Shocks!G29,5),  ROUND(B30*(1-Shocks!J29)-Shocks!K29,5))","v":-3.0200000000000001E-3},null,6.1713460885837179E-3,{"$f":"ROUND(B30*(1+Shocks!H29)+Shocks!I29,5)+Extrapolation!T32","v":1.6486996524346383E-2},{"$f":"MAX(ROUND(B30*(1-Shocks!F29)-Shocks!G29,5)+Extrapolation!T32, -1.25%)","v":-1.5130034756536178E-3},{"$f":"IF(Extrapolation!FSP >= 15, ROUND(B30*(1+Shocks!H29)+Shocks!I29 + Extrapolation!T32, 5), ROUND(B30*(1+Shocks!L29)+Shocks!M29 + Extrapolation!T32,5))","v":1.6480000000000002E-2},{"$f":"IF(Extrapolation!FSP >= 15, ROUND(B30*(1-Shocks!F29)-Shocks!G29+Extrapolation!T32, 5), ROUND(B30*(1-Shocks!J29)-Shocks!K29+Extrapolation!T32, 5))","v":-1.5100000000000001E-3}]
[19,4.9056066701973489E-3,{"$f":"ROUND(B31*(1+Shocks!H30)+Shocks!I30,5)","v":1.528E-2},{"$f":"MAX(ROUND(B31*(1-Shocks!F30)-Shocks!G30,5), -1.25%)","v":-2.7000000000000001E-3},{"$f":"IF(Extrapolation!FSP >= 15, ROUND(B31*(1+Shocks!H30)+Shocks!I30,5), ROUND(B31*(1+Shocks!L30)+Shocks!M30,5))","v":1.528E-2},{"$f":"IF(Extrapolation!FSP >= 15, ROUND(B31*(1-Shocks!F30)-Shocks!G30,5),  ROUND(B31*(1-Shocks!J30)-Shocks!K30,5))","v":-2.7000000000000001E-3},null,6.412965080202726E-3,{"$f":"ROUND(B31*(1+Shocks!H30)+Shocks!I30,5)+Extrapolation!T33","v":1.6787358410005379E-2},{"$f":"MAX(ROUND(B31*(1-Shocks!F30)-Shocks!G30,5)+Extrapolation!T33, -1.25%)","v":-1.192641589994623E-3},{"$f":"IF(Extrapolation!FSP >= 15, ROUND(B31*(1+Shocks!H30)+Shocks!I30 + Extrapolation!T33, 5), ROUND(B31*(1+Shocks!L30)+Shocks!M30 + Extrapolation!T33,5))","v":1.6789999999999999E-2},{"$f":"IF(Extrapolation!FSP >= 15, ROUND(B31*(1-Shocks!F30)-Shocks!G30+Extrapolation!T33, 5), ROUND(B31*(1-Shocks!J30)-Shocks!K30+Extrapolation!T33, 5))","v":-1.1900000000000001E-3}]
[20,5.1227875993873351E-3,{"$f":"ROUND(B32*(1+Shocks!H31)+Shocks!I31,5)","v":1.52E-2},{"$f":"MAX(ROUND(B32*(1-Shocks!F31)-Shocks!G31,5), -1.25%)","v":-2.4399999999999999E-3},{"$f":"IF(Extrapolation!FSP >= 15, ROUND(B32*(1+Shocks!H31)+Shocks!I31,5), ROUND(B32*(1+Shocks!L31)+Shocks!M31,5))","v":1.52E-2},{"$f":"IF(Extrapolation!FSP >= 15, ROUND(B32*(1-Shocks!F31)-Shocks!G31,5),  ROUND(B32*(1-Shocks!J31)-Shocks!K31,5))","v":-2.4399999999999999E-3},null,6.6304717807865732E-3,{"$f":"ROUND(B32*(1+Shocks!H31)+Shocks!I31,5)+Extrapolation!T34","v":1.6707684181399236E-2},{"$f":"MAX(ROUND(B32*(1-Shocks!F31)-Shocks!G31,5)+Extrapolation!T34, -1.25%)","v":-9.323158186007618E-4},{"$f":"IF(Extrapolation!FSP >= 15, ROUND(B32*(1+Shocks!H31)+Shocks!I31 + Extrapolation!T34, 5), ROUND(B32*(1+Shocks!L31)+Shocks!M31 + Extrapolation!T34,5))","v":1.6709999999999999E-2},{"$f":"IF(Extrapolation!FSP >= 15, ROUND(B32*(1-Shocks!F31)-Shocks!G31+Extrapolation!T34, 5), ROUND(B32*(1-Shocks!J31)-Shocks!K31+Extrapolation!T34, 5))","v":-9.3000000000000005E-4}]
[21,5.2879901318936273E-3,{"$f":"ROUND(B33*(1+Shocks!H32)+Shocks!I32,5)","v":1.519E-2},{"$f":"MAX(ROUND(B33*(1-Shocks!F32)-Shocks!G32,5), -1.25%)","v":-2.2100000000000002E-3},{"$f":"IF(Extrapolation!FSP >= 15, ROUND(B33*(1+Shocks!H32)+Shocks!I32,5), ROUND(B33*(1+Shocks!L32)+Shocks!M32,5))","v":1.519E-2},{"$f":"IF(Extrapolation!FSP >= 15, ROUND(B33*(1-Shocks!F32)-Shocks!G32,5),  ROUND(B33*(1-Shocks!J32)-Shocks!K32,5))","v":-2.2100000000000002E-3},null,6.746629910765467E-3,{"$f":"ROUND(B33*(1+Shocks!H32)+Shocks!I32,5)+Extrapolation!T35","v":1.6648639778871842E-2},{"$f":"MAX(ROUND(B33*(1-Shocks!F32)-Shocks!G32,5)+Extrapolation!T35, -1.25%)","v":-7.5136022112816045E-4},{"$f":"IF(Extrapolation!FSP >= 15, ROUND(B33*(1+Shocks!H32)+Shocks!I32 + Extrapolation!T35, 5), ROUND(B33*(1+Shocks!L32)+Shocks!M32 + Extrapolation!T35,5))","v":1.6639999999999999E-2},{"$f":"IF(Extrapolation!FSP >= 15, ROUND(B33*(1-Shocks!F32)-Shocks!G32+Extrapolation!T35, 5), ROUND(B33*(1-Shocks!J32)-Shocks!K32+Extrapolation!T35, 5))","v":-7.5000000000000002E-4}]
[22,5.5673642944644719E-3,{"$f":"ROUND(B34*(1+Shocks!H33)+Shocks!I33,5)","v":1.5310000000000001E-2},{"$f":"MAX(ROUND(B34*(1-Shocks!F33)-Shocks!G33,5), -1.25%)","v":-1.92E-3},{"$f":"IF(Extrapolation!FSP >= 15, ROUND(B34*(1+Shocks!H33)+Shocks!I33,5), ROUND(B34*(1+Shocks!L33)+Shocks!M33,5))","v":1.5310000000000001E-2},{"$f":"IF(Extrapolation!FSP >= 15, ROUND(B34*(1-Shocks!F33)-Shocks!G33,5),  ROUND(B34*(1-Shocks!J33)-Shocks!K33,5))","v":-1.92E-3},null,6.9795377134935777E-3,{"$f":"ROUND(B34*(1+Shocks!H33)+Shocks!I33,5)+Extrapolation!T36","v":1.6722173419029106E-2},{"$f":"MAX(ROUND(B34*(1-Shocks!F33)-Shocks!G33,5)+Extrapolation!T36, -1.25%)","v":-5.0782658097089429E-4},{"$f":"IF(Extrapolation!FSP >= 15, ROUND(B34*(1+Shocks!H33)+Shocks!I33 + Extrapolation!T36, 5), ROUND(B34*(1+Shocks!L33)+Shocks!M33 + Extrapolation!T36,5))","v":1.6719999999999999E-2},{"$f":"IF(Extrapolation!FSP >= 15, ROUND(B34*(1-Shocks!F33)-Shocks!G33+Extrapolation!T36, 5), ROUND(B34*(1-Shocks!J33)-Shocks!K33+Extrapolation!T36, 5))","v":-5.1000000000000004E-4}]
[23,5.9343477793358801E-3,{"$f":"ROUND(B35*(1+Shocks!H34)+Shocks!I34,5)","v":1.555E-2},{"$f":"MAX(ROUND(B35*(1-Shocks!F34)-Shocks!G34,5), -1.25%)","v":-1.58E-3},{"$f":"IF(Extrapolation!FSP >= 15, ROUND(B35*(1+Shocks!H34)+Shocks!I34,5), ROUND(B35*(1+Shocks!L34)+Shocks!M34,5))","v":1.555E-2},{"$f":"IF(Extrapolation!FSP >= 15, ROUND(B35*(1-Shocks!F34)-Shocks!G34,5),  ROUND(B35*(1-Shocks!J34)-Shocks!K34,5))","v":-1.58E-3},null,7.302451871936233E-3,{"$f":"ROUND(B35*(1+Shocks!H34)+Shocks!I34,5)+Extrapolation!T37","v":1.6918104092600354E-2},{"$f":"MAX(ROUND(B35*(1-Shocks!F34)-Shocks!G34,5)+Extrapolation!T37, -1.25%)","v":-2.118959073996471E-4},{"$f":"IF(Extrapolation!FSP >= 15, ROUND(B35*(1+Shocks!H34)+Shocks!I34 + Extrapolation!T37, 5), ROUND(B35*(1+Shocks!L34)+Shocks!M34 + Extrapolation!T37,5))","v":1.6910000000000001E-2},{"$f":"IF(Extrapolation!FSP >= 15, ROUND(B35*(1-Shocks!F34)-Shocks!G34+Extrapolation!T37, 5), ROUND(B35*(1-Shocks!J34)-Shocks!K34+Extrapolation!T37, 5))","v":-2.1000000000000001E-4}]
[24,6.3678855435167492E-3,{"$f":"ROUND(B36*(1+Shocks!H35)+Shocks!I35,5)","v":1.5859999999999999E-2},{"$f":"MAX(ROUND(B36*(1-Shocks!F35)-Shocks!G35,5), -1.25%)","v":-1.2099999999999999E-3},{"$f":"IF(Extrapolation!FSP >= 15, ROUND(B36*(1+Shocks!H35)+Shocks!I35,5), ROUND(B36*(1+Shocks!L35)+Shocks!M35,5))","v":1.5859999999999999E-2},{"$f":"IF(Extrapolation!FSP >= 15, ROUND(B36*(1-Shocks!F35)-Shocks!G35,5),  ROUND(B36*(1-Shocks!J35)-Shocks!K35,5))","v":-1.2099999999999999E-3},null,7.6941542486836934E-3,{"$f":"ROUND(B36*(1+Shocks!H35)+Shocks!I35,5)+Extrapolation!T38","v":1.7186268705166943E-2},{"$f":"MAX(ROUND(B36*(1-Shocks!F35)-Shocks!G35,5)+Extrapolation!T38, -1.25%)","v":1.1626870516694425E-4},{"$f":"IF(Extrapolation!FSP >= 15, ROUND(B36*(1+Shocks!H35)+Shocks!I35 + Extrapolation!T38, 5), ROUND(B36*(1+Shocks!L35)+Shocks!M35 + Extrapolation!T38,5))","v":1.719E-2},{"$f":"IF(Extrapolation!FSP >= 15, ROUND(B36*(1-Shocks!F35)-Shocks!G35+Extrapolation!T38, 5), ROUND(B36*(1-Shocks!J35)-Shocks!K35+Extrapolation!T38, 5))","v":1.2E-4}]
[25,6.8512209183675399E-3,{"$f":"ROUND(B37*(1+Shocks!H36)+Shocks!I36,5)","v":1.6240000000000001E-2},{"$f":"MAX(ROUND(B37*(1-Shocks!F36)-Shocks!G36,5), -1.25%)","v":-8.0000000000000004E-4},{"$f":"IF(Extrapolation!FSP >= 15, ROUND(B37*(1+Shocks!H36)+Shocks!I36,5), ROUND(B37*(1+Shocks!L36)+Shocks!M36,5))","v":1.6240000000000001E-2},{"$f":"IF(Extrapolation!FSP >= 15, ROUND(B37*(1-Shocks!F36)-Shocks!G36,5),  ROUND(B37*(1-Shocks!J36)-Shocks!K36,5))","v":-8.0000000000000004E-4},null,8.137740273007843E-3,{"$f":"ROUND(B37*(1+Shocks!H36)+Shocks!I36,5)+Extrapolation!T39","v":1.7526519354640304E-2},{"$f":"MAX(ROUND(B37*(1-Shocks!F36)-Shocks!G36,5)+Extrapolation!T39, -1.25%)","v":4.8651935464030305E-4},{"$f":"IF(Extrapolation!FSP >= 15, ROUND(B37*(1+Shocks!H36)+Shocks!I36 + Extrapolation!T39, 5), ROUND(B37*(1+Shocks!L36)+Shocks!M36 + Extrapolation!T39,5))","v":1.753E-2},{"$f":"IF(Extrapolation!FSP >= 15, ROUND(B37*(1-Shocks!F36)-Shocks!G36+Extrapolation!T39, 5), ROUND(B37*(1-Shocks!J36)-Shocks!K36+Extrapolation!T39, 5))","v":4.8000000000000001E-4}]
[26,7.3709785667628314E-3,{"$f":"ROUND(B38*(1+Shocks!H37)+Shocks!I37,5)","v":1.6660000000000001E-2},{"$f":"MAX(ROUND(B38*(1-Shocks!F37)-Shocks!G37,5), -1.25%)","v":-3.6999999999999999E-4},{"$f":"IF(Extrapolation!FSP >= 15, ROUND(B38*(1+Shocks!H37)+Shocks!I37,5), ROUND(B38*(1+Shocks!L37)+Shocks!M37,5))","v":1.6660000000000001E-2},{"$f":"IF(Extrapolation!FSP >= 15, ROUND(B38*(1-Shocks!F37)-Shocks!G37,5),  ROUND(B38*(1-Shocks!J37)-Shocks!K37,5))","v":-3.6999999999999999E-4},null,8.6196997625491711E-3,{"$f":"ROUND(B38*(1+Shocks!H37)+Shocks!I37,5)+Extrapolation!T40","v":1.7908721195786341E-2},{"$f":"MAX(ROUND(B38*(1-Shocks!F37)-Shocks!G37,5)+Extrapolation!T40, -1.25%)","v":8.7872119578633978E-4},{"$f":"IF(Extrapolation!FSP >= 15, ROUND(B38*(1+Shocks!H37)+Shocks!I37 + Extrapolation!T40, 5), ROUND(B38*(1+Shocks!L37)+Shocks!M37 + Extrapolation!T40,5))","v":1.7909999999999999E-2},{"$f":"IF(Extrapolation!FSP >= 15, ROUND(B38*(1-Shocks!F37)-Shocks!G37+Extrapolation!T40, 5), ROUND(B38*(1-Shocks!J37)-Shocks!K37+Extrapolation!T40, 5))","v":8.7000000000000001E-4}]
[27,7.9164614708018277E-3,{"$f":"ROUND(B39*(1+Shocks!H38)+Shocks!I38,5)","v":1.712E-2},{"$f":"MAX(ROUND(B39*(1-Shocks!F38)-Shocks!G38,5), -1.25%)","v":6.9999999999999994E-5},{"$f":"IF(Extrapolation!FSP >= 15, ROUND(B39*(1+Shocks!H38)+Shocks!I38,5), ROUND(B39*(1+Shocks!L38)+Shocks!M38,5))","v":1.712E-2},{"$f":"IF(Extrapolation!FSP >= 15, ROUND(B39*(1-Shocks!F38)-Shocks!G38,5),  ROUND(B39*(1-Shocks!J38)-Shocks!K38,5))","v":6.9999999999999994E-5},null,9.1292122084236649E-3,{"$f":"ROUND(B39*(1+Shocks!H38)+Shocks!I38,5)+Extrapolation!T41","v":1.8332750737621837E-2},{"$f":"MAX(ROUND(B39*(1-Shocks!F38)-Shocks!G38,5)+Extrapolation!T41, -1.25%)","v":1.2827507376218371E-3},{"$f":"IF(Extrapolation!FSP >= 15, ROUND(B39*(1+Shocks!H38)+Shocks!I38 + Extrapolation!T41, 5), ROUND(B39*(1+Shocks!L38)+Shocks!M38 + Extrapolation!T41,5))","v":1.8329999999999999E-2},{"$f":"IF(Extrapolation!FSP >= 15, ROUND(B39*(1-Shocks!F38)-Shocks!G38+Extrapolation!T41, 5), ROUND(B39*(1-Shocks!J38)-Shocks!K38+Extrapolation!T41, 5))","v":1.2800000000000001E-3}]
[28,8.4791068749425769E-3,{"$f":"ROUND(B40*(1+Shocks!H39)+Shocks!I39,5)","v":1.7590000000000001E-2},{"$f":"MAX(ROUND(B40*(1-Shocks!F39)-Shocks!G39,5), -1.25%)","v":5.2999999999999998E-4},{"$f":"IF(Extrapolation!FSP >= 15, ROUND(B40*(1+Shocks!H39)+Shocks!I39,5), ROUND(B40*(1+Shocks!L39)+Shocks!M39,5))","v":1.7590000000000001E-2},{"$f":"IF(Extrapolation!FSP >= 15, ROUND(B40*(1-Shocks!F39)-Shocks!G39,5),  ROUND(B40*(1-Shocks!J39)-Shocks!K39,5))","v":5.2999999999999998E-4},null,9.6576013396472149E-3,{"$f":"ROUND(B40*(1+Shocks!H39)+Shocks!I39,5)+Extrapolation!T42","v":1.876849446470464E-2},{"$f":"MAX(ROUND(B40*(1-Shocks!F39)-Shocks!G39,5)+Extrapolation!T42, -1.25%)","v":1.7084944647046381E-3},{"$f":"IF(Extrapolation!FSP >= 15, ROUND(B40*(1+Shocks!H39)+Shocks!I39 + Extrapolation!T42, 5), ROUND(B40*(1+Shocks!L39)+Shocks!M39 + Extrapolation!T42,5))","v":1.8769999999999998E-2},{"$f":"IF(Extrapolation!FSP >= 15, ROUND(B40*(1-Shocks!F39)-Shocks!G39+Extrapolation!T42, 5), ROUND(B40*(1-Shocks!J39)-Shocks!K39+Extrapolation!T42, 5))","v":1.7099999999999999E-3}]
[29,9.0520616445124436E-3,{"$f":"ROUND(B41*(1+Shocks!H40)+Shocks!I40,5)","v":1.8079999999999999E-2},{"$f":"MAX(ROUND(B41*(1-Shocks!F40)-Shocks!G40,5), -1.25%)","v":1E-3},{"$f":"IF(Extrapolation!FSP >= 15, ROUND(B41*(1+Shocks!H40)+Shocks!I40,5), ROUND(B41*(1+Shocks!L40)+Shocks!M40,5))","v":1.8079999999999999E-2},{"$f":"IF(Extrapolation!FSP >= 15, ROUND(B41*(1-Shocks!F40)-Shocks!G40,5),  ROUND(B41*(1-Shocks!J40)-Shocks!K40,5))","v":1E-3},null,1.0197909348726331E-2,{"$f":"ROUND(B41*(1+Shocks!H40)+Shocks!I40,5)+Extrapolation!T43","v":1.9225847704213886E-2},{"$f":"MAX(ROUND(B41*(1-Shocks!F40)-Shocks!G40,5)+Extrapolation!T43, -1.25%)","v":2.1458477042138871E-3},{"$f":"IF(Extrapolation!FSP >= 15, ROUND(B41*(1+Shocks!H40)+Shocks!I40 + Extrapolation!T43, 5), ROUND(B41*(1+Shocks!L40)+Shocks!M40 + Extrapolation!T43,5))","v":1.9220000000000001E-2},{"$f":"IF(Extrapolation!FSP >= 15, ROUND(B41*(1-Shocks!F40)-Shocks!G40+Extrapolation!T43, 5), ROUND(B41*(1-Shocks!J40)-Shocks!K40+Extrapolation!T43, 5))","v":2.15E-3}]
[30,9.629848278887021E-3,{"$f":"ROUND(B42*(1+Shocks!H41)+Shocks!I41,5)","v":1.857E-2},{"$f":"MAX(ROUND(B42*(1-Shocks!F41)-Shocks!G41,5), -1.25%)","v":1.48E-3},{"$f":"IF(Extrapolation!FSP >= 15, ROUND(B42*(1+Shocks!H41)+Shocks!I41,5), ROUND(B42*(1+Shocks!L41)+Shocks!M41,5))","v":1.857E-2},{"$f":"IF(Extrapolation!FSP >= 15, ROUND(B42*(1-Shocks!F41)-Shocks!G41,5),  ROUND(B42*(1-Shocks!J41)-Shocks!K41,5))","v":1.48E-3},null,1.0744561961004484E-2,{"$f":"ROUND(B42*(1+Shocks!H41)+Shocks!I41,5)+Extrapolation!T44","v":1.9684713682117463E-2},{"$f":"MAX(ROUND(B42*(1-Shocks!F41)-Shocks!G41,5)+Extrapolation!T44, -1.25%)","v":2.594713682117463E-3},{"$f":"IF(Extrapolation!FSP >= 15, ROUND(B42*(1+Shocks!H41)+Shocks!I41 + Extrapolation!T44, 5), ROUND(B42*(1+Shocks!L41)+Shocks!M41 + Extrapolation!T44,5))","v":1.968E-2},{"$f":"IF(Extrapolation!FSP >= 15, ROUND(B42*(1-Shocks!F41)-Shocks!G41+Extrapolation!T44, 5), ROUND(B42*(1-Shocks!J41)-Shocks!K41+Extrapolation!T44, 5))","v":2.5899999999999999E-3}]
[31,1.020810040641007E-2,{"$f":"ROUND(B43*(1+Shocks!H42)+Shocks!I42,5)","v":1.9060000000000001E-2},{"$f":"MAX(ROUND(B43*(1-Shocks!F42)-Shocks!G42,5), -1.25%)","v":1.9599999999999999E-3},{"$f":"IF(Extrapolation!FSP >= 15, ROUND(B43*(1+Shocks!H42)+Shocks!I42,5), ROUND(B43*(1+Shocks!L42)+Shocks!M42,5))","v":1.9060000000000001E-2},{"$f":"IF(Extrapolation!FSP >= 15, ROUND(B43*(1-Shocks!F42)-Shocks!G42,5),  ROUND(B43*(1-Shocks!J42)-Shocks!K42,5))","v":1.9599999999999999E-3},null,1.1293103133172444E-2,{"$f":"ROUND(B43*(1+Shocks!H42)+Shocks!I42,5)+Extrapolation!T45","v":2.0145002726762375E-2},{"$f":"MAX(ROUND(B43*(1-Shocks!F42)-Shocks!G42,5)+Extrapolation!T45, -1.25%)","v":3.045002726762374E-3},{"$f":"IF(Extrapolation!FSP >= 15, ROUND(B43*(1+Shocks!H42)+Shocks!I42 + Extrapolation!T45, 5), ROUND(B43*(1+Shocks!L42)+Shocks!M42 + Extrapolation!T45,5))","v":2.0140000000000002E-2},{"$f":"IF(Extrapolation!FSP >= 15, ROUND(B43*(1-Shocks!F42)-Shocks!G42+Extrapolation!T45, 5), ROUND(B43*(1-Shocks!J42)-Shocks!K42+Extrapolation!T45, 5))","v":3.0500000000000002E-3}]
[32,1.0783352000685476E-2,{"$f":"ROUND(B44*(1+Shocks!H43)+Shocks!I43,5)","v":1.9550000000000001E-2},{"$f":"MAX(ROUND(B44*(1-Shocks!F43)-Shocks!G43,5), -1.25%)","v":2.4499999999999999E-3},{"$f":"IF(Extrapolation!FSP >= 15, ROUND(B44*(1+Shocks!H43)+Shocks!I43,5), ROUND(B44*(1+Shocks!L43)+Shocks!M43,5))","v":1.9550000000000001E-2},{"$f":"IF(Extrapolation!FSP >= 15, ROUND(B44*(1-Shocks!F43)-Shocks!G43,5),  ROUND(B44*(1-Shocks!J43)-Shocks!K43,5))","v":2.4499999999999999E-3},null,1.1839983589601033E-2,{"$f":"ROUND(B44*(1+Shocks!H43)+Shocks!I43,5)+Extrapolation!T46","v":2.0606631588915559E-2},{"$f":"MAX(ROUND(B44*(1-Shocks!F43)-Shocks!G43,5)+Extrapolation!T46, -1.25%)","v":3.5066315889155575E-3},{"$f":"IF(Extrapolation!FSP >= 15, ROUND(B44*(1+Shocks!H43)+Shocks!I43 + Extrapolation!T46, 5), ROUND(B44*(1+Shocks!L43)+Shocks!M43 + Extrapolation!T46,5))","v":2.06E-2},{"$f":"IF(Extrapolation!FSP >= 15, ROUND(B44*(1-Shocks!F43)-Shocks!G43+Extrapolation!T46, 5), ROUND(B44*(1-Shocks!J43)-Shocks!K43+Extrapolation!T46, 5))","v":3.5000000000000001E-3}]
[33,1.1352868466442123E-2,{"$f":"ROUND(B45*(1+Shocks!H44)+Shocks!I44,5)","v":2.0029999999999999E-2},{"$f":"MAX(ROUND(B45*(1-Shocks!F44)-Shocks!G44,5), -1.25%)","v":2.9299999999999999E-3},{"$f":"IF(Extrapolation!FSP >= 15, ROUND(B45*(1+Shocks!H44)+Shocks!I44,5), ROUND(B45*(1+Shocks!L44)+Shocks!M44,5))","v":2.0029999999999999E-2},{"$f":"IF(Extrapolation!FSP >= 15, ROUND(B45*(1-Shocks!F44)-Shocks!G44,5),  ROUND(B45*(1-Shocks!J44)-Shocks!K44,5))","v":2.9299999999999999E-3},null,1.23823913214125E-2,{"$f":"ROUND(B45*(1+Shocks!H44)+Shocks!I44,5)+Extrapolation!T47","v":2.1059522854970376E-2},{"$f":"MAX(ROUND(B45*(1-Shocks!F44)-Shocks!G44,5)+Extrapolation!T47, -1.25%)","v":3.9595228549703775E-3},{"$f":"IF(Extrapolation!FSP >= 15, ROUND(B45*(1+Shocks!H44)+Shocks!I44 + Extrapolation!T47, 5), ROUND(B45*(1+Shocks!L44)+Shocks!M44 + Extrapolation!T47,5))","v":2.1059999999999999E-2},{"$f":"IF(Extrapolation!FSP >= 15, ROUND(B45*(1-Shocks!F44)-Shocks!G44+Extrapolation!T47, 5), ROUND(B45*(1-Shocks!J44)-Shocks!K44+Extrapolation!T47, 5))","v":3.96E-3}]
[34,1.1914510597978989E-2,{"$f":"ROUND(B46*(1+Shocks!H45)+Shocks!I45,5)","v":2.0490000000000001E-2},{"$f":"MAX(ROUND(B46*(1-Shocks!F45)-Shocks!G45,5), -1.25%)","v":3.4199999999999999E-3},{"$f":"IF(Extrapolation!FSP >= 15, ROUND(B46*(1+Shocks!H45)+Shocks!I45,5), ROUND(B46*(1+Shocks!L45)+Shocks!M45,5))","v":2.0490000000000001E-2},{"$f":"IF(Extrapolation!FSP >= 15, ROUND(B46*(1-Shocks!F45)-Shocks!G45,5),  ROUND(B46*(1-Shocks!J45)-Shocks!K45,5))","v":3.4199999999999999E-3},null,1.2918115033601074E-2,{"$f":"ROUND(B46*(1+Shocks!H45)+Shocks!I45,5)+Extrapolation!T48","v":2.1493604435622087E-2},{"$f":"MAX(ROUND(B46*(1-Shocks!F45)-Shocks!G45,5)+Extrapolation!T48, -1.25%)","v":4.4236044356220847E-3},{"$f":"IF(Extrapolation!FSP >= 15, ROUND(B46*(1+Shocks!H45)+Shocks!I45 + Extrapolation!T48, 5), ROUND(B46*(1+Shocks!L45)+Shocks!M45 + Extrapolation!T48,5))","v":2.1499999999999998E-2},{"$f":"IF(Extrapolation!FSP >= 15, ROUND(B46*(1-Shocks!F45)-Shocks!G45+Extrapolation!T48, 5), ROUND(B46*(1-Shocks!J45)-Shocks!K45+Extrapolation!T48, 5))","v":4.4299999999999999E-3}]
[35,1.2466624520495184E-2,{"$f":"ROUND(B47*(1+Shocks!H46)+Shocks!I46,5)","v":2.095E-2},{"$f":"MAX(ROUND(B47*(1-Shocks!F46)-Shocks!G46,5), -1.25%)","v":3.9100000000000003E-3},{"$f":"IF(Extrapolation!FSP >= 15, ROUND(B47*(1+Shocks!H46)+Shocks!I46,5), ROUND(B47*(1+Shocks!L46)+Shocks!M46,5))","v":2.095E-2},{"$f":"IF(Extrapolation!FSP >= 15, ROUND(B47*(1-Shocks!F46)-Shocks!G46,5),  ROUND(B47*(1-Shocks!J46)-Shocks!K46,5))","v":3.9100000000000003E-3},null,1.3445433636926074E-2,{"$f":"ROUND(B47*(1+Shocks!H46)+Shocks!I46,5)+Extrapolation!T49","v":2.192880911643089E-2},{"$f":"MAX(ROUND(B47*(1-Shocks!F46)-Shocks!G46,5)+Extrapolation!T49, -1.25%)","v":4.8888091164308901E-3},{"$f":"IF(Extrapolation!FSP >= 15, ROUND(B47*(1+Shocks!H46)+Shocks!I46 + Extrapolation!T49, 5), ROUND(B47*(1+Shocks!L46)+Shocks!M46 + Extrapolation!T49,5))","v":2.1930000000000002E-2},{"$f":"IF(Extrapolation!FSP >= 15, ROUND(B47*(1-Shocks!F46)-Shocks!G46+Extrapolation!T49, 5), ROUND(B47*(1-Shocks!J46)-Shocks!K46+Extrapolation!T49, 5))","v":4.8900000000000002E-3}]
[36,1.3007952295520209E-2,{"$f":"ROUND(B48*(1+Shocks!H47)+Shocks!I47,5)","v":2.1389999999999999E-2},{"$f":"MAX(ROUND(B48*(1-Shocks!F47)-Shocks!G47,5), -1.25%)","v":4.4000000000000003E-3},{"$f":"IF(Extrapolation!FSP >= 15, ROUND(B48*(1+Shocks!H47)+Shocks!I47,5), ROUND(B48*(1+Shocks!L47)+Shocks!M47,5))","v":2.1389999999999999E-2},{"$f":"IF(Extrapolation!FSP >= 15, ROUND(B48*(1-Shocks!F47)-Shocks!G47,5),  ROUND(B48*(1-Shocks!J47)-Shocks!K47,5))","v":4.4000000000000003E-3},null,1.3963026455235505E-2,{"$f":"ROUND(B48*(1+Shocks!H47)+Shocks!I47,5)+Extrapolation!T50","v":2.2345074159715296E-2},{"$f":"MAX(ROUND(B48*(1-Shocks!F47)-Shocks!G47,5)+Extrapolation!T50, -1.25%)","v":5.355074159715297E-3},{"$f":"IF(Extrapolation!FSP >= 15, ROUND(B48*(1+Shocks!H47)+Shocks!I47 + Extrapolation!T50, 5), ROUND(B48*(1+Shocks!L47)+Shocks!M47 + Extrapolation!T50,5))","v":2.2349999999999998E-2},{"$f":"IF(Extrapolation!FSP >= 15, ROUND(B48*(1-Shocks!F47)-Shocks!G47+Extrapolation!T50, 5), ROUND(B48*(1-Shocks!J47)-Shocks!K47+Extrapolation!T50, 5))","v":5.3499999999999997E-3}]
[37,1.3537559053494741E-2,{"$f":"ROUND(B49*(1+Shocks!H48)+Shocks!I48,5)","v":2.1819999999999999E-2},{"$f":"MAX(ROUND(B49*(1-Shocks!F48)-Shocks!G48,5), -1.25%)","v":4.8799999999999998E-3},{"$f":"IF(Extrapolation!FSP >= 15, ROUND(B49*(1+Shocks!H48)+Shocks!I48,5), ROUND(B49*(1+Shocks!L48)+Shocks!M48,5))","v":2.1819999999999999E-2},{"$f":"IF(Extrapolation!FSP >= 15, ROUND(B49*(1-Shocks!F48)-Shocks!G48,5),  ROUND(B49*(1-Shocks!J48)-Shocks!K48,5))","v":4.8799999999999998E-3},null,1.4469900003006853E-2,{"$f":"ROUND(B49*(1+Shocks!H48)+Shocks!I48,5)+Extrapolation!T51","v":2.2752340949512111E-2},{"$f":"MAX(ROUND(B49*(1-Shocks!F48)-Shocks!G48,5)+Extrapolation!T51, -1.25%)","v":5.8123409495121113E-3},{"$f":"IF(Extrapolation!FSP >= 15, ROUND(B49*(1+Shocks!H48)+Shocks!I48 + Extrapolation!T51, 5), ROUND(B49*(1+Shocks!L48)+Shocks!M48 + Extrapolation!T51,5))","v":2.2749999999999999E-2},{"$f":"IF(Extrapolation!FSP >= 15, ROUND(B49*(1-Shocks!F48)-Shocks!G48+Extrapolation!T51, 5), ROUND(B49*(1-Shocks!J48)-Shocks!K48+Extrapolation!T51, 5))","v":5.8100000000000001E-3}]
[38,1.4054773413340049E-2,{"$f":"ROUND(B50*(1+Shocks!H49)+Shocks!I49,5)","v":2.223E-2},{"$f":"MAX(ROUND(B50*(1-Shocks!F49)-Shocks!G49,5), -1.25%)","v":5.3600000000000002E-3},{"$f":"IF(Extrapolation!FSP >= 15, ROUND(B50*(1+Shocks!H49)+Shocks!I49,5), ROUND(B50*(1+Shocks!L49)+Shocks!M49,5))","v":2.223E-2},{"$f":"IF(Extrapolation!FSP >= 15, ROUND(B50*(1-Shocks!F49)-Shocks!G49,5),  ROUND(B50*(1-Shocks!J49)-Shocks!K49,5))","v":5.3600000000000002E-3},null,1.4965328086382845E-2,{"$f":"ROUND(B50*(1+Shocks!H49)+Shocks!I49,5)+Extrapolation!T52","v":2.3140554673042796E-2},{"$f":"MAX(ROUND(B50*(1-Shocks!F49)-Shocks!G49,5)+Extrapolation!T52, -1.25%)","v":6.2705546730427962E-3},{"$f":"IF(Extrapolation!FSP >= 15, ROUND(B50*(1+Shocks!H49)+Shocks!I49 + Extrapolation!T52, 5), ROUND(B50*(1+Shocks!L49)+Shocks!M49 + Extrapolation!T52,5))","v":2.3140000000000001E-2},{"$f":"IF(Extrapolation!FSP >= 15, ROUND(B50*(1-Shocks!F49)-Shocks!G49+Extrapolation!T52, 5), ROUND(B50*(1-Shocks!J49)-Shocks!K49+Extrapolation!T52, 5))","v":6.2700000000000004E-3}]
[39,1.4559138634796298E-2,{"$f":"ROUND(B51*(1+Shocks!H50)+Shocks!I50,5)","v":2.2620000000000001E-2},{"$f":"MAX(ROUND(B51*(1-Shocks!F50)-Shocks!G50,5), -1.25%)","v":5.8399999999999997E-3},{"$f":"IF(Extrapolation!FSP >= 15, ROUND(B51*(1+Shocks!H50)+Shocks!I50,5), ROUND(B51*(1+Shocks!L50)+Shocks!M50,5))","v":2.2620000000000001E-2},{"$f":"IF(Extrapolation!FSP >= 15, ROUND(B51*(1-Shocks!F50)-Shocks!G50,5),  ROUND(B51*(1-Shocks!J50)-Shocks!K50,5))","v":5.8399999999999997E-3},null,1.544880266823645E-2,{"$f":"ROUND(B51*(1+Shocks!H50)+Shocks!I50,5)+Extrapolation!T53","v":2.3509664033440153E-2},{"$f":"MAX(ROUND(B51*(1-Shocks!F50)-Shocks!G50,5)+Extrapolation!T53, -1.25%)","v":6.7296640334401515E-3},{"$f":"IF(Extrapolation!FSP >= 15, ROUND(B51*(1+Shocks!H50)+Shocks!I50 + Extrapolation!T53, 5), ROUND(B51*(1+Shocks!L50)+Shocks!M50 + Extrapolation!T53,5))","v":2.351E-2},{"$f":"IF(Extrapolation!FSP >= 15, ROUND(B51*(1-Shocks!F50)-Shocks!G50+Extrapolation!T53, 5), ROUND(B51*(1-Shocks!J50)-Shocks!K50+Extrapolation!T53, 5))","v":6.7299999999999999E-3}]
[40,1.5050372477939611E-2,{"$f":"ROUND(B52*(1+Shocks!H51)+Shocks!I51,5)","v":2.3E-2},{"$f":"MAX(ROUND(B52*(1-Shocks!F51)-Shocks!G51,5), -1.25%)","v":6.3200000000000001E-3},{"$f":"IF(Extrapolation!FSP >= 15, ROUND(B52*(1+Shocks!H51)+Shocks!I51,5), ROUND(B52*(1+Shocks!L51)+Shocks!M51,5))","v":2.3E-2},{"$f":"IF(Extrapolation!FSP >= 15, ROUND(B52*(1-Shocks!F51)-Shocks!G51,5),  ROUND(B52*(1-Shocks!J51)-Shocks!K51,5))","v":6.3200000000000001E-3},null,1.5919993467428117E-2,{"$f":"ROUND(B52*(1+Shocks!H51)+Shocks!I51,5)+Extrapolation!T54","v":2.3869620989488506E-2},{"$f":"MAX(ROUND(B52*(1-Shocks!F51)-Shocks!G51,5)+Extrapolation!T54, -1.25%)","v":7.1896209894885066E-3},{"$f":"IF(Extrapolation!FSP >= 15, ROUND(B52*(1+Shocks!H51)+Shocks!I51 + Extrapolation!T54, 5), ROUND(B52*(1+Shocks!L51)+Shocks!M51 + Extrapolation!T54,5))","v":2.3869999999999999E-2},{"$f":"IF(Extrapolation!FSP >= 15, ROUND(B52*(1-Shocks!F51)-Shocks!G51+Extrapolation!T54, 5), ROUND(B52*(1-Shocks!J51)-Shocks!K51+Extrapolation!T54, 5))","v":7.1799999999999998E-3}]
[41,1.5528334154540691E-2,{"$f":"ROUND(B53*(1+Shocks!H52)+Shocks!I52,5)","v":2.3359999999999999E-2},{"$f":"MAX(ROUND(B53*(1-Shocks!F52)-Shocks!G52,5), -1.25%)","v":6.79E-3},{"$f":"IF(Extrapolation!FSP >= 15, ROUND(B53*(1+Shocks!H52)+Shocks!I52,5), ROUND(B53*(1+Shocks!L52)+Shocks!M52,5))","v":2.3359999999999999E-2},{"$f":"IF(Extrapolation!FSP >= 15, ROUND(B53*(1-Shocks!F52)-Shocks!G52,5),  ROUND(B53*(1-Shocks!J52)-Shocks!K52,5))","v":6.79E-3},null,1.6378714673448425E-2,{"$f":"ROUND(B53*(1+Shocks!H52)+Shocks!I52,5)+Extrapolation!T55","v":2.4210380518907733E-2},{"$f":"MAX(ROUND(B53*(1-Shocks!F52)-Shocks!G52,5)+Extrapolation!T55, -1.25%)","v":7.6403805189077341E-3},{"$f":"IF(Extrapolation!FSP >= 15, ROUND(B53*(1+Shocks!H52)+Shocks!I52 + Extrapolation!T55, 5), ROUND(B53*(1+Shocks!L52)+Shocks!M52 + Extrapolation!T55,5))","v":2.4209999999999999E-2},{"$f":"IF(Extrapolation!FSP >= 15, ROUND(B53*(1-Shocks!F52)-Shocks!G52+Extrapolation!T55, 5), ROUND(B53*(1-Shocks!J52)-Shocks!K52+Extrapolation!T55, 5))","v":7.6400000000000001E-3}]
[42,1.5992997076406112E-2,{"$f":"ROUND(B54*(1+Shocks!H53)+Shocks!I53,5)","v":2.3699999999999999E-2},{"$f":"MAX(ROUND(B54*(1-Shocks!F53)-Shocks!G53,5), -1.25%)","v":7.2500000000000004E-3},{"$f":"IF(Extrapolation!FSP >= 15, ROUND(B54*(1+Shocks!H53)+Shocks!I53,5), ROUND(B54*(1+Shocks!L53)+Shocks!M53,5))","v":2.3699999999999999E-2},{"$f":"IF(Extrapolation!FSP >= 15, ROUND(B54*(1-Shocks!F53)-Shocks!G53,5),  ROUND(B54*(1-Shocks!J53)-Shocks!K53,5))","v":7.2500000000000004E-3},null,1.6824897478724621E-2,{"$f":"ROUND(B54*(1+Shocks!H53)+Shocks!I53,5)+Extrapolation!T56","v":2.4531900402318507E-2},{"$f":"MAX(ROUND(B54*(1-Shocks!F53)-Shocks!G53,5)+Extrapolation!T56, -1.25%)","v":8.0819004023185079E-3},{"$f":"IF(Extrapolation!FSP >= 15, ROUND(B54*(1+Shocks!H53)+Shocks!I53 + Extrapolation!T56, 5), ROUND(B54*(1+Shocks!L53)+Shocks!M53 + Extrapolation!T56,5))","v":2.453E-2},{"$f":"IF(Extrapolation!FSP >= 15, ROUND(B54*(1-Shocks!F53)-Shocks!G53+Extrapolation!T56, 5), ROUND(B54*(1-Shocks!J53)-Shocks!K53+Extrapolation!T56, 5))","v":8.09E-3}]
[43,1.6444426357755226E-2,{"$f":"ROUND(B55*(1+Shocks!H54)+Shocks!I54,5)","v":2.4029999999999999E-2},{"$f":"MAX(ROUND(B55*(1-Shocks!F54)-Shocks!G54,5), -1.25%)","v":7.7200000000000003E-3},{"$f":"IF(Extrapolation!FSP >= 15, ROUND(B55*(1+Shocks!H54)+Shocks!I54,5), ROUND(B55*(1+Shocks!L54)+Shocks!M54,5))","v":2.4029999999999999E-2},{"$f":"IF(Extrapolation!FSP >= 15, ROUND(B55*(1-Shocks!F54)-Shocks!G54,5),  ROUND(B55*(1-Shocks!J54)-Shocks!K54,5))","v":7.7200000000000003E-3},null,1.7258567383250822E-2,{"$f":"ROUND(B55*(1+Shocks!H54)+Shocks!I54,5)+Extrapolation!T57","v":2.4844141025495595E-2},{"$f":"MAX(ROUND(B55*(1-Shocks!F54)-Shocks!G54,5)+Extrapolation!T57, -1.25%)","v":8.5341410254955972E-3},{"$f":"IF(Extrapolation!FSP >= 15, ROUND(B55*(1+Shocks!H54)+Shocks!I54 + Extrapolation!T57, 5), ROUND(B55*(1+Shocks!L54)+Shocks!M54 + Extrapolation!T57,5))","v":2.4840000000000001E-2},{"$f":"IF(Extrapolation!FSP >= 15, ROUND(B55*(1-Shocks!F54)-Shocks!G54+Extrapolation!T57, 5), ROUND(B55*(1-Shocks!J54)-Shocks!K54+Extrapolation!T57, 5))","v":8.5299999999999994E-3}]
[44,1.6882760227825866E-2,{"$f":"ROUND(B56*(1+Shocks!H55)+Shocks!I55,5)","v":2.4330000000000001E-2},{"$f":"MAX(ROUND(B56*(1-Shocks!F55)-Shocks!G55,5), -1.25%)","v":8.1799999999999998E-3},{"$f":"IF(Extrapolation!FSP >= 15, ROUND(B56*(1+Shocks!H55)+Shocks!I55,5), ROUND(B56*(1+Shocks!L55)+Shocks!M55,5))","v":2.4330000000000001E-2},{"$f":"IF(Extrapolation!FSP >= 15, ROUND(B56*(1-Shocks!F55)-Shocks!G55,5),  ROUND(B56*(1-Shocks!J55)-Shocks!K55,5))","v":8.1799999999999998E-3},null,1.7679825425732654E-2,{"$f":"ROUND(B56*(1+Shocks!H55)+Shocks!I55,5)+Extrapolation!T58","v":2.5127065197906789E-2},{"$f":"MAX(ROUND(B56*(1-Shocks!F55)-Shocks!G55,5)+Extrapolation!T58, -1.25%)","v":8.9770651979067875E-3},{"$f":"IF(Extrapolation!FSP >= 15, ROUND(B56*(1+Shocks!H55)+Shocks!I55 + Extrapolation!T58, 5), ROUND(B56*(1+Shocks!L55)+Shocks!M55 + Extrapolation!T58,5))","v":2.513E-2},{"$f":"IF(Extrapolation!FSP >= 15, ROUND(B56*(1-Shocks!F55)-Shocks!G55+Extrapolation!T58, 5), ROUND(B56*(1-Shocks!J55)-Shocks!K55+Extrapolation!T58, 5))","v":8.9700000000000005E-3}]
[45,1.7308194668200105E-2,{"$f":"ROUND(B57*(1+Shocks!H56)+Shocks!I56,5)","v":2.4629999999999999E-2},{"$f":"MAX(ROUND(B57*(1-Shocks!F56)-Shocks!G56,5), -1.25%)","v":8.6300000000000005E-3},{"$f":"IF(Extrapolation!FSP >= 15, ROUND(B57*(1+Shocks!H56)+Shocks!I56,5), ROUND(B57*(1+Shocks!L56)+Shocks!M56,5))","v":2.4629999999999999E-2},{"$f":"IF(Extrapolation!FSP >= 15, ROUND(B57*(1-Shocks!F56)-Shocks!G56,5),  ROUND(B57*(1-Shocks!J56)-Shocks!K56,5))","v":8.6300000000000005E-3},null,1.808883265402228E-2,{"$f":"ROUND(B57*(1+Shocks!H56)+Shocks!I56,5)+Extrapolation!T59","v":2.5410637985822174E-2},{"$f":"MAX(ROUND(B57*(1-Shocks!F56)-Shocks!G56,5)+Extrapolation!T59, -1.25%)","v":9.4106379858221751E-3},{"$f":"IF(Extrapolation!FSP >= 15, ROUND(B57*(1+Shocks!H56)+Shocks!I56 + Extrapolation!T59, 5), ROUND(B57*(1+Shocks!L56)+Shocks!M56 + Extrapolation!T59,5))","v":2.5409999999999999E-2},{"$f":"IF(Extrapolation!FSP >= 15, ROUND(B57*(1-Shocks!F56)-Shocks!G56+Extrapolation!T59, 5), ROUND(B57*(1-Shocks!J56)-Shocks!K56+Extrapolation!T59, 5))","v":9.41E-3}]
[46,1.7720970715795703E-2,{"$f":"ROUND(B58*(1+Shocks!H57)+Shocks!I57,5)","v":2.4899999999999999E-2},{"$f":"MAX(ROUND(B58*(1-Shocks!F57)-Shocks!G57,5), -1.25%)","v":9.0900000000000009E-3},{"$f":"IF(Extrapolation!FSP >= 15, ROUND(B58*(1+Shocks!H57)+Shocks!I57,5), ROUND(B58*(1+Shocks!L57)+Shocks!M57,5))","v":2.4899999999999999E-2},{"$f":"IF(Extrapolation!FSP >= 15, ROUND(B58*(1-Shocks!F57)-Shocks!G57,5),  ROUND(B58*(1-Shocks!J57)-Shocks!K57,5))","v":9.0900000000000009E-3},null,1.848579727433286E-2,{"$f":"ROUND(B58*(1+Shocks!H57)+Shocks!I57,5)+Extrapolation!T60","v":2.5664826558537156E-2},{"$f":"MAX(ROUND(B58*(1-Shocks!F57)-Shocks!G57,5)+Extrapolation!T60, -1.25%)","v":9.8548265585371581E-3},{"$f":"IF(Extrapolation!FSP >= 15, ROUND(B58*(1+Shocks!H57)+Shocks!I57 + Extrapolation!T60, 5), ROUND(B58*(1+Shocks!L57)+Shocks!M57 + Extrapolation!T60,5))","v":2.5669999999999998E-2},{"$f":"IF(Extrapolation!FSP >= 15, ROUND(B58*(1-Shocks!F57)-Shocks!G57+Extrapolation!T60, 5), ROUND(B58*(1-Shocks!J57)-Shocks!K57+Extrapolation!T60, 5))","v":9.8499999999999994E-3}]
[47,1.8121363973993887E-2,{"$f":"ROUND(B59*(1+Shocks!H58)+Shocks!I58,5)","v":2.5159999999999998E-2},{"$f":"MAX(ROUND(B59*(1-Shocks!F58)-Shocks!G58,5), -1.25%)","v":9.5300000000000003E-3},{"$f":"IF(Extrapolation!FSP >= 15, ROUND(B59*(1+Shocks!H58)+Shocks!I58,5), ROUND(B59*(1+Shocks!L58)+Shocks!M58,5))","v":2.5159999999999998E-2},{"$f":"IF(Extrapolation!FSP >= 15, ROUND(B59*(1-Shocks!F58)-Shocks!G58,5),  ROUND(B59*(1-Shocks!J58)-Shocks!K58,5))","v":9.5300000000000003E-3},null,1.8870964020433645E-2,{"$f":"ROUND(B59*(1+Shocks!H58)+Shocks!I58,5)+Extrapolation!T61","v":2.5909600046439756E-2},{"$f":"MAX(ROUND(B59*(1-Shocks!F58)-Shocks!G58,5)+Extrapolation!T61, -1.25%)","v":1.0279600046439758E-2},{"$f":"IF(Extrapolation!FSP >= 15, ROUND(B59*(1+Shocks!H58)+Shocks!I58 + Extrapolation!T61, 5), ROUND(B59*(1+Shocks!L58)+Shocks!M58 + Extrapolation!T61,5))","v":2.5909999999999999E-2},{"$f":"IF(Extrapolation!FSP >= 15, ROUND(B59*(1-Shocks!F58)-Shocks!G58+Extrapolation!T61, 5), ROUND(B59*(1-Shocks!J58)-Shocks!K58+Extrapolation!T61, 5))","v":1.0279999999999999E-2}]
[48,1.850967595621178E-2,{"$f":"ROUND(B60*(1+Shocks!H59)+Shocks!I59,5)","v":2.5409999999999999E-2},{"$f":"MAX(ROUND(B60*(1-Shocks!F59)-Shocks!G59,5), -1.25%)","v":9.9799999999999993E-3},{"$f":"IF(Extrapolation!FSP >= 15, ROUND(B60*(1+Shocks!H59)+Shocks!I59,5), ROUND(B60*(1+Shocks!L59)+Shocks!M59,5))","v":2.5409999999999999E-2},{"$f":"IF(Extrapolation!FSP >= 15, ROUND(B60*(1-Shocks!F59)-Shocks!G59,5),  ROUND(B60*(1-Shocks!J59)-Shocks!K59,5))","v":9.9799999999999993E-3},null,1.9244605366036449E-2,{"$f":"ROUND(B60*(1+Shocks!H59)+Shocks!I59,5)+Extrapolation!T62","v":2.6144929409824668E-2},{"$f":"MAX(ROUND(B60*(1-Shocks!F59)-Shocks!G59,5)+Extrapolation!T62, -1.25%)","v":1.0714929409824669E-2},{"$f":"IF(Extrapolation!FSP >= 15, ROUND(B60*(1+Shocks!H59)+Shocks!I59 + Extrapolation!T62, 5), ROUND(B60*(1+Shocks!L59)+Shocks!M59 + Extrapolation!T62,5))","v":2.614E-2},{"$f":"IF(Extrapolation!FSP >= 15, ROUND(B60*(1-Shocks!F59)-Shocks!G59+Extrapolation!T62, 5), ROUND(B60*(1-Shocks!J59)-Shocks!K59+Extrapolation!T62, 5))","v":1.0710000000000001E-2}]
[49,1.8886226952515184E-2,{"$f":"ROUND(B61*(1+Shocks!H60)+Shocks!I60,5)","v":2.564E-2},{"$f":"MAX(ROUND(B61*(1-Shocks!F60)-Shocks!G60,5), -1.25%)","v":1.042E-2},{"$f":"IF(Extrapolation!FSP >= 15, ROUND(B61*(1+Shocks!H60)+Shocks!I60,5), ROUND(B61*(1+Shocks!L60)+Shocks!M60,5))","v":2.564E-2},{"$f":"IF(Extrapolation!FSP >= 15, ROUND(B61*(1-Shocks!F60)-Shocks!G60,5),  ROUND(B61*(1-Shocks!J60)-Shocks!K60,5))","v":1.042E-2},null,1.9607014270000667E-2,{"$f":"ROUND(B61*(1+Shocks!H60)+Shocks!I60,5)+Extrapolation!T63","v":2.6360787317485482E-2},{"$f":"MAX(ROUND(B61*(1-Shocks!F60)-Shocks!G60,5)+Extrapolation!T63, -1.25%)","v":1.1140787317485483E-2},{"$f":"IF(Extrapolation!FSP >= 15, ROUND(B61*(1+Shocks!H60)+Shocks!I60 + Extrapolation!T63, 5), ROUND(B61*(1+Shocks!L60)+Shocks!M60 + Extrapolation!T63,5))","v":2.6360000000000001E-2},{"$f":"IF(Extrapolation!FSP >= 15, ROUND(B61*(1-Shocks!F60)-Shocks!G60+Extrapolation!T63, 5), ROUND(B61*(1-Shocks!J60)-Shocks!K60+Extrapolation!T63, 5))","v":1.1140000000000001E-2}]
[50,1.925135016373658E-2,{"$f":"ROUND(B62*(1+Shocks!H61)+Shocks!I61,5)","v":2.5850000000000001E-2},{"$f":"MAX(ROUND(B62*(1-Shocks!F61)-Shocks!G61,5), -1.25%)","v":1.085E-2},{"$f":"IF(Extrapolation!FSP >= 15, ROUND(B62*(1+Shocks!H61)+Shocks!I61,5), ROUND(B62*(1+Shocks!L61)+Shocks!M61,5))","v":2.5850000000000001E-2},{"$f":"IF(Extrapolation!FSP >= 15, ROUND(B62*(1-Shocks!F61)-Shocks!G61,5),  ROUND(B62*(1-Shocks!J61)-Shocks!K61,5))","v":1.085E-2},null,1.9958498197970576E-2,{"$f":"ROUND(B62*(1+Shocks!H61)+Shocks!I61,5)+Extrapolation!T64","v":2.6557148034233997E-2},{"$f":"MAX(ROUND(B62*(1-Shocks!F61)-Shocks!G61,5)+Extrapolation!T64, -1.25%)","v":1.1557148034233996E-2},{"$f":"IF(Extrapolation!FSP >= 15, ROUND(B62*(1+Shocks!H61)+Shocks!I61 + Extrapolation!T64, 5), ROUND(B62*(1+Shocks!L61)+Shocks!M61 + Extrapolation!T64,5))","v":2.656E-2},{"$f":"IF(Extrapolation!FSP >= 15, ROUND(B62*(1-Shocks!F61)-Shocks!G61+Extrapolation!T64, 5), ROUND(B62*(1-Shocks!J61)-Shocks!K61+Extrapolation!T64, 5))","v":1.1560000000000001E-2}]
[51,1.9605386891520027E-2,{"$f":"ROUND(B63*(1+Shocks!H62)+Shocks!I62,5)","v":2.605E-2},{"$f":"MAX(ROUND(B63*(1-Shocks!F62)-Shocks!G62,5), -1.25%)","v":1.128E-2},{"$f":"IF(Extrapolation!FSP >= 15, ROUND(B63*(1+Shocks!H62)+Shocks!I62,5), ROUND(B63*(1+Shocks!L62)+Shocks!M62,5))","v":2.605E-2},{"$f":"IF(Extrapolation!FSP >= 15, ROUND(B63*(1-Shocks!F62)-Shocks!G62,5),  ROUND(B63*(1-Shocks!J62)-Shocks!K62,5))","v":1.128E-2},null,2.0299374208109899E-2,{"$f":"ROUND(B63*(1+Shocks!H62)+Shocks!I62,5)+Extrapolation!T65","v":2.6743987316589873E-2},{"$f":"MAX(ROUND(B63*(1-Shocks!F62)-Shocks!G62,5)+Extrapolation!T65, -1.25%)","v":1.1973987316589873E-2},{"$f":"IF(Extrapolation!FSP >= 15, ROUND(B63*(1+Shocks!H62)+Shocks!I62 + Extrapolation!T65, 5), ROUND(B63*(1+Shocks!L62)+Shocks!M62 + Extrapolation!T65,5))","v":2.6749999999999999E-2},{"$f":"IF(Extrapolation!FSP >= 15, ROUND(B63*(1-Shocks!F62)-Shocks!G62+Extrapolation!T65, 5), ROUND(B63*(1-Shocks!J62)-Shocks!K62+Extrapolation!T65, 5))","v":1.1979999999999999E-2}]
[52,1.994868260870386E-2,{"$f":"ROUND(B64*(1+Shocks!H63)+Shocks!I63,5)","v":2.6239999999999999E-2},{"$f":"MAX(ROUND(B64*(1-Shocks!F63)-Shocks!G63,5), -1.25%)","v":1.171E-2},{"$f":"IF(Extrapolation!FSP >= 15, ROUND(B64*(1+Shocks!H63)+Shocks!I63,5), ROUND(B64*(1+Shocks!L63)+Shocks!M63,5))","v":2.6239999999999999E-2},{"$f":"IF(Extrapolation!FSP >= 15, ROUND(B64*(1-Shocks!F63)-Shocks!G63,5),  ROUND(B64*(1-Shocks!J63)-Shocks!K63,5))","v":1.171E-2},null,2.0629964924664845E-2,{"$f":"ROUND(B64*(1+Shocks!H63)+Shocks!I63,5)+Extrapolation!T66","v":2.6921282315960984E-2},{"$f":"MAX(ROUND(B64*(1-Shocks!F63)-Shocks!G63,5)+Extrapolation!T66, -1.25%)","v":1.2391282315960985E-2},{"$f":"IF(Extrapolation!FSP >= 15, ROUND(B64*(1+Shocks!H63)+Shocks!I63 + Extrapolation!T66, 5), ROUND(B64*(1+Shocks!L63)+Shocks!M63 + Extrapolation!T66,5))","v":2.6919999999999999E-2},{"$f":"IF(Extrapolation!FSP >= 15, ROUND(B64*(1-Shocks!F63)-Shocks!G63+Extrapolation!T66, 5), ROUND(B64*(1-Shocks!J63)-Shocks!K63+Extrapolation!T66, 5))","v":1.239E-2}]
[53,2.0281583764004241E-2,{"$f":"ROUND(B65*(1+Shocks!H64)+Shocks!I64,5)","v":2.6409999999999999E-2},{"$f":"MAX(ROUND(B65*(1-Shocks!F64)-Shocks!G64,5), -1.25%)","v":1.213E-2},{"$f":"IF(Extrapolation!FSP >= 15, ROUND(B65*(1+Shocks!H64)+Shocks!I64,5), ROUND(B65*(1+Shocks!L64)+Shocks!M64,5))","v":2.6409999999999999E-2},{"$f":"IF(Extrapolation!FSP >= 15, ROUND(B65*(1-Shocks!F64)-Shocks!G64,5),  ROUND(B65*(1-Shocks!J64)-Shocks!K64,5))","v":1.213E-2},null,2.0950595252715365E-2,{"$f":"ROUND(B65*(1+Shocks!H64)+Shocks!I64,5)+Extrapolation!T67","v":2.7079011488711124E-2},{"$f":"MAX(ROUND(B65*(1-Shocks!F64)-Shocks!G64,5)+Extrapolation!T67, -1.25%)","v":1.2799011488711124E-2},{"$f":"IF(Extrapolation!FSP >= 15, ROUND(B65*(1+Shocks!H64)+Shocks!I64 + Extrapolation!T67, 5), ROUND(B65*(1+Shocks!L64)+Shocks!M64 + Extrapolation!T67,5))","v":2.708E-2},{"$f":"IF(Extrapolation!FSP >= 15, ROUND(B65*(1-Shocks!F64)-Shocks!G64+Extrapolation!T67, 5), ROUND(B65*(1-Shocks!J64)-Shocks!K64+Extrapolation!T67, 5))","v":1.2800000000000001E-2}]
[54,2.0604435199319759E-2,{"$f":"ROUND(B66*(1+Shocks!H65)+Shocks!I65,5)","v":2.6579999999999999E-2},{"$f":"MAX(ROUND(B66*(1-Shocks!F65)-Shocks!G65,5), -1.25%)","v":1.255E-2},{"$f":"IF(Extrapolation!FSP >= 15, ROUND(B66*(1+Shocks!H65)+Shocks!I65,5), ROUND(B66*(1+Shocks!L65)+Shocks!M65,5))","v":2.6579999999999999E-2},{"$f":"IF(Extrapolation!FSP >= 15, ROUND(B66*(1-Shocks!F65)-Shocks!G65,5),  ROUND(B66*(1-Shocks!J65)-Shocks!K65,5))","v":1.255E-2},null,2.1261589711886186E-2,{"$f":"ROUND(B66*(1+Shocks!H65)+Shocks!I65,5)+Extrapolation!T68","v":2.7237154512566426E-2},{"$f":"MAX(ROUND(B66*(1-Shocks!F65)-Shocks!G65,5)+Extrapolation!T68, -1.25%)","v":1.3207154512566427E-2},{"$f":"IF(Extrapolation!FSP >= 15, ROUND(B66*(1+Shocks!H65)+Shocks!I65 + Extrapolation!T68, 5), ROUND(B66*(1+Shocks!L65)+Shocks!M65 + Extrapolation!T68,5))","v":2.7230000000000001E-2},{"$f":"IF(Extrapolation!FSP >= 15, ROUND(B66*(1-Shocks!F65)-Shocks!G65+Extrapolation!T68, 5), ROUND(B66*(1-Shocks!J65)-Shocks!K65+Extrapolation!T68, 5))","v":1.321E-2}]
[55,2.0917578078088139E-2,{"$f":"ROUND(B67*(1+Shocks!H66)+Shocks!I66,5)","v":2.6720000000000001E-2},{"$f":"MAX(ROUND(B67*(1-Shocks!F66)-Shocks!G66,5), -1.25%)","v":1.2970000000000001E-2},{"$f":"IF(Extrapolation!FSP >= 15, ROUND(B67*(1+Shocks!H66)+Shocks!I66,5), ROUND(B67*(1+Shocks!L66)+Shocks!M66,5))","v":2.6720000000000001E-2},{"$f":"IF(Extrapolation!FSP >= 15, ROUND(B67*(1-Shocks!F66)-Shocks!G66,5),  ROUND(B67*(1-Shocks!J66)-Shocks!K66,5))","v":1.2970000000000001E-2},null,2.1563270286951708E-2,{"$f":"ROUND(B67*(1+Shocks!H66)+Shocks!I66,5)+Extrapolation!T69","v":2.7365692208863569E-2},{"$f":"MAX(ROUND(B67*(1-Shocks!F66)-Shocks!G66,5)+Extrapolation!T69, -1.25%)","v":1.3615692208863569E-2},{"$f":"IF(Extrapolation!FSP >= 15, ROUND(B67*(1+Shocks!H66)+Shocks!I66 + Extrapolation!T69, 5), ROUND(B67*(1+Shocks!L66)+Shocks!M66 + Extrapolation!T69,5))","v":2.7369999999999998E-2},{"$f":"IF(Extrapolation!FSP >= 15, ROUND(B67*(1-Shocks!F66)-Shocks!G66+Extrapolation!T69, 5), ROUND(B67*(1-Shocks!J66)-Shocks!K66+Extrapolation!T69, 5))","v":1.362E-2}]
[56,2.122134823979116E-2,{"$f":"ROUND(B68*(1+Shocks!H67)+Shocks!I67,5)","v":2.6859999999999998E-2},{"$f":"MAX(ROUND(B68*(1-Shocks!F67)-Shocks!G67,5), -1.25%)","v":1.338E-2},{"$f":"IF(Extrapolation!FSP >= 15, ROUND(B68*(1+Shocks!H67)+Shocks!I67,5), ROUND(B68*(1+Shocks!L67)+Shocks!M67,5))","v":2.6859999999999998E-2},{"$f":"IF(Extrapolation!FSP >= 15, ROUND(B68*(1-Shocks!F67)-Shocks!G67,5),  ROUND(B68*(1-Shocks!J67)-Shocks!K67,5))","v":1.338E-2},null,2.1855954709986358E-2,{"$f":"ROUND(B68*(1+Shocks!H67)+Shocks!I67,5)+Extrapolation!T70","v":2.7494606470195197E-2},{"$f":"MAX(ROUND(B68*(1-Shocks!F67)-Shocks!G67,5)+Extrapolation!T70, -1.25%)","v":1.4014606470195198E-2},{"$f":"IF(Extrapolation!FSP >= 15, ROUND(B68*(1+Shocks!H67)+Shocks!I67 + Extrapolation!T70, 5), ROUND(B68*(1+Shocks!L67)+Shocks!M67 + Extrapolation!T70,5))","v":2.75E-2},{"$f":"IF(Extrapolation!FSP >= 15, ROUND(B68*(1-Shocks!F67)-Shocks!G67+Extrapolation!T70, 5), ROUND(B68*(1-Shocks!J67)-Shocks!K67+Extrapolation!T70, 5))","v":1.4019999999999999E-2}]
[57,2.1516074909538441E-2,{"$f":"ROUND(B69*(1+Shocks!H68)+Shocks!I68,5)","v":2.699E-2},{"$f":"MAX(ROUND(B69*(1-Shocks!F68)-Shocks!G68,5), -1.25%)","v":1.379E-2},{"$f":"IF(Extrapolation!FSP >= 15, ROUND(B69*(1+Shocks!H68)+Shocks!I68,5), ROUND(B69*(1+Shocks!L68)+Shocks!M68,5))","v":2.699E-2},{"$f":"IF(Extrapolation!FSP >= 15, ROUND(B69*(1-Shocks!F68)-Shocks!G68,5),  ROUND(B69*(1-Shocks!J68)-Shocks!K68,5))","v":1.379E-2},null,2.2139955102575604E-2,{"$f":"ROUND(B69*(1+Shocks!H68)+Shocks!I68,5)+Extrapolation!T71","v":2.7613880193037163E-2},{"$f":"MAX(ROUND(B69*(1-Shocks!F68)-Shocks!G68,5)+Extrapolation!T71, -1.25%)","v":1.4413880193037163E-2},{"$f":"IF(Extrapolation!FSP >= 15, ROUND(B69*(1+Shocks!H68)+Shocks!I68 + Extrapolation!T71, 5), ROUND(B69*(1+Shocks!L68)+Shocks!M68 + Extrapolation!T71,5))","v":2.7609999999999999E-2},{"$f":"IF(Extrapolation!FSP >= 15, ROUND(B69*(1-Shocks!F68)-Shocks!G68+Extrapolation!T71, 5), ROUND(B69*(1-Shocks!J68)-Shocks!K68+Extrapolation!T71, 5))","v":1.4420000000000001E-2}]
[58,2.1802079703175492E-2,{"$f":"ROUND(B70*(1+Shocks!H69)+Shocks!I69,5)","v":2.7099999999999999E-2},{"$f":"MAX(ROUND(B70*(1-Shocks!F69)-Shocks!G69,5), -1.25%)","v":1.4200000000000001E-2},{"$f":"IF(Extrapolation!FSP >= 15, ROUND(B70*(1+Shocks!H69)+Shocks!I69,5), ROUND(B70*(1+Shocks!L69)+Shocks!M69,5))","v":2.7099999999999999E-2},{"$f":"IF(Extrapolation!FSP >= 15, ROUND(B70*(1-Shocks!F69)-Shocks!G69,5),  ROUND(B70*(1-Shocks!J69)-Shocks!K69,5))","v":1.4200000000000001E-2},null,2.2415576918165314E-2,{"$f":"ROUND(B70*(1+Shocks!H69)+Shocks!I69,5)+Extrapolation!T72","v":2.7713497214989821E-2},{"$f":"MAX(ROUND(B70*(1-Shocks!F69)-Shocks!G69,5)+Extrapolation!T72, -1.25%)","v":1.4813497214989823E-2},{"$f":"IF(Extrapolation!FSP >= 15, ROUND(B70*(1+Shocks!H69)+Shocks!I69 + Extrapolation!T72, 5), ROUND(B70*(1+Shocks!L69)+Shocks!M69 + Extrapolation!T72,5))","v":2.7709999999999999E-2},{"$f":"IF(Extrapolation!FSP >= 15, ROUND(B70*(1-Shocks!F69)-Shocks!G69+Extrapolation!T72, 5), ROUND(B70*(1-Shocks!J69)-Shocks!K69+Extrapolation!T72, 5))","v":1.482E-2}]
[59,2.207967587796178E-2,{"$f":"ROUND(B71*(1+Shocks!H70)+Shocks!I70,5)","v":2.7199999999999998E-2},{"$f":"MAX(ROUND(B71*(1-Shocks!F70)-Shocks!G70,5), -1.25%)","v":1.461E-2},{"$f":"IF(Extrapolation!FSP >= 15, ROUND(B71*(1+Shocks!H70)+Shocks!I70,5), ROUND(B71*(1+Shocks!L70)+Shocks!M70,5))","v":2.7199999999999998E-2},{"$f":"IF(Extrapolation!FSP >= 15, ROUND(B71*(1-Shocks!F70)-Shocks!G70,5),  ROUND(B71*(1-Shocks!J70)-Shocks!K70,5))","v":1.461E-2},null,2.268311813424817E-2,{"$f":"ROUND(B71*(1+Shocks!H70)+Shocks!I70,5)+Extrapolation!T73","v":2.7803442256286389E-2},{"$f":"MAX(ROUND(B71*(1-Shocks!F70)-Shocks!G70,5)+Extrapolation!T73, -1.25%)","v":1.521344225628639E-2},{"$f":"IF(Extrapolation!FSP >= 15, ROUND(B71*(1+Shocks!H70)+Shocks!I70 + Extrapolation!T73, 5), ROUND(B71*(1+Shocks!L70)+Shocks!M70 + Extrapolation!T73,5))","v":2.7810000000000001E-2},{"$f":"IF(Extrapolation!FSP >= 15, ROUND(B71*(1-Shocks!F70)-Shocks!G70+Extrapolation!T73, 5), ROUND(B71*(1-Shocks!J70)-Shocks!K70+Extrapolation!T73, 5))","v":1.521E-2}]
[60,2.2349167786886559E-2,{"$f":"ROUND(B72*(1+Shocks!H71)+Shocks!I71,5)","v":2.7300000000000001E-2},{"$f":"MAX(ROUND(B72*(1-Shocks!F71)-Shocks!G71,5), -1.25%)","v":1.5010000000000001E-2},{"$f":"IF(Extrapolation!FSP >= 15, ROUND(B72*(1+Shocks!H71)+Shocks!I71,5), ROUND(B72*(1+Shocks!L71)+Shocks!M71,5))","v":2.7300000000000001E-2},{"$f":"IF(Extrapolation!FSP >= 15, ROUND(B72*(1-Shocks!F71)-Shocks!G71,5),  ROUND(B72*(1-Shocks!J71)-Shocks!K71,5))","v":1.5010000000000001E-2},null,2.2942868652145787E-2,{"$f":"ROUND(B72*(1+Shocks!H71)+Shocks!I71,5)+Extrapolation!T74","v":2.7893700865259229E-2},{"$f":"MAX(ROUND(B72*(1-Shocks!F71)-Shocks!G71,5)+Extrapolation!T74, -1.25%)","v":1.5603700865259229E-2},{"$f":"IF(Extrapolation!FSP >= 15, ROUND(B72*(1+Shocks!H71)+Shocks!I71 + Extrapolation!T74, 5), ROUND(B72*(1+Shocks!L71)+Shocks!M71 + Extrapolation!T74,5))","v":2.7890000000000002E-2},{"$f":"IF(Extrapolation!FSP >= 15, ROUND(B72*(1-Shocks!F71)-Shocks!G71+Extrapolation!T74, 5), ROUND(B72*(1-Shocks!J71)-Shocks!K71+Extrapolation!T74, 5))","v":1.5599999999999999E-2}]
[61,2.2610850501407098E-2,{"$f":"ROUND(B73*(1+Shocks!H72)+Shocks!I72,5)","v":2.76E-2},{"$f":"MAX(ROUND(B73*(1-Shocks!F72)-Shocks!G72,5), -1.25%)","v":1.528E-2},{"$f":"IF(Extrapolation!FSP >= 15, ROUND(B73*(1+Shocks!H72)+Shocks!I72,5), ROUND(B73*(1+Shocks!L72)+Shocks!M72,5))","v":2.76E-2},{"$f":"IF(Extrapolation!FSP >= 15, ROUND(B73*(1-Shocks!F72)-Shocks!G72,5),  ROUND(B73*(1-Shocks!J72)-Shocks!K72,5))","v":1.528E-2},null,2.3195109868880293E-2,{"$f":"ROUND(B73*(1+Shocks!H72)+Shocks!I72,5)+Extrapolation!T75","v":2.8184259367473194E-2},{"$f":"MAX(ROUND(B73*(1-Shocks!F72)-Shocks!G72,5)+Extrapolation!T75, -1.25%)","v":1.5864259367473196E-2},{"$f":"IF(Extrapolation!FSP >= 15, ROUND(B73*(1+Shocks!H72)+Shocks!I72 + Extrapolation!T75, 5), ROUND(B73*(1+Shocks!L72)+Shocks!M72 + Extrapolation!T75,5))","v":2.819E-2},{"$f":"IF(Extrapolation!FSP >= 15, ROUND(B73*(1-Shocks!F72)-Shocks!G72+Extrapolation!T75, 5), ROUND(B73*(1-Shocks!J72)-Shocks!K72+Extrapolation!T75, 5))","v":1.5859999999999999E-2}]
[62,2.2865009573022288E-2,{"$f":"ROUND(B74*(1+Shocks!H73)+Shocks!I73,5)","v":2.7900000000000001E-2},{"$f":"MAX(ROUND(B74*(1-Shocks!F73)-Shocks!G73,5), -1.25%)","v":1.555E-2},{"$f":"IF(Extrapolation!FSP >= 15, ROUND(B74*(1+Shocks!H73)+Shocks!I73,5), ROUND(B74*(1+Shocks!L73)+Shocks!M73,5))","v":2.7900000000000001E-2},{"$f":"IF(Extrapolation!FSP >= 15, ROUND(B74*(1-Shocks!F73)-Shocks!G73,5),  ROUND(B74*(1-Shocks!J73)-Shocks!K73,5))","v":1.555E-2},null,2.344011439128435E-2,{"$f":"ROUND(B74*(1+Shocks!H73)+Shocks!I73,5)+Extrapolation!T76","v":2.8475104818262063E-2},{"$f":"MAX(ROUND(B74*(1-Shocks!F73)-Shocks!G73,5)+Extrapolation!T76, -1.25%)","v":1.6125104818262063E-2},{"$f":"IF(Extrapolation!FSP >= 15, ROUND(B74*(1+Shocks!H73)+Shocks!I73 + Extrapolation!T76, 5), ROUND(B74*(1+Shocks!L73)+Shocks!M73 + Extrapolation!T76,5))","v":2.8469999999999999E-2},{"$f":"IF(Extrapolation!FSP >= 15, ROUND(B74*(1-Shocks!F73)-Shocks!G73+Extrapolation!T76, 5), ROUND(B74*(1-Shocks!J73)-Shocks!K73+Extrapolation!T76, 5))","v":1.6119999999999999E-2}]
[63,2.3111920908820416E-2,{"$f":"ROUND(B75*(1+Shocks!H74)+Shocks!I74,5)","v":2.818E-2},{"$f":"MAX(ROUND(B75*(1-Shocks!F74)-Shocks!G74,5), -1.25%)","v":1.5820000000000001E-2},{"$f":"IF(Extrapolation!FSP >= 15, ROUND(B75*(1+Shocks!H74)+Shocks!I74,5), ROUND(B75*(1+Shocks!L74)+Shocks!M74,5))","v":2.818E-2},{"$f":"IF(Extrapolation!FSP >= 15, ROUND(B75*(1-Shocks!F74)-Shocks!G74,5),  ROUND(B75*(1-Shocks!J74)-Shocks!K74,5))","v":1.5820000000000001E-2},null,2.3678145867244815E-2,{"$f":"ROUND(B75*(1+Shocks!H74)+Shocks!I74,5)+Extrapolation!T77","v":2.87462249584244E-2},{"$f":"MAX(ROUND(B75*(1-Shocks!F74)-Shocks!G74,5)+Extrapolation!T77, -1.25%)","v":1.63862249584244E-2},{"$f":"IF(Extrapolation!FSP >= 15, ROUND(B75*(1+Shocks!H74)+Shocks!I74 + Extrapolation!T77, 5), ROUND(B75*(1+Shocks!L74)+Shocks!M74 + Extrapolation!T77,5))","v":2.8750000000000001E-2},{"$f":"IF(Extrapolation!FSP >= 15, ROUND(B75*(1-Shocks!F74)-Shocks!G74+Extrapolation!T77, 5), ROUND(B75*(1-Shocks!J74)-Shocks!K74+Extrapolation!T77, 5))","v":1.6379999999999999E-2}]
[64,2.3351850740113589E-2,{"$f":"ROUND(B76*(1+Shocks!H75)+Shocks!I75,5)","v":2.8459999999999999E-2},{"$f":"MAX(ROUND(B76*(1-Shocks!F75)-Shocks!G75,5), -1.25%)","v":1.6080000000000001E-2},{"$f":"IF(Extrapolation!FSP >= 15, ROUND(B76*(1+Shocks!H75)+Shocks!I75,5), ROUND(B76*(1+Shocks!L75)+Shocks!M75,5))","v":2.8459999999999999E-2},{"$f":"IF(Extrapolation!FSP >= 15, ROUND(B76*(1-Shocks!F75)-Shocks!G75,5),  ROUND(B76*(1-Shocks!J75)-Shocks!K75,5))","v":1.6080000000000001E-2},null,2.3909458912968251E-2,{"$f":"ROUND(B76*(1+Shocks!H75)+Shocks!I75,5)+Extrapolation!T78","v":2.9017608172854661E-2},{"$f":"MAX(ROUND(B76*(1-Shocks!F75)-Shocks!G75,5)+Extrapolation!T78, -1.25%)","v":1.6637608172854663E-2},{"$f":"IF(Extrapolation!FSP >= 15, ROUND(B76*(1+Shocks!H75)+Shocks!I75 + Extrapolation!T78, 5), ROUND(B76*(1+Shocks!L75)+Shocks!M75 + Extrapolation!T78,5))","v":2.9010000000000001E-2},{"$f":"IF(Extrapolation!FSP >= 15, ROUND(B76*(1-Shocks!F75)-Shocks!G75+Extrapolation!T78, 5), ROUND(B76*(1-Shocks!J75)-Shocks!K75+Extrapolation!T78, 5))","v":1.6639999999999999E-2}]
[65,2.3585055666619725E-2,{"$f":"ROUND(B77*(1+Shocks!H76)+Shocks!I76,5)","v":2.8719999999999999E-2},{"$f":"MAX(ROUND(B77*(1-Shocks!F76)-Shocks!G76,5), -1.25%)","v":1.634E-2},{"$f":"IF(Extrapolation!FSP >= 15, ROUND(B77*(1+Shocks!H76)+Shocks!I76,5), ROUND(B77*(1+Shocks!L76)+Shocks!M76,5))","v":2.8719999999999999E-2},{"$f":"IF(Extrapolation!FSP >= 15, ROUND(B77*(1-Shocks!F76)-Shocks!G76,5),  ROUND(B77*(1-Shocks!J76)-Shocks!K76,5))","v":1.634E-2},null,2.4134299118516944E-2,{"$f":"ROUND(B77*(1+Shocks!H76)+Shocks!I76,5)+Extrapolation!T79","v":2.9269243451897218E-2},{"$f":"MAX(ROUND(B77*(1-Shocks!F76)-Shocks!G76,5)+Extrapolation!T79, -1.25%)","v":1.6889243451897219E-2},{"$f":"IF(Extrapolation!FSP >= 15, ROUND(B77*(1+Shocks!H76)+Shocks!I76 + Extrapolation!T79, 5), ROUND(B77*(1+Shocks!L76)+Shocks!M76 + Extrapolation!T79,5))","v":2.9270000000000001E-2},{"$f":"IF(Extrapolation!FSP >= 15, ROUND(B77*(1-Shocks!F76)-Shocks!G76+Extrapolation!T79, 5), ROUND(B77*(1-Shocks!J76)-Shocks!K76+Extrapolation!T79, 5))","v":1.6889999999999999E-2}]
[66,2.3811782761461231E-2,{"$f":"ROUND(B78*(1+Shocks!H77)+Shocks!I77,5)","v":2.8979999999999999E-2},{"$f":"MAX(ROUND(B78*(1-Shocks!F77)-Shocks!G77,5), -1.25%)","v":1.66E-2},{"$f":"IF(Extrapolation!FSP >= 15, ROUND(B78*(1+Shocks!H77)+Shocks!I77,5), ROUND(B78*(1+Shocks!L77)+Shocks!M77,5))","v":2.8979999999999999E-2},{"$f":"IF(Extrapolation!FSP >= 15, ROUND(B78*(1-Shocks!F77)-Shocks!G77,5),  ROUND(B78*(1-Shocks!J77)-Shocks!K77,5))","v":1.66E-2},null,2.4352903116700464E-2,{"$f":"ROUND(B78*(1+Shocks!H77)+Shocks!I77,5)+Extrapolation!T80","v":2.9521120355239232E-2},{"$f":"MAX(ROUND(B78*(1-Shocks!F77)-Shocks!G77,5)+Extrapolation!T80, -1.25%)","v":1.7141120355239233E-2},{"$f":"IF(Extrapolation!FSP >= 15, ROUND(B78*(1+Shocks!H77)+Shocks!I77 + Extrapolation!T80, 5), ROUND(B78*(1+Shocks!L77)+Shocks!M77 + Extrapolation!T80,5))","v":2.9520000000000001E-2},{"$f":"IF(Extrapolation!FSP >= 15, ROUND(B78*(1-Shocks!F77)-Shocks!G77+Extrapolation!T80, 5), ROUND(B78*(1-Shocks!J77)-Shocks!K77+Extrapolation!T80, 5))","v":1.7139999999999999E-2}]
[67,2.4032269724636679E-2,{"$f":"ROUND(B79*(1+Shocks!H78)+Shocks!I78,5)","v":2.9229999999999999E-2},{"$f":"MAX(ROUND(B79*(1-Shocks!F78)-Shocks!G78,5), -1.25%)","v":1.686E-2},{"$f":"IF(Extrapolation!FSP >= 15, ROUND(B79*(1+Shocks!H78)+Shocks!I78,5), ROUND(B79*(1+Shocks!L78)+Shocks!M78,5))","v":2.9229999999999999E-2},{"$f":"IF(Extrapolation!FSP >= 15, ROUND(B79*(1-Shocks!F78)-Shocks!G78,5),  ROUND(B79*(1-Shocks!J78)-Shocks!K78,5))","v":1.686E-2},null,2.4565498702793898E-2,{"$f":"ROUND(B79*(1+Shocks!H78)+Shocks!I78,5)+Extrapolation!T81","v":2.9763228978157218E-2},{"$f":"MAX(ROUND(B79*(1-Shocks!F78)-Shocks!G78,5)+Extrapolation!T81, -1.25%)","v":1.7393228978157219E-2},{"$f":"IF(Extrapolation!FSP >= 15, ROUND(B79*(1+Shocks!H78)+Shocks!I78 + Extrapolation!T81, 5), ROUND(B79*(1+Shocks!L78)+Shocks!M78 + Extrapolation!T81,5))","v":2.9770000000000001E-2},{"$f":"IF(Extrapolation!FSP >= 15, ROUND(B79*(1-Shocks!F78)-Shocks!G78+Extrapolation!T81, 5), ROUND(B79*(1-Shocks!J78)-Shocks!K78+Extrapolation!T81, 5))","v":1.7389999999999999E-2}]
[68,2.4246745074617548E-2,{"$f":"ROUND(B80*(1+Shocks!H79)+Shocks!I79,5)","v":2.9479999999999999E-2},{"$f":"MAX(ROUND(B80*(1-Shocks!F79)-Shocks!G79,5), -1.25%)","v":1.711E-2},{"$f":"IF(Extrapolation!FSP >= 15, ROUND(B80*(1+Shocks!H79)+Shocks!I79,5), ROUND(B80*(1+Shocks!L79)+Shocks!M79,5))","v":2.9479999999999999E-2},{"$f":"IF(Extrapolation!FSP >= 15, ROUND(B80*(1-Shocks!F79)-Shocks!G79,5),  ROUND(B80*(1-Shocks!J79)-Shocks!K79,5))","v":1.711E-2},null,2.4772304994575167E-2,{"$f":"ROUND(B80*(1+Shocks!H79)+Shocks!I79,5)+Extrapolation!T82","v":3.0005559919957618E-2},{"$f":"MAX(ROUND(B80*(1-Shocks!F79)-Shocks!G79,5)+Extrapolation!T82, -1.25%)","v":1.7635559919957619E-2},{"$f":"IF(Extrapolation!FSP >= 15, ROUND(B80*(1+Shocks!H79)+Shocks!I79 + Extrapolation!T82, 5), ROUND(B80*(1+Shocks!L79)+Shocks!M79 + Extrapolation!T82,5))","v":0.03},{"$f":"IF(Extrapolation!FSP >= 15, ROUND(B80*(1-Shocks!F79)-Shocks!G79+Extrapolation!T82, 5), ROUND(B80*(1-Shocks!J79)-Shocks!K79+Extrapolation!T82, 5))","v":1.7639999999999999E-2}]
[69,2.4455428369422494E-2,{"$f":"ROUND(B81*(1+Shocks!H80)+Shocks!I80,5)","v":2.971E-2},{"$f":"MAX(ROUND(B81*(1-Shocks!F80)-Shocks!G80,5), -1.25%)","v":1.736E-2},{"$f":"IF(Extrapolation!FSP >= 15, ROUND(B81*(1+Shocks!H80)+Shocks!I80,5), ROUND(B81*(1+Shocks!L80)+Shocks!M80,5))","v":2.971E-2},{"$f":"IF(Extrapolation!FSP >= 15, ROUND(B81*(1-Shocks!F80)-Shocks!G80,5),  ROUND(B81*(1-Shocks!J80)-Shocks!K80,5))","v":1.736E-2},null,2.4973532623879802E-2,{"$f":"ROUND(B81*(1+Shocks!H80)+Shocks!I80,5)+Extrapolation!T83","v":3.0228104254457308E-2},{"$f":"MAX(ROUND(B81*(1-Shocks!F80)-Shocks!G80,5)+Extrapolation!T83, -1.25%)","v":1.7878104254457308E-2},{"$f":"IF(Extrapolation!FSP >= 15, ROUND(B81*(1+Shocks!H80)+Shocks!I80 + Extrapolation!T83, 5), ROUND(B81*(1+Shocks!L80)+Shocks!M80 + Extrapolation!T83,5))","v":3.023E-2},{"$f":"IF(Extrapolation!FSP >= 15, ROUND(B81*(1-Shocks!F80)-Shocks!G80+Extrapolation!T83, 5), ROUND(B81*(1-Shocks!J80)-Shocks!K80+Extrapolation!T83, 5))","v":1.788E-2}]
[70,2.465853044994426E-2,{"$f":"ROUND(B82*(1+Shocks!H81)+Shocks!I81,5)","v":2.9940000000000001E-2},{"$f":"MAX(ROUND(B82*(1-Shocks!F81)-Shocks!G81,5), -1.25%)","v":1.7610000000000001E-2},{"$f":"IF(Extrapolation!FSP >= 15, ROUND(B82*(1+Shocks!H81)+Shocks!I81,5), ROUND(B82*(1+Shocks!L81)+Shocks!M81,5))","v":2.9940000000000001E-2},{"$f":"IF(Extrapolation!FSP >= 15, ROUND(B82*(1-Shocks!F81)-Shocks!G81,5),  ROUND(B82*(1-Shocks!J81)-Shocks!K81,5))","v":1.7610000000000001E-2},null,2.5169383952309055E-2,{"$f":"ROUND(B82*(1+Shocks!H81)+Shocks!I81,5)+Extrapolation!T84","v":3.0450853502364796E-2},{"$f":"MAX(ROUND(B82*(1-Shocks!F81)-Shocks!G81,5)+Extrapolation!T84, -1.25%)","v":1.8120853502364795E-2},{"$f":"IF(Extrapolation!FSP >= 15, ROUND(B82*(1+Shocks!H81)+Shocks!I81 + Extrapolation!T84, 5), ROUND(B82*(1+Shocks!L81)+Shocks!M81 + Extrapolation!T84,5))","v":3.0450000000000001E-2},{"$f":"IF(Extrapolation!FSP >= 15, ROUND(B82*(1-Shocks!F81)-Shocks!G81+Extrapolation!T84, 5), ROUND(B82*(1-Shocks!J81)-Shocks!K81+Extrapolation!T84, 5))","v":1.8120000000000001E-2}]
[71,2.485625369952027E-2,{"$f":"ROUND(B83*(1+Shocks!H82)+Shocks!I82,5)","v":3.0159999999999999E-2},{"$f":"MAX(ROUND(B83*(1-Shocks!F82)-Shocks!G82,5), -1.25%)","v":1.7860000000000001E-2},{"$f":"IF(Extrapolation!FSP >= 15, ROUND(B83*(1+Shocks!H82)+Shocks!I82,5), ROUND(B83*(1+Shocks!L82)+Shocks!M82,5))","v":3.0159999999999999E-2},{"$f":"IF(Extrapolation!FSP >= 15, ROUND(B83*(1-Shocks!F82)-Shocks!G82,5),  ROUND(B83*(1-Shocks!J82)-Shocks!K82,5))","v":1.7860000000000001E-2},null,2.536005330494806E-2,{"$f":"ROUND(B83*(1+Shocks!H82)+Shocks!I82,5)+Extrapolation!T85","v":3.066379960542779E-2},{"$f":"MAX(ROUND(B83*(1-Shocks!F82)-Shocks!G82,5)+Extrapolation!T85, -1.25%)","v":1.8363799605427791E-2},{"$f":"IF(Extrapolation!FSP >= 15, ROUND(B83*(1+Shocks!H82)+Shocks!I82 + Extrapolation!T85, 5), ROUND(B83*(1+Shocks!L82)+Shocks!M82 + Extrapolation!T85,5))","v":3.0669999999999999E-2},{"$f":"IF(Extrapolation!FSP >= 15, ROUND(B83*(1-Shocks!F82)-Shocks!G82+Extrapolation!T85, 5), ROUND(B83*(1-Shocks!J82)-Shocks!K82+Extrapolation!T85, 5))","v":1.8360000000000001E-2}]
[72,2.5048792314750878E-2,{"$f":"ROUND(B84*(1+Shocks!H83)+Shocks!I83,5)","v":3.0380000000000001E-2},{"$f":"MAX(ROUND(B84*(1-Shocks!F83)-Shocks!G83,5), -1.25%)","v":1.8110000000000001E-2},{"$f":"IF(Extrapolation!FSP >= 15, ROUND(B84*(1+Shocks!H83)+Shocks!I83,5), ROUND(B84*(1+Shocks!L83)+Shocks!M83,5))","v":3.0380000000000001E-2},{"$f":"IF(Extrapolation!FSP >= 15, ROUND(B84*(1-Shocks!F83)-Shocks!G83,5),  ROUND(B84*(1-Shocks!J83)-Shocks!K83,5))","v":1.8110000000000001E-2},null,2.5545727216983671E-2,{"$f":"ROUND(B84*(1+Shocks!H83)+Shocks!I83,5)+Extrapolation!T86","v":3.0876934902232794E-2},{"$f":"MAX(ROUND(B84*(1-Shocks!F83)-Shocks!G83,5)+Extrapolation!T86, -1.25%)","v":1.8606934902232794E-2},{"$f":"IF(Extrapolation!FSP >= 15, ROUND(B84*(1+Shocks!H83)+Shocks!I83 + Extrapolation!T86, 5), ROUND(B84*(1+Shocks!L83)+Shocks!M83 + Extrapolation!T86,5))","v":3.0880000000000001E-2},{"$f":"IF(Extrapolation!FSP >= 15, ROUND(B84*(1-Shocks!F83)-Shocks!G83+Extrapolation!T86, 5), ROUND(B84*(1-Shocks!J83)-Shocks!K83+Extrapolation!T86, 5))","v":1.8599999999999998E-2}]
[73,2.5236332583440824E-2,{"$f":"ROUND(B85*(1+Shocks!H84)+Shocks!I84,5)","v":3.0589999999999999E-2},{"$f":"MAX(ROUND(B85*(1-Shocks!F84)-Shocks!G84,5), -1.25%)","v":1.8350000000000002E-2},{"$f":"IF(Extrapolation!FSP >= 15, ROUND(B85*(1+Shocks!H84)+Shocks!I84,5), ROUND(B85*(1+Shocks!L84)+Shocks!M84,5))","v":3.0589999999999999E-2},{"$f":"IF(Extrapolation!FSP >= 15, ROUND(B85*(1-Shocks!F84)-Shocks!G84,5),  ROUND(B85*(1-Shocks!J84)-Shocks!K84,5))","v":1.8350000000000002E-2},null,2.572658468897604E-2,{"$f":"ROUND(B85*(1+Shocks!H84)+Shocks!I84,5)+Extrapolation!T87","v":3.1080252105535215E-2},{"$f":"MAX(ROUND(B85*(1-Shocks!F84)-Shocks!G84,5)+Extrapolation!T87, -1.25%)","v":1.8840252105535218E-2},{"$f":"IF(Extrapolation!FSP >= 15, ROUND(B85*(1+Shocks!H84)+Shocks!I84 + Extrapolation!T87, 5), ROUND(B85*(1+Shocks!L84)+Shocks!M84 + Extrapolation!T87,5))","v":3.108E-2},{"$f":"IF(Extrapolation!FSP >= 15, ROUND(B85*(1-Shocks!F84)-Shocks!G84+Extrapolation!T87, 5), ROUND(B85*(1-Shocks!J84)-Shocks!K84+Extrapolation!T87, 5))","v":1.8839999999999999E-2}]
[74,2.541905316625992E-2,{"$f":"ROUND(B86*(1+Shocks!H85)+Shocks!I85,5)","v":3.0790000000000001E-2},{"$f":"MAX(ROUND(B86*(1-Shocks!F85)-Shocks!G85,5), -1.25%)","v":1.8589999999999999E-2},{"$f":"IF(Extrapolation!FSP >= 15, ROUND(B86*(1+Shocks!H85)+Shocks!I85,5), ROUND(B86*(1+Shocks!L85)+Shocks!M85,5))","v":3.0790000000000001E-2},{"$f":"IF(Extrapolation!FSP >= 15, ROUND(B86*(1-Shocks!F85)-Shocks!G85,5),  ROUND(B86*(1-Shocks!J85)-Shocks!K85,5))","v":1.8589999999999999E-2},null,2.5902797447284298E-2,{"$f":"ROUND(B86*(1+Shocks!H85)+Shocks!I85,5)+Extrapolation!T88","v":3.1273744281024377E-2},{"$f":"MAX(ROUND(B86*(1-Shocks!F85)-Shocks!G85,5)+Extrapolation!T88, -1.25%)","v":1.9073744281024377E-2},{"$f":"IF(Extrapolation!FSP >= 15, ROUND(B86*(1+Shocks!H85)+Shocks!I85 + Extrapolation!T88, 5), ROUND(B86*(1+Shocks!L85)+Shocks!M85 + Extrapolation!T88,5))","v":3.1280000000000002E-2},{"$f":"IF(Extrapolation!FSP >= 15, ROUND(B86*(1-Shocks!F85)-Shocks!G85+Extrapolation!T88, 5), ROUND(B86*(1-Shocks!J85)-Shocks!K85+Extrapolation!T88, 5))","v":1.908E-2}]
[75,2.5597125379337671E-2,{"$f":"ROUND(B87*(1+Shocks!H86)+Shocks!I86,5)","v":3.099E-2},{"$f":"MAX(ROUND(B87*(1-Shocks!F86)-Shocks!G86,5), -1.25%)","v":1.883E-2},{"$f":"IF(Extrapolation!FSP >= 15, ROUND(B87*(1+Shocks!H86)+Shocks!I86,5), ROUND(B87*(1+Shocks!L86)+Shocks!M86,5))","v":3.099E-2},{"$f":"IF(Extrapolation!FSP >= 15, ROUND(B87*(1-Shocks!F86)-Shocks!G86,5),  ROUND(B87*(1-Shocks!J86)-Shocks!K86,5))","v":1.883E-2},null,2.6074530206759094E-2,{"$f":"ROUND(B87*(1+Shocks!H86)+Shocks!I86,5)+Extrapolation!T89","v":3.1467404827421427E-2},{"$f":"MAX(ROUND(B87*(1-Shocks!F86)-Shocks!G86,5)+Extrapolation!T89, -1.25%)","v":1.9307404827421423E-2},{"$f":"IF(Extrapolation!FSP >= 15, ROUND(B87*(1+Shocks!H86)+Shocks!I86 + Extrapolation!T89, 5), ROUND(B87*(1+Shocks!L86)+Shocks!M86 + Extrapolation!T89,5))","v":3.1469999999999998E-2},{"$f":"IF(Extrapolation!FSP >= 15, ROUND(B87*(1-Shocks!F86)-Shocks!G86+Extrapolation!T89, 5), ROUND(B87*(1-Shocks!J86)-Shocks!K86+Extrapolation!T89, 5))","v":1.9310000000000001E-2}]
[76,2.5770713475528728E-2,{"$f":"ROUND(B88*(1+Shocks!H87)+Shocks!I87,5)","v":3.1179999999999999E-2},{"$f":"MAX(ROUND(B88*(1-Shocks!F87)-Shocks!G87,5), -1.25%)","v":1.907E-2},{"$f":"IF(Extrapolation!FSP >= 15, ROUND(B88*(1+Shocks!H87)+Shocks!I87,5), ROUND(B88*(1+Shocks!L87)+Shocks!M87,5))","v":3.1179999999999999E-2},{"$f":"IF(Extrapolation!FSP >= 15, ROUND(B88*(1-Shocks!F87)-Shocks!G87,5),  ROUND(B88*(1-Shocks!J87)-Shocks!K87,5))","v":1.907E-2},null,2.6241940933349417E-2,{"$f":"ROUND(B88*(1+Shocks!H87)+Shocks!I87,5)+Extrapolation!T90","v":3.1651227457820688E-2},{"$f":"MAX(ROUND(B88*(1-Shocks!F87)-Shocks!G87,5)+Extrapolation!T90, -1.25%)","v":1.9541227457820689E-2},{"$f":"IF(Extrapolation!FSP >= 15, ROUND(B88*(1+Shocks!H87)+Shocks!I87 + Extrapolation!T90, 5), ROUND(B88*(1+Shocks!L87)+Shocks!M87 + Extrapolation!T90,5))","v":3.1649999999999998E-2},{"$f":"IF(Extrapolation!FSP >= 15, ROUND(B88*(1-Shocks!F87)-Shocks!G87+Extrapolation!T90, 5), ROUND(B88*(1-Shocks!J87)-Shocks!K87+Extrapolation!T90, 5))","v":1.9539999999999998E-2}]
[77,2.5939974922517983E-2,{"$f":"ROUND(B89*(1+Shocks!H88)+Shocks!I88,5)","v":3.1370000000000002E-2},{"$f":"MAX(ROUND(B89*(1-Shocks!F88)-Shocks!G88,5), -1.25%)","v":1.9310000000000001E-2},{"$f":"IF(Extrapolation!FSP >= 15, ROUND(B89*(1+Shocks!H88)+Shocks!I88,5), ROUND(B89*(1+Shocks!L88)+Shocks!M88,5))","v":3.1370000000000002E-2},{"$f":"IF(Extrapolation!FSP >= 15, ROUND(B89*(1-Shocks!F88)-Shocks!G88,5),  ROUND(B89*(1-Shocks!J88)-Shocks!K88,5))","v":1.9310000000000001E-2},null,2.6405181104711462E-2,{"$f":"ROUND(B89*(1+Shocks!H88)+Shocks!I88,5)+Extrapolation!T91","v":3.183520618219348E-2},{"$f":"MAX(ROUND(B89*(1-Shocks!F88)-Shocks!G88,5)+Extrapolation!T91, -1.25%)","v":1.9775206182193479E-2},{"$f":"IF(Extrapolation!FSP >= 15, ROUND(B89*(1+Shocks!H88)+Shocks!I88 + Extrapolation!T91, 5), ROUND(B89*(1+Shocks!L88)+Shocks!M88 + Extrapolation!T91,5))","v":3.1829999999999997E-2},{"$f":"IF(Extrapolation!FSP >= 15, ROUND(B89*(1-Shocks!F88)-Shocks!G88+Extrapolation!T91, 5), ROUND(B89*(1-Shocks!J88)-Shocks!K88+Extrapolation!T91, 5))","v":1.9769999999999999E-2}]
[78,2.610506067630558E-2,{"$f":"ROUND(B90*(1+Shocks!H89)+Shocks!I89,5)","v":3.1550000000000002E-2},{"$f":"MAX(ROUND(B90*(1-Shocks!F89)-Shocks!G89,5), -1.25%)","v":1.9539999999999998E-2},{"$f":"IF(Extrapolation!FSP >= 15, ROUND(B90*(1+Shocks!H89)+Shocks!I89,5), ROUND(B90*(1+Shocks!L89)+Shocks!M89,5))","v":3.1550000000000002E-2},{"$f":"IF(Extrapolation!FSP >= 15, ROUND(B90*(1-Shocks!F89)-Shocks!G89,5),  ROUND(B90*(1-Shocks!J89)-Shocks!K89,5))","v":1.9539999999999998E-2},null,2.6564395967278998E-2,{"$f":"ROUND(B90*(1+Shocks!H89)+Shocks!I89,5)+Extrapolation!T92","v":3.2009335290973419E-2},{"$f":"MAX(ROUND(B90*(1-Shocks!F89)-Shocks!G89,5)+Extrapolation!T92, -1.25%)","v":1.9999335290973416E-2},{"$f":"IF(Extrapolation!FSP >= 15, ROUND(B90*(1+Shocks!H89)+Shocks!I89 + Extrapolation!T92, 5), ROUND(B90*(1+Shocks!L89)+Shocks!M89 + Extrapolation!T92,5))","v":3.2009999999999997E-2},{"$f":"IF(Extrapolation!FSP >= 15, ROUND(B90*(1-Shocks!F89)-Shocks!G89+Extrapolation!T92, 5), ROUND(B90*(1-Shocks!J89)-Shocks!K89+Extrapolation!T92, 5))","v":0.02}]
[79,2.6266115448921656E-2,{"$f":"ROUND(B91*(1+Shocks!H90)+Shocks!I90,5)","v":3.1730000000000001E-2},{"$f":"MAX(ROUND(B91*(1-Shocks!F90)-Shocks!G90,5), -1.25%)","v":1.9769999999999999E-2},{"$f":"IF(Extrapolation!FSP >= 15, ROUND(B91*(1+Shocks!H90)+Shocks!I90,5), ROUND(B91*(1+Shocks!L90)+Shocks!M90,5))","v":3.1730000000000001E-2},{"$f":"IF(Extrapolation!FSP >= 15, ROUND(B91*(1-Shocks!F90)-Shocks!G90,5),  ROUND(B91*(1-Shocks!J90)-Shocks!K90,5))","v":1.9769999999999999E-2},null,2.6719724788576427E-2,{"$f":"ROUND(B91*(1+Shocks!H90)+Shocks!I90,5)+Extrapolation!T93","v":3.2183609339654771E-2},{"$f":"MAX(ROUND(B91*(1-Shocks!F90)-Shocks!G90,5)+Extrapolation!T93, -1.25%)","v":2.022360933965477E-2},{"$f":"IF(Extrapolation!FSP >= 15, ROUND(B91*(1+Shocks!H90)+Shocks!I90 + Extrapolation!T93, 5), ROUND(B91*(1+Shocks!L90)+Shocks!M90 + Extrapolation!T93,5))","v":3.218E-2},{"$f":"IF(Extrapolation!FSP >= 15, ROUND(B91*(1-Shocks!F90)-Shocks!G90+Extrapolation!T93, 5), ROUND(B91*(1-Shocks!J90)-Shocks!K90+Extrapolation!T93, 5))","v":2.0230000000000001E-2}]
[80,2.642327796948174E-2,{"$f":"ROUND(B92*(1+Shocks!H91)+Shocks!I91,5)","v":3.1899999999999998E-2},{"$f":"MAX(ROUND(B92*(1-Shocks!F91)-Shocks!G91,5), -1.25%)","v":2.001E-2},{"$f":"IF(Extrapolation!FSP >= 15, ROUND(B92*(1+Shocks!H91)+Shocks!I91,5), ROUND(B92*(1+Shocks!L91)+Shocks!M91,5))","v":3.1899999999999998E-2},{"$f":"IF(Extrapolation!FSP >= 15, ROUND(B92*(1-Shocks!F91)-Shocks!G91,5),  ROUND(B92*(1-Shocks!J91)-Shocks!K91,5))","v":2.001E-2},null,2.6871301103813083E-2,{"$f":"ROUND(B92*(1+Shocks!H91)+Shocks!I91,5)+Extrapolation!T94","v":3.2348023134331341E-2},{"$f":"MAX(ROUND(B92*(1-Shocks!F91)-Shocks!G91,5)+Extrapolation!T94, -1.25%)","v":2.0458023134331343E-2},{"$f":"IF(Extrapolation!FSP >= 15, ROUND(B92*(1+Shocks!H91)+Shocks!I91 + Extrapolation!T94, 5), ROUND(B92*(1+Shocks!L91)+Shocks!M91 + Extrapolation!T94,5))","v":3.2340000000000001E-2},{"$f":"IF(Extrapolation!FSP >= 15, ROUND(B92*(1-Shocks!F91)-Shocks!G91+Extrapolation!T94, 5), ROUND(B92*(1-Shocks!J91)-Shocks!K91+Extrapolation!T94, 5))","v":2.0449999999999999E-2}]
[81,2.6576681237906685E-2,{"$f":"ROUND(B93*(1+Shocks!H92)+Shocks!I92,5)","v":3.2059999999999998E-2},{"$f":"MAX(ROUND(B93*(1-Shocks!F92)-Shocks!G92,5), -1.25%)","v":2.0240000000000001E-2},{"$f":"IF(Extrapolation!FSP >= 15, ROUND(B93*(1+Shocks!H92)+Shocks!I92,5), ROUND(B93*(1+Shocks!L92)+Shocks!M92,5))","v":3.2059999999999998E-2},{"$f":"IF(Extrapolation!FSP >= 15, ROUND(B93*(1-Shocks!F92)-Shocks!G92,5),  ROUND(B93*(1-Shocks!J92)-Shocks!K92,5))","v":2.0240000000000001E-2},null,2.7019252956027806E-2,{"$f":"ROUND(B93*(1+Shocks!H92)+Shocks!I92,5)+Extrapolation!T95","v":3.2502571718121119E-2},{"$f":"MAX(ROUND(B93*(1-Shocks!F92)-Shocks!G92,5)+Extrapolation!T95, -1.25%)","v":2.0682571718121122E-2},{"$f":"IF(Extrapolation!FSP >= 15, ROUND(B93*(1+Shocks!H92)+Shocks!I92 + Extrapolation!T95, 5), ROUND(B93*(1+Shocks!L92)+Shocks!M92 + Extrapolation!T95,5))","v":3.2509999999999997E-2},{"$f":"IF(Extrapolation!FSP >= 15, ROUND(B93*(1-Shocks!F92)-Shocks!G92+Extrapolation!T95, 5), ROUND(B93*(1-Shocks!J92)-Shocks!K92+Extrapolation!T95, 5))","v":2.068E-2}]
[82,2.6726452770819531E-2,{"$f":"ROUND(B94*(1+Shocks!H93)+Shocks!I93,5)","v":3.2219999999999999E-2},{"$f":"MAX(ROUND(B94*(1-Shocks!F93)-Shocks!G93,5), -1.25%)","v":2.0459999999999999E-2},{"$f":"IF(Extrapolation!FSP >= 15, ROUND(B94*(1+Shocks!H93)+Shocks!I93,5), ROUND(B94*(1+Shocks!L93)+Shocks!M93,5))","v":3.2219999999999999E-2},{"$f":"IF(Extrapolation!FSP >= 15, ROUND(B94*(1-Shocks!F93)-Shocks!G93,5),  ROUND(B94*(1-Shocks!J93)-Shocks!K93,5))","v":2.0459999999999999E-2},null,2.7163703129229333E-2,{"$f":"ROUND(B94*(1+Shocks!H93)+Shocks!I93,5)+Extrapolation!T96","v":3.2657250358409801E-2},{"$f":"MAX(ROUND(B94*(1-Shocks!F93)-Shocks!G93,5)+Extrapolation!T96, -1.25%)","v":2.0897250358409801E-2},{"$f":"IF(Extrapolation!FSP >= 15, ROUND(B94*(1+Shocks!H93)+Shocks!I93 + Extrapolation!T96, 5), ROUND(B94*(1+Shocks!L93)+Shocks!M93 + Extrapolation!T96,5))","v":3.2660000000000002E-2},{"$f":"IF(Extrapolation!FSP >= 15, ROUND(B94*(1-Shocks!F93)-Shocks!G93+Extrapolation!T96, 5), ROUND(B94*(1-Shocks!J93)-Shocks!K93+Extrapolation!T96, 5))","v":2.0899999999999998E-2}]
[83,2.687271483927689E-2,{"$f":"ROUND(B95*(1+Shocks!H94)+Shocks!I94,5)","v":3.2379999999999999E-2},{"$f":"MAX(ROUND(B95*(1-Shocks!F94)-Shocks!G94,5), -1.25%)","v":2.069E-2},{"$f":"IF(Extrapolation!FSP >= 15, ROUND(B95*(1+Shocks!H94)+Shocks!I94,5), ROUND(B95*(1+Shocks!L94)+Shocks!M94,5))","v":3.2379999999999999E-2},{"$f":"IF(Extrapolation!FSP >= 15, ROUND(B95*(1-Shocks!F94)-Shocks!G94,5),  ROUND(B95*(1-Shocks!J94)-Shocks!K94,5))","v":2.069E-2},null,2.7304769374144833E-2,{"$f":"ROUND(B95*(1+Shocks!H94)+Shocks!I94,5)+Extrapolation!T97","v":3.2812054534867942E-2},{"$f":"MAX(ROUND(B95*(1-Shocks!F94)-Shocks!G94,5)+Extrapolation!T97, -1.25%)","v":2.1122054534867943E-2},{"$f":"IF(Extrapolation!FSP >= 15, ROUND(B95*(1+Shocks!H94)+Shocks!I94 + Extrapolation!T97, 5), ROUND(B95*(1+Shocks!L94)+Shocks!M94 + Extrapolation!T97,5))","v":3.2809999999999999E-2},{"$f":"IF(Extrapolation!FSP >= 15, ROUND(B95*(1-Shocks!F94)-Shocks!G94+Extrapolation!T97, 5), ROUND(B95*(1-Shocks!J94)-Shocks!K94+Extrapolation!T97, 5))","v":2.112E-2}]
[84,2.7015584698121486E-2,{"$f":"ROUND(B96*(1+Shocks!H95)+Shocks!I95,5)","v":3.2530000000000003E-2},{"$f":"MAX(ROUND(B96*(1-Shocks!F95)-Shocks!G95,5), -1.25%)","v":2.0920000000000001E-2},{"$f":"IF(Extrapolation!FSP >= 15, ROUND(B96*(1+Shocks!H95)+Shocks!I95,5), ROUND(B96*(1+Shocks!L95)+Shocks!M95,5))","v":3.2530000000000003E-2},{"$f":"IF(Extrapolation!FSP >= 15, ROUND(B96*(1-Shocks!F95)-Shocks!G95,5),  ROUND(B96*(1-Shocks!J95)-Shocks!K95,5))","v":2.0920000000000001E-2},null,2.7442564626304566E-2,{"$f":"ROUND(B96*(1+Shocks!H95)+Shocks!I95,5)+Extrapolation!T98","v":3.2956979928183083E-2},{"$f":"MAX(ROUND(B96*(1-Shocks!F95)-Shocks!G95,5)+Extrapolation!T98, -1.25%)","v":2.1346979928183081E-2},{"$f":"IF(Extrapolation!FSP >= 15, ROUND(B96*(1+Shocks!H95)+Shocks!I95 + Extrapolation!T98, 5), ROUND(B96*(1+Shocks!L95)+Shocks!M95 + Extrapolation!T98,5))","v":3.2960000000000003E-2},{"$f":"IF(Extrapolation!FSP >= 15, ROUND(B96*(1-Shocks!F95)-Shocks!G95+Extrapolation!T98, 5), ROUND(B96*(1-Shocks!J95)-Shocks!K95+Extrapolation!T98, 5))","v":2.1340000000000001E-2}]
[85,2.7155174806843929E-2,{"$f":"ROUND(B97*(1+Shocks!H96)+Shocks!I96,5)","v":3.2680000000000001E-2},{"$f":"MAX(ROUND(B97*(1-Shocks!F96)-Shocks!G96,5), -1.25%)","v":2.1139999999999999E-2},{"$f":"IF(Extrapolation!FSP >= 15, ROUND(B97*(1+Shocks!H96)+Shocks!I96,5), ROUND(B97*(1+Shocks!L96)+Shocks!M96,5))","v":3.2680000000000001E-2},{"$f":"IF(Extrapolation!FSP >= 15, ROUND(B97*(1-Shocks!F96)-Shocks!G96,5),  ROUND(B97*(1-Shocks!J96)-Shocks!K96,5))","v":2.1139999999999999E-2},null,2.7577197216312577E-2,{"$f":"ROUND(B97*(1+Shocks!H96)+Shocks!I96,5)+Extrapolation!T99","v":3.3102022409468648E-2},{"$f":"MAX(ROUND(B97*(1-Shocks!F96)-Shocks!G96,5)+Extrapolation!T99, -1.25%)","v":2.1562022409468647E-2},{"$f":"IF(Extrapolation!FSP >= 15, ROUND(B97*(1+Shocks!H96)+Shocks!I96 + Extrapolation!T99, 5), ROUND(B97*(1+Shocks!L96)+Shocks!M96 + Extrapolation!T99,5))","v":3.3110000000000001E-2},{"$f":"IF(Extrapolation!FSP >= 15, ROUND(B97*(1-Shocks!F96)-Shocks!G96+Extrapolation!T99, 5), ROUND(B97*(1-Shocks!J96)-Shocks!K96+Extrapolation!T99, 5))","v":2.1559999999999999E-2}]
[86,2.7291593041929296E-2,{"$f":"ROUND(B98*(1+Shocks!H97)+Shocks!I97,5)","v":3.2829999999999998E-2},{"$f":"MAX(ROUND(B98*(1-Shocks!F97)-Shocks!G97,5), -1.25%)","v":2.137E-2},{"$f":"IF(Extrapolation!FSP >= 15, ROUND(B98*(1+Shocks!H97)+Shocks!I97,5), ROUND(B98*(1+Shocks!L97)+Shocks!M97,5))","v":3.2829999999999998E-2},{"$f":"IF(Extrapolation!FSP >= 15, ROUND(B98*(1-Shocks!F97)-Shocks!G97,5),  ROUND(B98*(1-Shocks!J97)-Shocks!K97,5))","v":2.137E-2},null,2.7708771072226579E-2,{"$f":"ROUND(B98*(1+Shocks!H97)+Shocks!I97,5)+Extrapolation!T100","v":3.3247178030297281E-2},{"$f":"MAX(ROUND(B98*(1-Shocks!F97)-Shocks!G97,5)+Extrapolation!T100, -1.25%)","v":2.1787178030297283E-2},{"$f":"IF(Extrapolation!FSP >= 15, ROUND(B98*(1+Shocks!H97)+Shocks!I97 + Extrapolation!T100, 5), ROUND(B98*(1+Shocks!L97)+Shocks!M97 + Extrapolation!T100,5))","v":3.3250000000000002E-2},{"$f":"IF(Extrapolation!FSP >= 15, ROUND(B98*(1-Shocks!F97)-Shocks!G97+Extrapolation!T100, 5), ROUND(B98*(1-Shocks!J97)-Shocks!K97+Extrapolation!T100, 5))","v":2.1780000000000001E-2}]
[87,2.7424942900729388E-2,{"$f":"ROUND(B99*(1+Shocks!H98)+Shocks!I98,5)","v":3.2969999999999999E-2},{"$f":"MAX(ROUND(B99*(1-Shocks!F98)-Shocks!G98,5), -1.25%)","v":2.1590000000000002E-2},{"$f":"IF(Extrapolation!FSP >= 15, ROUND(B99*(1+Shocks!H98)+Shocks!I98,5), ROUND(B99*(1+Shocks!L98)+Shocks!M98,5))","v":3.2969999999999999E-2},{"$f":"IF(Extrapolation!FSP >= 15, ROUND(B99*(1-Shocks!F98)-Shocks!G98,5),  ROUND(B99*(1-Shocks!J98)-Shocks!K98,5))","v":2.1590000000000002E-2},null,2.7837385914055046E-2,{"$f":"ROUND(B99*(1+Shocks!H98)+Shocks!I98,5)+Extrapolation!T101","v":3.3382443013325658E-2},{"$f":"MAX(ROUND(B99*(1-Shocks!F98)-Shocks!G98,5)+Extrapolation!T101, -1.25%)","v":2.200244301332566E-2},{"$f":"IF(Extrapolation!FSP >= 15, ROUND(B99*(1+Shocks!H98)+Shocks!I98 + Extrapolation!T101, 5), ROUND(B99*(1+Shocks!L98)+Shocks!M98 + Extrapolation!T101,5))","v":3.338E-2},{"$f":"IF(Extrapolation!FSP >= 15, ROUND(B99*(1-Shocks!F98)-Shocks!G98+Extrapolation!T101, 5), ROUND(B99*(1-Shocks!J98)-Shocks!K98+Extrapolation!T101, 5))","v":2.1999999999999999E-2}]
[88,2.7555323696962342E-2,{"$f":"ROUND(B100*(1+Shocks!H99)+Shocks!I99,5)","v":3.3110000000000001E-2},{"$f":"MAX(ROUND(B100*(1-Shocks!F99)-Shocks!G99,5), -1.25%)","v":2.181E-2},{"$f":"IF(Extrapolation!FSP >= 15, ROUND(B100*(1+Shocks!H99)+Shocks!I99,5), ROUND(B100*(1+Shocks!L99)+Shocks!M99,5))","v":3.3110000000000001E-2},{"$f":"IF(Extrapolation!FSP >= 15, ROUND(B100*(1-Shocks!F99)-Shocks!G99,5),  ROUND(B100*(1-Shocks!J99)-Shocks!K99,5))","v":2.181E-2},null,2.7963137440430108E-2,{"$f":"ROUND(B100*(1+Shocks!H99)+Shocks!I99,5)+Extrapolation!T102","v":3.3517813743467767E-2},{"$f":"MAX(ROUND(B100*(1-Shocks!F99)-Shocks!G99,5)+Extrapolation!T102, -1.25%)","v":2.2217813743467766E-2},{"$f":"IF(Extrapolation!FSP >= 15, ROUND(B100*(1+Shocks!H99)+Shocks!I99 + Extrapolation!T102, 5), ROUND(B100*(1+Shocks!L99)+Shocks!M99 + Extrapolation!T102,5))","v":3.3509999999999998E-2},{"$f":"IF(Extrapolation!FSP >= 15, ROUND(B100*(1-Shocks!F99)-Shocks!G99+Extrapolation!T102, 5), ROUND(B100*(1-Shocks!J99)-Shocks!K99+Extrapolation!T102, 5))","v":2.222E-2}]
[89,2.7682830747979503E-2,{"$f":"ROUND(B101*(1+Shocks!H100)+Shocks!I100,5)","v":3.3239999999999999E-2},{"$f":"MAX(ROUND(B101*(1-Shocks!F100)-Shocks!G100,5), -1.25%)","v":2.2030000000000001E-2},{"$f":"IF(Extrapolation!FSP >= 15, ROUND(B101*(1+Shocks!H100)+Shocks!I100,5), ROUND(B101*(1+Shocks!L100)+Shocks!M100,5))","v":3.3239999999999999E-2},{"$f":"IF(Extrapolation!FSP >= 15, ROUND(B101*(1-Shocks!F100)-Shocks!G100,5),  ROUND(B101*(1-Shocks!J100)-Shocks!K100,5))","v":2.2030000000000001E-2},null,2.8086117507563513E-2,{"$f":"ROUND(B101*(1+Shocks!H100)+Shocks!I100,5)+Extrapolation!T103","v":3.3643286759584008E-2},{"$f":"MAX(ROUND(B101*(1-Shocks!F100)-Shocks!G100,5)+Extrapolation!T103, -1.25%)","v":2.243328675958401E-2},{"$f":"IF(Extrapolation!FSP >= 15, ROUND(B101*(1+Shocks!H100)+Shocks!I100 + Extrapolation!T103, 5), ROUND(B101*(1+Shocks!L100)+Shocks!M100 + Extrapolation!T103,5))","v":3.3640000000000003E-2},{"$f":"IF(Extrapolation!FSP >= 15, ROUND(B101*(1-Shocks!F100)-Shocks!G100+Extrapolation!T103, 5), ROUND(B101*(1-Shocks!J100)-Shocks!K100+Extrapolation!T103, 5))","v":2.2429999999999999E-2}]
[90,2.7807555553983399E-2,{"$f":"ROUND(B102*(1+Shocks!H101)+Shocks!I101,5)","v":3.3369999999999997E-2},{"$f":"MAX(ROUND(B102*(1-Shocks!F101)-Shocks!G101,5), -1.25%)","v":2.2249999999999999E-2},{"$f":"IF(Extrapolation!FSP >= 15, ROUND(B102*(1+Shocks!H101)+Shocks!I101,5), ROUND(B102*(1+Shocks!L101)+Shocks!M101,5))","v":3.3369999999999997E-2},{"$f":"IF(Extrapolation!FSP >= 15, ROUND(B102*(1-Shocks!F101)-Shocks!G101,5),  ROUND(B102*(1-Shocks!J101)-Shocks!K101,5))","v":2.2249999999999999E-2},null,2.8206414300635974E-2,{"$f":"ROUND(B102*(1+Shocks!H101)+Shocks!I101,5)+Extrapolation!T104","v":3.3768858746652572E-2},{"$f":"MAX(ROUND(B102*(1-Shocks!F101)-Shocks!G101,5)+Extrapolation!T104, -1.25%)","v":2.2648858746652574E-2},{"$f":"IF(Extrapolation!FSP >= 15, ROUND(B102*(1+Shocks!H101)+Shocks!I101 + Extrapolation!T104, 5), ROUND(B102*(1+Shocks!L101)+Shocks!M101 + Extrapolation!T104,5))","v":3.3770000000000001E-2},{"$f":"IF(Extrapolation!FSP >= 15, ROUND(B102*(1-Shocks!F101)-Shocks!G101+Extrapolation!T104, 5), ROUND(B102*(1-Shocks!J101)-Shocks!K101+Extrapolation!T104, 5))","v":2.264E-2}]
[91,2.7929585969397985E-2,{"$f":"ROUND(B103*(1+Shocks!H102)+Shocks!I102,5)","v":3.3520000000000001E-2},{"$f":"MAX(ROUND(B103*(1-Shocks!F102)-Shocks!G102,5), -1.25%)","v":2.2339999999999999E-2},{"$f":"IF(Extrapolation!FSP >= 15, ROUND(B103*(1+Shocks!H102)+Shocks!I102,5), ROUND(B103*(1+Shocks!L102)+Shocks!M102,5))","v":3.3520000000000001E-2},{"$f":"IF(Extrapolation!FSP >= 15, ROUND(B103*(1-Shocks!F102)-Shocks!G102,5),  ROUND(B103*(1-Shocks!J102)-Shocks!K102,5))","v":2.2339999999999999E-2},null,2.8324112497791987E-2,{"$f":"ROUND(B103*(1+Shocks!H102)+Shocks!I102,5)+Extrapolation!T105","v":3.3914526528394003E-2},{"$f":"MAX(ROUND(B103*(1-Shocks!F102)-Shocks!G102,5)+Extrapolation!T105, -1.25%)","v":2.2734526528394E-2},{"$f":"IF(Extrapolation!FSP >= 15, ROUND(B103*(1+Shocks!H102)+Shocks!I102 + Extrapolation!T105, 5), ROUND(B103*(1+Shocks!L102)+Shocks!M102 + Extrapolation!T105,5))","v":3.3910000000000003E-2},{"$f":"IF(Extrapolation!FSP >= 15, ROUND(B103*(1-Shocks!F102)-Shocks!G102+Extrapolation!T105, 5), ROUND(B103*(1-Shocks!J102)-Shocks!K102+Extrapolation!T105, 5))","v":2.274E-2}]
[92,2.8049006366623441E-2,{"$f":"ROUND(B104*(1+Shocks!H103)+Shocks!I103,5)","v":3.3660000000000002E-2},{"$f":"MAX(ROUND(B104*(1-Shocks!F103)-Shocks!G103,5), -1.25%)","v":2.2440000000000002E-2},{"$f":"IF(Extrapolation!FSP >= 15, ROUND(B104*(1+Shocks!H103)+Shocks!I103,5), ROUND(B104*(1+Shocks!L103)+Shocks!M103,5))","v":3.3660000000000002E-2},{"$f":"IF(Extrapolation!FSP >= 15, ROUND(B104*(1-Shocks!F103)-Shocks!G103,5),  ROUND(B104*(1-Shocks!J103)-Shocks!K103,5))","v":2.2440000000000002E-2},null,2.8439293426937517E-2,{"$f":"ROUND(B104*(1+Shocks!H103)+Shocks!I103,5)+Extrapolation!T106","v":3.4050287060314079E-2},{"$f":"MAX(ROUND(B104*(1-Shocks!F103)-Shocks!G103,5)+Extrapolation!T106, -1.25%)","v":2.2830287060314078E-2},{"$f":"IF(Extrapolation!FSP >= 15, ROUND(B104*(1+Shocks!H103)+Shocks!I103 + Extrapolation!T106, 5), ROUND(B104*(1+Shocks!L103)+Shocks!M103 + Extrapolation!T106,5))","v":3.4049999999999997E-2},{"$f":"IF(Extrapolation!FSP >= 15, ROUND(B104*(1-Shocks!F103)-Shocks!G103+Extrapolation!T106, 5), ROUND(B104*(1-Shocks!J103)-Shocks!K103+Extrapolation!T106, 5))","v":2.283E-2}]
[93,2.816589779241041E-2,{"$f":"ROUND(B105*(1+Shocks!H104)+Shocks!I104,5)","v":3.3799999999999997E-2},{"$f":"MAX(ROUND(B105*(1-Shocks!F104)-Shocks!G104,5), -1.25%)","v":2.2530000000000001E-2},{"$f":"IF(Extrapolation!FSP >= 15, ROUND(B105*(1+Shocks!H104)+Shocks!I104,5), ROUND(B105*(1+Shocks!L104)+Shocks!M104,5))","v":3.3799999999999997E-2},{"$f":"IF(Extrapolation!FSP >= 15, ROUND(B105*(1-Shocks!F104)-Shocks!G104,5),  ROUND(B105*(1-Shocks!J104)-Shocks!K104,5))","v":2.2530000000000001E-2},null,2.8552035215561711E-2,{"$f":"ROUND(B105*(1+Shocks!H104)+Shocks!I104,5)+Extrapolation!T107","v":3.4186137423151297E-2},{"$f":"MAX(ROUND(B105*(1-Shocks!F104)-Shocks!G104,5)+Extrapolation!T107, -1.25%)","v":2.2916137423151302E-2},{"$f":"IF(Extrapolation!FSP >= 15, ROUND(B105*(1+Shocks!H104)+Shocks!I104 + Extrapolation!T107, 5), ROUND(B105*(1+Shocks!L104)+Shocks!M104 + Extrapolation!T107,5))","v":3.4189999999999998E-2},{"$f":"IF(Extrapolation!FSP >= 15, ROUND(B105*(1-Shocks!F104)-Shocks!G104+Extrapolation!T107, 5), ROUND(B105*(1-Shocks!J104)-Shocks!K104+Extrapolation!T107, 5))","v":2.2919999999999999E-2}]
[94,2.8280338117113724E-2,{"$f":"ROUND(B106*(1+Shocks!H105)+Shocks!I105,5)","v":3.3939999999999998E-2},{"$f":"MAX(ROUND(B106*(1-Shocks!F105)-Shocks!G105,5), -1.25%)","v":2.2620000000000001E-2},{"$f":"IF(Extrapolation!FSP >= 15, ROUND(B106*(1+Shocks!H105)+Shocks!I105,5), ROUND(B106*(1+Shocks!L105)+Shocks!M105,5))","v":3.3939999999999998E-2},{"$f":"IF(Extrapolation!FSP >= 15, ROUND(B106*(1-Shocks!F105)-Shocks!G105,5),  ROUND(B106*(1-Shocks!J105)-Shocks!K105,5))","v":2.2620000000000001E-2},null,2.8662412933801562E-2,{"$f":"ROUND(B106*(1+Shocks!H105)+Shocks!I105,5)+Extrapolation!T108","v":3.4322074816687836E-2},{"$f":"MAX(ROUND(B106*(1-Shocks!F105)-Shocks!G105,5)+Extrapolation!T108, -1.25%)","v":2.300207481668784E-2},{"$f":"IF(Extrapolation!FSP >= 15, ROUND(B106*(1+Shocks!H105)+Shocks!I105 + Extrapolation!T108, 5), ROUND(B106*(1+Shocks!L105)+Shocks!M105 + Extrapolation!T108,5))","v":3.4320000000000003E-2},{"$f":"IF(Extrapolation!FSP >= 15, ROUND(B106*(1-Shocks!F105)-Shocks!G105+Extrapolation!T108, 5), ROUND(B106*(1-Shocks!J105)-Shocks!K105+Extrapolation!T108, 5))","v":2.3009999999999999E-2}]
[95,2.8392402177078058E-2,{"$f":"ROUND(B107*(1+Shocks!H106)+Shocks!I106,5)","v":3.4070000000000003E-2},{"$f":"MAX(ROUND(B107*(1-Shocks!F106)-Shocks!G106,5), -1.25%)","v":2.2710000000000001E-2},{"$f":"IF(Extrapolation!FSP >= 15, ROUND(B107*(1+Shocks!H106)+Shocks!I106,5), ROUND(B107*(1+Shocks!L106)+Shocks!M106,5))","v":3.4070000000000003E-2},{"$f":"IF(Extrapolation!FSP >= 15, ROUND(B107*(1-Shocks!F106)-Shocks!G106,5),  ROUND(B107*(1-Shocks!J106)-Shocks!K106,5))","v":2.2710000000000001E-2},null,2.8770498730993133E-2,{"$f":"ROUND(B107*(1+Shocks!H106)+Shocks!I106,5)+Extrapolation!T109","v":3.4448096553915078E-2},{"$f":"MAX(ROUND(B107*(1-Shocks!F106)-Shocks!G106,5)+Extrapolation!T109, -1.25%)","v":2.3088096553915076E-2},{"$f":"IF(Extrapolation!FSP >= 15, ROUND(B107*(1+Shocks!H106)+Shocks!I106 + Extrapolation!T109, 5), ROUND(B107*(1+Shocks!L106)+Shocks!M106 + Extrapolation!T109,5))","v":3.4450000000000001E-2},{"$f":"IF(Extrapolation!FSP >= 15, ROUND(B107*(1-Shocks!F106)-Shocks!G106+Extrapolation!T109, 5), ROUND(B107*(1-Shocks!J106)-Shocks!K106+Extrapolation!T109, 5))","v":2.3089999999999999E-2}]
[96,2.8502161910420654E-2,{"$f":"ROUND(B108*(1+Shocks!H107)+Shocks!I107,5)","v":3.4200000000000001E-2},{"$f":"MAX(ROUND(B108*(1-Shocks!F107)-Shocks!G107,5), -1.25%)","v":2.2800000000000001E-2},{"$f":"IF(Extrapolation!FSP >= 15, ROUND(B108*(1+Shocks!H107)+Shocks!I107,5), ROUND(B108*(1+Shocks!L107)+Shocks!M107,5))","v":3.4200000000000001E-2},{"$f":"IF(Extrapolation!FSP >= 15, ROUND(B108*(1-Shocks!F107)-Shocks!G107,5),  ROUND(B108*(1-Shocks!J107)-Shocks!K107,5))","v":2.2800000000000001E-2},null,2.8876361965944231E-2,{"$f":"ROUND(B108*(1+Shocks!H107)+Shocks!I107,5)+Extrapolation!T110","v":3.4574200055523578E-2},{"$f":"MAX(ROUND(B108*(1-Shocks!F107)-Shocks!G107,5)+Extrapolation!T110, -1.25%)","v":2.3174200055523578E-2},{"$f":"IF(Extrapolation!FSP >= 15, ROUND(B108*(1+Shocks!H107)+Shocks!I107 + Extrapolation!T110, 5), ROUND(B108*(1+Shocks!L107)+Shocks!M107 + Extrapolation!T110,5))","v":3.458E-2},{"$f":"IF(Extrapolation!FSP >= 15, ROUND(B108*(1-Shocks!F107)-Shocks!G107+Extrapolation!T110, 5), ROUND(B108*(1-Shocks!J107)-Shocks!K107+Extrapolation!T110, 5))","v":2.3179999999999999E-2}]
[97,2.8609686486473551E-2,{"$f":"ROUND(B109*(1+Shocks!H108)+Shocks!I108,5)","v":3.4329999999999999E-2},{"$f":"MAX(ROUND(B109*(1-Shocks!F108)-Shocks!G108,5), -1.25%)","v":2.2890000000000001E-2},{"$f":"IF(Extrapolation!FSP >= 15, ROUND(B109*(1+Shocks!H108)+Shocks!I108,5), ROUND(B109*(1+Shocks!L108)+Shocks!M108,5))","v":3.4329999999999999E-2},{"$f":"IF(Extrapolation!FSP >= 15, ROUND(B109*(1-Shocks!F108)-Shocks!G108,5),  ROUND(B109*(1-Shocks!J108)-Shocks!K108,5))","v":2.2890000000000001E-2},null,2.8980069331172364E-2,{"$f":"ROUND(B109*(1+Shocks!H108)+Shocks!I108,5)+Extrapolation!T111","v":3.4700382844698813E-2},{"$f":"MAX(ROUND(B109*(1-Shocks!F108)-Shocks!G108,5)+Extrapolation!T111, -1.25%)","v":2.3260382844698814E-2},{"$f":"IF(Extrapolation!FSP >= 15, ROUND(B109*(1+Shocks!H108)+Shocks!I108 + Extrapolation!T111, 5), ROUND(B109*(1+Shocks!L108)+Shocks!M108 + Extrapolation!T111,5))","v":3.4700000000000002E-2},{"$f":"IF(Extrapolation!FSP >= 15, ROUND(B109*(1-Shocks!F108)-Shocks!G108+Extrapolation!T111, 5), ROUND(B109*(1-Shocks!J108)-Shocks!K108+Extrapolation!T111, 5))","v":2.3259999999999999E-2}]
[98,2.8715042429144022E-2,{"$f":"ROUND(B110*(1+Shocks!H109)+Shocks!I109,5)","v":3.4459999999999998E-2},{"$f":"MAX(ROUND(B110*(1-Shocks!F109)-Shocks!G109,5), -1.25%)","v":2.2970000000000001E-2},{"$f":"IF(Extrapolation!FSP >= 15, ROUND(B110*(1+Shocks!H109)+Shocks!I109,5), ROUND(B110*(1+Shocks!L109)+Shocks!M109,5))","v":3.4459999999999998E-2},{"$f":"IF(Extrapolation!FSP >= 15, ROUND(B110*(1-Shocks!F109)-Shocks!G109,5),  ROUND(B110*(1-Shocks!J109)-Shocks!K109,5))","v":2.2970000000000001E-2},null,2.9081684971353328E-2,{"$f":"ROUND(B110*(1+Shocks!H109)+Shocks!I109,5)+Extrapolation!T112","v":3.4826642542209303E-2},{"$f":"MAX(ROUND(B110*(1-Shocks!F109)-Shocks!G109,5)+Extrapolation!T112, -1.25%)","v":2.3336642542209306E-2},{"$f":"IF(Extrapolation!FSP >= 15, ROUND(B110*(1+Shocks!H109)+Shocks!I109 + Extrapolation!T112, 5), ROUND(B110*(1+Shocks!L109)+Shocks!M109 + Extrapolation!T112,5))","v":3.4819999999999997E-2},{"$f":"IF(Extrapolation!FSP >= 15, ROUND(B110*(1-Shocks!F109)-Shocks!G109+Extrapolation!T112, 5), ROUND(B110*(1-Shocks!J109)-Shocks!K109+Extrapolation!T112, 5))","v":2.334E-2}]
[99,2.8818293734456546E-2,{"$f":"ROUND(B111*(1+Shocks!H110)+Shocks!I110,5)","v":3.458E-2},{"$f":"MAX(ROUND(B111*(1-Shocks!F110)-Shocks!G110,5), -1.25%)","v":2.3050000000000001E-2},{"$f":"IF(Extrapolation!FSP >= 15, ROUND(B111*(1+Shocks!H110)+Shocks!I110,5), ROUND(B111*(1+Shocks!L110)+Shocks!M110,5))","v":3.458E-2},{"$f":"IF(Extrapolation!FSP >= 15, ROUND(B111*(1-Shocks!F110)-Shocks!G110,5),  ROUND(B111*(1-Shocks!J110)-Shocks!K110,5))","v":2.3050000000000001E-2},null,2.9181270596215558E-2,{"$f":"ROUND(B111*(1+Shocks!H110)+Shocks!I110,5)+Extrapolation!T113","v":3.4942976861759012E-2},{"$f":"MAX(ROUND(B111*(1-Shocks!F110)-Shocks!G110,5)+Extrapolation!T113, -1.25%)","v":2.3412976861759013E-2},{"$f":"IF(Extrapolation!FSP >= 15, ROUND(B111*(1+Shocks!H110)+Shocks!I110 + Extrapolation!T113, 5), ROUND(B111*(1+Shocks!L110)+Shocks!M110 + Extrapolation!T113,5))","v":3.4939999999999999E-2},{"$f":"IF(Extrapolation!FSP >= 15, ROUND(B111*(1-Shocks!F110)-Shocks!G110+Extrapolation!T113, 5), ROUND(B111*(1-Shocks!J110)-Shocks!K110+Extrapolation!T113, 5))","v":2.342E-2}]
[100,2.8919501982523022E-2,{"$f":"ROUND(B112*(1+Shocks!H111)+Shocks!I111,5)","v":3.4700000000000002E-2},{"$f":"MAX(ROUND(B112*(1-Shocks!F111)-Shocks!G111,5), -1.25%)","v":2.3140000000000001E-2},{"$f":"IF(Extrapolation!FSP >= 15, ROUND(B112*(1+Shocks!H111)+Shocks!I111,5), ROUND(B112*(1+Shocks!L111)+Shocks!M111,5))","v":3.4700000000000002E-2},{"$f":"IF(Extrapolation!FSP >= 15, ROUND(B112*(1-Shocks!F111)-Shocks!G111,5),  ROUND(B112*(1-Shocks!J111)-Shocks!K111,5))","v":2.3140000000000001E-2},null,2.9278885588121639E-2,{"$f":"ROUND(B112*(1+Shocks!H111)+Shocks!I111,5)+Extrapolation!T114","v":3.5059383605598619E-2},{"$f":"MAX(ROUND(B112*(1-Shocks!F111)-Shocks!G111,5)+Extrapolation!T114, -1.25%)","v":2.3499383605598619E-2},{"$f":"IF(Extrapolation!FSP >= 15, ROUND(B112*(1+Shocks!H111)+Shocks!I111 + Extrapolation!T114, 5), ROUND(B112*(1+Shocks!L111)+Shocks!M111 + Extrapolation!T114,5))","v":3.5060000000000001E-2},{"$f":"IF(Extrapolation!FSP >= 15, ROUND(B112*(1-Shocks!F111)-Shocks!G111+Extrapolation!T114, 5), ROUND(B112*(1-Shocks!J111)-Shocks!K111+Extrapolation!T114, 5))","v":2.349E-2}]
[101,2.9018726444194121E-2,{"$f":"ROUND(B113*(1+Shocks!H112)+Shocks!I112,5)","v":3.4819999999999997E-2},{"$f":"MAX(ROUND(B113*(1-Shocks!F112)-Shocks!G112,5), -1.25%)","v":2.3210000000000001E-2},{"$f":"IF(Extrapolation!FSP >= 15, ROUND(B113*(1+Shocks!H112)+Shocks!I112,5), ROUND(B113*(1+Shocks!L112)+Shocks!M112,5))","v":3.4819999999999997E-2},{"$f":"IF(Extrapolation!FSP >= 15, ROUND(B113*(1-Shocks!F112)-Shocks!G112,5),  ROUND(B113*(1-Shocks!J112)-Shocks!K112,5))","v":2.3210000000000001E-2},null,2.9374587104567418E-2,{"$f":"ROUND(B113*(1+Shocks!H112)+Shocks!I112,5)+Extrapolation!T115","v":3.5175860660373294E-2},{"$f":"MAX(ROUND(B113*(1-Shocks!F112)-Shocks!G112,5)+Extrapolation!T115, -1.25%)","v":2.3565860660373299E-2},{"$f":"IF(Extrapolation!FSP >= 15, ROUND(B113*(1+Shocks!H112)+Shocks!I112 + Extrapolation!T115, 5), ROUND(B113*(1+Shocks!L112)+Shocks!M112 + Extrapolation!T115,5))","v":3.5180000000000003E-2},{"$f":"IF(Extrapolation!FSP >= 15, ROUND(B113*(1-Shocks!F112)-Shocks!G112+Extrapolation!T115, 5), ROUND(B113*(1-Shocks!J112)-Shocks!K112+Extrapolation!T115, 5))","v":2.3570000000000001E-2}]
[102,2.9116024182631151E-2,{"$f":"ROUND(B114*(1+Shocks!H113)+Shocks!I113,5)","v":3.4939999999999999E-2},{"$f":"MAX(ROUND(B114*(1-Shocks!F113)-Shocks!G113,5), -1.25%)","v":2.3290000000000002E-2},{"$f":"IF(Extrapolation!FSP >= 15, ROUND(B114*(1+Shocks!H113)+Shocks!I113,5), ROUND(B114*(1+Shocks!L113)+Shocks!M113,5))","v":3.4939999999999999E-2},{"$f":"IF(Extrapolation!FSP >= 15, ROUND(B114*(1-Shocks!F113)-Shocks!G113,5),  ROUND(B114*(1-Shocks!J113)-Shocks!K113,5))","v":2.3290000000000002E-2},null,2.9468430175825011E-2,{"$f":"ROUND(B114*(1+Shocks!H113)+Shocks!I113,5)+Extrapolation!T116","v":3.5292405993193859E-2},{"$f":"MAX(ROUND(B114*(1-Shocks!F113)-Shocks!G113,5)+Extrapolation!T116, -1.25%)","v":2.3642405993193862E-2},{"$f":"IF(Extrapolation!FSP >= 15, ROUND(B114*(1+Shocks!H113)+Shocks!I113 + Extrapolation!T116, 5), ROUND(B114*(1+Shocks!L113)+Shocks!M113 + Extrapolation!T116,5))","v":3.5290000000000002E-2},{"$f":"IF(Extrapolation!FSP >= 15, ROUND(B114*(1-Shocks!F113)-Shocks!G113+Extrapolation!T116, 5), ROUND(B114*(1-Shocks!J113)-Shocks!K113+Extrapolation!T116, 5))","v":2.3650000000000001E-2}]
[103,2.921145015003157E-2,{"$f":"ROUND(B115*(1+Shocks!H114)+Shocks!I114,5)","v":3.5049999999999998E-2},{"$f":"MAX(ROUND(B115*(1-Shocks!F114)-Shocks!G114,5), -1.25%)","v":2.3369999999999998E-2},{"$f":"IF(Extrapolation!FSP >= 15, ROUND(B115*(1+Shocks!H114)+Shocks!I114,5), ROUND(B115*(1+Shocks!L114)+Shocks!M114,5))","v":3.5049999999999998E-2},{"$f":"IF(Extrapolation!FSP >= 15, ROUND(B115*(1-Shocks!F114)-Shocks!G114,5),  ROUND(B115*(1-Shocks!J114)-Shocks!K114,5))","v":2.3369999999999998E-2},null,2.956046779795285E-2,{"$f":"ROUND(B115*(1+Shocks!H114)+Shocks!I114,5)+Extrapolation!T117","v":3.5399017647921277E-2},{"$f":"MAX(ROUND(B115*(1-Shocks!F114)-Shocks!G114,5)+Extrapolation!T117, -1.25%)","v":2.3719017647921278E-2},{"$f":"IF(Extrapolation!FSP >= 15, ROUND(B115*(1+Shocks!H114)+Shocks!I114 + Extrapolation!T117, 5), ROUND(B115*(1+Shocks!L114)+Shocks!M114 + Extrapolation!T117,5))","v":3.5400000000000001E-2},{"$f":"IF(Extrapolation!FSP >= 15, ROUND(B115*(1-Shocks!F114)-Shocks!G114+Extrapolation!T117, 5), ROUND(B115*(1-Shocks!J114)-Shocks!K114+Extrapolation!T117, 5))","v":2.3720000000000001E-2}]
[104,2.9305057279736868E-2,{"$f":"ROUND(B116*(1+Shocks!H115)+Shocks!I115,5)","v":3.517E-2},{"$f":"MAX(ROUND(B116*(1-Shocks!F115)-Shocks!G115,5), -1.25%)","v":2.3439999999999999E-2},{"$f":"IF(Extrapolation!FSP >= 15, ROUND(B116*(1+Shocks!H115)+Shocks!I115,5), ROUND(B116*(1+Shocks!L115)+Shocks!M115,5))","v":3.517E-2},{"$f":"IF(Extrapolation!FSP >= 15, ROUND(B116*(1-Shocks!F115)-Shocks!G115,5),  ROUND(B116*(1-Shocks!J115)-Shocks!K115,5))","v":2.3439999999999999E-2},null,2.9650751021383259E-2,{"$f":"ROUND(B116*(1+Shocks!H115)+Shocks!I115,5)+Extrapolation!T118","v":3.5515693741646391E-2},{"$f":"MAX(ROUND(B116*(1-Shocks!F115)-Shocks!G115,5)+Extrapolation!T118, -1.25%)","v":2.378569374164639E-2},{"$f":"IF(Extrapolation!FSP >= 15, ROUND(B116*(1+Shocks!H115)+Shocks!I115 + Extrapolation!T118, 5), ROUND(B116*(1+Shocks!L115)+Shocks!M115 + Extrapolation!T118,5))","v":3.551E-2},{"$f":"IF(Extrapolation!FSP >= 15, ROUND(B116*(1-Shocks!F115)-Shocks!G115+Extrapolation!T118, 5), ROUND(B116*(1-Shocks!J115)-Shocks!K115+Extrapolation!T118, 5))","v":2.3789999999999999E-2}]
[105,2.9396896573938847E-2,{"$f":"ROUND(B117*(1+Shocks!H116)+Shocks!I116,5)","v":3.5279999999999999E-2},{"$f":"MAX(ROUND(B117*(1-Shocks!F116)-Shocks!G116,5), -1.25%)","v":2.3519999999999999E-2},{"$f":"IF(Extrapolation!FSP >= 15, ROUND(B117*(1+Shocks!H116)+Shocks!I116,5), ROUND(B117*(1+Shocks!L116)+Shocks!M116,5))","v":3.5279999999999999E-2},{"$f":"IF(Extrapolation!FSP >= 15, ROUND(B117*(1-Shocks!F116)-Shocks!G116,5),  ROUND(B117*(1-Shocks!J116)-Shocks!K116,5))","v":2.3519999999999999E-2},null,2.9739329035296747E-2,{"$f":"ROUND(B117*(1+Shocks!H116)+Shocks!I116,5)+Extrapolation!T119","v":3.5622432461357899E-2},{"$f":"MAX(ROUND(B117*(1-Shocks!F116)-Shocks!G116,5)+Extrapolation!T119, -1.25%)","v":2.3862432461357899E-2},{"$f":"IF(Extrapolation!FSP >= 15, ROUND(B117*(1+Shocks!H116)+Shocks!I116 + Extrapolation!T119, 5), ROUND(B117*(1+Shocks!L116)+Shocks!M116 + Extrapolation!T119,5))","v":3.5619999999999999E-2},{"$f":"IF(Extrapolation!FSP >= 15, ROUND(B117*(1-Shocks!F116)-Shocks!G116+Extrapolation!T119, 5), ROUND(B117*(1-Shocks!J116)-Shocks!K116+Extrapolation!T119, 5))","v":2.3859999999999999E-2}]
[106,2.9487017187195486E-2,{"$f":"ROUND(B118*(1+Shocks!H117)+Shocks!I117,5)","v":3.5380000000000002E-2},{"$f":"MAX(ROUND(B118*(1-Shocks!F117)-Shocks!G117,5), -1.25%)","v":2.359E-2},{"$f":"IF(Extrapolation!FSP >= 15, ROUND(B118*(1+Shocks!H117)+Shocks!I117,5), ROUND(B118*(1+Shocks!L117)+Shocks!M117,5))","v":3.5380000000000002E-2},{"$f":"IF(Extrapolation!FSP >= 15, ROUND(B118*(1-Shocks!F117)-Shocks!G117,5),  ROUND(B118*(1-Shocks!J117)-Shocks!K117,5))","v":2.359E-2},null,2.9826249247981718E-2,{"$f":"ROUND(B118*(1+Shocks!H117)+Shocks!I117,5)+Extrapolation!T120","v":3.5719232060786234E-2},{"$f":"MAX(ROUND(B118*(1-Shocks!F117)-Shocks!G117,5)+Extrapolation!T120, -1.25%)","v":2.3929232060786232E-2},{"$f":"IF(Extrapolation!FSP >= 15, ROUND(B118*(1+Shocks!H117)+Shocks!I117 + Extrapolation!T120, 5), ROUND(B118*(1+Shocks!L117)+Shocks!M117 + Extrapolation!T120,5))","v":3.5720000000000002E-2},{"$f":"IF(Extrapolation!FSP >= 15, ROUND(B118*(1-Shocks!F117)-Shocks!G117+Extrapolation!T120, 5), ROUND(B118*(1-Shocks!J117)-Shocks!K117+Extrapolation!T120, 5))","v":2.393E-2}]
[107,2.9575466505961101E-2,{"$f":"ROUND(B119*(1+Shocks!H118)+Shocks!I118,5)","v":3.5490000000000001E-2},{"$f":"MAX(ROUND(B119*(1-Shocks!F118)-Shocks!G118,5), -1.25%)","v":2.366E-2},{"$f":"IF(Extrapolation!FSP >= 15, ROUND(B119*(1+Shocks!H118)+Shocks!I118,5), ROUND(B119*(1+Shocks!L118)+Shocks!M118,5))","v":3.5490000000000001E-2},{"$f":"IF(Extrapolation!FSP >= 15, ROUND(B119*(1-Shocks!F118)-Shocks!G118,5),  ROUND(B119*(1-Shocks!J118)-Shocks!K118,5))","v":2.366E-2},null,2.9911557363371033E-2,{"$f":"ROUND(B119*(1+Shocks!H118)+Shocks!I118,5)+Extrapolation!T121","v":3.5826090857409933E-2},{"$f":"MAX(ROUND(B119*(1-Shocks!F118)-Shocks!G118,5)+Extrapolation!T121, -1.25%)","v":2.3996090857409932E-2},{"$f":"IF(Extrapolation!FSP >= 15, ROUND(B119*(1+Shocks!H118)+Shocks!I118 + Extrapolation!T121, 5), ROUND(B119*(1+Shocks!L118)+Shocks!M118 + Extrapolation!T121,5))","v":3.5830000000000001E-2},{"$f":"IF(Extrapolation!FSP >= 15, ROUND(B119*(1-Shocks!F118)-Shocks!G118+Extrapolation!T121, 5), ROUND(B119*(1-Shocks!J118)-Shocks!K118+Extrapolation!T121, 5))","v":2.4E-2}]
[108,2.9662290224319543E-2,{"$f":"ROUND(B120*(1+Shocks!H119)+Shocks!I119,5)","v":3.5589999999999997E-2},{"$f":"MAX(ROUND(B120*(1-Shocks!F119)-Shocks!G119,5), -1.25%)","v":2.3730000000000001E-2},{"$f":"IF(Extrapolation!FSP >= 15, ROUND(B120*(1+Shocks!H119)+Shocks!I119,5), ROUND(B120*(1+Shocks!L119)+Shocks!M119,5))","v":3.5589999999999997E-2},{"$f":"IF(Extrapolation!FSP >= 15, ROUND(B120*(1-Shocks!F119)-Shocks!G119,5),  ROUND(B120*(1-Shocks!J119)-Shocks!K119,5))","v":2.3730000000000001E-2},null,2.9995297453939695E-2,{"$f":"ROUND(B120*(1+Shocks!H119)+Shocks!I119,5)+Extrapolation!T122","v":3.5923007229620149E-2},{"$f":"MAX(ROUND(B120*(1-Shocks!F119)-Shocks!G119,5)+Extrapolation!T122, -1.25%)","v":2.4063007229620154E-2},{"$f":"IF(Extrapolation!FSP >= 15, ROUND(B120*(1+Shocks!H119)+Shocks!I119 + Extrapolation!T122, 5), ROUND(B120*(1+Shocks!L119)+Shocks!M119 + Extrapolation!T122,5))","v":3.5929999999999997E-2},{"$f":"IF(Extrapolation!FSP >= 15, ROUND(B120*(1-Shocks!F119)-Shocks!G119+Extrapolation!T122, 5), ROUND(B120*(1-Shocks!J119)-Shocks!K119+Extrapolation!T122, 5))","v":2.4060000000000002E-2}]
[109,2.9747532416110722E-2,{"$f":"ROUND(B121*(1+Shocks!H120)+Shocks!I120,5)","v":3.5700000000000003E-2},{"$f":"MAX(ROUND(B121*(1-Shocks!F120)-Shocks!G120,5), -1.25%)","v":2.3800000000000002E-2},{"$f":"IF(Extrapolation!FSP >= 15, ROUND(B121*(1+Shocks!H120)+Shocks!I120,5), ROUND(B121*(1+Shocks!L120)+Shocks!M120,5))","v":3.5700000000000003E-2},{"$f":"IF(Extrapolation!FSP >= 15, ROUND(B121*(1-Shocks!F120)-Shocks!G120,5),  ROUND(B121*(1-Shocks!J120)-Shocks!K120,5))","v":2.3800000000000002E-2},null,3.0077512030141529E-2,{"$f":"ROUND(B121*(1+Shocks!H120)+Shocks!I120,5)+Extrapolation!T123","v":3.6029979614030809E-2},{"$f":"MAX(ROUND(B121*(1-Shocks!F120)-Shocks!G120,5)+Extrapolation!T123, -1.25%)","v":2.4129979614030808E-2},{"$f":"IF(Extrapolation!FSP >= 15, ROUND(B121*(1+Shocks!H120)+Shocks!I120 + Extrapolation!T123, 5), ROUND(B121*(1+Shocks!L120)+Shocks!M120 + Extrapolation!T123,5))","v":3.603E-2},{"$f":"IF(Extrapolation!FSP >= 15, ROUND(B121*(1-Shocks!F120)-Shocks!G120+Extrapolation!T123, 5), ROUND(B121*(1-Shocks!J120)-Shocks!K120+Extrapolation!T123, 5))","v":2.4129999999999999E-2}]
[110,2.9831235603625217E-2,{"$f":"ROUND(B122*(1+Shocks!H121)+Shocks!I121,5)","v":3.5799999999999998E-2},{"$f":"MAX(ROUND(B122*(1-Shocks!F121)-Shocks!G121,5), -1.25%)","v":2.3859999999999999E-2},{"$f":"IF(Extrapolation!FSP >= 15, ROUND(B122*(1+Shocks!H121)+Shocks!I121,5), ROUND(B122*(1+Shocks!L121)+Shocks!M121,5))","v":3.5799999999999998E-2},{"$f":"IF(Extrapolation!FSP >= 15, ROUND(B122*(1-Shocks!F121)-Shocks!G121,5),  ROUND(B122*(1-Shocks!J121)-Shocks!K121,5))","v":2.3859999999999999E-2},null,3.0158242106551825E-2,{"$f":"ROUND(B122*(1+Shocks!H121)+Shocks!I121,5)+Extrapolation!T124","v":3.6127006502926606E-2},{"$f":"MAX(ROUND(B122*(1-Shocks!F121)-Shocks!G121,5)+Extrapolation!T124, -1.25%)","v":2.4187006502926607E-2},{"$f":"IF(Extrapolation!FSP >= 15, ROUND(B122*(1+Shocks!H121)+Shocks!I121 + Extrapolation!T124, 5), ROUND(B122*(1+Shocks!L121)+Shocks!M121 + Extrapolation!T124,5))","v":3.6119999999999999E-2},{"$f":"IF(Extrapolation!FSP >= 15, ROUND(B122*(1-Shocks!F121)-Shocks!G121+Extrapolation!T124, 5), ROUND(B122*(1-Shocks!J121)-Shocks!K121+Extrapolation!T124, 5))","v":2.419E-2}]
[111,2.9913440823039705E-2,{"$f":"ROUND(B123*(1+Shocks!H122)+Shocks!I122,5)","v":3.5900000000000001E-2},{"$f":"MAX(ROUND(B123*(1-Shocks!F122)-Shocks!G122,5), -1.25%)","v":2.393E-2},{"$f":"IF(Extrapolation!FSP >= 15, ROUND(B123*(1+Shocks!H122)+Shocks!I122,5), ROUND(B123*(1+Shocks!L122)+Shocks!M122,5))","v":3.5900000000000001E-2},{"$f":"IF(Extrapolation!FSP >= 15, ROUND(B123*(1-Shocks!F122)-Shocks!G122,5),  ROUND(B123*(1-Shocks!J122)-Shocks!K122,5))","v":2.393E-2},null,3.0237527264879605E-2,{"$f":"ROUND(B123*(1+Shocks!H122)+Shocks!I122,5)+Extrapolation!T125","v":3.6224086441839901E-2},{"$f":"MAX(ROUND(B123*(1-Shocks!F122)-Shocks!G122,5)+Extrapolation!T125, -1.25%)","v":2.4254086441839899E-2},{"$f":"IF(Extrapolation!FSP >= 15, ROUND(B123*(1+Shocks!H122)+Shocks!I122 + Extrapolation!T125, 5), ROUND(B123*(1+Shocks!L122)+Shocks!M122 + Extrapolation!T125,5))","v":3.6220000000000002E-2},{"$f":"IF(Extrapolation!FSP >= 15, ROUND(B123*(1-Shocks!F122)-Shocks!G122+Extrapolation!T125, 5), ROUND(B123*(1-Shocks!J122)-Shocks!K122+Extrapolation!T125, 5))","v":2.4250000000000001E-2}]
[112,2.9994187686749774E-2,{"$f":"ROUND(B124*(1+Shocks!H123)+Shocks!I123,5)","v":3.5990000000000001E-2},{"$f":"MAX(ROUND(B124*(1-Shocks!F123)-Shocks!G123,5), -1.25%)","v":2.4E-2},{"$f":"IF(Extrapolation!FSP >= 15, ROUND(B124*(1+Shocks!H123)+Shocks!I123,5), ROUND(B124*(1+Shocks!L123)+Shocks!M123,5))","v":3.5990000000000001E-2},{"$f":"IF(Extrapolation!FSP >= 15, ROUND(B124*(1-Shocks!F123)-Shocks!G123,5),  ROUND(B124*(1-Shocks!J123)-Shocks!K123,5))","v":2.4E-2},null,3.0315405714003152E-2,{"$f":"ROUND(B124*(1+Shocks!H123)+Shocks!I123,5)+Extrapolation!T126","v":3.6311218027253379E-2},{"$f":"MAX(ROUND(B124*(1-Shocks!F123)-Shocks!G123,5)+Extrapolation!T126, -1.25%)","v":2.4321218027253379E-2},{"$f":"IF(Extrapolation!FSP >= 15, ROUND(B124*(1+Shocks!H123)+Shocks!I123 + Extrapolation!T126, 5), ROUND(B124*(1+Shocks!L123)+Shocks!M123 + Extrapolation!T126,5))","v":3.6310000000000002E-2},{"$f":"IF(Extrapolation!FSP >= 15, ROUND(B124*(1-Shocks!F123)-Shocks!G123+Extrapolation!T126, 5), ROUND(B124*(1-Shocks!J123)-Shocks!K123+Extrapolation!T126, 5))","v":2.4320000000000001E-2}]
[113,3.0073514442761295E-2,{"$f":"ROUND(B125*(1+Shocks!H124)+Shocks!I124,5)","v":3.6089999999999997E-2},{"$f":"MAX(ROUND(B125*(1-Shocks!F124)-Shocks!G124,5), -1.25%)","v":2.4060000000000002E-2},{"$f":"IF(Extrapolation!FSP >= 15, ROUND(B125*(1+Shocks!H124)+Shocks!I124,5), ROUND(B125*(1+Shocks!L124)+Shocks!M124,5))","v":3.6089999999999997E-2},{"$f":"IF(Extrapolation!FSP >= 15, ROUND(B125*(1-Shocks!F124)-Shocks!G124,5),  ROUND(B125*(1-Shocks!J124)-Shocks!K124,5))","v":2.4060000000000002E-2},null,3.0391914347176474E-2,{"$f":"ROUND(B125*(1+Shocks!H124)+Shocks!I124,5)+Extrapolation!T127","v":3.6408399904415176E-2},{"$f":"MAX(ROUND(B125*(1-Shocks!F124)-Shocks!G124,5)+Extrapolation!T127, -1.25%)","v":2.437839990441518E-2},{"$f":"IF(Extrapolation!FSP >= 15, ROUND(B125*(1+Shocks!H124)+Shocks!I124 + Extrapolation!T127, 5), ROUND(B125*(1+Shocks!L124)+Shocks!M124 + Extrapolation!T127,5))","v":3.6409999999999998E-2},{"$f":"IF(Extrapolation!FSP >= 15, ROUND(B125*(1-Shocks!F124)-Shocks!G124+Extrapolation!T127, 5), ROUND(B125*(1-Shocks!J124)-Shocks!K124+Extrapolation!T127, 5))","v":2.4379999999999999E-2}]
[114,3.0151458031281608E-2,{"$f":"ROUND(B126*(1+Shocks!H125)+Shocks!I125,5)","v":3.6179999999999997E-2},{"$f":"MAX(ROUND(B126*(1-Shocks!F125)-Shocks!G125,5), -1.25%)","v":2.4119999999999999E-2},{"$f":"IF(Extrapolation!FSP >= 15, ROUND(B126*(1+Shocks!H125)+Shocks!I125,5), ROUND(B126*(1+Shocks!L125)+Shocks!M125,5))","v":3.6179999999999997E-2},{"$f":"IF(Extrapolation!FSP >= 15, ROUND(B126*(1-Shocks!F125)-Shocks!G125,5),  ROUND(B126*(1-Shocks!J125)-Shocks!K125,5))","v":2.4119999999999999E-2},null,3.046708879654525E-2,{"$f":"ROUND(B126*(1+Shocks!H125)+Shocks!I125,5)+Extrapolation!T128","v":3.6495630765263638E-2},{"$f":"MAX(ROUND(B126*(1-Shocks!F125)-Shocks!G125,5)+Extrapolation!T128, -1.25%)","v":2.4435630765263641E-2},{"$f":"IF(Extrapolation!FSP >= 15, ROUND(B126*(1+Shocks!H125)+Shocks!I125 + Extrapolation!T128, 5), ROUND(B126*(1+Shocks!L125)+Shocks!M125 + Extrapolation!T128,5))","v":3.6499999999999998E-2},{"$f":"IF(Extrapolation!FSP >= 15, ROUND(B126*(1-Shocks!F125)-Shocks!G125+Extrapolation!T128, 5), ROUND(B126*(1-Shocks!J125)-Shocks!K125+Extrapolation!T128, 5))","v":2.444E-2}]
[115,3.022805413865326E-2,{"$f":"ROUND(B127*(1+Shocks!H126)+Shocks!I126,5)","v":3.6269999999999997E-2},{"$f":"MAX(ROUND(B127*(1-Shocks!F126)-Shocks!G126,5), -1.25%)","v":2.418E-2},{"$f":"IF(Extrapolation!FSP >= 15, ROUND(B127*(1+Shocks!H126)+Shocks!I126,5), ROUND(B127*(1+Shocks!L126)+Shocks!M126,5))","v":3.6269999999999997E-2},{"$f":"IF(Extrapolation!FSP >= 15, ROUND(B127*(1-Shocks!F126)-Shocks!G126,5),  ROUND(B127*(1-Shocks!J126)-Shocks!K126,5))","v":2.418E-2},null,3.0540963485110817E-2,{"$f":"ROUND(B127*(1+Shocks!H126)+Shocks!I126,5)+Extrapolation!T129","v":3.6582909346457554E-2},{"$f":"MAX(ROUND(B127*(1-Shocks!F126)-Shocks!G126,5)+Extrapolation!T129, -1.25%)","v":2.4492909346457557E-2},{"$f":"IF(Extrapolation!FSP >= 15, ROUND(B127*(1+Shocks!H126)+Shocks!I126 + Extrapolation!T129, 5), ROUND(B127*(1+Shocks!L126)+Shocks!M126 + Extrapolation!T129,5))","v":3.6589999999999998E-2},{"$f":"IF(Extrapolation!FSP >= 15, ROUND(B127*(1-Shocks!F126)-Shocks!G126+Extrapolation!T129, 5), ROUND(B127*(1-Shocks!J126)-Shocks!K126+Extrapolation!T129, 5))","v":2.4500000000000001E-2}]
[116,3.0303337248763329E-2,{"$f":"ROUND(B128*(1+Shocks!H127)+Shocks!I127,5)","v":3.6360000000000003E-2},{"$f":"MAX(ROUND(B128*(1-Shocks!F127)-Shocks!G127,5), -1.25%)","v":2.4240000000000001E-2},{"$f":"IF(Extrapolation!FSP >= 15, ROUND(B128*(1+Shocks!H127)+Shocks!I127,5), ROUND(B128*(1+Shocks!L127)+Shocks!M127,5))","v":3.6360000000000003E-2},{"$f":"IF(Extrapolation!FSP >= 15, ROUND(B128*(1-Shocks!F127)-Shocks!G127,5),  ROUND(B128*(1-Shocks!J127)-Shocks!K127,5))","v":2.4240000000000001E-2},null,3.0613571676264328E-2,{"$f":"ROUND(B128*(1+Shocks!H127)+Shocks!I127,5)+Extrapolation!T130","v":3.6670234427501003E-2},{"$f":"MAX(ROUND(B128*(1-Shocks!F127)-Shocks!G127,5)+Extrapolation!T130, -1.25%)","v":2.4550234427501001E-2},{"$f":"IF(Extrapolation!FSP >= 15, ROUND(B128*(1+Shocks!H127)+Shocks!I127 + Extrapolation!T130, 5), ROUND(B128*(1+Shocks!L127)+Shocks!M127 + Extrapolation!T130,5))","v":3.6670000000000001E-2},{"$f":"IF(Extrapolation!FSP >= 15, ROUND(B128*(1-Shocks!F127)-Shocks!G127+Extrapolation!T130, 5), ROUND(B128*(1-Shocks!J127)-Shocks!K127+Extrapolation!T130, 5))","v":2.4549999999999999E-2}]
[117,3.0377340692054222E-2,{"$f":"ROUND(B129*(1+Shocks!H128)+Shocks!I128,5)","v":3.6450000000000003E-2},{"$f":"MAX(ROUND(B129*(1-Shocks!F128)-Shocks!G128,5), -1.25%)","v":2.4299999999999999E-2},{"$f":"IF(Extrapolation!FSP >= 15, ROUND(B129*(1+Shocks!H128)+Shocks!I128,5), ROUND(B129*(1+Shocks!L128)+Shocks!M128,5))","v":3.6450000000000003E-2},{"$f":"IF(Extrapolation!FSP >= 15, ROUND(B129*(1-Shocks!F128)-Shocks!G128,5),  ROUND(B129*(1-Shocks!J128)-Shocks!K128,5))","v":2.4299999999999999E-2},null,3.0684945521014972E-2,{"$f":"ROUND(B129*(1+Shocks!H128)+Shocks!I128,5)+Extrapolation!T131","v":3.6757604828960753E-2},{"$f":"MAX(ROUND(B129*(1-Shocks!F128)-Shocks!G128,5)+Extrapolation!T131, -1.25%)","v":2.4607604828960749E-2},{"$f":"IF(Extrapolation!FSP >= 15, ROUND(B129*(1+Shocks!H128)+Shocks!I128 + Extrapolation!T131, 5), ROUND(B129*(1+Shocks!L128)+Shocks!M128 + Extrapolation!T131,5))","v":3.6760000000000001E-2},{"$f":"IF(Extrapolation!FSP >= 15, ROUND(B129*(1-Shocks!F128)-Shocks!G128+Extrapolation!T131, 5), ROUND(B129*(1-Shocks!J128)-Shocks!K128+Extrapolation!T131, 5))","v":2.461E-2}]
[118,3.0450096692256512E-2,{"$f":"ROUND(B130*(1+Shocks!H129)+Shocks!I129,5)","v":3.6540000000000003E-2},{"$f":"MAX(ROUND(B130*(1-Shocks!F129)-Shocks!G129,5), -1.25%)","v":2.436E-2},{"$f":"IF(Extrapolation!FSP >= 15, ROUND(B130*(1+Shocks!H129)+Shocks!I129,5), ROUND(B130*(1+Shocks!L129)+Shocks!M129,5))","v":3.6540000000000003E-2},{"$f":"IF(Extrapolation!FSP >= 15, ROUND(B130*(1-Shocks!F129)-Shocks!G129,5),  ROUND(B130*(1-Shocks!J129)-Shocks!K129,5))","v":2.436E-2},null,3.075511610302728E-2,{"$f":"ROUND(B130*(1+Shocks!H129)+Shocks!I129,5)+Extrapolation!T132","v":3.6845019410770771E-2},{"$f":"MAX(ROUND(B130*(1-Shocks!F129)-Shocks!G129,5)+Extrapolation!T132, -1.25%)","v":2.4665019410770768E-2},{"$f":"IF(Extrapolation!FSP >= 15, ROUND(B130*(1+Shocks!H129)+Shocks!I129 + Extrapolation!T132, 5), ROUND(B130*(1+Shocks!L129)+Shocks!M129 + Extrapolation!T132,5))","v":3.6850000000000001E-2},{"$f":"IF(Extrapolation!FSP >= 15, ROUND(B130*(1-Shocks!F129)-Shocks!G129+Extrapolation!T132, 5), ROUND(B130*(1-Shocks!J129)-Shocks!K129+Extrapolation!T132, 5))","v":2.4670000000000001E-2}]
[119,3.0521636410958175E-2,{"$f":"ROUND(B131*(1+Shocks!H130)+Shocks!I130,5)","v":3.6630000000000003E-2},{"$f":"MAX(ROUND(B131*(1-Shocks!F130)-Shocks!G130,5), -1.25%)","v":2.4420000000000001E-2},{"$f":"IF(Extrapolation!FSP >= 15, ROUND(B131*(1+Shocks!H130)+Shocks!I130,5), ROUND(B131*(1+Shocks!L130)+Shocks!M130,5))","v":3.6630000000000003E-2},{"$f":"IF(Extrapolation!FSP >= 15, ROUND(B131*(1-Shocks!F130)-Shocks!G130,5),  ROUND(B131*(1-Shocks!J130)-Shocks!K130,5))","v":2.4420000000000001E-2},null,3.0824113481575877E-2,{"$f":"ROUND(B131*(1+Shocks!H130)+Shocks!I130,5)+Extrapolation!T133","v":3.6932477070617704E-2},{"$f":"MAX(ROUND(B131*(1-Shocks!F130)-Shocks!G130,5)+Extrapolation!T133, -1.25%)","v":2.4722477070617702E-2},{"$f":"IF(Extrapolation!FSP >= 15, ROUND(B131*(1+Shocks!H130)+Shocks!I130 + Extrapolation!T133, 5), ROUND(B131*(1+Shocks!L130)+Shocks!M130 + Extrapolation!T133,5))","v":3.6929999999999998E-2},{"$f":"IF(Extrapolation!FSP >= 15, ROUND(B131*(1-Shocks!F130)-Shocks!G130+Extrapolation!T133, 5), ROUND(B131*(1-Shocks!J130)-Shocks!K130+Extrapolation!T133, 5))","v":2.4719999999999999E-2}]
[120,3.059198999011814E-2,{"$f":"ROUND(B132*(1+Shocks!H131)+Shocks!I131,5)","v":3.671E-2},{"$f":"MAX(ROUND(B132*(1-Shocks!F131)-Shocks!G131,5), -1.25%)","v":2.4469999999999999E-2},{"$f":"IF(Extrapolation!FSP >= 15, ROUND(B132*(1+Shocks!H131)+Shocks!I131,5), ROUND(B132*(1+Shocks!L131)+Shocks!M131,5))","v":3.671E-2},{"$f":"IF(Extrapolation!FSP >= 15, ROUND(B132*(1-Shocks!F131)-Shocks!G131,5),  ROUND(B132*(1-Shocks!J131)-Shocks!K131,5))","v":2.4469999999999999E-2},null,3.08919667325247E-2,{"$f":"ROUND(B132*(1+Shocks!H131)+Shocks!I131,5)+Extrapolation!T134","v":3.700997674240656E-2},{"$f":"MAX(ROUND(B132*(1-Shocks!F131)-Shocks!G131,5)+Extrapolation!T134, -1.25%)","v":2.4769976742406559E-2},{"$f":"IF(Extrapolation!FSP >= 15, ROUND(B132*(1+Shocks!H131)+Shocks!I131 + Extrapolation!T134, 5), ROUND(B132*(1+Shocks!L131)+Shocks!M131 + Extrapolation!T134,5))","v":3.7010000000000001E-2},{"$f":"IF(Extrapolation!FSP >= 15, ROUND(B132*(1-Shocks!F131)-Shocks!G131+Extrapolation!T134, 5), ROUND(B132*(1-Shocks!J131)-Shocks!K131+Extrapolation!T134, 5))","v":2.477E-2}]
[121,3.0661186592627843E-2,{"$f":"ROUND(B133*(1+Shocks!H132)+Shocks!I132,5)","v":3.6790000000000003E-2},{"$f":"MAX(ROUND(B133*(1-Shocks!F132)-Shocks!G132,5), -1.25%)","v":2.453E-2},{"$f":"IF(Extrapolation!FSP >= 15, ROUND(B133*(1+Shocks!H132)+Shocks!I132,5), ROUND(B133*(1+Shocks!L132)+Shocks!M132,5))","v":3.6790000000000003E-2},{"$f":"IF(Extrapolation!FSP >= 15, ROUND(B133*(1-Shocks!F132)-Shocks!G132,5),  ROUND(B133*(1-Shocks!J132)-Shocks!K132,5))","v":2.453E-2},null,3.0958703987423508E-2,{"$f":"ROUND(B133*(1+Shocks!H132)+Shocks!I132,5)+Extrapolation!T135","v":3.7087517394795669E-2},{"$f":"MAX(ROUND(B133*(1-Shocks!F132)-Shocks!G132,5)+Extrapolation!T135, -1.25%)","v":2.4827517394795665E-2},{"$f":"IF(Extrapolation!FSP >= 15, ROUND(B133*(1+Shocks!H132)+Shocks!I132 + Extrapolation!T135, 5), ROUND(B133*(1+Shocks!L132)+Shocks!M132 + Extrapolation!T135,5))","v":3.7089999999999998E-2},{"$f":"IF(Extrapolation!FSP >= 15, ROUND(B133*(1-Shocks!F132)-Shocks!G132+Extrapolation!T135, 5), ROUND(B133*(1-Shocks!J132)-Shocks!K132+Extrapolation!T135, 5))","v":2.4830000000000001E-2}]
[122,3.0729254441018483E-2,{"$f":"ROUND(B134*(1+Shocks!H133)+Shocks!I133,5)","v":3.6880000000000003E-2},{"$f":"MAX(ROUND(B134*(1-Shocks!F133)-Shocks!G133,5), -1.25%)","v":2.4580000000000001E-2},{"$f":"IF(Extrapolation!FSP >= 15, ROUND(B134*(1+Shocks!H133)+Shocks!I133,5), ROUND(B134*(1+Shocks!L133)+Shocks!M133,5))","v":3.6880000000000003E-2},{"$f":"IF(Extrapolation!FSP >= 15, ROUND(B134*(1-Shocks!F133)-Shocks!G133,5),  ROUND(B134*(1-Shocks!J133)-Shocks!K133,5))","v":2.4580000000000001E-2},null,3.1024352470822913E-2,{"$f":"ROUND(B134*(1+Shocks!H133)+Shocks!I133,5)+Extrapolation!T136","v":3.7175098029804433E-2},{"$f":"MAX(ROUND(B134*(1-Shocks!F133)-Shocks!G133,5)+Extrapolation!T136, -1.25%)","v":2.4875098029804431E-2},{"$f":"IF(Extrapolation!FSP >= 15, ROUND(B134*(1+Shocks!H133)+Shocks!I133 + Extrapolation!T136, 5), ROUND(B134*(1+Shocks!L133)+Shocks!M133 + Extrapolation!T136,5))","v":3.7170000000000002E-2},{"$f":"IF(Extrapolation!FSP >= 15, ROUND(B134*(1-Shocks!F133)-Shocks!G133+Extrapolation!T136, 5), ROUND(B134*(1-Shocks!J133)-Shocks!K133+Extrapolation!T136, 5))","v":2.4879999999999999E-2}]
[123,3.0796220854405254E-2,{"$f":"ROUND(B135*(1+Shocks!H134)+Shocks!I134,5)","v":3.696E-2},{"$f":"MAX(ROUND(B135*(1-Shocks!F134)-Shocks!G134,5), -1.25%)","v":2.4639999999999999E-2},{"$f":"IF(Extrapolation!FSP >= 15, ROUND(B135*(1+Shocks!H134)+Shocks!I134,5), ROUND(B135*(1+Shocks!L134)+Shocks!M134,5))","v":3.696E-2},{"$f":"IF(Extrapolation!FSP >= 15, ROUND(B135*(1-Shocks!F134)-Shocks!G134,5),  ROUND(B135*(1-Shocks!J134)-Shocks!K134,5))","v":2.4639999999999999E-2},null,3.108893853589012E-2,{"$f":"ROUND(B135*(1+Shocks!H134)+Shocks!I134,5)+Extrapolation!T137","v":3.7252717681484866E-2},{"$f":"MAX(ROUND(B135*(1-Shocks!F134)-Shocks!G134,5)+Extrapolation!T137, -1.25%)","v":2.4932717681484865E-2},{"$f":"IF(Extrapolation!FSP >= 15, ROUND(B135*(1+Shocks!H134)+Shocks!I134 + Extrapolation!T137, 5), ROUND(B135*(1+Shocks!L134)+Shocks!M134 + Extrapolation!T137,5))","v":3.7249999999999998E-2},{"$f":"IF(Extrapolation!FSP >= 15, ROUND(B135*(1-Shocks!F134)-Shocks!G134+Extrapolation!T137, 5), ROUND(B135*(1-Shocks!J134)-Shocks!K134+Extrapolation!T137, 5))","v":2.4930000000000001E-2}]
[124,3.0862112283758902E-2,{"$f":"ROUND(B136*(1+Shocks!H135)+Shocks!I135,5)","v":3.703E-2},{"$f":"MAX(ROUND(B136*(1-Shocks!F135)-Shocks!G135,5), -1.25%)","v":2.469E-2},{"$f":"IF(Extrapolation!FSP >= 15, ROUND(B136*(1+Shocks!H135)+Shocks!I135,5), ROUND(B136*(1+Shocks!L135)+Shocks!M135,5))","v":3.703E-2},{"$f":"IF(Extrapolation!FSP >= 15, ROUND(B136*(1-Shocks!F135)-Shocks!G135,5),  ROUND(B136*(1-Shocks!J135)-Shocks!K135,5))","v":2.469E-2},null,3.1152487698414832E-2,{"$f":"ROUND(B136*(1+Shocks!H135)+Shocks!I135,5)+Extrapolation!T138","v":3.7320375414655931E-2},{"$f":"MAX(ROUND(B136*(1-Shocks!F135)-Shocks!G135,5)+Extrapolation!T138, -1.25%)","v":2.498037541465593E-2},{"$f":"IF(Extrapolation!FSP >= 15, ROUND(B136*(1+Shocks!H135)+Shocks!I135 + Extrapolation!T138, 5), ROUND(B136*(1+Shocks!L135)+Shocks!M135 + Extrapolation!T138,5))","v":3.7319999999999999E-2},{"$f":"IF(Extrapolation!FSP >= 15, ROUND(B136*(1-Shocks!F135)-Shocks!G135+Extrapolation!T138, 5), ROUND(B136*(1-Shocks!J135)-Shocks!K135+Extrapolation!T138, 5))","v":2.4979999999999999E-2}]
[125,3.0926954345585012E-2,{"$f":"ROUND(B137*(1+Shocks!H136)+Shocks!I136,5)","v":3.7109999999999997E-2},{"$f":"MAX(ROUND(B137*(1-Shocks!F136)-Shocks!G136,5), -1.25%)","v":2.4740000000000002E-2},{"$f":"IF(Extrapolation!FSP >= 15, ROUND(B137*(1+Shocks!H136)+Shocks!I136,5), ROUND(B137*(1+Shocks!L136)+Shocks!M136,5))","v":3.7109999999999997E-2},{"$f":"IF(Extrapolation!FSP >= 15, ROUND(B137*(1-Shocks!F136)-Shocks!G136,5),  ROUND(B137*(1-Shocks!J136)-Shocks!K136,5))","v":2.4740000000000002E-2},null,3.1215024669281499E-2,{"$f":"ROUND(B137*(1+Shocks!H136)+Shocks!I136,5)+Extrapolation!T139","v":3.7398070323696485E-2},{"$f":"MAX(ROUND(B137*(1-Shocks!F136)-Shocks!G136,5)+Extrapolation!T139, -1.25%)","v":2.5028070323696489E-2},{"$f":"IF(Extrapolation!FSP >= 15, ROUND(B137*(1+Shocks!H136)+Shocks!I136 + Extrapolation!T139, 5), ROUND(B137*(1+Shocks!L136)+Shocks!M136 + Extrapolation!T139,5))","v":3.7400000000000003E-2},{"$f":"IF(Extrapolation!FSP >= 15, ROUND(B137*(1-Shocks!F136)-Shocks!G136+Extrapolation!T139, 5), ROUND(B137*(1-Shocks!J136)-Shocks!K136+Extrapolation!T139, 5))","v":2.503E-2}]
[126,3.0990771854093158E-2,{"$f":"ROUND(B138*(1+Shocks!H137)+Shocks!I137,5)","v":3.7190000000000001E-2},{"$f":"MAX(ROUND(B138*(1-Shocks!F137)-Shocks!G137,5), -1.25%)","v":2.479E-2},{"$f":"IF(Extrapolation!FSP >= 15, ROUND(B138*(1+Shocks!H137)+Shocks!I137,5), ROUND(B138*(1+Shocks!L137)+Shocks!M137,5))","v":3.7190000000000001E-2},{"$f":"IF(Extrapolation!FSP >= 15, ROUND(B138*(1-Shocks!F137)-Shocks!G137,5),  ROUND(B138*(1-Shocks!J137)-Shocks!K137,5))","v":2.479E-2},null,3.1276573385486284E-2,{"$f":"ROUND(B138*(1+Shocks!H137)+Shocks!I137,5)+Extrapolation!T140","v":3.7475801531393127E-2},{"$f":"MAX(ROUND(B138*(1-Shocks!F137)-Shocks!G137,5)+Extrapolation!T140, -1.25%)","v":2.5075801531393126E-2},{"$f":"IF(Extrapolation!FSP >= 15, ROUND(B138*(1+Shocks!H137)+Shocks!I137 + Extrapolation!T140, 5), ROUND(B138*(1+Shocks!L137)+Shocks!M137 + Extrapolation!T140,5))","v":3.7470000000000003E-2},{"$f":"IF(Extrapolation!FSP >= 15, ROUND(B138*(1-Shocks!F137)-Shocks!G137+Extrapolation!T140, 5), ROUND(B138*(1-Shocks!J137)-Shocks!K137+Extrapolation!T140, 5))","v":2.5080000000000002E-2}]
[127,3.1053588851927438E-2,{"$f":"ROUND(B139*(1+Shocks!H138)+Shocks!I138,5)","v":3.7260000000000001E-2},{"$f":"MAX(ROUND(B139*(1-Shocks!F138)-Shocks!G138,5), -1.25%)","v":2.4840000000000001E-2},{"$f":"IF(Extrapolation!FSP >= 15, ROUND(B139*(1+Shocks!H138)+Shocks!I138,5), ROUND(B139*(1+Shocks!L138)+Shocks!M138,5))","v":3.7260000000000001E-2},{"$f":"IF(Extrapolation!FSP >= 15, ROUND(B139*(1-Shocks!F138)-Shocks!G138,5),  ROUND(B139*(1-Shocks!J138)-Shocks!K138,5))","v":2.4840000000000001E-2},null,3.1337157039770691E-2,{"$f":"ROUND(B139*(1+Shocks!H138)+Shocks!I138,5)+Extrapolation!T141","v":3.7543568187843254E-2},{"$f":"MAX(ROUND(B139*(1-Shocks!F138)-Shocks!G138,5)+Extrapolation!T141, -1.25%)","v":2.5123568187843254E-2},{"$f":"IF(Extrapolation!FSP >= 15, ROUND(B139*(1+Shocks!H138)+Shocks!I138 + Extrapolation!T141, 5), ROUND(B139*(1+Shocks!L138)+Shocks!M138 + Extrapolation!T141,5))","v":3.755E-2},{"$f":"IF(Extrapolation!FSP >= 15, ROUND(B139*(1-Shocks!F138)-Shocks!G138+Extrapolation!T141, 5), ROUND(B139*(1-Shocks!J138)-Shocks!K138+Extrapolation!T141, 5))","v":2.513E-2}]
[128,3.1115428639532539E-2,{"$f":"ROUND(B140*(1+Shocks!H139)+Shocks!I139,5)","v":3.7339999999999998E-2},{"$f":"MAX(ROUND(B140*(1-Shocks!F139)-Shocks!G139,5), -1.25%)","v":2.4889999999999999E-2},{"$f":"IF(Extrapolation!FSP >= 15, ROUND(B140*(1+Shocks!H139)+Shocks!I139,5), ROUND(B140*(1+Shocks!L139)+Shocks!M139,5))","v":3.7339999999999998E-2},{"$f":"IF(Extrapolation!FSP >= 15, ROUND(B140*(1-Shocks!F139)-Shocks!G139,5),  ROUND(B140*(1-Shocks!J139)-Shocks!K139,5))","v":2.4889999999999999E-2},null,3.1396798108937807E-2,{"$f":"ROUND(B140*(1+Shocks!H139)+Shocks!I139,5)+Extrapolation!T142","v":3.7621369469405266E-2},{"$f":"MAX(ROUND(B140*(1-Shocks!F139)-Shocks!G139,5)+Extrapolation!T142, -1.25%)","v":2.5171369469405267E-2},{"$f":"IF(Extrapolation!FSP >= 15, ROUND(B140*(1+Shocks!H139)+Shocks!I139 + Extrapolation!T142, 5), ROUND(B140*(1+Shocks!L139)+Shocks!M139 + Extrapolation!T142,5))","v":3.7620000000000001E-2},{"$f":"IF(Extrapolation!FSP >= 15, ROUND(B140*(1-Shocks!F139)-Shocks!G139+Extrapolation!T142, 5), ROUND(B140*(1-Shocks!J139)-Shocks!K139+Extrapolation!T142, 5))","v":2.5170000000000001E-2}]
[129,3.1176313803221278E-2,{"$f":"ROUND(B141*(1+Shocks!H140)+Shocks!I140,5)","v":3.7409999999999999E-2},{"$f":"MAX(ROUND(B141*(1-Shocks!F140)-Shocks!G140,5), -1.25%)","v":2.494E-2},{"$f":"IF(Extrapolation!FSP >= 15, ROUND(B141*(1+Shocks!H140)+Shocks!I140,5), ROUND(B141*(1+Shocks!L140)+Shocks!M140,5))","v":3.7409999999999999E-2},{"$f":"IF(Extrapolation!FSP >= 15, ROUND(B141*(1-Shocks!F140)-Shocks!G140,5),  ROUND(B141*(1-Shocks!J140)-Shocks!K140,5))","v":2.494E-2},null,3.1455518380919312E-2,{"$f":"ROUND(B141*(1+Shocks!H140)+Shocks!I140,5)+Extrapolation!T143","v":3.7689204577698032E-2},{"$f":"MAX(ROUND(B141*(1-Shocks!F140)-Shocks!G140,5)+Extrapolation!T143, -1.25%)","v":2.5219204577698034E-2},{"$f":"IF(Extrapolation!FSP >= 15, ROUND(B141*(1+Shocks!H140)+Shocks!I140 + Extrapolation!T143, 5), ROUND(B141*(1+Shocks!L140)+Shocks!M140 + Extrapolation!T143,5))","v":3.7690000000000001E-2},{"$f":"IF(Extrapolation!FSP >= 15, ROUND(B141*(1-Shocks!F140)-Shocks!G140+Extrapolation!T143, 5), ROUND(B141*(1-Shocks!J140)-Shocks!K140+Extrapolation!T143, 5))","v":2.5219999999999999E-2}]
[130,3.1236266242006261E-2,{"$f":"ROUND(B142*(1+Shocks!H141)+Shocks!I141,5)","v":3.7479999999999999E-2},{"$f":"MAX(ROUND(B142*(1-Shocks!F141)-Shocks!G141,5), -1.25%)","v":2.4989999999999998E-2},{"$f":"IF(Extrapolation!FSP >= 15, ROUND(B142*(1+Shocks!H141)+Shocks!I141,5), ROUND(B142*(1+Shocks!L141)+Shocks!M141,5))","v":3.7479999999999999E-2},{"$f":"IF(Extrapolation!FSP >= 15, ROUND(B142*(1-Shocks!F141)-Shocks!G141,5),  ROUND(B142*(1-Shocks!J141)-Shocks!K141,5))","v":2.4989999999999998E-2},null,3.1513338980650785E-2,{"$f":"ROUND(B142*(1+Shocks!H141)+Shocks!I141,5)+Extrapolation!T144","v":3.7757072738644523E-2},{"$f":"MAX(ROUND(B142*(1-Shocks!F141)-Shocks!G141,5)+Extrapolation!T144, -1.25%)","v":2.5267072738644522E-2},{"$f":"IF(Extrapolation!FSP >= 15, ROUND(B142*(1+Shocks!H141)+Shocks!I141 + Extrapolation!T144, 5), ROUND(B142*(1+Shocks!L141)+Shocks!M141 + Extrapolation!T144,5))","v":3.7760000000000002E-2},{"$f":"IF(Extrapolation!FSP >= 15, ROUND(B142*(1-Shocks!F141)-Shocks!G141+Extrapolation!T144, 5), ROUND(B142*(1-Shocks!J141)-Shocks!K141+Extrapolation!T144, 5))","v":2.5270000000000001E-2}]
[131,3.1295307193258237E-2,{"$f":"ROUND(B143*(1+Shocks!H142)+Shocks!I142,5)","v":3.755E-2},{"$f":"MAX(ROUND(B143*(1-Shocks!F142)-Shocks!G142,5), -1.25%)","v":2.504E-2},{"$f":"IF(Extrapolation!FSP >= 15, ROUND(B143*(1+Shocks!H142)+Shocks!I142,5), ROUND(B143*(1+Shocks!L142)+Shocks!M142,5))","v":3.755E-2},{"$f":"IF(Extrapolation!FSP >= 15, ROUND(B143*(1-Shocks!F142)-Shocks!G142,5),  ROUND(B143*(1-Shocks!J142)-Shocks!K142,5))","v":2.504E-2},null,3.1570280394816796E-2,{"$f":"ROUND(B143*(1+Shocks!H142)+Shocks!I142,5)+Extrapolation!T145","v":3.7824973201558559E-2},{"$f":"MAX(ROUND(B143*(1-Shocks!F142)-Shocks!G142,5)+Extrapolation!T145, -1.25%)","v":2.5314973201558559E-2},{"$f":"IF(Extrapolation!FSP >= 15, ROUND(B143*(1+Shocks!H142)+Shocks!I142 + Extrapolation!T145, 5), ROUND(B143*(1+Shocks!L142)+Shocks!M142 + Extrapolation!T145,5))","v":3.7830000000000003E-2},{"$f":"IF(Extrapolation!FSP >= 15, ROUND(B143*(1-Shocks!F142)-Shocks!G142+Extrapolation!T145, 5), ROUND(B143*(1-Shocks!J142)-Shocks!K142+Extrapolation!T145, 5))","v":2.5309999999999999E-2}]
[132,3.1353457257247364E-2,{"$f":"ROUND(B144*(1+Shocks!H143)+Shocks!I143,5)","v":3.7620000000000001E-2},{"$f":"MAX(ROUND(B144*(1-Shocks!F143)-Shocks!G143,5), -1.25%)","v":2.5080000000000002E-2},{"$f":"IF(Extrapolation!FSP >= 15, ROUND(B144*(1+Shocks!H143)+Shocks!I143,5), ROUND(B144*(1+Shocks!L143)+Shocks!M143,5))","v":3.7620000000000001E-2},{"$f":"IF(Extrapolation!FSP >= 15, ROUND(B144*(1-Shocks!F143)-Shocks!G143,5),  ROUND(B144*(1-Shocks!J143)-Shocks!K143,5))","v":2.5080000000000002E-2},null,3.1626362495519311E-2,{"$f":"ROUND(B144*(1+Shocks!H143)+Shocks!I143,5)+Extrapolation!T146","v":3.7892905238271948E-2},{"$f":"MAX(ROUND(B144*(1-Shocks!F143)-Shocks!G143,5)+Extrapolation!T146, -1.25%)","v":2.5352905238271949E-2},{"$f":"IF(Extrapolation!FSP >= 15, ROUND(B144*(1+Shocks!H143)+Shocks!I143 + Extrapolation!T146, 5), ROUND(B144*(1+Shocks!L143)+Shocks!M143 + Extrapolation!T146,5))","v":3.7900000000000003E-2},{"$f":"IF(Extrapolation!FSP >= 15, ROUND(B144*(1-Shocks!F143)-Shocks!G143+Extrapolation!T146, 5), ROUND(B144*(1-Shocks!J143)-Shocks!K143+Extrapolation!T146, 5))","v":2.5360000000000001E-2}]
[133,3.1410736420621532E-2,{"$f":"ROUND(B145*(1+Shocks!H144)+Shocks!I144,5)","v":3.7690000000000001E-2},{"$f":"MAX(ROUND(B145*(1-Shocks!F144)-Shocks!G144,5), -1.25%)","v":2.513E-2},{"$f":"IF(Extrapolation!FSP >= 15, ROUND(B145*(1+Shocks!H144)+Shocks!I144,5), ROUND(B145*(1+Shocks!L144)+Shocks!M144,5))","v":3.7690000000000001E-2},{"$f":"IF(Extrapolation!FSP >= 15, ROUND(B145*(1-Shocks!F144)-Shocks!G144,5),  ROUND(B145*(1-Shocks!J144)-Shocks!K144,5))","v":2.513E-2},null,3.1681604562922239E-2,{"$f":"ROUND(B145*(1+Shocks!H144)+Shocks!I144,5)+Extrapolation!T147","v":3.7960868142300708E-2},{"$f":"MAX(ROUND(B145*(1-Shocks!F144)-Shocks!G144,5)+Extrapolation!T147, -1.25%)","v":2.5400868142300706E-2},{"$f":"IF(Extrapolation!FSP >= 15, ROUND(B145*(1+Shocks!H144)+Shocks!I144 + Extrapolation!T147, 5), ROUND(B145*(1+Shocks!L144)+Shocks!M144 + Extrapolation!T147,5))","v":3.7960000000000001E-2},{"$f":"IF(Extrapolation!FSP >= 15, ROUND(B145*(1-Shocks!F144)-Shocks!G144+Extrapolation!T147, 5), ROUND(B145*(1-Shocks!J144)-Shocks!K144+Extrapolation!T147, 5))","v":2.5399999999999999E-2}]
[134,3.1467164078873955E-2,{"$f":"ROUND(B146*(1+Shocks!H145)+Shocks!I145,5)","v":3.7760000000000002E-2},{"$f":"MAX(ROUND(B146*(1-Shocks!F145)-Shocks!G145,5), -1.25%)","v":2.5170000000000001E-2},{"$f":"IF(Extrapolation!FSP >= 15, ROUND(B146*(1+Shocks!H145)+Shocks!I145,5), ROUND(B146*(1+Shocks!L145)+Shocks!M145,5))","v":3.7760000000000002E-2},{"$f":"IF(Extrapolation!FSP >= 15, ROUND(B146*(1-Shocks!F145)-Shocks!G145,5),  ROUND(B146*(1-Shocks!J145)-Shocks!K145,5))","v":2.5170000000000001E-2},null,3.1736025306919879E-2,{"$f":"ROUND(B146*(1+Shocks!H145)+Shocks!I145,5)+Extrapolation!T148","v":3.8028861228045927E-2},{"$f":"MAX(ROUND(B146*(1-Shocks!F145)-Shocks!G145,5)+Extrapolation!T148, -1.25%)","v":2.5438861228045926E-2},{"$f":"IF(Extrapolation!FSP >= 15, ROUND(B146*(1+Shocks!H145)+Shocks!I145 + Extrapolation!T148, 5), ROUND(B146*(1+Shocks!L145)+Shocks!M145 + Extrapolation!T148,5))","v":3.8030000000000001E-2},{"$f":"IF(Extrapolation!FSP >= 15, ROUND(B146*(1-Shocks!F145)-Shocks!G145+Extrapolation!T148, 5), ROUND(B146*(1-Shocks!J145)-Shocks!K145+Extrapolation!T148, 5))","v":2.5440000000000001E-2}]
[135,3.1522759057848404E-2,{"$f":"ROUND(B147*(1+Shocks!H146)+Shocks!I146,5)","v":3.7830000000000003E-2},{"$f":"MAX(ROUND(B147*(1-Shocks!F146)-Shocks!G146,5), -1.25%)","v":2.5219999999999999E-2},{"$f":"IF(Extrapolation!FSP >= 15, ROUND(B147*(1+Shocks!H146)+Shocks!I146,5), ROUND(B147*(1+Shocks!L146)+Shocks!M146,5))","v":3.7830000000000003E-2},{"$f":"IF(Extrapolation!FSP >= 15, ROUND(B147*(1-Shocks!F146)-Shocks!G146,5),  ROUND(B147*(1-Shocks!J146)-Shocks!K146,5))","v":2.5219999999999999E-2},null,3.1789642887879666E-2,{"$f":"ROUND(B147*(1+Shocks!H146)+Shocks!I146,5)+Extrapolation!T149","v":3.8096883830031264E-2},{"$f":"MAX(ROUND(B147*(1-Shocks!F146)-Shocks!G146,5)+Extrapolation!T149, -1.25%)","v":2.5486883830031261E-2},{"$f":"IF(Extrapolation!FSP >= 15, ROUND(B147*(1+Shocks!H146)+Shocks!I146 + Extrapolation!T149, 5), ROUND(B147*(1+Shocks!L146)+Shocks!M146 + Extrapolation!T149,5))","v":3.8089999999999999E-2},{"$f":"IF(Extrapolation!FSP >= 15, ROUND(B147*(1-Shocks!F146)-Shocks!G146+Extrapolation!T149, 5), ROUND(B147*(1-Shocks!J146)-Shocks!K146+Extrapolation!T149, 5))","v":2.5489999999999999E-2}]
[136,3.157753963432719E-2,{"$f":"ROUND(B148*(1+Shocks!H147)+Shocks!I147,5)","v":3.789E-2},{"$f":"MAX(ROUND(B148*(1-Shocks!F147)-Shocks!G147,5), -1.25%)","v":2.5260000000000001E-2},{"$f":"IF(Extrapolation!FSP >= 15, ROUND(B148*(1+Shocks!H147)+Shocks!I147,5), ROUND(B148*(1+Shocks!L147)+Shocks!M147,5))","v":3.789E-2},{"$f":"IF(Extrapolation!FSP >= 15, ROUND(B148*(1-Shocks!F147)-Shocks!G147,5),  ROUND(B148*(1-Shocks!J147)-Shocks!K147,5))","v":2.5260000000000001E-2},null,3.1842474936500498E-2,{"$f":"ROUND(B148*(1+Shocks!H147)+Shocks!I147,5)+Extrapolation!T150","v":3.8154935302173308E-2},{"$f":"MAX(ROUND(B148*(1-Shocks!F147)-Shocks!G147,5)+Extrapolation!T150, -1.25%)","v":2.5524935302173309E-2},{"$f":"IF(Extrapolation!FSP >= 15, ROUND(B148*(1+Shocks!H147)+Shocks!I147 + Extrapolation!T150, 5), ROUND(B148*(1+Shocks!L147)+Shocks!M147 + Extrapolation!T150,5))","v":3.8159999999999999E-2},{"$f":"IF(Extrapolation!FSP >= 15, ROUND(B148*(1-Shocks!F147)-Shocks!G147+Extrapolation!T150, 5), ROUND(B148*(1-Shocks!J147)-Shocks!K147+Extrapolation!T150, 5))","v":2.5530000000000001E-2}]
[137,3.163152355574983E-2,{"$f":"ROUND(B149*(1+Shocks!H148)+Shocks!I148,5)","v":3.7960000000000001E-2},{"$f":"MAX(ROUND(B149*(1-Shocks!F148)-Shocks!G148,5), -1.25%)","v":2.5309999999999999E-2},{"$f":"IF(Extrapolation!FSP >= 15, ROUND(B149*(1+Shocks!H148)+Shocks!I148,5), ROUND(B149*(1+Shocks!L148)+Shocks!M148,5))","v":3.7960000000000001E-2},{"$f":"IF(Extrapolation!FSP >= 15, ROUND(B149*(1-Shocks!F148)-Shocks!G148,5),  ROUND(B149*(1-Shocks!J148)-Shocks!K148,5))","v":2.5309999999999999E-2},null,3.1894538572831088E-2,{"$f":"ROUND(B149*(1+Shocks!H148)+Shocks!I148,5)+Extrapolation!T151","v":3.8223015017081259E-2},{"$f":"MAX(ROUND(B149*(1-Shocks!F148)-Shocks!G148,5)+Extrapolation!T151, -1.25%)","v":2.5573015017081258E-2},{"$f":"IF(Extrapolation!FSP >= 15, ROUND(B149*(1+Shocks!H148)+Shocks!I148 + Extrapolation!T151, 5), ROUND(B149*(1+Shocks!L148)+Shocks!M148 + Extrapolation!T151,5))","v":3.8219999999999997E-2},{"$f":"IF(Extrapolation!FSP >= 15, ROUND(B149*(1-Shocks!F148)-Shocks!G148+Extrapolation!T151, 5), ROUND(B149*(1-Shocks!J148)-Shocks!K148+Extrapolation!T151, 5))","v":2.5569999999999999E-2}]
[138,3.1684728059097278E-2,{"$f":"ROUND(B150*(1+Shocks!H149)+Shocks!I149,5)","v":3.8019999999999998E-2},{"$f":"MAX(ROUND(B150*(1-Shocks!F149)-Shocks!G149,5), -1.25%)","v":2.5350000000000001E-2},{"$f":"IF(Extrapolation!FSP >= 15, ROUND(B150*(1+Shocks!H149)+Shocks!I149,5), ROUND(B150*(1+Shocks!L149)+Shocks!M149,5))","v":3.8019999999999998E-2},{"$f":"IF(Extrapolation!FSP >= 15, ROUND(B150*(1-Shocks!F149)-Shocks!G149,5),  ROUND(B150*(1-Shocks!J149)-Shocks!K149,5))","v":2.5350000000000001E-2},null,3.1945850424487165E-2,{"$f":"ROUND(B150*(1+Shocks!H149)+Shocks!I149,5)+Extrapolation!T152","v":3.8281122365389886E-2},{"$f":"MAX(ROUND(B150*(1-Shocks!F149)-Shocks!G149,5)+Extrapolation!T152, -1.25%)","v":2.5611122365389889E-2},{"$f":"IF(Extrapolation!FSP >= 15, ROUND(B150*(1+Shocks!H149)+Shocks!I149 + Extrapolation!T152, 5), ROUND(B150*(1+Shocks!L149)+Shocks!M149 + Extrapolation!T152,5))","v":3.8280000000000002E-2},{"$f":"IF(Extrapolation!FSP >= 15, ROUND(B150*(1-Shocks!F149)-Shocks!G149+Extrapolation!T152, 5), ROUND(B150*(1-Shocks!J149)-Shocks!K149+Extrapolation!T152, 5))","v":2.5610000000000001E-2}]
[139,3.1737169888988781E-2,{"$f":"ROUND(B151*(1+Shocks!H150)+Shocks!I150,5)","v":3.8080000000000003E-2},{"$f":"MAX(ROUND(B151*(1-Shocks!F150)-Shocks!G150,5), -1.25%)","v":2.5389999999999999E-2},{"$f":"IF(Extrapolation!FSP >= 15, ROUND(B151*(1+Shocks!H150)+Shocks!I150,5), ROUND(B151*(1+Shocks!L150)+Shocks!M150,5))","v":3.8080000000000003E-2},{"$f":"IF(Extrapolation!FSP >= 15, ROUND(B151*(1-Shocks!F150)-Shocks!G150,5),  ROUND(B151*(1-Shocks!J150)-Shocks!K150,5))","v":2.5389999999999999E-2},null,3.1996426644105069E-2,{"$f":"ROUND(B151*(1+Shocks!H150)+Shocks!I150,5)+Extrapolation!T153","v":3.8339256755116291E-2},{"$f":"MAX(ROUND(B151*(1-Shocks!F150)-Shocks!G150,5)+Extrapolation!T153, -1.25%)","v":2.5649256755116288E-2},{"$f":"IF(Extrapolation!FSP >= 15, ROUND(B151*(1+Shocks!H150)+Shocks!I150 + Extrapolation!T153, 5), ROUND(B151*(1+Shocks!L150)+Shocks!M150 + Extrapolation!T153,5))","v":3.8339999999999999E-2},{"$f":"IF(Extrapolation!FSP >= 15, ROUND(B151*(1-Shocks!F150)-Shocks!G150+Extrapolation!T153, 5), ROUND(B151*(1-Shocks!J150)-Shocks!K150+Extrapolation!T153, 5))","v":2.5649999999999999E-2}]
[140,3.1788865315021786E-2,{"$f":"ROUND(B152*(1+Shocks!H151)+Shocks!I151,5)","v":3.8150000000000003E-2},{"$f":"MAX(ROUND(B152*(1-Shocks!F151)-Shocks!G151,5), -1.25%)","v":2.5430000000000001E-2},{"$f":"IF(Extrapolation!FSP >= 15, ROUND(B152*(1+Shocks!H151)+Shocks!I151,5), ROUND(B152*(1+Shocks!L151)+Shocks!M151,5))","v":3.8150000000000003E-2},{"$f":"IF(Extrapolation!FSP >= 15, ROUND(B152*(1-Shocks!F151)-Shocks!G151,5),  ROUND(B152*(1-Shocks!J151)-Shocks!K151,5))","v":2.5430000000000001E-2},null,3.2046282926071035E-2,{"$f":"ROUND(B152*(1+Shocks!H151)+Shocks!I151,5)+Extrapolation!T154","v":3.8407417611049252E-2},{"$f":"MAX(ROUND(B152*(1-Shocks!F151)-Shocks!G151,5)+Extrapolation!T154, -1.25%)","v":2.568741761104925E-2},{"$f":"IF(Extrapolation!FSP >= 15, ROUND(B152*(1+Shocks!H151)+Shocks!I151 + Extrapolation!T154, 5), ROUND(B152*(1+Shocks!L151)+Shocks!M151 + Extrapolation!T154,5))","v":3.8399999999999997E-2},{"$f":"IF(Extrapolation!FSP >= 15, ROUND(B152*(1-Shocks!F151)-Shocks!G151+Extrapolation!T154, 5), ROUND(B152*(1-Shocks!J151)-Shocks!K151+Extrapolation!T154, 5))","v":2.5690000000000001E-2}]
[141,3.1839830148396642E-2,{"$f":"ROUND(B153*(1+Shocks!H152)+Shocks!I152,5)","v":3.8210000000000001E-2},{"$f":"MAX(ROUND(B153*(1-Shocks!F152)-Shocks!G152,5), -1.25%)","v":2.547E-2},{"$f":"IF(Extrapolation!FSP >= 15, ROUND(B153*(1+Shocks!H152)+Shocks!I152,5), ROUND(B153*(1+Shocks!L152)+Shocks!M152,5))","v":3.8210000000000001E-2},{"$f":"IF(Extrapolation!FSP >= 15, ROUND(B153*(1-Shocks!F152)-Shocks!G152,5),  ROUND(B153*(1-Shocks!J152)-Shocks!K152,5))","v":2.547E-2},null,3.2095434522555033E-2,{"$f":"ROUND(B153*(1+Shocks!H152)+Shocks!I152,5)+Extrapolation!T155","v":3.8465604374158392E-2},{"$f":"MAX(ROUND(B153*(1-Shocks!F152)-Shocks!G152,5)+Extrapolation!T155, -1.25%)","v":2.5725604374158391E-2},{"$f":"IF(Extrapolation!FSP >= 15, ROUND(B153*(1+Shocks!H152)+Shocks!I152 + Extrapolation!T155, 5), ROUND(B153*(1+Shocks!L152)+Shocks!M152 + Extrapolation!T155,5))","v":3.8460000000000001E-2},{"$f":"IF(Extrapolation!FSP >= 15, ROUND(B153*(1-Shocks!F152)-Shocks!G152+Extrapolation!T155, 5), ROUND(B153*(1-Shocks!J152)-Shocks!K152+Extrapolation!T155, 5))","v":2.5729999999999999E-2}]
[142,3.1890079757854073E-2,{"$f":"ROUND(B154*(1+Shocks!H153)+Shocks!I153,5)","v":3.8269999999999998E-2},{"$f":"MAX(ROUND(B154*(1-Shocks!F153)-Shocks!G153,5), -1.25%)","v":2.5510000000000001E-2},{"$f":"IF(Extrapolation!FSP >= 15, ROUND(B154*(1+Shocks!H153)+Shocks!I153,5), ROUND(B154*(1+Shocks!L153)+Shocks!M153,5))","v":3.8269999999999998E-2},{"$f":"IF(Extrapolation!FSP >= 15, ROUND(B154*(1-Shocks!F153)-Shocks!G153,5),  ROUND(B154*(1-Shocks!J153)-Shocks!K153,5))","v":2.5510000000000001E-2},null,3.2143896258885807E-2,{"$f":"ROUND(B154*(1+Shocks!H153)+Shocks!I153,5)+Extrapolation!T156","v":3.8523816501031732E-2},{"$f":"MAX(ROUND(B154*(1-Shocks!F153)-Shocks!G153,5)+Extrapolation!T156, -1.25%)","v":2.5763816501031735E-2},{"$f":"IF(Extrapolation!FSP >= 15, ROUND(B154*(1+Shocks!H153)+Shocks!I153 + Extrapolation!T156, 5), ROUND(B154*(1+Shocks!L153)+Shocks!M153 + Extrapolation!T156,5))","v":3.8519999999999999E-2},{"$f":"IF(Extrapolation!FSP >= 15, ROUND(B154*(1-Shocks!F153)-Shocks!G153+Extrapolation!T156, 5), ROUND(B154*(1-Shocks!J153)-Shocks!K153+Extrapolation!T156, 5))","v":2.5770000000000001E-2}]
[143,3.1939629084961174E-2,{"$f":"ROUND(B155*(1+Shocks!H154)+Shocks!I154,5)","v":3.8330000000000003E-2},{"$f":"MAX(ROUND(B155*(1-Shocks!F154)-Shocks!G154,5), -1.25%)","v":2.555E-2},{"$f":"IF(Extrapolation!FSP >= 15, ROUND(B155*(1+Shocks!H154)+Shocks!I154,5), ROUND(B155*(1+Shocks!L154)+Shocks!M154,5))","v":3.8330000000000003E-2},{"$f":"IF(Extrapolation!FSP >= 15, ROUND(B155*(1-Shocks!F154)-Shocks!G154,5),  ROUND(B155*(1-Shocks!J154)-Shocks!K154,5))","v":2.555E-2},null,3.2191682548297518E-2,{"$f":"ROUND(B155*(1+Shocks!H154)+Shocks!I154,5)+Extrapolation!T157","v":3.8582053463336347E-2},{"$f":"MAX(ROUND(B155*(1-Shocks!F154)-Shocks!G154,5)+Extrapolation!T157, -1.25%)","v":2.5802053463336343E-2},{"$f":"IF(Extrapolation!FSP >= 15, ROUND(B155*(1+Shocks!H154)+Shocks!I154 + Extrapolation!T157, 5), ROUND(B155*(1+Shocks!L154)+Shocks!M154 + Extrapolation!T157,5))","v":3.8580000000000003E-2},{"$f":"IF(Extrapolation!FSP >= 15, ROUND(B155*(1-Shocks!F154)-Shocks!G154+Extrapolation!T157, 5), ROUND(B155*(1-Shocks!J154)-Shocks!K154+Extrapolation!T157, 5))","v":2.58E-2}]
[144,3.1988492658776568E-2,{"$f":"ROUND(B156*(1+Shocks!H155)+Shocks!I155,5)","v":3.8390000000000001E-2},{"$f":"MAX(ROUND(B156*(1-Shocks!F155)-Shocks!G155,5), -1.25%)","v":2.5590000000000002E-2},{"$f":"IF(Extrapolation!FSP >= 15, ROUND(B156*(1+Shocks!H155)+Shocks!I155,5), ROUND(B156*(1+Shocks!L155)+Shocks!M155,5))","v":3.8390000000000001E-2},{"$f":"IF(Extrapolation!FSP >= 15, ROUND(B156*(1-Shocks!F155)-Shocks!G155,5),  ROUND(B156*(1-Shocks!J155)-Shocks!K155,5))","v":2.5590000000000002E-2},null,3.2238807406073988E-2,{"$f":"ROUND(B156*(1+Shocks!H155)+Shocks!I155,5)+Extrapolation!T158","v":3.864031474729742E-2},{"$f":"MAX(ROUND(B156*(1-Shocks!F155)-Shocks!G155,5)+Extrapolation!T158, -1.25%)","v":2.5840314747297422E-2},{"$f":"IF(Extrapolation!FSP >= 15, ROUND(B156*(1+Shocks!H155)+Shocks!I155 + Extrapolation!T158, 5), ROUND(B156*(1+Shocks!L155)+Shocks!M155 + Extrapolation!T158,5))","v":3.8640000000000001E-2},{"$f":"IF(Extrapolation!FSP >= 15, ROUND(B156*(1-Shocks!F155)-Shocks!G155+Extrapolation!T158, 5), ROUND(B156*(1-Shocks!J155)-Shocks!K155+Extrapolation!T158, 5))","v":2.5839999999999998E-2}]
[145,3.2036684609918264E-2,{"$f":"ROUND(B157*(1+Shocks!H156)+Shocks!I156,5)","v":3.8440000000000002E-2},{"$f":"MAX(ROUND(B157*(1-Shocks!F156)-Shocks!G156,5), -1.25%)","v":2.563E-2},{"$f":"IF(Extrapolation!FSP >= 15, ROUND(B157*(1+Shocks!H156)+Shocks!I156,5), ROUND(B157*(1+Shocks!L156)+Shocks!M156,5))","v":3.8440000000000002E-2},{"$f":"IF(Extrapolation!FSP >= 15, ROUND(B157*(1-Shocks!F156)-Shocks!G156,5),  ROUND(B157*(1-Shocks!J156)-Shocks!K156,5))","v":2.563E-2},null,3.2285284463122954E-2,{"$f":"ROUND(B157*(1+Shocks!H156)+Shocks!I156,5)+Extrapolation!T159","v":3.8688599853204692E-2},{"$f":"MAX(ROUND(B157*(1-Shocks!F156)-Shocks!G156,5)+Extrapolation!T159, -1.25%)","v":2.587859985320469E-2},{"$f":"IF(Extrapolation!FSP >= 15, ROUND(B157*(1+Shocks!H156)+Shocks!I156 + Extrapolation!T159, 5), ROUND(B157*(1+Shocks!L156)+Shocks!M156 + Extrapolation!T159,5))","v":3.8690000000000002E-2},{"$f":"IF(Extrapolation!FSP >= 15, ROUND(B157*(1-Shocks!F156)-Shocks!G156+Extrapolation!T159, 5), ROUND(B157*(1-Shocks!J156)-Shocks!K156+Extrapolation!T159, 5))","v":2.588E-2}]
[146,3.2084218684069965E-2,{"$f":"ROUND(B158*(1+Shocks!H157)+Shocks!I157,5)","v":3.85E-2},{"$f":"MAX(ROUND(B158*(1-Shocks!F157)-Shocks!G157,5), -1.25%)","v":2.5669999999999998E-2},{"$f":"IF(Extrapolation!FSP >= 15, ROUND(B158*(1+Shocks!H157)+Shocks!I157,5), ROUND(B158*(1+Shocks!L157)+Shocks!M157,5))","v":3.85E-2},{"$f":"IF(Extrapolation!FSP >= 15, ROUND(B158*(1-Shocks!F157)-Shocks!G157,5),  ROUND(B158*(1-Shocks!J157)-Shocks!K157,5))","v":2.5669999999999998E-2},null,3.2331126979002311E-2,{"$f":"ROUND(B158*(1+Shocks!H157)+Shocks!I157,5)+Extrapolation!T160","v":3.8746908294932346E-2},{"$f":"MAX(ROUND(B158*(1-Shocks!F157)-Shocks!G157,5)+Extrapolation!T160, -1.25%)","v":2.5916908294932345E-2},{"$f":"IF(Extrapolation!FSP >= 15, ROUND(B158*(1+Shocks!H157)+Shocks!I157 + Extrapolation!T160, 5), ROUND(B158*(1+Shocks!L157)+Shocks!M157 + Extrapolation!T160,5))","v":3.875E-2},{"$f":"IF(Extrapolation!FSP >= 15, ROUND(B158*(1-Shocks!F157)-Shocks!G157+Extrapolation!T160, 5), ROUND(B158*(1-Shocks!J157)-Shocks!K157+Extrapolation!T160, 5))","v":2.5909999999999999E-2}]
[147,3.2131108254942475E-2,{"$f":"ROUND(B159*(1+Shocks!H158)+Shocks!I158,5)","v":3.8559999999999997E-2},{"$f":"MAX(ROUND(B159*(1-Shocks!F158)-Shocks!G158,5), -1.25%)","v":2.5700000000000001E-2},{"$f":"IF(Extrapolation!FSP >= 15, ROUND(B159*(1+Shocks!H158)+Shocks!I158,5), ROUND(B159*(1+Shocks!L158)+Shocks!M158,5))","v":3.8559999999999997E-2},{"$f":"IF(Extrapolation!FSP >= 15, ROUND(B159*(1-Shocks!F158)-Shocks!G158,5),  ROUND(B159*(1-Shocks!J158)-Shocks!K158,5))","v":2.5700000000000001E-2},null,3.2376347854426335E-2,{"$f":"ROUND(B159*(1+Shocks!H158)+Shocks!I158,5)+Extrapolation!T161","v":3.8805239599483857E-2},{"$f":"MAX(ROUND(B159*(1-Shocks!F158)-Shocks!G158,5)+Extrapolation!T161, -1.25%)","v":2.594523959948386E-2},{"$f":"IF(Extrapolation!FSP >= 15, ROUND(B159*(1+Shocks!H158)+Shocks!I158 + Extrapolation!T161, 5), ROUND(B159*(1+Shocks!L158)+Shocks!M158 + Extrapolation!T161,5))","v":3.8800000000000001E-2},{"$f":"IF(Extrapolation!FSP >= 15, ROUND(B159*(1-Shocks!F158)-Shocks!G158+Extrapolation!T161, 5), ROUND(B159*(1-Shocks!J158)-Shocks!K158+Extrapolation!T161, 5))","v":2.5950000000000001E-2}]
[148,3.2177366336723079E-2,{"$f":"ROUND(B160*(1+Shocks!H159)+Shocks!I159,5)","v":3.8609999999999998E-2},{"$f":"MAX(ROUND(B160*(1-Shocks!F159)-Shocks!G159,5), -1.25%)","v":2.5739999999999999E-2},{"$f":"IF(Extrapolation!FSP >= 15, ROUND(B160*(1+Shocks!H159)+Shocks!I159,5), ROUND(B160*(1+Shocks!L159)+Shocks!M159,5))","v":3.8609999999999998E-2},{"$f":"IF(Extrapolation!FSP >= 15, ROUND(B160*(1-Shocks!F159)-Shocks!G159,5),  ROUND(B160*(1-Shocks!J159)-Shocks!K159,5))","v":2.5739999999999999E-2},null,3.2420959643273628E-2,{"$f":"ROUND(B160*(1+Shocks!H159)+Shocks!I159,5)+Extrapolation!T162","v":3.8853593306550548E-2},{"$f":"MAX(ROUND(B160*(1-Shocks!F159)-Shocks!G159,5)+Extrapolation!T162, -1.25%)","v":2.5983593306550548E-2},{"$f":"IF(Extrapolation!FSP >= 15, ROUND(B160*(1+Shocks!H159)+Shocks!I159 + Extrapolation!T162, 5), ROUND(B160*(1+Shocks!L159)+Shocks!M159 + Extrapolation!T162,5))","v":3.8859999999999999E-2},{"$f":"IF(Extrapolation!FSP >= 15, ROUND(B160*(1-Shocks!F159)-Shocks!G159+Extrapolation!T162, 5), ROUND(B160*(1-Shocks!J159)-Shocks!K159+Extrapolation!T162, 5))","v":2.5989999999999999E-2}]
[149,3.2223005596030418E-2,{"$f":"ROUND(B161*(1+Shocks!H160)+Shocks!I160,5)","v":3.8670000000000003E-2},{"$f":"MAX(ROUND(B161*(1-Shocks!F160)-Shocks!G160,5), -1.25%)","v":2.5780000000000001E-2},{"$f":"IF(Extrapolation!FSP >= 15, ROUND(B161*(1+Shocks!H160)+Shocks!I160,5), ROUND(B161*(1+Shocks!L160)+Shocks!M160,5))","v":3.8670000000000003E-2},{"$f":"IF(Extrapolation!FSP >= 15, ROUND(B161*(1-Shocks!F160)-Shocks!G160,5),  ROUND(B161*(1-Shocks!J160)-Shocks!K160,5))","v":2.5780000000000001E-2},null,3.2464974564121674E-2,{"$f":"ROUND(B161*(1+Shocks!H160)+Shocks!I160,5)+Extrapolation!T163","v":3.8911968968091258E-2},{"$f":"MAX(ROUND(B161*(1-Shocks!F160)-Shocks!G160,5)+Extrapolation!T163, -1.25%)","v":2.6021968968091256E-2},{"$f":"IF(Extrapolation!FSP >= 15, ROUND(B161*(1+Shocks!H160)+Shocks!I160 + Extrapolation!T163, 5), ROUND(B161*(1+Shocks!L160)+Shocks!M160 + Extrapolation!T163,5))","v":3.891E-2},{"$f":"IF(Extrapolation!FSP >= 15, ROUND(B161*(1-Shocks!F160)-Shocks!G160+Extrapolation!T163, 5), ROUND(B161*(1-Shocks!J160)-Shocks!K160+Extrapolation!T163, 5))","v":2.6020000000000001E-2}]
[150,3.2268038363400642E-2,{"$f":"ROUND(B162*(1+Shocks!H161)+Shocks!I161,5)","v":3.8719999999999997E-2},{"$f":"MAX(ROUND(B162*(1-Shocks!F161)-Shocks!G161,5), -1.25%)","v":2.581E-2},{"$f":"IF(Extrapolation!FSP >= 15, ROUND(B162*(1+Shocks!H161)+Shocks!I161,5), ROUND(B162*(1+Shocks!L161)+Shocks!M161,5))","v":3.8719999999999997E-2},{"$f":"IF(Extrapolation!FSP >= 15, ROUND(B162*(1-Shocks!F161)-Shocks!G161,5),  ROUND(B162*(1-Shocks!J161)-Shocks!K161,5))","v":2.581E-2},null,3.2508404511325972E-2,{"$f":"ROUND(B162*(1+Shocks!H161)+Shocks!I161,5)+Extrapolation!T164","v":3.8960366147925328E-2},{"$f":"MAX(ROUND(B162*(1-Shocks!F161)-Shocks!G161,5)+Extrapolation!T164, -1.25%)","v":2.605036614792533E-2},{"$f":"IF(Extrapolation!FSP >= 15, ROUND(B162*(1+Shocks!H161)+Shocks!I161 + Extrapolation!T164, 5), ROUND(B162*(1+Shocks!L161)+Shocks!M161 + Extrapolation!T164,5))","v":3.8960000000000002E-2},{"$f":"IF(Extrapolation!FSP >= 15, ROUND(B162*(1-Shocks!F161)-Shocks!G161+Extrapolation!T164, 5), ROUND(B162*(1-Shocks!J161)-Shocks!K161+Extrapolation!T164, 5))","v":2.605E-2}]

{"sheet":"SRC & Scaling Factors","index":3,"n_rows":26,"n_cols":4,"rows_kept":26,"cut":false,"hidden":false,"merged":[]}
[]
[]
[]
[]
[]
[]
[]
[]
[null,"Currency","Risk corrected currency spread","Scaling factor"]
[null,"AUD",1.4207352527929465E-3,2.1231422505307855]
[null,"BGN",1.0759776410328261E-3,2.4937655860349128]
[null,"CAD",3.6284921391769231E-3,1.5360983102918586]
[null,"CHF",6.9579141562351517E-4,1.6366612111292962]
[null,"CZK",1.6979047983093165E-3,1.4947683109118086]
[null,"DKK",2.4620060522620967E-3,1.4598540145985404]
[null,"EUR",1.6718331125712093E-3,1.4124293785310735]
[null,"GBP",2.1163075137916459E-3,1.8214936247723132]
[null,"HRK",6.4225366953824762E-4,2.1231422505307855]
[null,"HUF",8.1274931919022415E-4,1.4492753623188404]
[null,"ISK",1.0807147344561183E-3,1.9230769230769229]
[null,"JPY",1.8405904486185136E-4,2.0366598778004072]
[null,"NOK",4.8067110161188675E-3,1.3793103448275863]
[null,"PLN",1.6461159771932834E-3,1.5174506828528072]
[null,"RON",1.6460636225988899E-3,1.404494382022472]
[null,"SEK",1.1599064885173299E-3,2.0576131687242798]
[null,"USD",4.0797550031808315E-3,1.3888888888888886]

{"sheet":"Extrapolation","index":4,"n_rows":164,"n_cols":20,"rows_kept":164,"cut":false,"hidden":true,"merged":[[11,12,11,13],[2,16,2,17]]}
[]
[null,"inputs",null,"Alternative Extrapolation with VA - Derived from situation without VA"]
[null,"outputs",null,"based on alternvative extrapolations from worksheet 2020 Review Term Structures",null,null,null,null,null,null,null,null,null,null,null,"Currency",{"$f":"'Scenario Data'!$J$6","v":"EUR"}]
[null,null,null,null,null,{"$f":"MATCH(Q3,L.ISO4217,0)","v":1}]
[]
[null,null,null,null,null,null,null,null,null,null,null,null,null,null,null,"Alternative Extrapolation with VA"]
[null,null,null,null,"FSP",{"$f":"INDEX(tblRfrAltConfig[FSP],index)","v":20}]
[null,null,null,null,"UFR",{"$f":"INDEX(tblRfrAltConfig[UFR],index)/100","v":3.9E-2}]
[null,null,null,null,"MeanReversion",{"$f":"IF(Q3=\"SEK\",40%,10%)","v":0.1},null,null,null,null,null,null,null,null,null,"First weight",{"$f":"INDEX(LLFRweights,FSP)","v":0.33}]
[null,null,null,null,"VA",{"$f":"'Scenario Data'!J7","v":15},"bp AC",null,null,null,null,null,null,null,null,"First fw LLFR",{"$f":"GetFirstFwLLFR($I$15:$I$64,DLT,LLFRweights)","v":9.2155608925984876E-3}]
[null,null,null,null,"LLFR",{"$f":"INDEX(TermStructuresLLFR,,2*index)","v":7.0513690149732423E-3},null,null,null,null,null,null,null,null,null,"LLFRVA",{"$f":"Q9*(Q10+LN(1+VA/10000))+(LLFR-Q9*Q10)","v":7.545998135806105E-3}]
[null,null,null,null,null,null,null,null,null,null,null,null,"+ VA up to FSP"]
[null,"Tenor","DLT","LLFRweights","Tenor","Zero AC",null,"Tenor","Zero CC","1YFw CC",null,"Tenor","Zero CC","1YFw CC",null,"Tenor","Zero+VA AC","1YFw+VA AC","Discount","VA"]
[null,null,null,null,0,null,null,0,null,null,null,0,null,null,null,0,null,null,1]
[null,1,{"$f":"INDEX(INDIRECT(\"tblRfrAltConfig[DLT\"&B15&\"]\"),index)","v":1},{"$f":"INDEX(INDIRECT(\"tblWeightsLLFR[\"&B15&\"]\"),index)","v":0},1,{"$f":"INDEX(TermStructures,,2*index)","v":-4.1609999999998593E-3},null,1,{"$f":"LN(1+F15)","v":-4.1696810501015893E-3},{"$f":"$H15*I15-$H14*I14","v":-4.1696810501015893E-3},null,1,{"$f":"AVERAGE(N$15:N15)","v":-2.6708049263656406E-3},{"$f":"J15+($L15<=FSP)*LN(1+VA/10000)","v":-2.6708049263656406E-3},null,1,{"$f":"AlternativeExtrapolation($M$15:$M$164,FSP,UFR,$Q$11,MeanReversion,\"A\")","v":-2.6672414999997507E-3},-2.6672414999997507E-3,1.0026743747031948,{"$f":"Q15-F15","v":1.4937585000001086E-3}]
[null,2,1,0,2,-3.9354447556139149E-3,null,2,-3.9432089955122552E-3,{"$f":"$H16*I16-$H15*I15","v":-3.7167369409229212E-3},null,2,{"$f":"AVERAGE(N$15:N16)","v":-2.4443328717763065E-3},-2.2178608171869725E-3,null,2,-2.4413479227473056E-3,-2.2154031811187913E-3,1.004900634766164,{"$f":"Q16-F16","v":1.4940968328666093E-3}]
[null,3,1,0,3,-3.3821302804601938E-3,null,3,-3.3878626117207059E-3,-2.2771698441376078E-3,null,3,{"$f":"AVERAGE(N$15:N17)","v":-1.8889864879847573E-3},-7.7829372040165911E-4,null,3,-1.8872034758807832E-3,-7.7799092840280526E-4,1.0056830470536202,1.4949268045794106E-3]
[null,4,1,0,4,-2.7489134307021601E-3,null,4,-2.752698631611373E-3,-8.4720669128337395E-4,null,4,{"$f":"AVERAGE(N$15:N18)","v":-1.2538225078754244E-3},6.5166943245257474E-4,null,4,-1.2530368008482062E-3,6.5188181510911214E-4,1.0050278876499836,1.4958766298539539E-3]
[null,5,1,0,5,-2.1999221839471561E-3,null,5,-2.2023455675774803E-3,-9.3331144190855753E-7,null,5,{"$f":"AVERAGE(N$15:N19)","v":-7.0346944384153142E-4},1.4979428122940401E-3,null,5,-7.032220672230638E-4,1.4990652890272127E-3,1.0035235403439324,1.4967001167240923E-3]
[null,6,1,0,6,-1.670325243930515E-3,null,6,-1.6717217924842969E-3,9.8139708298162001E-4,null,6,{"$f":"AVERAGE(N$15:N20)","v":-1.728456687483481E-4},2.4802732067175687E-3,null,6,-1.7283073179630293E-4,2.4833516288906843E-3,1.0010376119596913,1.497494512134212E-3]
[null,7,1,0,7,-8.4439680119796634E-4,null,7,-8.4475350499073332E-4,4.1170562199706476E-3,null,7,{"$f":"AVERAGE(N$15:N21)","v":6.5412261874521547E-4},5.6159323437065967E-3,null,7,6.5433660360025847E-4,5.6317312531071195E-3,0.99543160865887648,1.4987334047982248E-3]
[null,8,1,0,8,-1.8124524932772168E-4,null,8,-1.8126167623281928E-4,4.4631811250725791E-3,null,8,{"$f":"AVERAGE(N$15:N22)","v":1.3176144475031295E-3},5.9620572488085274E-3,null,8,1.3184828827983441E-3,5.9798656861778099E-3,0.98951444518215459,1.4997281321260658E-3]
[null,9,1,0,9,4.6402653194910215E-4,null,9,4.6391890493116658E-4,5.6253635542430529E-3,null,9,{"$f":"AVERAGE(N$15:N23)","v":1.9627950286671154E-3},7.124239677979002E-3,null,9,1.9647225717471795E-3,7.1496774458448265E-3,0.98248995888236434,1.5006960397980773E-3]
[null,10,1,0,10,1.122066320614179E-3,null,10,1.1214372747104261E-3,7.0391026027237617E-3,null,10,{"$f":"AVERAGE(N$15:N24)","v":2.6203133984463748E-3},8.53797872645971E-3,null,10,2.6237494200951339E-3,8.5745312209084545E-3,0.97413718914062997,1.5016830994809549E-3]
[null,11,1,0,11,1.5688248540970395E-3,null,11,1.5675955339430148E-3,6.0291781262689012E-3,null,11,{"$f":"AVERAGE(N$15:N25)","v":3.0664716576789628E-3},7.5280542500048495E-3,null,11,3.071178091378135E-3,7.5564612889025273E-3,0.96683136535542491,1.5023532372810955E-3]
[null,12,1,0,12,2.2326333432145518E-3,null,12,2.2301447208244768E-3,9.5181857765205616E-3,null,12,{"$f":"AVERAGE(N$15:N26)","v":3.7290208445604251E-3},1.101706190025651E-2,null,12,3.7359822932294673E-3,1.1077973209084213E-2,0.95623818436749852,1.5033489500149155E-3]
[null,13,1,0,13,2.8385089567781741E-3,null,13,2.8344879974515585E-3,1.008660731697654E-2,null,13,{"$f":"AVERAGE(N$15:N27)","v":4.3333641211875072E-3},1.1585483440712488E-2,null,13,4.3427667202133868E-3,1.1652855080277247E-2,0.945223630384178,1.5042577634352128E-3]
[null,14,1,0,14,3.1358205381835091E-3,null,14,3.1309141074080241E-3,6.9844535368420724E-3,null,14,{"$f":"AVERAGE(N$15:N28)","v":4.629790231143972E-3},8.4833296605780206E-3,null,14,4.6405242689908643E-3,8.5194150709420047E-3,0.93723890314762892,1.5047037308073552E-3]
[null,15,1,0,15,3.7481006814281681E-3,null,15,3.7410940543075514E-3,1.2283613310900936E-2,null,15,{"$f":"AVERAGE(N$15:N29)","v":5.2399701780434993E-3},1.3782489434636884E-2,null,15,5.2537228324502916E-3,1.3877905796543688E-2,0.92441002786355819,1.5056221510221235E-3]
[null,16,0,0,16,4.0915960479630531E-3,null,16,4.0832482317007769E-3,9.2155608925991589E-3,null,16,{"$f":"AVERAGE(N$15:N30)","v":5.5821243554367251E-3},1.0714437016335107E-2,null,16,5.5977334420349578E-3,1.0772042148317063E-2,0.91455836659153822,1.5061373940719047E-3]
[null,17,0,0,17,4.3947778117132685E-3,null,17,4.3851489764594916E-3,9.215560892598923E-3,null,17,{"$f":"AVERAGE(N$15:N31)","v":5.8840251001954398E-3},1.0714437016334871E-2,null,17,5.901369978430937E-3,1.077204214831684E-2,0.90481169685670781,1.5065921667176685E-3]
[null,18,0,0,18,4.6643495642373356E-3,null,18,4.6535051940228105E-3,9.2155608925992422E-3,null,18,{"$f":"AVERAGE(N$15:N32)","v":6.1523813177587587E-3},1.071443701633519E-2,null,18,6.1713460885837179E-3,1.0772042148317063E-2,0.89516889973885827,1.5069965243463823E-3]
[null,19,0,0,19,4.9056066701973489E-3,null,19,4.8936133886846806E-3,9.2155608925983401E-3,null,19,{"$f":"AVERAGE(N$15:N33)","v":6.3924895124206288E-3},1.0714437016334288E-2,null,19,6.412965080202726E-3,1.0772042148316174E-2,0.88562886824238574,1.5073584100053772E-3]
[null,20,1,0.33,20,5.1227875993873351E-3,null,20,5.1097107638802854E-3,9.2155608925967719E-3,null,20,{"$f":"AVERAGE(N$15:N34)","v":6.6085868876162327E-3},1.071443701633272E-2,null,20,6.6304717807865732E-3,1.077204214831462E-2,0.87619050716920599,1.5076841813992381E-3]
[null,21,0,0,21,5.2879901318936273E-3,null,21,5.2740578064927046E-3,8.5609986587410897E-3,null,21,{"$f":"AVERAGE(N$15:N35)","v":6.7015588767174172E-3},8.5609986587410897E-3,null,21,6.746629910765467E-3,9.0726093743880298E-3,0.86831264571974931,1.4586397788718397E-3]
[null,22,0,0,22,5.5673642944644719E-3,null,22,5.5519238039185327E-3,1.138710974986093E-2,null,22,{"$f":"AVERAGE(N$15:N36)","v":6.9145384618603039E-3},1.138710974986093E-2,null,22,6.9795377134935777E-3,1.188306765078484E-2,0.85811559999284059,1.4121734190291058E-3]
[null,23,0,0,23,5.9343477793358801E-3,null,23,5.9168088912543767E-3,1.3944280812642929E-2,null,23,{"$f":"AVERAGE(N$15:N37)","v":7.2201794336334618E-3},1.3944280812642929E-2,null,23,7.302451871936233E-3,1.4432820617041209E-2,0.84590677919005153,1.3681040926003529E-3]
[null,24,0,0,24,6.3678855435167492E-3,null,24,6.3476962238919535E-3,1.6258104874556228E-2,null,24,{"$f":"AVERAGE(N$15:N38)","v":7.596759660338577E-3},1.6258104874556228E-2,null,24,7.6941542486836934E-3,1.6745468935724483E-2,0.83197496820467964,1.3262687051669442E-3]
[null,25,1,0.12,25,6.8512209183675399E-3,null,25,6.8278579535176161E-3,1.8351739464533529E-2,null,25,{"$f":"AVERAGE(N$15:N39)","v":8.0269588525063752E-3},1.8351739464533529E-2,null,25,8.137740273007843E-3,1.8842582880995717E-2,0.8165883348260653,1.2865193546403031E-3]
[null,26,0,0,26,7.3709785667628314E-3,null,26,7.3439456622763155E-3,2.0246138381243783E-2,null,26,{"$f":"AVERAGE(N$15:N40)","v":8.4969272959193529E-3},2.0246138381243783E-2,null,26,8.6196997625491711E-3,2.0743857413204392E-2,0.79999338609343651,1.2487211957863398E-3]
[null,27,0,0,27,7.9164614708018277E-3,null,27,7.8852906898126129E-3,2.1960261405756354E-2,null,27,{"$f":"AVERAGE(N$15:N41)","v":8.9955692999873892E-3},2.1960261405756354E-2,null,27,9.1292122084236649E-3,2.246725917363368E-2,0.7824146728571022,1.2127507376218372E-3]
[null,28,0,0,28,8.4791068749425769E-3,null,28,8.4433611672289008E-3,2.3511264057468673E-2,null,28,{"$f":"AVERAGE(N$15:N42)","v":9.5139869698974335E-3},2.3511264057468673E-2,null,28,9.6576013396472149E-3,2.4029165018322862E-2,0.76405506755571995,1.178494464704638E-3]
[null,29,0,0,29,9.0520616445124436E-3,null,29,9.011337309469231E-3,2.491466929219846E-2,null,29,{"$f":"AVERAGE(N$15:N43)","v":1.0045044981011261E-2},2.491466929219846E-2,null,29,1.0197909348726331E-2,2.5444491939229152E-2,0.74509646651941852,1.145847704213887E-3]
[null,30,1,0.48,30,9.629848278887021E-3,null,30,9.5837768278619687E-3,2.6184522861251391E-2,null,30,{"$f":"AVERAGE(N$15:N44)","v":1.0583027577019266E-2},2.6184522861251391E-2,null,30,1.0744561961004484E-2,2.6726818397410312E-2,0.72570079320847891,1.114713682117463E-3]
[null,31,0,0,31,1.020810040641007E-2,null,31,1.0156349636187766E-2,2.7333533885961658E-2,null,31,{"$f":"AVERAGE(N$15:N45)","v":1.1123366490210956E-2},2.7333533885961658E-2,null,31,1.1293103133172444E-2,2.7888497226075559E-2,0.70601120176643739,1.0850027267623741E-3]
[null,32,0,0,32,1.0783352000685476E-2,null,32,1.0725626274271201E-2,2.8373202054857716E-2,null,32,{"$f":"AVERAGE(N$15:N46)","v":1.1662423851606167E-2},2.8373202054857716E-2,null,32,1.1839983589601033E-2,2.8940760359470463E-2,0.68615340062899788,1.0566315889155575E-3]
[null,33,{"$f":"INDEX(INDIRECT(\"tblRfrAltConfig[DLT\"&B47&\"]\"),index)","v":0},{"$f":"INDEX(INDIRECT(\"tblWeightsLLFR[\"&B47&\"]\"),index)","v":0},33,1.1352868466442123E-2,null,33,{"$f":"LN(1+F47)","v":1.1288908287669305E-2},2.9313932716408642E-2,null,33,{"$f":"AVERAGE(N$15:N47)","v":1.2197318059630485E-2},{"$f":"J47+($L47<=FSP)*LN(1+VA/10000)","v":2.9313932716408642E-2},null,33,1.23823913214125E-2,2.9893815713458061E-2,0.66623703352725316,1.0295228549703772E-3]
[null,34,0,0,34,1.1914510597978989E-2,null,34,1.1844091603304782E-2,3.0165141019275532E-2,null,34,{"$f":"AVERAGE(N$15:N48)","v":1.2725783440796515E-2},3.0165141019275532E-2,null,34,1.2918115033601074E-2,3.0756936591042283E-2,0.64635707010680632,1.0036044356220852E-3]
[null,35,0,0,35,1.2466624520495184E-2,null,35,1.2389556018703174E-2,3.0935346142248465E-2,null,35,{"$f":"AVERAGE(N$15:N49)","v":1.3246056660838E-2},3.0935346142248465E-2,null,35,1.3445433636926074E-2,3.153854401563061E-2,0.62659517073461124,9.7880911643088986E-4]
[null,36,0,0,36,1.3007952295520209E-2,null,36,1.2924075478102743E-2,3.1632256557087679E-2,null,36,{"$f":"AVERAGE(N$15:N50)","v":1.3756784435733825E-2},3.1632256557087679E-2,null,36,1.3963026455235505E-2,3.2246282410478333E-2,0.6070210001351618,9.5507415971529674E-4]
[null,37,0,0,37,1.3537559053494741E-2,null,37,1.3446744983490399E-2,3.2262847177445986E-2,null,37,{"$f":"AVERAGE(N$15:N51)","v":1.4256948293617936E-2},3.2262847177445986E-2,null,37,1.4469900003006853E-2,3.2887089047617835E-2,0.58769347257004689,9.3234094951211155E-4]
[null,38,0,0,38,1.4054773413340049E-2,null,38,1.3956920883035653E-2,3.2833429166210015E-2,null,38,{"$f":"AVERAGE(N$15:N52)","v":1.474580305342299E-2},3.2833429166210015E-2,null,38,1.4965328086382845E-2,3.3467257686241147E-2,0.56866191763616536,9.1055467304279603E-4]
[null,39,0,0,39,1.4559138634796298E-2,null,39,1.4454171965514347E-2,3.3349713099704803E-2,null,39,{"$f":"AVERAGE(N$15:N53)","v":1.5222826387943037E-2},3.3349713099704803E-2,null,39,1.544880266823645E-2,3.399249681110228E-2,0.54996716068052176,8.8966403344015177E-4]
[null,40,1,0.04,40,1.5050372477939611E-2,null,40,1.4938239319402732E-2,3.3816866121049727E-2,null,40,{"$f":"AVERAGE(N$15:N54)","v":1.5687677381270703E-2},3.3816866121049727E-2,null,40,1.5919993467428117E-2,3.4467982867620206E-2,0.53164251556241782,8.6962098948850652E-4]
[null,41,0,0,41,1.5528334154540691E-2,null,41,1.5409003327581307E-2,3.4239563654724248E-2,null,41,{"$f":"AVERAGE(N$15:N55)","v":1.6140162412330548E-2},3.4239563654724248E-2,null,41,1.6378714673448425E-2,3.4898408873430098E-2,0.51371469025752325,8.5038051890773403E-4]
[null,42,0,0,42,1.5992997076406112E-2,null,42,1.5866456491203221E-2,3.4622036199701722E-2,null,42,{"$f":"AVERAGE(N$15:N56)","v":1.6580207026315574E-2},3.4622036199701722E-2,null,42,1.6824897478724621E-2,3.5288028767119783E-2,0.49620460778367548,8.3190040231850837E-4]
[null,43,0,0,43,1.6444426357755226E-2,null,43,1.6310681030239634E-2,3.4968111669768986E-2,null,43,{"$f":"AVERAGE(N$15:N57)","v":1.7007832715698213E-2},3.4968111669768986E-2,null,43,1.7258567383250822E-2,3.5640697834687485E-2,0.47912814629739608,8.1414102549559608E-4]
[null,44,0,0,44,1.6882760227825866E-2,null,44,1.6741830409200971E-2,3.5281253704538496E-2,null,44,{"$f":"AVERAGE(N$15:N58)","v":1.7423137738171855E-2},3.5281253704538496E-2,null,44,1.7679825425732654E-2,3.5959909533471501E-2,0.46249680309845581,7.9706519790678776E-4]
[null,45,0,0,45,1.7308194668200105E-2,null,45,1.7160114096436089E-2,3.5564596334781262E-2,null,45,{"$f":"AVERAGE(N$15:N59)","v":1.7826281262540954E-2},3.5564596334781262E-2,null,45,1.808883265402228E-2,3.6248829012430983E-2,0.44631828779891208,7.8063798582217458E-4]
[null,46,0,0,46,1.7720970715795703E-2,null,46,1.7565784993224982E-2,3.5820975348725193E-2,null,46,{"$f":"AVERAGE(N$15:N60)","v":1.8217470264414524E-2},3.5820975348725193E-2,null,46,1.848579727433286E-2,3.6510323607091388E-2,0.4305970501535471,7.648265585371572E-4]
[null,47,0,0,47,1.8121363973993887E-2,null,47,1.7959129071534054E-2,3.6052956673751302E-2,null,47,{"$f":"AVERAGE(N$15:N61)","v":1.8596948698655733E-2},3.6052956673751302E-2,null,47,1.8870964020433645E-2,3.6746990567437798E-2,0.41533474808339732,7.4960004643975786E-4]
[null,48,0,0,48,1.850967595621178E-2,null,48,1.8340456842062976E-2,3.6262862056922307E-2,null,48,{"$f":"AVERAGE(N$15:N62)","v":1.8964988560286285E-2},3.6262862056922307E-2,null,48,1.9244605366036449E-2,3.6961182257777114E-2,0.40053066131085868,7.3492940982466948E-4]
[null,49,0,0,49,1.8886226952515184E-2,null,49,1.8710096341242557E-2,3.6452792301862491E-2,null,49,{"$f":"AVERAGE(N$15:N63)","v":1.9321882514196004E-2},3.6452792301862491E-2,null,49,1.9607014270000667E-2,3.7155029049207977E-2,0.38618205580899267,7.2078731748548286E-4]
[null,50,1,0.03,50,1.925135016373658E-2,null,50,1.9068387380303805E-2,3.6624648294304896E-2,null,50,{"$f":"AVERAGE(N$15:N64)","v":1.9667937829798181E-2},3.6624648294304896E-2,null,50,1.9958498197970576E-2,3.7330460107925845E-2,0.37228450398421115,7.071480342339953E-4]
[null,null,null,null,51,1.9605386891520027E-2,null,51,1.941567684395994E-2,3.6780150026766711E-2,null,51,{"$f":"AVERAGE(N$15:N65)","v":2.000347140228776E-2},3.6780150026766711E-2,null,51,2.0299374208109899E-2,3.7489222266182232E-2,0.35883216518725092,6.9398731658987245E-4]
[null,null,null,null,52,1.994868260870386E-2,null,52,1.9752314862593059E-2,3.6920853812882126E-2,null,52,{"$f":"AVERAGE(N$15:N66)","v":2.0328805679414572E-2},3.6920853812882126E-2,null,52,2.0629964924664845E-2,3.7632897147374278E-2,0.34581803080235829,6.8128231596098487E-4]
[null,null,null,null,53,2.0281583764004241E-2,null,53,2.0078651711665122E-2,3.7048167863412473E-2,null,53,{"$f":"AVERAGE(N$15:N67)","v":2.064426534326359E-2},3.7048167863412473E-2,null,53,2.0950595252715365E-2,3.7762916702375859E-2,0.33323413781371108,6.6901148871112426E-4]
[null,null,null,null,54,2.0604435199319759E-2,null,54,2.039503531663743E-2,3.7163366380169816E-2,null,54,{"$f":"AVERAGE(N$15:N68)","v":2.0950174621724816E-2},3.7163366380169816E-2,null,54,2.1261589711886186E-2,3.7880577300923424E-2,0.32107175440194513,6.5715451256642687E-4]
[null,null,null,null,55,2.0917578078088139E-2,null,55,2.0701809261946497E-2,3.7267602308636016E-2,null,55,{"$f":"AVERAGE(N$15:N69)","v":2.1246855125123202E-2},3.7267602308636016E-2,null,55,2.1563270286951708E-2,3.7987052509490971E-2,0.30932154078965196,6.456922088635686E-4]
[null,null,null,null,56,2.122134823979116E-2,null,56,2.0999311219358604E-2,3.7361918877024447E-2,null,56,{"$f":"AVERAGE(N$15:N70)","v":2.1534624120692868E-2},3.7361918877024447E-2,null,56,2.1855954709986358E-2,3.8083404675699484E-2,0.29797368823778181,6.3460647019519811E-4]
[null,null,null,null,57,2.1516074909538441E-2,null,57,2.1287871724935459E-2,3.7447260037239305E-2,null,57,{"$f":"AVERAGE(N$15:N71)","v":2.1813793171860347E-2},3.7447260037239305E-2,null,57,2.2139955102575604E-2,3.8170595428754561E-2,0.28701803879806626,6.2388019303716291E-4]
[null,null,null,null,58,2.1802079703175492E-2,null,58,2.1567813245407141E-2,3.7524479912293129E-2,null,58,{"$f":"AVERAGE(N$15:N72)","v":2.2084667081178153E-2},3.7524479912293129E-2,null,58,2.2415576918165314E-2,3.8249495195737948E-2,0.2764441881514767,6.1349721498982213E-4]
[null,null,null,null,59,2.207967587796178E-2,null,59,2.1839449484377587E-2,3.759435134466349E-2,null,59,{"$f":"AVERAGE(N$15:N73)","v":2.2347543085644007E-2},3.759435134466349E-2,null,59,2.268311813424817E-2,3.8320891824674685E-2,0.26624157360993905,6.0344225628639059E-4]
[null,null,null,null,60,2.2349167786886559E-2,null,60,2.2103084886823363E-2,3.7657573631123986E-2,null,60,{"$f":"AVERAGE(N$15:N74)","v":2.2602710261402006E-2},3.7657573631123986E-2,null,60,2.2942868652145787E-2,3.8385498397138118E-2,0.2563995491278645,5.9370086525922794E-4]
[null,null,null,null,61,2.2610850501407098E-2,null,61,2.2359014307064964E-2,3.7714779521561104E-2,null,61,{"$f":"AVERAGE(N$15:N75)","v":2.2850449101732485E-2},3.7714779521561104E-2,null,61,2.3195109868880293E-2,3.8443960305685421E-2,0.24690744896083608,5.842593674731944E-4]
[null,null,null,null,62,2.2865009573022288E-2,null,62,2.2607522811011756E-2,3.7766541551766064E-2,null,62,{"$f":"AVERAGE(N$15:N76)","v":2.3091031238023349E-2},3.7766541551766064E-2,null,62,2.344011439128435E-2,3.8496861664583548E-2,0.23775464141997851,5.7510481826206217E-4]
[null,null,null,null,63,2.3111920908820416E-2,null,63,2.2848885588194829E-2,3.7813377773545431E-2,null,63,{"$f":"AVERAGE(N$15:N77)","v":2.3324719278269731E-2},3.7813377773545431E-2,null,63,2.3678145867244815E-2,3.8544731116040287E-2,0.22893057400087408,5.6622495842439946E-4]
[null,null,null,null,64,2.3351850740113589E-2,null,64,2.3083367953058945E-2,3.7855756939498164E-2,null,64,{"$f":"AVERAGE(N$15:N78)","v":2.3551766741726425E-2},3.7855756939498164E-2,null,64,2.3909458912968251E-2,3.8588047088456756E-2,0.2204248110140016,5.5760817285466224E-4]
[null,null,null,null,65,2.3585055666619725E-2,null,65,{"$f":"LN(1+F79)","v":2.3311225418313694E-2},3.7894103194617612E-2,null,65,{"$f":"AVERAGE(N$15:N79)","v":2.3772418071770905E-2},{"$f":"J79+($L79<=FSP)*LN(1+VA/10000)","v":3.7894103194617612E-2},null,65,2.4134299118516944E-2,3.8627242558026964E-2,0.21222706470814209,5.492434518972189E-4]
[null,null,null,null,66,2.3811782761461231E-2,null,66,2.3532703825931416E-2,{"$f":"$H80*I80-$H79*I79","v":3.7928800321083367E-2},null,66,{"$f":"AVERAGE(N$15:N80)","v":2.3986908711912003E-2},3.7928800321083367E-2,null,66,2.4352903116700464E-2,3.8662709360265612E-2,0.20432722075760015,{"$f":"Q80-F80","v":5.4112035523923296E-4}]
[null,null,null,null,67,2.4032269724636679E-2,null,67,2.3748039523744699E-2,3.7960195579421319E-2,null,67,{"$f":"AVERAGE(N$15:N81)","v":2.4195465232322591E-2},3.7960195579421319E-2,null,67,2.4565498702793898E-2,3.8694802093745206E-2,0.19671535887705252,5.3322897815721859E-4]
[null,null,null,null,68,2.4246745074617548E-2,null,68,2.3957459577570461E-2,3.7988603183896519E-2,null,68,{"$f":"AVERAGE(N$15:N82)","v":2.4398305496316323E-2},3.7988603183896519E-2,null,68,2.4772304994575167E-2,3.872384165439402E-2,0.18938176923304317,5.2555991995761886E-4]
[null,null,null,null,69,2.4455428369422494E-2,null,69,2.4161182010466478E-2,3.8014307447395757E-2,null,69,{"$f":"AVERAGE(N$15:N83)","v":2.4595638857926171E-2},3.8014307447395757E-2,null,69,2.4973532623879802E-2,3.8750118435136649E-2,0.18231696523736077,5.1810425445730779E-4]
[null,null,null,null,70,2.465853044994426E-2,null,70,2.4359416062128388E-2,3.8037565626800163E-2,null,70,{"$f":"AVERAGE(N$15:N84)","v":2.4787666383195798E-2},3.8037565626800163E-2,null,70,2.5169383952309055E-2,3.8773895222430577E-2,0.17551169323360941,5.1085350236479421E-4]
[null,null,null,null,71,2.485625369952027E-2,null,71,2.4552362462631153E-2,3.8058610497824663E-2,null,71,{"$f":"AVERAGE(N$15:N85)","v":2.4974581089035643E-2},3.8058610497824663E-2,null,71,2.536005330494806E-2,3.8795409818277005E-2,0.16895693952316632,5.0379960542779045E-4]
[null,null,null,null,72,2.5048792314750878E-2,null,72,2.4740213715713496E-2,3.8077652684559871E-2,null,72,{"$f":"AVERAGE(N$15:N86)","v":2.5156568194529036E-2},3.8077652684559871E-2,null,72,2.5545727216983671E-2,3.8814877413642979E-2,0.16264393511943301,4.9693490223279291E-4]
[null,null,null,null,73,2.5236332583440824E-2,null,73,2.4923154387657645E-2,3.8094882767636395E-2,null,73,{"$f":"AVERAGE(N$15:N87)","v":2.5333805380462013E-2},3.8094882767636395E-2,null,73,2.572658468897604E-2,3.8832492736777802E-2,0.156564158568964,4.9025210553521603E-4]
[null,null,null,null,74,2.541905316625992E-2,null,74,2.5101361398521014E-2,3.8110473191546923E-2,null,74,{"$f":"AVERAGE(N$15:N88)","v":2.5506463053584782E-2},3.8110473191546923E-2,null,74,2.5902797447284298E-2,3.8848431997699162E-2,0.15070933713389939,4.8374428102437861E-4]
[null,null,null,null,75,2.5597125379337671E-2,null,75,2.5275004313080041E-2,3.8124579990447938E-2,null,75,{"$f":"AVERAGE(N$15:N89)","v":2.5674704612742957E-2},3.8124579990447938E-2,null,75,2.6074530206759094E-2,3.8862854648158196E-2,0.14507144659141902,4.7740482742142376E-4]
[null,null,null,null,76,2.5770713475528728E-2,null,76,2.5444245629354448E-2,3.8137344349935098E-2,null,76,{"$f":"AVERAGE(N$15:N90)","v":2.5838686714548115E-2},3.8137344349935098E-2,null,76,2.6241940933349417E-2,3.8875904974518871E-2,0.13964270987204894,4.7122745782068876E-4]
[null,null,null,null,77,2.5939974922517983E-2,null,77,2.5609241062999534E-2,3.8148894020026081E-2,null,77,{"$f":"AVERAGE(N$15:N91)","v":2.5998559536697177E-2},3.8148894020026081E-2,null,77,2.6405181104711462E-2,3.888771353940812E-2,0.13441559472899847,4.6520618219347831E-4]
[null,null,null,null,78,2.610506067630558E-2,null,78,2.5770139826213637E-2,3.8159344593699407E-2,null,78,{"$f":"AVERAGE(N$15:N92)","v":2.6154467037427978E-2},3.8159344593699407E-2,null,78,2.6564395967278998E-2,3.8898398486445052E-2,0.12938281060479684,4.5933529097341719E-4]
[null,null,null,null,79,2.6266115448921656E-2,null,79,2.5927084900106877E-2,3.8168800663779923E-2,null,79,{"$f":"AVERAGE(N$15:N93)","v":2.6306547209913447E-2},3.8168800663779923E-2,null,79,2.6719724788576427E-2,3.8908066721040413E-2,0.12453730483886762,4.5360933965477024E-4]
[null,null,null,null,80,2.642327796948174E-2,null,80,2.6080213299728466E-2,3.8177356869833812E-2,null,80,{"$f":"AVERAGE(N$15:N94)","v":2.6454932330662449E-2},3.8177356869833812E-2,null,80,2.6871301103813083E-2,3.8916814979006453E-2,0.11987225833993664,4.4802313433134344E-4]
[null,null,null,null,81,2.6576681237906685E-2,null,81,2.6229656331154212E-2,3.8185098845213705E-2,null,81,{"$f":"AVERAGE(N$15:N95)","v":2.6599749201212466E-2},3.8185098845213705E-2,null,81,2.7019252956027806E-2,3.8924730793640672E-2,0.11538108082995148,4.4257171812112084E-4]
[null,null,null,null,82,2.6726452770819531E-2,null,82,2.6375539840216084E-2,3.8192104074227906E-2,null,82,{"$f":"AVERAGE(N$15:N96)","v":2.6741119382590703E-2},3.8192104074227906E-2,null,82,2.7163703129229333E-2,3.8931893370893533E-2,0.11105740575119778,4.3725035840980198E-4]
[null,null,null,null,83,2.687271483927689E-2,null,83,2.6517984452593759E-2,3.8198442667563004E-2,null,83,{"$f":"AVERAGE(N$15:N97)","v":2.6879159422168682E-2},3.8198442667563004E-2,null,83,2.7304769374144833E-2,3.8938374381355834E-2,0.1068950849152413,4.3205453486794276E-4]
[null,null,null,null,84,2.7015584698121486E-2,null,84,2.6657105805110555E-2,3.8204178064004779E-2,null,84,{"$f":"AVERAGE(N$15:N98)","v":2.7013981072666733E-2},3.8204178064004779E-2,null,84,2.7442564626304566E-2,3.8944238676970722E-2,0.10288818296096948,4.2697992818307995E-4]
[null,null,null,null,85,2.7155174806843929E-2,null,85,2.6793014768171589E-2,3.8209367665298366E-2,null,85,{"$f":"AVERAGE(N$15:N99)","v":2.7145691503168281E-2},3.8209367665298366E-2,null,85,2.7577197216312577E-2,3.8949544939599567E-2,9.9030971679140586E-2,4.2202240946864755E-4]
[null,null,null,null,86,2.7291593041929296E-2,null,86,2.6925817659364248E-2,3.8214063410740184E-2,null,86,{"$f":"AVERAGE(N$15:N100)","v":2.7274393502093534E-2},3.8214063410740184E-2,null,86,2.7708771072226579E-2,3.8954346267930706E-2,9.5317924252277003E-2,4.1717803029728273E-4]
[null,null,null,null,87,2.7424942900729388E-2,null,87,2.705561644830146E-2,3.8218312296901757E-2,null,87,{"$f":"AVERAGE(N$15:N101)","v":2.7400185672148802E-2},3.8218312296901757E-2,null,87,2.7837385914055046E-2,3.8958690708584154E-2,9.1743709451305389E-2,4.1244301332565847E-4]
[null,null,null,null,88,2.7555323696962342E-2,null,88,2.7182508952844839E-2,3.8222156848118694E-2,null,88,{"$f":"AVERAGE(N$15:N102)","v":2.7523162617330277E-2},3.8222156848118694E-2,null,88,2.7963137440430108E-2,3.8962621736701619E-2,8.830318582390298E-2,4.0781374346776644E-4]
[null,null,null,null,89,2.7682830747979503E-2,null,89,2.7306589026879068E-2,3.822563554189129E-2,null,89,{"$f":"AVERAGE(N$15:N103)","v":2.7643415122100626E-2},3.822563554189129E-2,null,89,2.8086117507563513E-2,3.8966178690851727E-2,8.4991395903925682E-2,4.032867595840095E-4]
[null,null,null,null,90,2.7807555553983399E-2,null,90,2.7427946739849319E-2,3.8228783194201643E-2,null,90,{"$f":"AVERAGE(N$15:N104)","v":2.776103032290175E-2},3.8228783194201643E-2,null,90,2.8206414300635974E-2,3.8969397166556119E-2,8.1803560466469444E-2,3.9885874665257504E-4]
[null,null,null,null,91,2.7929585969397985E-2,null,91,2.7546668548287814E-2,3.8231631307752423E-2,null,91,{"$f":"AVERAGE(N$15:N105)","v":2.7876091872185822E-2},3.8231631307752423E-2,null,91,2.8324112497791987E-2,3.897230937239482E-2,7.873507284894242E-2,3.9452652839400137E-4]
[null,null,null,null,92,2.8049006366623441E-2,null,92,2.7662837459583794E-2,3.8234208387518009E-2,null,92,{"$f":"AVERAGE(N$15:N106)","v":2.7988680095178565E-2},3.8234208387518009E-2,null,92,2.8439293426937517E-2,3.8974944452240257E-2,7.5781493354926358E-2,3.9028706031407623E-4]
[null,null,null,null,93,2.816589779241041E-2,null,93,2.7776533188251507E-2,3.8236540225681015E-2,null,93,{"$f":"AVERAGE(N$15:N107)","v":2.8098872139592567E-2},3.8236540225681015E-2,null,93,2.8552035215561711E-2,3.8977328776844233E-2,7.2938543754502858E-2,3.861374231513004E-4]
[null,null,null,null,94,2.8280338117113724E-2,null,94,2.7887832304973451E-2,3.8238650160114407E-2,null,94,{"$f":"AVERAGE(N$15:N108)","v":2.820674211853429E-2},3.8238650160114407E-2,null,94,2.8662412933801562E-2,3.8979486207676883E-2,7.0202101892051699E-2,3.8207481668783849E-4]
[null,null,null,null,95,2.8392402177078058E-2,null,95,2.7996808378686771E-2,3.8240559307738842E-2,null,95,{"$f":"AVERAGE(N$15:N109)","v":2.8312361246841704E-2},3.8240559307738842E-2,null,95,2.8770498730993133E-2,3.898143833568346E-2,6.7568196410232859E-2,3.7809655391507491E-4]
[null,null,null,null,96,2.8502161910420654E-2,null,96,2.8103532111991469E-2,3.8242286775937551E-2,null,96,{"$f":"AVERAGE(N$15:N110)","v":2.8415797971103121E-2},3.8242286775937551E-2,null,96,2.8876361965944231E-2,3.8983204697308427E-2,6.5033001596900494E-2,3.7420005552357694E-4]
[null,null,null,null,97,2.8609686486473551E-2,null,97,{"$f":"LN(1+F111)","v":2.8208071470154823E-2},3.8243849853837109E-2,null,97,{"$f":"AVERAGE(N$15:N111)","v":2.8517118093605534E-2},{"$f":"J111+($L111<=FSP)*LN(1+VA/10000)","v":3.8243849853837109E-2},null,97,2.8980069331172364E-2,3.898480296998863E-2,6.2592832360011896E-2,3.7038284469881333E-4]
[null,null,null,null,98,2.8715042429144022E-2,null,98,2.8310491803981364E-2,3.8245264185155836E-2,null,98,{"$f":"AVERAGE(N$15:N112)","v":2.8616384890458087E-2},3.8245264185155836E-2,null,98,2.9081684971353328E-2,3.8986249149032925E-2,6.0244139334161236E-2,3.6664254220930559E-4]
[null,null,null,null,99,2.8818293734456546E-2,null,99,2.8410855966820848E-2,3.8246543925090304E-2,null,99,{"$f":"AVERAGE(N$15:N113)","v":2.8713659224141243E-2},3.8246543925090304E-2,null,99,2.9181270596215558E-2,3.8987557707679699E-2,5.798350412114462E-2,3.6297686175901234E-4]
[null,null,null,null,100,2.8919501982523022E-2,null,100,2.850922442596928E-2,3.8247701881664042E-2,null,100,{"$f":"AVERAGE(N$15:N114)","v":2.8808999650716469E-2},3.8247701881664042E-2,null,100,2.9278885588121639E-2,3.8988741741927013E-2,5.5807634665926982E-2,3.5938360559861771E-4]
[null,null,null,null,101,2.9018726444194121E-2,null,101,2.8605655368722935E-2,3.824874964408842E-2,null,101,{"$f":"AVERAGE(N$15:N115)","v":2.8902462521937972E-2},3.824874964408842E-2,null,101,2.9374587104567418E-2,3.8989813101581783E-2,5.3713360768505136E-2,3.5586066037329722E-4]
[null,null,null,null,102,2.9116024182631151E-2,null,102,2.8700204803331027E-2,3.8249697698748086E-2,null,102,{"$f":"AVERAGE(N$15:N116)","v":2.8994102082494935E-2},3.8249697698748086E-2,null,102,2.9468430175825011E-2,3.8990782508837363E-2,5.1697629731424749E-2,3.5240599319386057E-4]
[null,null,null,null,103,2.921145015003157E-2,null,103,2.8792926655085666E-2,3.8250555534058872E-2,null,103,{"$f":"AVERAGE(N$15:N117)","v":2.9083970562607208E-2},3.8250555534058872E-2,null,103,2.956046779795285E-2,3.8991659665575273E-2,4.9757502142091195E-2,3.4901764792127921E-4]
[null,null,null,null,104,2.9305057279736868E-2,null,104,2.8883872857782572E-2,3.8251331735564165E-2,null,104,{"$f":"AVERAGE(N$15:N118)","v":2.9172118266193332E-2},3.8251331735564165E-2,null,104,2.9650751021383259E-2,3.8992453350451539E-2,4.7890147788501806E-2,3.4569374164639122E-4]
[null,null,null,null,105,2.9396896573938847E-2,null,105,2.8973093440772729E-2,3.825203407174893E-2,null,105,{"$f":"AVERAGE(N$15:N119)","v":2.9258593654817672E-2},3.825203407174893E-2,null,105,2.9739329035296747E-2,3.8993171506747082E-2,4.6092841706602897E-2,3.4243246135789995E-4]
[null,null,null,null,106,2.9487017187195486E-2,null,106,2.9060636611819769E-2,3.8252669571758879E-2,null,106,{"$f":"AVERAGE(N$15:N120)","v":2.9343443427619003E-2},3.8252669571758879E-2,null,106,2.9826249247981718E-2,3.8993821321864131E-2,4.4362960357128105E-2,3.3923206078623203E-4]
[null,null,null,null,107,2.9575466505961101E-2,null,107,2.9146548835970804E-2,3.8253244595980451E-2,null,107,{"$f":"AVERAGE(N$15:N121)","v":2.9426712597416773E-2},3.8253244595980451E-2,null,107,2.9911557363371033E-2,3.8994409299246469E-2,4.269797792949518E-2,3.3609085740993194E-4]
[null,null,null,null,108,2.9662290224319543E-2,null,108,2.9230874910632289E-2,3.8253764899411014E-2,null,108,{"$f":"AVERAGE(N$15:N122)","v":2.950844456317598E-2},3.8253764899411014E-2,null,108,2.9995297453939695E-2,3.8994941323470256E-2,4.1095462770113743E-2,3.330072296201525E-4]
[null,null,null,null,109,2.9747532416110722E-2,null,109,2.9313658037043298E-2,3.8254235689432647E-2,null,109,{"$f":"AVERAGE(N$15:N123)","v":2.9588681179013195E-2},3.8254235689432647E-2,null,109,3.0077512030141529E-2,3.8995422719129813E-2,3.9553073932283356E-2,3.2997961403080645E-4]
[null,null,null,null,110,2.9831235603625217E-2,null,110,2.9394939888323073E-2,3.8254661677818547E-2,null,110,{"$f":"AVERAGE(N$15:N124)","v":2.9667462819911426E-2},3.8254661677818547E-2,null,110,3.0158242106551825E-2,3.8995858304127218E-2,3.8068557844727881E-2,3.2700650292660782E-4]
[null,null,null,null,111,2.9913440823039705E-2,null,111,2.9474760674267034E-2,3.8255047128102682E-2,null,111,{"$f":"AVERAGE(N$15:N125)","v":2.9744828444309545E-2},3.8255047128102682E-2,null,111,3.0237527264879605E-2,3.8996252437889289E-2,3.6639745095715444E-2,3.2408644183989921E-4]
[null,null,null,null,112,2.9994187686749774E-2,null,112,2.9553159203049455E-2,3.8255395897897948E-2,null,112,{"$f":"AVERAGE(N$15:N126)","v":2.9820815653716585E-2},3.8255395897897948E-2,null,112,3.0315405714003152E-2,3.8996609064995136E-2,3.5264547329647178E-2,3.2121802725337822E-4]
[null,null,null,null,113,3.0073514442761295E-2,null,113,2.9630172939994828E-2,3.8255711477876986E-2,null,113,{"$f":"AVERAGE(N$15:N127)","v":2.9895460749505616E-2},3.8255711477876986E-2,null,113,3.0391914347176474E-2,3.899693175464769E-2,3.3940954252956998E-2,3.1839990441517863E-4]
[null,null,null,null,114,3.0151458031281608E-2,null,114,2.9705838063560339E-2,3.8255997026463096E-2,null,114,{"$f":"AVERAGE(N$15:N128)","v":2.9968798787022785E-2},3.8255997026463096E-2,null,114,3.046708879654525E-2,3.8997223736407793E-2,3.2667030746145451E-2,3.1563076526364142E-4]
[null,null,null,null,115,3.022805413865326E-2,null,115,2.9780189518672867E-2,3.8256255401500905E-2,null,115,{"$f":"AVERAGE(N$15:N129)","v":3.0040863627148685E-2},3.8256255401500905E-2,null,115,3.0540963485110817E-2,3.899748793250013E-2,3.1440914078771774E-2,3.1290934645755719E-4]
[null,null,null,null,116,3.0303337248763329E-2,null,116,2.9853261067554124E-2,3.825648918889879E-2,null,116,{"$f":"AVERAGE(N$15:N130)","v":3.0111687985439631E-2},3.825648918889879E-2,null,116,3.0613571676264328E-2,3.8997726987067827E-2,3.02608112242416E-2,3.1023442750099939E-4]
[null,null,null,null,117,3.0377340692054222E-2,null,117,2.9925085338160337E-2,3.8256700728480642E-2,null,117,{"$f":"AVERAGE(N$15:N131)","v":3.0181303478969898E-2},3.8256700728480642E-2,null,117,3.0684945521014972E-2,3.8997943292633064E-2,2.9124996271256968E-2,3.0760482896075025E-4]
[null,null,null,null,118,3.0450096692256512E-2,null,118,2.9995693870357349E-2,3.8256892137408016E-2,null,118,{"$f":"AVERAGE(N$15:N132)","v":3.0249740670990559E-2},3.8256892137408016E-2,null,118,3.075511610302728E-2,3.8998139014041699E-2,2.8031807928833405E-2,3.0501941077076822E-4]
[null,null,null,null,119,3.0521636410958175E-2,null,119,3.0065117159945778E-2,3.8257065331380513E-2,null,119,{"$f":"AVERAGE(N$15:N133)","v":3.0317029113514846E-2},3.8257065331380513E-2,null,119,3.0824113481575877E-2,3.8998316110125941E-2,2.697964712183638E-2,3.0247707061770157E-4]
[null,null,null,null,120,3.059198999011814E-2,null,120,3.0133384700644281E-2,3.8257222043765804E-2,null,120,{"$f":"AVERAGE(N$15:N134)","v":3.0383197387933603E-2},3.8257222043765804E-2,null,120,3.08919667325247E-2,3.8998476353317546E-2,2.5966974674043502E-2,2.9997674240656025E-4]
[null,null,null,null,121,3.0661186592627843E-2,null,121,3.020052502413469E-2,3.8257363842983949E-2,null,121,{"$f":"AVERAGE(N$15:N135)","v":3.0448273143760463E-2},3.8257363842983949E-2,null,121,3.0958703987423508E-2,3.8998621347373641E-2,2.4992309075799853E-2,2.9751739479566552E-4]
[null,null,null,null,122,3.0729254441018483E-2,null,122,3.0266565738266697E-2,3.8257492148239258E-2,null,122,{"$f":"AVERAGE(N$15:N136)","v":3.0512283135600456E-2},3.8257492148239258E-2,null,122,3.1024352470822913E-2,3.8998752543438098E-2,2.4054224333397344E-2,2.9509802980443034E-4]
[null,null,null,null,123,3.0796220854405254E-2,null,123,3.0331533563513414E-2,3.8257608243613017E-2,null,123,{"$f":"AVERAGE(N$15:N137)","v":3.0575253258429826E-2},3.8257608243613017E-2,null,123,3.108893853589012E-2,3.8998871254561029E-2,2.3151347897377949E-2,2.9271768148486643E-4]
[null,null,null,null,124,3.0862112283758902E-2,null,124,3.0395454367767909E-2,3.8257713291070861E-2,null,124,{"$f":"AVERAGE(N$15:N138)","v":3.0637208581273705E-2},3.8257713291070861E-2,null,124,3.1152487698414832E-2,3.899897866883828E-2,2.2282358667031002E-2,2.9037541465593009E-4]
[null,null,null,null,125,3.0926954345585012E-2,null,125,3.0458353199561104E-2,3.8257808341917166E-2,null,125,{"$f":"AVERAGE(N$15:N139)","v":3.0698173379358852E-2},3.8257808341917166E-2,null,125,3.1215024669281499E-2,3.8999075861305466E-2,2.1445985068426994E-2,2.8807032369648766E-4]
[null,null,null,null,126,3.0990771854093158E-2,null,126,3.0520254319782954E-2,3.8257894347514476E-2,null,126,{"$f":"AVERAGE(N$15:N140)","v":3.0758171164820405E-2},3.8257894347514476E-2,null,126,3.1276573385486284E-2,3.8999163804695147E-2,2.0641003203404198E-2,2.8580153139312614E-4]
[null,null,null,null,127,3.1053588851927438E-2,null,127,3.0581181231978196E-2,3.8257972168578736E-2,null,127,{"$f":"AVERAGE(N$15:N141)","v":3.08172247160311E-2},3.8257972168578736E-2,null,127,3.1337157039770691E-2,3.899924337916949E-2,1.9866235066998531E-2,2.8356818784325277E-4]
[null,null,null,null,128,3.1115428639532539E-2,null,128,3.0641156711290616E-2,3.8258042583967811E-2,null,128,{"$f":"AVERAGE(N$15:N142)","v":3.0875356105624356E-2},3.8258042583967811E-2,null,128,3.1396798108937807E-2,3.8999315381138322E-2,1.9120546830881172E-2,2.8136946940526819E-4]
[null,null,null,null,129,3.1176313803221278E-2,null,129,{"$f":"LN(1+F143)","v":3.0700202832121524E-2},3.8258106298477923E-2,null,129,{"$f":"AVERAGE(N$15:N143)","v":3.0932586727274385E-2},{"$f":"J143+($L143<=FSP)*LN(1+VA/10000)","v":3.8258106298477923E-2},null,129,3.1455518380919312E-2,3.8999380531217209E-2,1.8402847190443234E-2,2.7920457769803342E-4]
[null,null,null,null,130,3.1236266242006261E-2,null,130,3.0758340994564804E-2,{"$f":"$H144*I144-$H143*I143","v":3.8258163949747903E-2},null,130,{"$f":"AVERAGE(N$15:N144)","v":3.0988937321293413E-2},3.8258163949747903E-2,null,130,3.1513338980650785E-2,3.8999439481449016E-2,1.7712085773239544E-2,{"$f":"Q144-F144","v":2.7707273864452375E-4}]
[null,null,null,null,131,3.1295307193258237E-2,null,131,3.0815591949680868E-2,3.8258216114769539E-2,null,131,{"$f":"AVERAGE(N$15:N145)","v":3.104442799910621E-2},3.8258216114769539E-2,null,131,3.1570280394816796E-2,3.8999492821830239E-2,1.7047251606576913E-2,2.7497320155855931E-4]
[null,null,null,null,132,3.1353457257247364E-2,null,132,3.0871975823665368E-2,3.8258263315634089E-2,null,132,{"$f":"AVERAGE(N$15:N146)","v":3.1099078266655662E-2},3.8258263315634089E-2,null,132,3.1626362495519311E-2,3.8999541086202294E-2,1.6407371642104086E-2,2.7290523827194768E-4]
[null,null,null,null,133,3.1410736420621532E-2,null,133,3.0927512140966635E-2,3.8258306024734345E-2,null,133,{"$f":"AVERAGE(N$15:N147)","v":3.1152907046791592E-2},3.8258306024734345E-2,null,133,3.1681604562922239E-2,3.8999584757616557E-2,1.5791509335330182E-2,2.7086814230070644E-4]
[null,null,null,null,134,3.1467164078873955E-2,null,134,3.0982219846403619E-2,3.825834466952216E-2,null,134,{"$f":"AVERAGE(N$15:N148)","v":3.1205932700692569E-2},3.825834466952216E-2,null,134,3.1736025306919879E-2,3.8999624273146294E-2,1.5198763278068997E-2,2.6886122804592461E-4]
[null,null,null,null,135,3.1522759057848404E-2,null,135,3.1036117326332536E-2,3.8258379636807227E-2,null,135,{"$f":"AVERAGE(N$15:N149)","v":3.1258173048367491E-2},3.8258379636807227E-2,null,135,3.1789642887879666E-2,3.8999660028277594E-2,1.462826588187271E-2,2.6688383003126148E-4]
[null,null,null,null,136,3.157753963432719E-2,null,136,3.1089222428906934E-2,3.8258411276451021E-2,null,136,{"$f":"AVERAGE(N$15:N150)","v":3.1309645388279871E-2},3.8258411276451021E-2,null,136,3.1842474936500498E-2,3.8999692380860429E-2,1.4079182110585751E-2,2.6493530217330807E-4]
[null,null,null,null,137,3.163152355574983E-2,null,137,3.1141552483478805E-2,3.8258439905253461E-2,null,137,{"$f":"AVERAGE(N$15:N151)","v":3.1360366516140992E-2},3.8258439905253461E-2,null,137,3.1894538572831088E-2,3.8999721654687569E-2,1.3550708260213548E-2,2.6301501708125841E-4]
[null,null,null,null,138,3.1684728059097278E-2,null,138,3.1193124319175442E-2,3.8258465809614783E-2,null,138,{"$f":"AVERAGE(N$15:N152)","v":3.1410352742905295E-2},3.8258465809614783E-2,null,138,3.1945850424487165E-2,3.899974814274354E-2,1.3042070784363537E-2,2.6112236538988753E-4]
[null,null,null,null,139,3.1737169888988781E-2,null,139,3.1243954282698602E-2,3.8258489248894634E-2,null,139,{"$f":"AVERAGE(N$15:N153)","v":3.1459619912013133E-2},3.8258489248894634E-2,null,139,3.1996426644105069E-2,3.8999772110126063E-2,1.2552525163577397E-2,2.5925675511628832E-4]
[null,null,null,null,140,3.1788865315021786E-2,null,140,3.1294058255376324E-2,3.825851045757922E-2,null,140,{"$f":"AVERAGE(N$15:N154)","v":3.1508183415910031E-2},3.825851045757922E-2,null,140,3.2046282926071035E-2,3.89997937967137E-2,1.208135481693211E-2,2.5741761104924876E-4]
[null,null,null,null,141,3.1839830148396642E-2,null,141,3.1343451669508679E-2,3.825852964803822E-2,null,141,{"$f":"AVERAGE(N$15:N155)","v":3.1556058211882572E-2},3.825852964803822E-2,null,141,3.2095434522555033E-2,3.8999813419550389E-2,1.1627870054345844E-2,2.5560437415839132E-4]
[null,null,null,null,142,3.1890079757854073E-2,null,142,3.139214952403524E-2,3.8258547012280708E-2,null,142,{"$f":"AVERAGE(N$15:N156)","v":3.160325883723749E-2},3.8258547012280708E-2,null,142,3.2143896258885807E-2,3.8999831175025479E-2,1.1191407068079747E-2,2.5381650103173392E-4]
[null,null,null,null,143,3.1939629084961174E-2,null,143,3.1440166399559724E-2,3.825856272403616E-2,null,143,{"$f":"AVERAGE(N$15:N157)","v":3.1649799423858455E-2},3.825856272403616E-2,null,143,3.2191682548297518E-2,3.8999847240844376E-2,1.0771326961981289E-2,2.520534633363436E-4]
[null,null,null,null,144,3.1988492658776568E-2,null,144,3.1487516472762121E-2,3.8258576940704891E-2,null,144,{"$f":"AVERAGE(N$15:N158)","v":3.169569371216989E-2},3.8258576940704891E-2,null,144,3.2238807406073988E-2,3.8999861777798905E-2,1.0367014817067272E-2,2.5031474729741987E-4]
[null,null,null,null,145,3.2036684609918264E-2,null,145,3.1534213530221684E-2,3.8258589804399001E-2,null,145,{"$f":"AVERAGE(N$15:N159)","v":3.1740955064530091E-2},3.8258589804399001E-2,null,145,3.2285284463122954E-2,3.8999874931379575E-2,9.9778787920950986E-3,2.4859985320468958E-4]
[null,null,null,null,146,3.2084218684069965E-2,null,146,3.1580270981686129E-2,3.8258601444030482E-2,null,146,{"$f":"AVERAGE(N$15:N160)","v":3.1785596478088311E-2},3.8258601444030482E-2,null,146,3.2331126979002311E-2,3.8999886833231967E-2,9.6033492578201131E-3,2.4690829493234645E-4]
[null,null,null,null,147,3.2131108254942475E-2,null,147,3.1625701872803585E-2,3.8258611975952483E-2,null,147,{"$f":"AVERAGE(N$15:N161)","v":3.1829630597121406E-2},3.8258611975952483E-2,null,147,3.2376347854426335E-2,3.8999897602474354E-2,9.2428779636842609E-3,2.4523959948385965E-4]
[null,null,null,null,148,3.2177366336723079E-2,null,148,3.1670518897349779E-2,3.8258621505640633E-2,null,148,{"$f":"AVERAGE(N$15:N162)","v":3.1873069724881666E-2},3.8258621505640633E-2,null,148,3.2420959643273628E-2,3.8999907346885188E-2,8.8959372357271943E-3,2.4359330655054912E-4]
[null,null,null,null,149,3.2223005596030418E-2,null,149,3.1714734408967854E-2,3.8258630128442661E-2,null,149,{"$f":"AVERAGE(N$15:N163)","v":3.1915925834972679E-2},3.8258630128442661E-2,null,149,3.2464974564121674E-2,3.8999916163994452E-2,8.5620192045550367E-3,2.4196896809125512E-4]
[null,null,null,null,150,3.2268038363400642E-2,null,150,3.1758360432446259E-2,3.825863793072859E-2,null,150,{"$f":"AVERAGE(N$15:N164)","v":3.195821058227772E-2},3.825863793072859E-2,null,150,3.2508404511325972E-2,3.8999924142046671E-2,8.2406350622451843E-3,2.4036614792533051E-4]

{"sheet":"2020 Review Term Structures","index":5,"n_rows":173,"n_cols":70,"rows_kept":173,"cut":false,"hidden":true,"merged":[[21,58,21,59],[21,60,21,61],[21,62,21,63],[21,64,21,65],[21,66,21,67],[21,68,21,69],[21,46,21,47],[21,48,21,49],[21,50,21,51],[21,52,21,53],[21,54,21,55],[21,56,21,57],[21,36,21,37],[21,38,21,39],[21,40,21,41],[21,42,21,43],[21,44,21,45],[21,26,21,27],[21,28,21,29],[21,30,21,31],[21,32,21,33],[21,20,21,21],[21,22,21,23],[21,24,21,25],[21,16,21,17],[21,12,21,13],[21,14,21,15],[21,8,21,9],[21,10,21,11],[21,34,21,35],[21,2,21,3],[21,4,21,5],[21,6,21,7],[7,58,7,59],[7,60,7,61],[7,62,7,63],[7,64,7,65],[7,26,7,27],[7,28,7,29],[7,30,7,31],[7,32,7,33],[7,18,7,19],[7,20,7,21],[7,22,7,23],[7,24,7,25],[7,16,7,17],[7,12,7,13],[7,14,7,15],[7,8,7,9],[7,10,7,11],[7,2,7,3],[7,4,7,5],[7,6,7,7],[21,18,21,19],[7,66,7,67],[7,68,7,69],[7,46,7,47],[7,48,7,49],[7,50,7,51],[7,52,7,53],[7,54,7,55],[7,56,7,57],[7,34,7,35],[7,36,7,37],[7,38,7,39],[7,40,7,41],[7,42,7,43],[7,44,7,45],[6,58,6,59],[6,60,6,61],[6,62,6,63],[6,64,6,65],[6,66,6,67],[6,68,6,69],[6,46,6,47],[6,48,6,49],[6,50,6,51],[6,52,6,53],[6,54,6,55],[6,56,6,57],[6,34,6,35],[6,36,6,37],[6,38,6,39],[6,40,6,41],[6,42,6,43],[6,44,6,45],[6,26,6,27],[6,28,6,29],[6,30,6,31],[6,32,6,33],[6,20,6,21],[6,22,6,23],[6,24,6,25],[6,16,6,17],[6,8,6,9],[6,10,6,11],[6,18,6,19],[6,2,6,3],[6,4,6,5],[6,6,6,7],[6,12,6,13],[6,14,6,15]]}
["RFR Term Structures as of end of December 2019"]
[" Alternative Extrapolation - Without VA"]
["All source data are Refinitiv based"]
[]
[null,null,"Country","Currency","Country","Currency","Country","Currency","Country","Currency","Country","Currency","Country","Currency","Country","Currency","Country","Currency","Country","Currency","Country","Currency","Country","Currency","Country","Currency","Country","Currency","Country","Currency","Country","Currency","Country","Currency","Country","Currency","Country","Currency","Country","Currency","Country","Currency","Country","Currency","Country","Currency","Country","Currency","Country","Currency","Country","Currency","Country","Currency","Country","Currency","Country","Currency","Country","Currency","Country","Currency","Country","Currency","Country","Currency","Country","Currency","Country","Currency"]
[null,null,"Euro","EUR","Bulgaria","BGN","Croatia","HRK","Czechia","CZK","Denmark","DKK","Hungary","HUF","Iceland","ISK","Liechtenstein","CHF","Norway","NOK","Poland","PLN","Romania","RON","Russia","RUB","Sweden","SEK","Switzerland","CHF","United Kingdom","GBP","Australia","AUD","Brazil","BRL","Canada","CAD","Chile","CLP","China","CNY","Colombia","COP","Hong Kong","HKD","India","INR","Japan","JPY","Malaysia","MYR","Mexico","MXN","New Zealand","NZD","Singapore","SGD","South Africa","ZAR","South Korea","KRW","Taiwan","TWD","Thailand","THB","Turkey","TRY","United States","USD"]
[null,null,"Date",null,"Date",null,"Date",null,"Date",null,"Date",null,"Date",null,"Date",null,"Date",null,"Date",null,"Date",null,"Date",null,"Date",null,"Date",null,"Date",null,"Date",null,"Date",null,"Date",null,"Date",null,"Date",null,"Date",null,"Date",null,"Date",null,"Date",null,"Date",null,"Date",null,"Date",null,"Date",null,"Date",null,"Date",null,"Date",null,"Date",null,"Date",null,"Date",null,"Date"]
[null,null,"2019-12-31",null,"2019-12-31",null,"2019-12-30",null,"2019-12-31",null,"2019-12-31",null,"2019-12-30",null,"2019-12-30",null,"2019-12-31",null,"2019-12-31",null,"2019-12-30",null,"2019-12-30",null,"2019-12-30",null,"2019-12-31",null,"2019-12-31",null,"2019-12-31",null,"2019-12-31",null,"2019-12-30",null,"2019-12-31",null,"2019-12-30",null,"2019-12-31",null,"2019-12-30",null,"2019-12-31",null,"2019-12-31",null,"2019-12-31",null,"2019-12-31",null,"2019-12-31",null,"2019-12-31",null,"2019-12-31",null,"2019-12-31",null,"2019-12-31",null,"2019-12-31",null,"2019-12-30",null,"2019-12-31",null,"2019-12-31"]
[null,null,"CRA","UFR","CRA","UFR","CRA","UFR","CRA","UFR","CRA","UFR","CRA","UFR","CRA","UFR","CRA","UFR","CRA","UFR","CRA","UFR","CRA","UFR","CRA","UFR","CRA","UFR","CRA","UFR","CRA","UFR","CRA","UFR","CRA","UFR","CRA","UFR","CRA","UFR","CRA","UFR","CRA","UFR","CRA","UFR","CRA","UFR","CRA","UFR","CRA","UFR","CRA","UFR","CRA","UFR","CRA","UFR","CRA","UFR","CRA","UFR","CRA","UFR","CRA","UFR","CRA","UFR","CRA","UFR"]
[null,null,10,3.9,15,3.9,10,3.9,10,3.9,11,3.9,10,4.5,10,3.9,10,2.9,10,3.9,10,3.9,10,3.9,35,4.5,10,3.9,10,2.9,11,3.9,21,3.9,35,5.5,15,3.9,17,4.5,22,4.5,35,4.5,15,3.9,35,5.5,10,3.5000000000000004,15,3.9,35,4.9000000000000004,11,3.9,11,3.9,35,5.5,10,3.9,10,3.9,10,3.9,35,5.5,13,3.9]
[null,null,null,"Alternative",null,"Alternative",null,"Alternative",null,"Alternative",null,"Alternative",null,"Alternative",null,"Alternative",null,"Alternative",null,"Alternative",null,"Alternative",null,"Alternative",null,"Alternative",null,"Alternative",null,"Alternative",null,"Alternative",null,"Alternative",null,"Alternative",null,"Alternative",null,"Alternative",null,"Alternative",null,"Alternative",null,"Alternative",null,"Alternative",null,"Alternative",null,"Alternative",null,"Alternative",null,"Alternative",null,"Alternative",null,"Alternative",null,"Alternative",null,"Alternative",null,"Alternative",null,"Alternative",null,"Alternative"]
[null,null,null,"Instrument",null,"Instrument",null,"Instrument",null,"Instrument",null,"Instrument",null,"Instrument",null,"Instrument",null,"Instrument",null,"Instrument",null,"Instrument",null,"Instrument",null,"Instrument",null,"Instrument",null,"Instrument",null,"Instrument",null,"Instrument",null,"Instrument",null,"Instrument",null,"Instrument",null,"Instrument",null,"Instrument",null,"Instrument",null,"Instrument",null,"Instrument",null,"Instrument",null,"Instrument",null,"Instrument",null,"Instrument",null,"Instrument",null,"Instrument",null,"Instrument",null,"Instrument",null,"Instrument",null,"Instrument"]
[null,null,null,"SWP",null,"SWP",null,"GVT",null,"SWP",null,"SWP",null,"SWP",null,"GVT",null,"SWP",null,"SWP",null,"SWP",null,"GVT",null,"GVT",null,"SWP",null,"SWP",null,"SWP",null,"SWP",null,"GVT",null,"SWP",null,"GVT",null,"SWP",null,"GVT",null,"SWP",null,"GVT",null,"SWP",null,"GVT",null,"SWP",null,"SWP",null,"SWP",null,"SWP",null,"SWP",null,"GVT",null,"GVT",null,"GVT",null,"SWP"]
[null,null,null,"CouponFreq",null,"CouponFreq",null,"CouponFreq",null,"CouponFreq",null,"CouponFreq",null,"CouponFreq",null,"CouponFreq",null,"CouponFreq",null,"CouponFreq",null,"CouponFreq",null,"CouponFreq",null,"CouponFreq",null,"CouponFreq",null,"CouponFreq",null,"CouponFreq",null,"CouponFreq",null,"CouponFreq",null,"CouponFreq",null,"CouponFreq",null,"CouponFreq",null,"CouponFreq",null,"CouponFreq",null,"CouponFreq",null,"CouponFreq",null,"CouponFreq",null,"CouponFreq",null,"CouponFreq",null,"CouponFreq",null,"CouponFreq",null,"CouponFreq",null,"CouponFreq",null,"CouponFreq",null,"CouponFreq",null,"CouponFreq"]
[null,null,null,1,null,1,null,0,null,1,null,1,null,1,null,0,null,1,null,1,null,1,null,0,null,0,null,1,null,1,null,2,null,2,null,0,null,2,null,0,null,4,null,0,null,4,null,0,null,2,null,0,null,13,null,2,null,2,null,4,null,4,null,0,null,0,null,0,null,2]
[null,null,null,"FSP",null,"FSP",null,"FSP",null,"FSP",null,"FSP",null,"FSP",null,"FSP",null,"FSP",null,"FSP",null,"FSP",null,"FSP",null,"FSP",null,"FSP",null,"FSP",null,"FSP",null,"FSP",null,"FSP",null,"FSP",null,"FSP",null,"FSP",null,"FSP",null,"FSP",null,"FSP",null,"FSP",null,"FSP",null,"FSP",null,"FSP",null,"FSP",null,"FSP",null,"FSP",null,"FSP",null,"FSP",null,"FSP",null,"FSP"]
[null,null,null,20,null,20,null,12,null,10,null,20,null,10,null,8,null,10,null,10,null,10,null,10,null,15,null,10,null,10,null,40,null,15,null,10,null,30,null,10,null,10,null,10,null,15,null,10,null,25,null,20,null,20,null,20,null,20,null,15,null,20,null,10,null,15,null,9,null,25]
[null,null,null,"Mean Rev",null,"Mean Rev",null,"Mean Rev",null,"Mean Rev",null,"Mean Rev",null,"Mean Rev",null,"Mean Rev",null,"Mean Rev",null,"Mean Rev",null,"Mean Rev",null,"Mean Rev",null,"Mean Rev",null,"Mean Rev",null,"Mean Rev",null,"Mean Rev",null,"Mean Rev",null,"Mean Rev",null,"Mean Rev",null,"Mean Rev",null,"Mean Rev",null,"Mean Rev",null,"Mean Rev",null,"Mean Rev",null,"Mean Rev",null,"Mean Rev",null,"Mean Rev",null,"Mean Rev",null,"Mean Rev",null,"Mean Rev",null,"Mean Rev",null,"Mean Rev",null,"Mean Rev",null,"Mean Rev",null,"Mean Rev"]
[null,null,null,0.1,null,0.1,null,0.1,null,0.1,null,0.1,null,0.1,null,0.1,null,0.1,null,0.1,null,0.1,null,0.1,null,0.1,null,0.4,null,0.1,null,0.1,null,0.1,null,0.1,null,0.1,null,0.1,null,0.1,null,0.1,null,0.1,null,0.1,null,0.1,null,0.1,null,0.1,null,0.1,null,0.1,null,0.1,null,0.1,null,0.1,null,0.1,null,0.1,null,0.1]
[null,null,null,"LLFR",null,"LLFR",null,"LLFR",null,"LLFR",null,"LLFR",null,"LLFR",null,"LLFR",null,"LLFR",null,"LLFR",null,"LLFR",null,"LLFR",null,"LLFR",null,"LLFR",null,"LLFR",null,"LLFR",null,"LLFR",null,"LLFR",null,"LLFR",null,"LLFR",null,"LLFR",null,"LLFR",null,"LLFR",null,"LLFR",null,"LLFR",null,"LLFR",null,"LLFR",null,"LLFR",null,"LLFR",null,"LLFR",null,"LLFR",null,"LLFR",null,"LLFR",null,"LLFR",null,"LLFR"]
[null,null,null,7.0513690149732423E-3,null,6.5450067397112852E-3,null,1.7509383706472648E-2,null,1.2561200373154566E-2,null,6.950112773252093E-3,null,2.1187240691162658E-2,null,3.4126057286864936E-2,null,1.1010599707022436E-3,null,2.01302912616972E-2,null,1.8453738492455341E-2,null,5.6965127973678031E-2,null,7.2447666521374715E-2,null,9.9689923525056335E-3,null,1.1010599707022436E-3,null,8.0249347913132884E-3,null,2.0306721122348124E-2,null,6.9170228995611427E-2,null,2.1498867396742716E-2,null,3.7981241216958304E-2,null,3.2766039152462893E-2,null,7.707762186129441E-2,null,1.9400016225105818E-2,null,6.897180836548289E-2,null,5.578874945065408E-3,null,4.5834455401654761E-2,null,7.3653448289575554E-2,null,2.5533620609442757E-2,null,1.8985780332716279E-2,null,9.0585747354856139E-2,null,1.0895298034148094E-2,null,6.9205123566581234E-3,null,2.1586836235322371E-2,null,0.13300027339775811,null,1.9757915339019938E-2]
[null,null,"Zero Rates AC",null,"Zero Rates AC",null,"Zero Rates AC",null,"Zero Rates AC",null,"Zero Rates AC",null,"Zero Rates AC",null,"Zero Rates AC",null,"Zero Rates AC",null,"Zero Rates AC",null,"Zero Rates AC",null,"Zero Rates AC",null,"Zero Rates AC",null,"Zero Rates AC",null,"Zero Rates AC",null,"Zero Rates AC",null,"Zero Rates AC",null,"Zero Rates AC",null,"Zero Rates AC",null,"Zero Rates AC",null,"Zero Rates AC",null,"Zero Rates AC",null,"Zero Rates AC",null,"Zero Rates AC",null,"Zero Rates AC",null,"Zero Rates AC",null,"Zero Rates AC",null,"Zero Rates AC",null,"Zero Rates AC",null,"Zero Rates AC",null,"Zero Rates AC",null,"Zero Rates AC",null,"Zero Rates AC",null,"Zero Rates AC",null,"Zero Rates AC"]
[null,"Tenor",null,"Alternative",null,"Alternative",null,"Alternative",null,"Alternative",null,"Alternative",null,"Alternative",null,"Alternative",null,"Alternative",null,"Alternative",null,"Alternative",null,"Alternative",null,"Alternative",null,"Alternative",null,"Alternative",null,"Alternative",null,"Alternative",null,"Alternative",null,"Alternative",null,"Alternative",null,"Alternative",null,"Alternative",null,"Alternative",null,"Alternative",null,"Alternative",null,"Alternative",null,"Alternative",null,"Alternative",null,"Alternative",null,"Alternative",null,"Alternative",null,"Alternative",null,"Alternative",null,"Alternative",null,"Alternative"]
[null,1,null,-4.1609999999998593E-3,null,-4.6610000000000262E-3,null,1.6591999999993057E-4,null,2.1760000000000002E-2,null,-4.2609999999998482E-3,null,2.0999999999999908E-3,null,3.1381399999999893E-2,null,-7.3500000000000787E-3,null,1.7879999999999896E-2,null,1.5997999999999957E-2,null,3.3228929999999934E-2,null,4.9134699999999976E-2,null,8.6999999999992639E-4,null,-7.3500000000000787E-3,null,7.1718128202500342E-3,null,7.6947456000000525E-3,null,4.2763499999999954E-2,null,1.8686490000000111E-2,null,1.5989339999999963E-2,null,2.4522331918712892E-2,null,3.8776439999999912E-2,null,1.9998247878123765E-2,null,5.2826400000000051E-2,null,-8.4981937500006044E-4,null,2.8050099999999967E-2,null,6.8420354898009128E-2,null,1.1331922499999925E-2,null,1.3230977539062438E-2,null,6.4084927135530823E-2,null,1.3114002453769036E-2,null,3.254880000000071E-3,null,1.0796220000000023E-2,null,0.11157723999999991,null,1.6507568399999784E-2]
[null,2,null,-3.9354447556139149E-3,null,-4.4355012684128559E-3,null,2.646799999999061E-4,null,2.1547737722572791E-2,null,-4.0354560581735699E-3,null,3.3019823768962731E-3,null,3.1381399999999893E-2,null,-7.0709900777152779E-3,null,1.8808655926715101E-2,null,1.6564655965996433E-2,null,3.6185279999999986E-2,null,5.328526999999994E-2,null,1.180182956699749E-3,null,-7.0709900777152779E-3,null,6.9281200459894166E-3,null,7.9567994243141538E-3,null,4.9081600000000059E-2,null,1.8686490000000111E-2,null,1.8706160000000027E-2,null,2.5244355135299879E-2,null,4.4042499999999984E-2,null,1.8820568244247937E-2,null,5.7348359999999987E-2,null,-8.4981937500006044E-4,null,2.8937750000000095E-2,null,6.4859026884358073E-2,null,1.1559514382431857E-2,null,1.304608433763077E-2,null,6.3760637319115299E-2,null,1.235217511046427E-2,null,3.6942099999999201E-3,null,1.0910909999999996E-2,null,0.11351121999999991,null,1.5714624943408806E-2]
[null,3,null,-3.3821302804601938E-3,null,-3.8824450511389941E-3,null,6.0474999999993173E-4,null,2.0443271051497902E-2,null,-3.4821932420098234E-3,null,5.3127825341201529E-3,null,3.17957499999999E-2,null,-6.126052046990571E-3,null,1.8805770609638728E-2,null,1.6726970279006492E-2,null,3.7331350000000096E-2,null,5.5311529999999998E-2,null,1.6208812770828196E-3,null,-6.126052046990571E-3,null,7.156803281022972E-3,null,8.5033421804951992E-3,null,5.4351309999999931E-2,null,1.8809902189213412E-2,null,2.0733340000000045E-2,null,2.6814237734731794E-2,null,4.7687210000000091E-2,null,1.8514489458437478E-2,null,6.042465000000008E-2,null,-8.9975254601004639E-4,null,2.9702499999999965E-2,null,6.3881862858773175E-2,null,1.2093626432987836E-2,null,1.3168857644960896E-2,null,6.5216962250870925E-2,null,1.2277128061543241E-2,null,4.076820000000092E-3,null,1.1069570000000084E-2,null,0.11380111999999998,null,1.5654257504502889E-2]
[null,4,null,-2.7489134307021601E-3,null,-3.2496250002506111E-3,null,1.1248800000001058E-3,null,1.9891485590230573E-2,null,-2.8490557756407631E-3,null,7.1781501860010977E-3,null,3.2275803325186869E-2,null,-5.653245860126721E-3,null,1.8907224123530186E-2,null,1.6808137153991431E-2,null,3.8002309999999984E-2,null,5.6457540000000028E-2,null,2.2831958304807554E-3,null,-5.653245860126721E-3,null,7.4752741104990861E-3,null,9.0928203403402019E-3,null,5.8386810000000011E-2,null,1.9027453196336586E-2,null,2.2439920000000058E-2,null,2.7600080247448311E-2,null,5.0242899999999979E-2,null,1.8387497891371618E-2,null,6.252039999999992E-2,null,-8.4985120321490193E-4,null,3.0436490000000038E-2,null,6.3915726171269505E-2,null,1.2710469809984692E-2,null,1.365050558801717E-2,null,6.6940464255098808E-2,null,1.2380923256565257E-2,null,4.4074100000000005E-3,null,1.1331140000000017E-2,null,0.11433039000000011,null,1.5802029689837793E-2]
[null,5,null,-2.1999221839471561E-3,null,-2.7010410825275555E-3,null,1.7663500000000276E-3,null,1.956055754023911E-2,null,-2.30014603269868E-3,null,8.299031746128227E-3,null,3.2563942521470102E-2,null,-5.3694541915350058E-3,null,1.9040867145024398E-2,null,1.6856840389193772E-2,null,3.8741869999999956E-2,null,5.7260169999999944E-2,null,2.9068729875645349E-3,null,-5.3694541915350058E-3,null,7.7671383592270438E-3,null,9.7570065744501111E-3,null,6.1288779999999932E-2,null,1.9193777582900307E-2,null,2.396095999999992E-2,null,2.8071874408086117E-2,null,5.2180190000000071E-2,null,1.8311310551436977E-2,null,6.3980060000000005E-2,null,-7.5003168131804188E-4,null,3.1088640000000112E-2,null,6.4417260995170533E-2,null,1.3436702287925151E-2,null,1.3939604252233506E-2,null,6.7975903694846407E-2,null,1.2432886112596853E-2,null,4.6920100000000797E-3,null,1.1707990000000112E-2,null,0.11543079999999994,null,1.6056587527662147E-2]
[null,6,null,-1.670325243930515E-3,null,-2.1719209274244644E-3,null,2.4932300000000129E-3,null,1.8403926520428548E-2,null,-1.7706445094101131E-3,null,1.0472988717047382E-2,null,3.2756079999999965E-2,null,-4.2938462412147604E-3,null,1.9256320707613295E-2,null,1.7151330516490759E-2,null,3.9963580209595673E-2,null,5.7984026348292916E-2,null,3.5628438657935302E-3,null,-4.2938462412147604E-3,null,8.0549094355157891E-3,null,1.064104805376731E-2,null,6.3400109999999898E-2,null,1.9451637682393219E-2,null,2.5547437267416706E-2,null,2.8942841440614098E-2,null,5.4004919999999901E-2,null,1.8579433736530815E-2,null,6.5044110000000099E-2,null,-6.0024976333039604E-4,null,3.1674659999999966E-2,null,6.5077865203525764E-2,null,1.420890922050444E-2,null,1.4667852506518919E-2,null,7.1103940777037744E-2,null,1.2463204728560884E-2,null,4.9378799999999501E-3,null,1.2180869999999899E-2,null,0.11763234675548295,null,1.6402576033387017E-2]
[null,7,null,-8.4439680119796634E-4,null,-1.3470092825418334E-3,null,3.2731399999998967E-3,null,1.7578564937595242E-2,null,-9.4491957558484607E-4,null,1.2028684244015819E-2,null,3.3035703038295727E-2,null,-3.5248427715953712E-3,null,1.9410243998414067E-2,null,1.7361732822366749E-2,null,4.083711000000001E-2,null,5.8501370000000108E-2,null,4.2213469653782365E-3,null,-3.5248427715953712E-3,null,8.3417533984784242E-3,null,1.1272980077636108E-2,null,6.4912279999999933E-2,null,1.963586340941692E-2,null,2.668213999999991E-2,null,2.9565412470371699E-2,null,5.5901060000000058E-2,null,1.8770993519072965E-2,null,6.5847070000000008E-2,null,-4.1239004816506775E-4,null,3.2224760000000074E-2,null,6.5549976350357753E-2,null,1.4965154611146669E-2,null,1.5188350046465127E-2,null,7.3343860700382679E-2,null,1.2484861438695205E-2,null,5.1478799999999936E-3,null,1.2709630000000027E-2,null,0.11920754000000011,null,1.6637862208577214E-2]
[null,8,null,-1.8124524932772168E-4,null,-6.8470059208991518E-4,null,4.097070000000036E-3,null,1.6959982753067759E-2,null,-2.8193675106513716E-4,null,1.3197027475121192E-2,null,3.3245469999999999E-2,null,-2.9477004367417514E-3,null,1.9525701720703337E-2,null,1.7519563113026271E-2,null,4.2159199999999952E-2,null,5.9178327890801574E-2,null,4.9442108319821543E-3,null,-2.9477004367417514E-3,null,8.5976493243167251E-3,null,1.2124844945062163E-2,null,6.5975609999999962E-2,null,1.9944379954532909E-2,null,2.817818870721478E-2,null,3.0032587934448518E-2,null,5.7897880000000068E-2,null,1.8914686997547836E-2,null,6.6475700000000026E-2,null,-2.1233219968530559E-4,null,3.2759500000000052E-2,null,6.6207905117892096E-2,null,1.5731498748064565E-2,null,1.5578898413573183E-2,null,7.5026874099198393E-2,null,1.266070893255522E-2,null,5.3301699999999119E-3,null,1.3263239999999898E-2,null,0.12206227072286868,null,1.7143703871025151E-2]
[null,9,null,4.6402653194910215E-4,null,-4.034981679446048E-5,null,4.9560300000000002E-3,null,1.6479123261895934E-2,null,3.6315062908065521E-4,null,1.4106671302184681E-2,null,3.3431606522045243E-2,null,-2.4985808626866168E-3,null,1.9615511211953818E-2,null,1.7642336933670899E-2,null,4.3601830000000064E-2,null,5.9705150000000096E-2,null,5.5067980028369323E-3,null,-2.4985808626866168E-3,null,8.8620365892120301E-3,null,1.2787902585426725E-2,null,6.6710180000000063E-2,null,2.0184401803853724E-2,null,2.9343289140456141E-2,null,3.0396093181665362E-2,null,5.9962969999999949E-2,null,1.9026462603784378E-2,null,6.6981670000000104E-2,null,2.5059953333128604E-5,null,3.3310579999999979E-2,null,6.6719908337886658E-2,null,1.6406573593435336E-2,null,1.5882762125501548E-2,null,7.6337708789410375E-2,null,1.2797500320079314E-2,null,5.4911699999999897E-3,null,1.3811550000000006E-2,null,0.12428765000000008,null,1.7492888588258593E-2]
[null,10,null,1.122066320614179E-3,null,6.1662420471608748E-4,null,5.8379500000000917E-3,null,1.6094599380278352E-2,null,1.0209769995495055E-3,null,1.4834974334089424E-2,null,3.3619222336446652E-2,null,-2.1391395484137155E-3,null,1.9687364501036475E-2,null,1.774056665609347E-2,null,4.5093899999999909E-2,null,6.0393939999999979E-2,null,5.9570944930138481E-3,null,-2.1391395484137155E-3,null,9.1329675806288702E-3,null,1.3318661436697576E-2,null,6.7200010000000088E-2,null,2.0376459951117143E-2,null,3.0276320000000023E-2,null,3.0686989741301351E-2,null,6.1962209999999907E-2,null,1.9115891917246053E-2,null,6.7423280000000085E-2,null,2.6386698469371694E-4,null,3.3890690000000001E-2,null,6.7129687933778159E-2,null,1.7010606501666414E-2,null,1.6125918553814511E-2,null,7.7387527272374301E-2,null,1.2906946734095426E-2,null,5.6364099999999251E-3,null,1.4343369999999966E-2,null,0.12563837603050065,null,1.7691099845859926E-2]
[null,11,null,1.5688248540970395E-3,null,1.0627379568735051E-3,null,6.733840000000102E-3,null,1.5894895637424522E-2,null,1.4676063777148141E-3,null,1.5533198875607113E-2,null,3.3804576723166724E-2,null,-1.7242949527365159E-3,null,1.9827457275726879E-2,null,1.790959486109478E-2,null,4.6230200171914815E-2,null,6.1725780804680719E-2,null,6.780753175618548E-3,null,-1.7242949527365159E-3,null,9.3525973347732272E-3,null,1.3997273175579528E-2,null,6.7527570459877007E-2,null,2.0499583201992966E-2,null,3.1067704829898179E-2,null,3.0976065766490368E-2,null,6.3446130972526493E-2,null,1.9158930777916527E-2,null,6.7712275418967183E-2,null,5.245812890699586E-4,null,3.4543781747679247E-2,null,6.7972173744954123E-2,null,1.7812148522482918E-2,null,1.6402019297178105E-2,null,7.8960346828776729E-2,null,1.2729329377910048E-2,null,5.8938755620412397E-3,null,1.488359375869841E-2,null,0.12600788938293506,null,1.7974212015247959E-2]
[null,12,null,2.2326333432145518E-3,null,1.7251845080969996E-3,null,7.6401500000000677E-3,null,1.5925503923694295E-2,null,2.1311420565393036E-3,null,1.6290497296131967E-2,null,3.3985465706672935E-2,null,-1.1712950548120604E-3,null,2.008376192422956E-2,null,1.8202642505252831E-2,null,4.7030241209537138E-2,null,6.28369258666297E-2,null,8.1132196102069454E-3,null,-1.1712950548120604E-3,null,9.5356586438504198E-3,null,1.4563130102835942E-2,null,6.7674675445194676E-2,null,2.0602197259779187E-2,null,3.1774651322595382E-2,null,3.1304584212859199E-2,null,6.4418714195312088E-2,null,1.9194797883581804E-2,null,6.7828806812638476E-2,null,7.4189511795097474E-4,null,3.508833999999994E-2,null,6.8674753319102555E-2,null,1.8480582752018471E-2,null,1.6632160557454423E-2,null,8.0272783595579211E-2,null,1.2581338706681322E-2,null,6.3464501041223809E-3,null,1.5333999999999959E-2,null,0.12570495373365387,null,1.8210198985391779E-2]
[null,13,null,2.8385089567781741E-3,null,2.3297594292528423E-3,null,8.4855272345283339E-3,null,1.6115977049705021E-2,null,2.7367570780596484E-3,null,1.7078075669161308E-2,null,3.4160605650163767E-2,null,-5.2998794570857655E-4,null,2.0417278432769637E-2,null,1.8577817294977095E-2,null,4.7584149024467726E-2,null,6.3778033758660202E-2,null,9.6421735571863287E-3,null,-5.2998794570857655E-4,null,9.7001426664211632E-3,null,1.5086249306542898E-2,null,6.7693975358486869E-2,null,2.0689032598532053E-2,null,3.2412491487172623E-2,null,3.1655801530210415E-2,null,6.5020403625177581E-2,null,1.9225147958900957E-2,null,6.7823553735712805E-2,null,1.014194009499203E-3,null,3.5714160340671652E-2,null,6.92696047250696E-2,null,1.9046523810593907E-2,null,1.6826936171048468E-2,null,8.1384553855682551E-2,null,1.245613272243129E-2,null,6.928436045400721E-3,null,1.5831574138877702E-2,null,0.12493876570414364,null,1.8498914504032626E-2]
[null,14,null,3.1358205381835091E-3,null,2.626689320172515E-3,null,9.3461633790352661E-3,null,1.6417586309173338E-2,null,3.0339921270301495E-3,null,1.7876687659548862E-2,null,3.4329283277497291E-2,null,1.6561221705924112E-4,null,2.0801236455467942E-2,null,1.9006380163021808E-2,null,4.7955335750327732E-2,null,6.4585360893446797E-2,null,1.1203996319865128E-2,null,1.6561221705924112E-4,null,9.8411503014854684E-3,null,1.5534851869764221E-2,null,6.7622144303564946E-2,null,2.0763468769243065E-2,null,3.2992544113303879E-2,null,3.2018430243816454E-2,null,6.5349861109811114E-2,null,1.9251163028507712E-2,null,6.7731790023926264E-2,null,1.2476520295929827E-3,null,3.6250878922128971E-2,null,6.977974088777894E-2,null,1.9531866438354806E-2,null,1.6993916397904707E-2,null,8.2338410427035269E-2,null,1.234882562964712E-2,null,7.5947617714968718E-3,null,1.625826033089095E-2,null,0.12385443744425229,null,1.8746450106241763E-2]
[null,15,null,3.7481006814281681E-3,null,3.2373490489299162E-3,null,1.0207141086676863E-2,null,1.6795909878767556E-2,null,3.6459475231083172E-3,null,1.8673332786824037E-2,null,3.4491147574011505E-2,null,8.9189296868363854E-4,null,2.1216913669069193E-2,null,1.9468245882789725E-2,null,4.8189436940111241E-2,null,6.5285540000000086E-2,null,1.2715831697414304E-2,null,8.9189296868363854E-4,null,9.9633728471926197E-3,null,1.5923801119680281E-2,null,6.7485271420780091E-2,null,2.0827984508178687E-2,null,3.3523419144585898E-2,null,3.2384759547002373E-2,null,6.5477914839186635E-2,null,1.9273709959283236E-2,null,6.7578585597543483E-2,null,1.4500263551362469E-3,null,3.6716259999999945E-2,null,7.0222055758715651E-2,null,1.9952683690316331E-2,null,1.7138654774881967E-2,null,8.3165766668760188E-2,null,1.2255835348889743E-2,null,8.3139170057895395E-3,null,1.6628199999999982E-2,null,0.12255449908470273,null,1.8961029624497527E-2]
[null,16,null,4.0915960479630531E-3,null,3.5801431295543473E-3,null,1.1058309455417303E-2,null,1.7226228924612563E-2,null,3.9893021915538007E-3,null,1.9459205496986209E-2,null,3.4646081320139688E-2,null,1.6322687635246247E-3,null,2.1651035602235691E-2,null,1.994918581255245E-2,null,4.8319914686709042E-2,null,6.5806956714109521E-2,null,1.4138906337586965E-2,null,1.6322687635246247E-3,null,1.0023916810679934E-2,null,1.626525882763441E-2,null,6.7302231476421559E-2,null,2.0884439124657206E-2,null,3.4011836258118322E-2,null,3.274948678812617E-2,null,6.5456324137625588E-2,null,1.935155776836428E-2,null,6.7382058033070402E-2,null,1.6993926252011349E-3,null,3.7349898845122187E-2,null,7.0609231287814822E-2,null,2.0321041267167939E-2,null,1.7265317752366727E-2,null,8.3768831865474347E-2,null,1.2174475860126988E-2,null,9.0635657709550177E-3,null,1.7003268964302487E-2,null,0.1211124287703278,null,1.9133008701520016E-2]
[null,17,null,4.3947778117132685E-3,null,3.8827057629298167E-3,null,1.189279038886637E-2,null,1.7690567278994207E-2,null,4.2923597399064928E-3,null,2.0228377844816903E-2,null,3.4794119323302786E-2,null,2.3750116973726421E-3,null,2.2094102816891281E-2,null,2.0439028556352934E-2,null,4.8371689748008206E-2,null,6.610576715240013E-2,null,1.5458360062400756E-2,null,2.3750116973726421E-3,null,1.0077340968969617E-2,null,1.6663859705702055E-2,null,6.7086863834524557E-2,null,2.0934254614288994E-2,null,3.4463157219920104E-2,null,3.3108966248988736E-2,null,6.5323470940855888E-2,null,1.9522668522719666E-2,null,6.7155474248651315E-2,null,1.919473252055548E-3,null,3.7909313551629964E-2,null,7.0950973073260482E-2,null,2.0646173134125201E-2,null,1.7377092301858355E-2,null,8.4087273256069794E-2,null,1.2102693506438111E-2,null,9.8277268721900235E-3,null,1.7424681825634503E-2,null,0.11958144123666825,null,1.9284779050787293E-2]
[null,18,null,4.6643495642373356E-3,null,4.1517269027928627E-3,null,1.2705991560702845E-2,null,1.8175731070904533E-2,null,4.5618210236078038E-3,null,2.0976929124738586E-2,null,3.4935395065638142E-2,null,3.1118161582792681E-3,null,2.2539283069999305E-2,null,2.0930468500948374E-2,null,4.8363564358713029E-2,null,6.6233440216949324E-2,null,1.6672035376088079E-2,null,3.1118161582792681E-3,null,1.0124831481955976E-2,null,1.7101419797172612E-2,null,6.6849421942447584E-2,null,2.0978537090199367E-2,null,3.4881743002502796E-2,null,3.3460712333510445E-2,null,6.5108161099828088E-2,null,1.9762334293163208E-2,null,6.6908648334470522E-2,null,2.1151410684987493E-3,null,3.8406824323340638E-2,null,7.125483512569164E-2,null,2.0935266214401782E-2,null,1.7476457767320097E-2,null,8.4187558324582801E-2,null,1.2038891243535854E-2,null,1.0594908088209509E-2,null,1.7876666763185778E-2,null,0.11800035357855365,null,1.9419705002158505E-2]
[null,19,null,4.9056066701973489E-3,null,4.3924911362027697E-3,null,1.3494938237086584E-2,null,1.867197726153802E-2,null,4.8029792450385855E-3,null,2.170235683915922E-2,null,3.5070105194613399E-2,null,3.8368252813263393E-3,null,2.2981659190154158E-2,null,2.1418257023986031E-2,null,4.8309878876114043E-2,null,6.6229387319455046E-2,null,1.7784224440679397E-2,null,3.8368252813263393E-3,null,1.0167324886235285E-2,null,1.7564362453073468E-2,null,6.659756160210617E-2,null,2.101815988095046E-2,null,3.5271199984256096E-2,null,3.3803062994523403E-2,null,6.4832225789546616E-2,null,2.0051884910461393E-2,null,6.664889442461619E-2,null,2.2902446631531959E-3,null,3.8852167680240024E-2,null,7.1526784778028984E-2,null,2.1193997852212432E-2,null,1.7565371936347995E-2,null,8.4120562715837899E-2,null,1.1981808417588002E-2,null,1.1356840157958681E-2,null,1.83474945965032E-2,null,0.1163975927271359,null,1.9540443361171222E-2]
[null,20,null,5.1227875993873351E-3,null,4.6092283031005099E-3,null,1.425781155633965E-2,null,1.9172089289306804E-2,null,5.0200711426071631E-3,null,2.2403169835881753E-2,null,3.5198485522362599E-2,null,4.5459564109098238E-3,null,2.3417707398776688E-2,null,2.1898641581841183E-2,null,4.8221669258725175E-2,null,6.6124060707876575E-2,null,1.8802196107871483E-2,null,4.5459564109098238E-3,null,1.0205570478474257E-2,null,1.8042493691624584E-2,null,6.6337029344575527E-2,null,2.1053821707363918E-2,null,3.5634553862128326E-2,null,3.4134946971933866E-2,null,6.4512339911503513E-2,null,2.0377097261776278E-2,null,6.6381690274762706E-2,null,2.4478640582425992E-3,null,3.925314000000002E-2,null,7.17715984915821E-2,null,2.1426912387561448E-2,null,1.7645401331751298E-2,null,8.3925569490346685E-2,null,1.193043662707316E-2,null,1.2107598988834622E-2,null,1.8828401260560401E-2,null,0.11479398923817419,null,1.9649120110775575E-2]
[null,21,null,5.2879901318936273E-3,null,4.7757437821949189E-3,null,1.4993623831813352E-2,null,1.9670722988438083E-2,null,5.1855363352164563E-3,null,2.3078602345189658E-2,null,3.5320794620721241E-2,null,5.2364250650609456E-3,null,2.3844928696208134E-2,null,2.2368969426674878E-2,null,4.8107491246140111E-2,null,6.5941167891652608E-2,null,1.9734294426783094E-2,null,5.2364250650609456E-3,null,1.018176105143187E-2,null,1.8528135216886454E-2,null,6.6072150946111519E-2,null,2.1086088242649792E-2,null,3.5974375218860377E-2,null,3.4455719961302034E-2,null,6.4161317002174201E-2,null,2.0727068614243782E-2,null,6.611114806895646E-2,null,2.5954133462016138E-3,null,3.959791568601001E-2,null,7.1929397131069051E-2,null,2.1667637718791655E-2,null,1.7762997726171292E-2,null,8.3633131250923975E-2,null,1.1947743232011865E-2,null,1.2842985545378438E-2,null,1.9312825068112494E-2,null,0.11320475949023456,null,1.9721093647337096E-2]
[null,22,null,5.5673642944644719E-3,null,5.0583411603566386E-3,null,1.5701986787029165E-2,null,2.0163935977488112E-2,null,5.465555307434089E-3,null,2.3728410005913636E-2,null,3.5437302528786407E-2,null,5.9064036093110506E-3,null,2.4261584175586659E-2,null,2.2827403093400145E-2,null,4.7974017104355227E-2,null,6.5699280235416158E-2,null,2.0588927868712359E-2,null,5.9064036093110506E-3,null,1.0160116604716052E-2,null,1.9015500140032282E-2,null,6.5806183829990816E-2,null,2.1115422341375423E-2,null,3.6292871999138221E-2,null,3.476504755085319E-2,null,6.3789046567698238E-2,null,2.109340467049492E-2,null,6.5840353954981445E-2,null,2.7295679083214619E-3,null,3.9879019052183606E-2,null,7.1958950086454143E-2,null,2.1940056615644687E-2,null,1.7950669889131854E-2,null,8.3267151428473296E-2,null,1.207746744305882E-2,null,1.3560080603011837E-2,null,1.9795857626633495E-2,null,0.11164093377912021,null,1.978652854369245E-2]
[null,23,null,5.9343477793358801E-3,null,5.4300267145033221E-3,null,1.638294403287488E-2,null,2.0648844075627837E-2,null,5.8334794439738324E-3,null,2.4352722559189521E-2,null,3.5548282959530608E-2,null,6.554773142594561E-3,null,2.4666502287427283E-2,null,2.3272713260400035E-2,null,4.7826474145765907E-2,null,6.5413018441153437E-2,null,2.1374061855441218E-2,null,6.554773142594561E-3,null,1.0140354688825015E-2,null,1.9500236706053053E-2,null,6.5541574963585258E-2,null,2.1142206384892726E-2,null,3.6591958857568718E-2,null,3.5062820499511371E-2,null,6.3403182476123421E-2,null,2.146962542591635E-2,null,6.5571616448975689E-2,null,2.852072533590988E-3,null,4.0107672305020658E-2,null,7.1887343397706527E-2,null,2.2235192593247799E-2,null,1.8191962696766595E-2,null,8.284641937299897E-2,null,1.2294606276071152E-2,null,1.425692051624794E-2,null,2.0273842672869247E-2,null,0.11011039907354858,null,1.9846277116161604E-2]
[null,24,null,6.3678855435167492E-3,null,5.8694030897670224E-3,null,1.7036848707161711E-2,null,2.1123367228073731E-2,null,6.2681852193611221E-3,null,2.4951936370064098E-2,null,3.5654007934986076E-2,null,7.1809410024454845E-3,null,2.5058936784870367E-2,null,2.3704126106724344E-2,null,4.7668971252009307E-2,null,6.5093937517570977E-2,null,2.2096992737768328E-2,null,7.1809410024454845E-3,null,1.0122239938880284E-2,null,1.9979090400844557E-2,null,6.5280152002860525E-2,null,2.1166759041954197E-2,null,3.6873310031800166E-2,null,3.5349092758028888E-2,null,6.3009655057612468E-2,null,2.1850724477239014E-2,null,6.5306650479691308E-2,null,2.9643815877253843E-3,null,4.0292968128164963E-2,null,7.1736229322901801E-2,null,2.2546006142074138E-2,null,1.8473836316241332E-2,null,8.2385756999204141E-2,null,1.2579285118939909E-2,null,1.4932258205623494E-2,null,2.0744079140098348E-2,null,0.10861866936913689,null,1.9901049716123387E-2]
[null,25,null,6.8512209183675399E-3,null,6.359440720813847E-3,null,1.7664273338450887E-2,null,2.158603950238791E-2,null,6.7528613693534911E-3,null,2.5526635357812966E-2,null,3.5754744126573312E-2,null,7.7847051781927412E-3,null,2.5438460921194395E-2,null,2.4121209648160225E-2,null,4.7504744879962368E-2,null,6.4751195057364486E-2,null,2.2764275900176489E-2,null,7.7847051781927412E-3,null,1.0105574655839167E-2,null,2.0449650807568887E-2,null,6.5023266555770176E-2,null,2.1189348007848885E-2,null,3.7138400274326244E-2,null,3.5624035723078817E-2,null,6.2613056436793491E-2,null,2.2232838197462357E-2,null,6.5046715274734268E-2,null,3.0677170259010289E-3,null,4.0442317424934204E-2,null,7.1522987701650997E-2,null,2.2866966314456505E-2,null,1.8785918402699275E-2,null,8.1896885024738797E-2,null,1.291563616825897E-2,null,1.5585385094443627E-2,null,2.1204598845573797E-2,null,0.10716946064056265,null,1.995144310615582E-2]
[null,26,null,7.3709785667628314E-3,null,6.8865459164508813E-3,null,1.8265943005817853E-2,null,2.2035865597410442E-2,null,7.274088873039819E-3,null,2.6077532455241359E-2,null,3.5850750403655596E-2,null,8.3661527170793004E-3,null,2.5804887937668441E-2,null,2.4523788338872032E-2,null,4.7336346365717485E-2,null,6.4392061113470289E-2,null,2.3381735087101951E-2,null,8.3661527170793004E-3,null,1.0090920748737631E-2,null,2.0910160007430845E-2,null,6.4771902623093736E-2,null,2.1210199804489349E-2,null,3.7388536989299004E-2,null,3.5887904230945677E-2,null,6.2216933444394051E-2,null,2.2612994718460122E-2,null,6.4792718683224004E-2,null,3.2185789936536313E-3,null,4.0561792241642136E-2,null,7.1261615440167292E-2,null,2.3193725262766307E-2,null,1.9119935942216726E-2,null,8.1389084045566662E-2,null,1.3290947138536957E-2,null,1.6215997246047831E-2,null,2.1653998362116678E-2,null,0.10576512377966951,null,1.9986665574089901E-2]
[null,27,null,7.9164614708018277E-3,null,7.4398464847498236E-3,null,1.8842685535348069E-2,null,2.2472211548213217E-2,null,7.8211356675013111E-3,null,2.6605426073424088E-2,null,3.594227624405022E-2,null,8.9255830653189872E-3,null,2.6158210852893937E-2,null,2.4911878423004907E-2,null,4.7165785884829559E-2,null,6.4022310842383412E-2,null,2.3954511534704404E-2,null,8.9255830653189872E-3,null,1.007735250578734E-2,null,2.1359366251409995E-2,null,6.4526759396867694E-2,null,2.1229507403236036E-2,null,3.7624885794975027E-2,null,3.6141011140347512E-2,null,6.1824012305134124E-2,null,2.2988921648862792E-2,null,6.4545296787956064E-2,null,3.4552876604694305E-3,null,4.0656391039712858E-2,null,7.0963414055971397E-2,null,2.3522868547673381E-2,null,1.9469279147927843E-2,null,8.0869703658498659E-2,null,1.3695008283597154E-2,null,1.6824093954528108E-2,null,2.2091310740091297E-2,null,0.10440697310266733,null,2.0082576738696956E-2]
[null,28,null,8.4791068749425769E-3,null,8.0106389064391603E-3,null,1.939539428246384E-2,null,2.2894720859589768E-2,null,8.3854108365160052E-3,null,2.7111167644689571E-2,null,3.6029560762152135E-2,null,9.4634498986336801E-3,null,2.6498556579042098E-2,null,2.5285638686964207E-2,null,4.6994644038600653E-2,null,6.3646529401704344E-2,null,2.4487129745823566E-2,null,9.4634498986336801E-3,null,1.0064753586243258E-2,null,2.1796411320517795E-2,null,6.4288314963424575E-2,null,2.1247436214646642E-2,null,3.7848491103539494E-2,null,3.6383708263918679E-2,null,6.1436372392762673E-2,null,2.3358897532827161E-2,null,6.4304875120207772E-2,null,3.7598006412531415E-3,null,4.0730245766345874E-2,null,7.0637525569024806E-2,null,2.3851721884332822E-2,null,1.9828663625891529E-2,null,8.0344557785670512E-2,null,1.4119606769530613E-2,null,1.7409900429055103E-2,null,2.251590687686944E-2,null,0.10309553725084841,null,2.0226880948645221E-2]
[null,29,null,9.0520616445124436E-3,null,8.5919568626064979E-3,null,1.9925000294070516E-2,null,2.3303249743074073E-2,null,8.9600386024919487E-3,null,2.7595637415634755E-2,null,3.6112832180347443E-2,null,9.980316795187516E-3,null,2.6826150777220725E-2,null,2.5645332754528516E-2,null,4.6824159005577792E-2,null,6.3268350496074044E-2,null,2.4983567308979548E-2,null,9.980316795187516E-3,null,1.0053023698968211E-2,null,2.2220743219101724E-2,null,6.4056875641709254E-2,null,2.1264128839252106E-2,null,3.8060292875775836E-2,null,3.6616372034455003E-2,null,6.1055581569825712E-2,null,2.3721636234173671E-2,null,6.407171603838635E-2,null,4.1173863789265575E-3,null,4.0786784832765433E-2,null,7.029135335283887E-2,null,2.4178200387348747E-2,null,2.0193866492829615E-2,null,7.9818233910175174E-2,null,1.4558131793539264E-2,null,1.7973808543106706E-2,null,2.2927419173121688E-2,null,0.10183075187177959,null,2.0409516260152305E-2]
[null,30,null,9.629848278887021E-3,null,9.1782318832513976E-3,null,2.0432451514233341E-2,null,2.369781683853045E-2,null,9.5395232663637586E-3,null,2.8059726429718657E-2,null,3.6192307618168496E-2,null,1.0476823360174414E-2,null,2.7141290833235576E-2,null,2.5991300109037718E-2,null,4.665529507385191E-2,null,6.2890644278118524E-2,null,2.5447322237314829E-2,null,1.0476823360174414E-2,null,1.0042075927078287E-2,null,2.2632048098965019E-2,null,6.383261441622623E-2,null,2.127970886838515E-2,null,3.8261140403568428E-2,null,3.6839392729792975E-2,null,6.068280228266576E-2,null,2.4076196346954903E-2,null,6.3845955605549065E-2,null,4.5159917897308333E-3,null,4.0828862359615803E-2,null,6.9930894912602737E-2,null,2.4500690137015502E-2,null,2.0561518716089244E-2,null,7.9294336582049096E-2,null,1.5005263809747538E-2,null,1.851633124819152E-2,null,2.3325682100235889E-2,null,0.10061210825349942,null,2.062223034750188E-2]
[null,31,null,1.020810040641007E-2,null,9.7650245976459438E-3,null,2.091869731288476E-2,null,2.4078564009437198E-2,null,1.0119483853304967E-2,null,2.8504323182560354E-2,null,3.6268193108057512E-2,null,1.0953659301013774E-2,null,2.7444325021335869E-2,null,2.6323933764940799E-2,null,4.6488796861694492E-2,null,6.2515666261256486E-2,null,2.5881474754992695E-2,null,1.0953659301013774E-2,null,9.9940844886912128E-3,null,2.3030196907159572E-2,null,6.3615601022141366E-2,null,2.1320994232959967E-2,null,3.8451803756740288E-2,null,3.705316639016365E-2,null,6.0318875203804856E-2,null,2.4421909797426311E-2,null,6.3627632431092929E-2,null,4.9457412964157843E-3,null,4.0858861381380951E-2,null,6.9561006664230263E-2,null,2.4817954549781973E-2,null,2.092894059683359E-2,null,7.8775680314549179E-2,null,1.5456728242798201E-2,null,1.903806740464975E-2,null,2.3710685708533408E-2,null,9.9438768380817111E-2,null,2.0858243987698089E-2]
[null,32,null,1.0783352000685476E-2,null,1.0348810569731803E-2,null,2.1384677058507995E-2,null,2.4445725667251672E-2,null,1.069644265259595E-2,null,2.8930303822706005E-2,null,3.6340683771153959E-2,null,1.1411544590030243E-2,null,2.7735636415730847E-2,null,2.6643663040256005E-2,null,4.6325232449766496E-2,null,6.2145175982507572E-2,null,2.6288742378762997E-2,null,1.1411544590030243E-2,null,9.9490945861622215E-3,null,2.3415203393878148E-2,null,6.3405825592413256E-2,null,2.1408144941757135E-2,null,3.863298337477894E-2,null,3.7258088784055454E-2,null,5.9964385503070927E-2,null,2.4758325281585947E-2,null,6.3416710317342195E-2,null,5.3985372168265933E-3,null,4.087877678013907E-2,null,6.9185615804082445E-2,null,2.5129059941753074E-2,null,2.1294010643327033E-2,null,7.8264443211023771E-2,null,1.5909099079927325E-2,null,1.9539674608828328E-2,null,2.4082539113626344E-2,null,9.8309654221058196E-2,null,2.1111982248425365E-2]
[null,33,null,1.1352868466442123E-2,null,1.0926808674761812E-2,null,2.1831311775771578E-2,null,2.4799604708695577E-2,null,1.1267655761442841E-2,null,2.933852505306489E-2,null,3.6409964104216153E-2,null,1.185121431420133E-2,null,2.8015630466706298E-2,null,2.6950940265427104E-2,null,4.6165027859580654E-2,null,6.1780532026211477E-2,null,2.6671528173079828E-2,null,1.185121431420133E-2,null,9.9068331699498913E-3,null,2.378719094636228E-2,null,6.3203217306356141E-2,null,2.1532531649831821E-2,null,3.880531817029742E-2,null,3.7454550939692632E-2,null,5.9619715584249722E-2,null,2.5085163255170517E-2,null,6.3213096098105881E-2,null,5.8677390087171766E-3,null,4.0890282318931437E-2,null,6.880789071565041E-2,null,2.5433316055596622E-2,null,2.1655060488401823E-2,null,7.7762289905681348E-2,null,1.6359641351639365E-2,null,2.0021848195608483E-2,null,2.4441441729237123E-2,null,9.7223517112461355E-2,null,2.1378858451008842E-2]
[null,34,null,1.1914510597978989E-2,null,1.1496842874977986E-2,null,2.2259498163554436E-2,null,2.5140553610616401E-2,null,1.183097660670418E-2,null,2.9729819095107191E-2,null,3.6476208341657435E-2,null,1.22734071507411E-2,null,2.8284725419949863E-2,null,2.7246230545533878E-2,null,4.6008494733299266E-2,null,6.1422768453011978E-2,null,2.70319625761406E-2,null,1.22734071507411E-2,null,9.867059334852879E-3,null,2.4146366322964852E-2,null,6.3007659133697436E-2,null,2.1686955348106052E-2,null,3.8969392427197658E-2,null,3.7642935877228556E-2,null,5.9285087209069554E-2,null,2.5402279979432674E-2,null,6.3016653723293015E-2,null,6.3479043481038389E-3,null,4.089478511409772E-2,null,6.8430378668860037E-2,null,2.5730228333778804E-2,null,2.2010790267066094E-2,null,7.727047036975554E-2,null,1.6806184155764958E-2,null,2.0485305034904311E-2,null,2.4787660550814161E-2,null,9.6178991708709471E-2,null,2.1655099585298876E-2]
[null,35,null,1.2466624520495184E-2,null,1.205723039379003E-2,null,2.2670104422203075E-2,null,2.5468959568385685E-2,null,1.2384745532659336E-2,null,3.0104990230890749E-2,null,3.6539580866113086E-2,null,1.2678856658350668E-2,null,2.8543344951486693E-2,null,2.7530003901204525E-2,null,4.585585263972547E-2,null,6.1072656513609491E-2,null,2.7371939423687097E-2,null,1.2678856658350668E-2,null,9.8295597250643851E-3,null,2.4492998811974864E-2,null,6.2818999512177731E-2,null,2.186540333413145E-2,null,3.9125741713973428E-2,null,3.7823616263997328E-2,null,5.8960595251133174E-2,null,2.5709638708457883E-2,null,6.2827215396853875E-2,null,6.8345790436481479E-3,null,4.0893470119256481E-2,null,6.8055117561842016E-2,null,2.6019459470742801E-2,null,2.23602001731531E-2,null,7.6789899622824676E-2,null,1.7247017832574985E-2,null,2.0930771066287823E-2,null,2.5121512191272011E-2,null,9.5174637881161761E-2,null,2.1937604511362618E-2]
[null,36,null,1.3007952295520209E-2,null,1.2606690884319649E-2,null,2.306396746825734E-2,null,2.5785232818895443E-2,null,1.2927700118953611E-2,null,3.0464812552107423E-2,null,3.6600236647923223E-2,null,1.3068284761518667E-2,null,2.879191253543012E-2,null,2.7802729269268189E-2,null,4.5707247109065596E-2,null,6.0730754652830621E-2,null,2.7693146867514118E-2,null,1.3068284761518667E-2,null,9.7941447055216457E-3,null,2.4827403676567883E-2,null,6.2637061605238964E-2,null,2.2062849912895421E-2,null,3.9274857985502676E-2,null,3.7996952780270377E-2,null,5.8646234813626963E-2,null,2.6007286539205365E-2,null,6.2644590390702026E-2,null,7.3241257783538405E-3,null,4.0887336618187664E-2,null,6.7683726946449418E-2,null,2.6300798337015152E-2,null,2.2702534886817061E-2,null,7.632122225425042E-2,null,1.7680810354878451E-2,null,2.1358971759118495E-2,null,2.544334866695741E-2,null,9.4208973194187751E-2,null,2.2223828262033285E-2]
[null,37,null,1.3537559053494741E-2,null,1.3144272389133294E-2,null,2.3441891212202526E-2,null,2.6089797481546606E-2,null,1.3458902078523627E-2,null,3.0810028631156117E-2,null,3.6658321699091001E-2,null,1.3442396946506507E-2,null,2.903084717082538E-2,null,2.8064869961466732E-2,null,4.5562764255550503E-2,null,6.0397449148329896E-2,null,2.7997093871932943E-2,null,1.3442396946506507E-2,null,9.7606451544860473E-3,null,2.514992900117119E-2,null,6.2461650641898236E-2,null,2.2275092885353232E-2,null,3.9417194010848755E-2,null,3.8163293031909573E-2,null,5.834192306032171E-2,null,2.629533577382448E-2,null,6.2468572018034019E-2,null,7.8135839103912197E-3,null,4.0877228288251466E-2,null,6.7317482434884335E-2,null,2.657413479077908E-2,null,2.303723829768356E-2,null,7.5864864800740506E-2,null,1.8106539092914264E-2,null,2.1770624868855171E-2,null,2.5753546155708351E-2,null,9.3280497976722998E-2,null,2.2511687247815937E-2]
[null,38,null,1.4054773413340049E-2,null,1.3669290799219969E-2,null,2.3804645648559664E-2,null,2.6383084396771395E-2,null,1.3977677484980244E-2,null,3.1141348894250687E-2,null,3.6713973531139921E-2,null,1.3801878794870603E-2,null,2.9260560176698203E-2,null,2.8316880268605793E-2,null,4.5422442661564144E-2,null,6.0072987224047303E-2,null,2.8285132917327482E-2,null,1.3801878794870603E-2,null,9.7289097628536769E-3,null,2.546094524755893E-2,null,6.2292559731065733E-2,null,2.2498618837103468E-2,null,3.9553167237122988E-2,null,3.8322970883404528E-2,null,5.8047516816782663E-2,null,2.6573948893475974E-2,null,6.2298943143608287E-2,null,8.3005542594736248E-3,null,4.0863858063528991E-2,null,6.6957376710658156E-2,null,2.6839439213744098E-2,null,2.3363916505398041E-2,null,7.5421078370865313E-2,null,1.8523434945616479E-2,null,2.2166434999423057E-2,null,2.6052496118956325E-2,null,9.2387714563623824E-2,null,2.2799481293276802E-2]
[null,39,null,1.4559138634796298E-2,null,1.4181280217229419E-2,null,2.4152966563889544E-2,null,2.6665525553513536E-2,null,1.4483567767071381E-2,null,3.1459451526141269E-2,null,3.6767321609195935E-2,null,1.4147393562337518E-2,null,2.948145282773873E-2,null,2.8559202965612762E-2,null,4.5286283054665422E-2,null,5.9757504091250802E-2,null,2.8558479469690035E-2,null,1.4147393562337518E-2,null,9.6988027491911044E-3,null,2.5760836976813861E-2,null,6.2129574458469339E-2,null,2.2730491729113789E-2,null,3.968316317817E-2,null,3.8476306113075731E-2,null,5.7762826774301335E-2,null,2.6843326434166759E-2,null,6.2135480527498288E-2,null,8.7831040976260599E-3,null,4.0847828771240824E-2,null,6.6604169694318927E-2,null,2.7096745854295889E-2,null,2.3682307505775491E-2,null,7.4989973403954302E-2,null,1.8930936466184933E-2,null,2.2547089587990454E-2,null,2.6340598310047092E-2,null,9.1529141936842251E-2,null,2.3085829295850679E-2]
[null,40,null,1.5050372477939611E-2,null,1.4679952167094834E-2,null,2.4487555711471654E-2,null,2.693754978333307E-2,null,1.4976289438177082E-2,null,3.1764982774067141E-2,null,3.6818487796789867E-2,null,1.4479580573908191E-2,null,2.9693914651819586E-2,null,2.8792267525389326E-2,null,4.5154256198963738E-2,null,5.9451045070486597E-2,null,2.8818228701838144E-2,null,1.4479580573908191E-2,null,9.6702019177055121E-3,null,2.6049996307299317E-2,null,6.1972476509490004E-2,null,2.296826043635436E-2,null,3.9807538400238096E-2,null,3.8623604313933635E-2,null,5.7487628955799286E-2,null,2.7103697202694788E-2,null,6.1977958236346442E-2,null,9.2596885566069709E-3,null,4.0829650317035115E-2,null,6.6258429893040649E-2,null,2.7346139250879142E-2,null,2.3992256299736114E-2,null,7.4571548061425297E-2,null,1.9328652100391919E-2,null,2.2913256010511862E-2,null,2.6618255291386728E-2,null,9.0703326732202383E-2,null,2.3369615961662982E-2]
[null,41,null,1.5528334154540691E-2,null,1.5165162008965449E-2,null,2.4809081334764338E-2,null,2.7199579465691182E-2,null,1.5455700940349537E-2,null,3.2058557547892441E-2,null,3.6867586787527218E-2,null,1.4799054254889699E-2,null,2.9898322248297804E-2,null,2.9016488889950454E-2,null,4.5026309336837489E-2,null,5.9153583714614877E-2,null,2.9065369882596892E-2,null,1.4799054254889699E-2,null,9.6668459818012309E-3,null,2.632881776727114E-2,null,6.1821046510904587E-2,null,2.3209881765262841E-2,null,3.9926623163722752E-2,null,3.8765156980457238E-2,null,5.7221673968289588E-2,null,2.7355310385434928E-2,null,6.1826150307681127E-2,null,9.7290854334191046E-3,null,4.0809754040404433E-2,null,6.5920568556633974E-2,null,2.7587743156145761E-2,null,2.4293694417726108E-2,null,7.4165711445481897E-2,null,1.971632903678544E-2,null,2.3265579569938799E-2,null,2.6885868160934079E-2,null,8.9908851373130094E-2,null,2.364994758770278E-2]
[null,42,null,1.5992997076406112E-2,null,1.5636881243973555E-2,null,2.511817894760382E-2,null,2.7452028041179188E-2,null,1.5921775303912256E-2,null,3.2340760236131194E-2,null,3.6914726521001695E-2,null,1.5106403655543721E-2,null,3.0095038515463024E-2,null,2.9232266678946628E-2,null,4.4902371450108003E-2,null,5.8865036670575854E-2,null,2.9300798787601501E-2,null,1.5106403655543721E-2,null,9.7294711588913341E-3,null,2.6597694269865357E-2,null,6.1675066245258092E-2,null,2.345365617049322E-2,null,4.0040723769717124E-2,null,3.8901241734547787E-2,null,5.6964694461233201E-2,null,2.7598429192285945E-2,null,6.1679832815031865E-2,null,1.0190340975019252E-2,null,4.0788504740429055E-2,null,6.5590867943619013E-2,null,2.7821711497792112E-2,null,2.4586623052063272E-2,null,7.377230260276102E-2,null,2.009382746541033E-2,null,2.3604682178501868E-2,null,2.7143833249405835E-2,null,8.9144339933643568E-2,null,2.3926115261584169E-2]
[null,43,null,1.6444426357755226E-2,null,1.6095174649281674E-2,null,2.5415452299263785E-2,null,2.7695298170399063E-2,null,1.6374577576349969E-2,null,3.2612145675277704E-2,null,3.6960008581264248E-2,null,1.5402192356768873E-2,null,3.0284412198521959E-2,null,2.9439984740435632E-2,null,4.4782357557167085E-2,null,5.8585275873769271E-2,null,2.9525328430571207E-2,null,1.5402192356768873E-2,null,9.8473666790181991E-3,null,2.68570139924591E-2,null,6.1534320360778771E-2,null,2.3698173932113153E-2,null,4.015012465182255E-2,null,3.9032122654062418E-2,null,5.6716411127366584E-2,null,2.7833325748514604E-2,null,6.1538785451902722E-2,null,1.0642724693872951E-2,null,4.0766210776503886E-2,null,6.5269504749437379E-2,null,2.804822100273574E-2,null,2.4871099146740017E-2,null,7.3391106083611657E-2,null,2.0461099275520533E-2,null,2.3931161584268335E-2,null,2.7392539597314025E-2,null,8.8408462208576566E-2,null,2.4197564165911789E-2]
[null,44,null,1.6882760227825866E-2,null,1.6540181386163866E-2,null,2.5701474468254215E-2,null,2.792978040850258E-2,null,1.6814246173994851E-2,null,3.2873240223704636E-2,null,3.7003528576863065E-2,null,1.5686958667594952E-2,null,3.0466777687620183E-2,null,2.964001096822777E-2,null,4.4666172220924727E-2,null,5.8314138555145334E-2,null,2.9739698366798129E-2,null,1.5686958667594952E-2,null,1.0011371258261459E-2,null,2.7107157985243324E-2,null,6.1398597675437649E-2,null,2.3942269981011899E-2,null,4.0255090247023562E-2,null,3.9158050675248912E-2,null,5.6476537517196501E-2,null,2.8060277002891931E-2,null,6.1402792729271516E-2,null,1.1085691637452433E-2,null,4.0743132572903518E-2,null,6.495656954936746E-2,null,2.8267465183047236E-2,null,2.5147223918447148E-2,null,7.3021864679742254E-2,null,2.0818170407640224E-2,null,2.4245591022691082E-2,null,2.7632367058643137E-2,null,8.769993637133644E-2,null,2.446386792384514E-2]
[null,45,null,1.7308194668200105E-2,null,1.6972099384692463E-2,null,2.5976789041119996E-2,null,2.8155852290979499E-2,null,1.7240977468810703E-2,null,3.3124542902255527E-2,null,3.7045376501984029E-2,null,1.5961216043692161E-2,null,3.0642455009711744E-2,null,2.9832697325520297E-2,null,4.4553712409355573E-2,null,5.805143545057101E-2,null,2.9944582780637941E-2,null,1.5961216043692161E-2,null,1.0213644752781637E-2,null,2.7348498367824492E-2,null,6.1267692154504561E-2,null,2.4184985898818123E-2,null,4.0355866674039786E-2,null,3.927926404664972E-2,null,5.6244783886434835E-2,null,2.8279561464713776E-2,null,6.1271644862741947E-2,null,1.1518850829686178E-2,null,4.0719489795559616E-2,null,6.4652082949725465E-2,null,2.8479649439070442E-2,null,2.5415133381379462E-2,null,7.2664289845293162E-2,null,2.1165126222322028E-2,null,2.4548519198017482E-2,null,2.7863684907847741E-2,null,8.7017530522442987E-2,null,2.4724707120813427E-2]
[null,46,null,1.7720970715795703E-2,null,1.7391172437066782E-2,null,2.6241911342244073E-2,null,2.8373877746640019E-2,null,1.765501304944439E-2,null,3.3366526572189636E-2,null,3.7085637078625444E-2,null,1.6225453670709822E-2,null,3.0811749969440028E-2,null,3.0018380026726188E-2,null,4.4444869823984323E-2,null,5.7796957529682613E-2,null,3.0140597535120328E-2,null,1.6225453670709822E-2,null,1.0447475505012571E-2,null,2.7581396999744268E-2,null,6.1141403625619706E-2,null,2.4425537888726367E-2,null,4.0452683243177967E-2,null,3.9395988816931959E-2,null,5.6020860254223814E-2,null,2.8491456617577571E-2,null,6.1145138410725108E-2,null,1.1941938837763733E-2,null,4.0695467420957421E-2,null,6.4356009013628812E-2,null,2.8684987080728197E-2,null,2.5674990527306818E-2,null,7.2318070212356922E-2,null,2.1502099365388272E-2,null,2.484047051856253E-2,null,2.8086850850651768E-2,null,8.6360063371082596E-2,null,2.497985129580127E-2]
[null,47,null,1.8121363973993887E-2,null,1.7797679534745647E-2,null,2.6497329688341287E-2,null,2.8584206769995957E-2,null,1.8056629197547025E-2,null,3.3599639127881664E-2,null,3.7124390080011782E-2,null,1.6480137167848463E-2,null,3.0974954403223842E-2,null,3.0197379839121075E-2,null,4.4339532790446778E-2,null,5.7550481503350515E-2,null,3.0328306333582411E-2,null,1.6480137167848463E-2,null,1.0707117351103301E-2,null,2.7806204532470291E-2,null,6.1019538283149322E-2,null,2.4663289730240345E-2,null,4.0545753818103769E-2,null,3.9508439342996526E-2,null,5.5804478816832148E-2,null,2.8696236886059934E-2,null,6.1023076713252022E-2,null,1.2354797606534573E-2,null,4.0671220878012893E-2,null,6.4068266425229448E-2,null,2.8883696104544221E-2,null,2.5926978875782325E-2,null,7.1982878536492878E-2,null,2.1829259703725734E-2,null,2.5121945525119482E-2,null,2.830221035815228E-2,null,8.5726404243406717E-2,null,2.5229143822855793E-2]
[null,48,null,1.850967595621178E-2,null,1.8191926067700592E-2,null,2.6743506647419979E-2,null,2.878717529828223E-2,null,1.8446128202477485E-2,null,3.3824304686979723E-2,null,3.7161710635668532E-2,null,1.6725709376323783E-2,null,3.113234651795449E-2,null,3.0370002473673274E-2,null,4.4237587788176658E-2,null,5.7311774322059472E-2,null,3.0508226119648763E-2,null,1.6725709376323783E-2,null,1.0987651369883E-2,null,2.8023259767813169E-2,null,6.0901909023780565E-2,null,2.4897729905398513E-2,null,4.0635278046988299E-2,null,3.9616818807767462E-2,null,5.5595355834811455E-2,null,2.8894172054189537E-2,null,6.0905270171565551E-2,null,1.2757355854957408E-2,null,4.0646880412201103E-2,null,6.3788737773652793E-2,null,2.9075996593360909E-2,null,2.6171297160444418E-2,null,7.1658377346972113E-2,null,2.2146805981740236E-2,null,2.5393421463966392E-2,null,2.8510096258999473E-2,null,8.511547257263663E-2,null,2.5472489206084026E-2]
[null,49,null,1.8886226952515184E-2,null,1.8574236571432978E-2,null,2.6980880286786357E-2,null,2.8983105248843177E-2,null,1.8823831203994112E-2,null,3.4040924764934255E-2,null,3.7197669518725052E-2,null,1.6962591204761956E-2,null,3.1284191291492958E-2,null,3.0536539040631361E-2,null,4.4138920682448957E-2,null,5.7080596839630626E-2,null,3.0680831822189836E-2,null,1.6962591204761956E-2,null,1.1284868341351562E-2,null,2.8232889261736283E-2,null,6.0788335647389946E-2,null,2.5128452225345654E-2,null,4.0721442478009573E-2,null,3.9721319739511873E-2,null,5.5393213090070725E-2,null,2.9085526052996302E-2,null,6.0791536401045176E-2,null,1.314961345227883E-2,null,4.0622554795559651E-2,null,6.3517277270864536E-2,null,2.9262108629548145E-2,null,2.6408154958751373E-2,null,7.1344223527295414E-2,null,2.2454958910152145E-2,null,2.5655352965692435E-2,null,2.8710828536726796E-2,null,8.4526236995114523E-2,null,2.5709842394544102E-2]
[null,50,null,1.925135016373658E-2,null,1.8944948762126268E-2,null,2.7209865398490019E-2,null,2.9172304681067462E-2,null,1.9190072306576544E-2,null,3.4249879424127494E-2,null,3.7232333416108876E-2,null,1.7191182509476821E-2,null,3.1430740916778666E-2,null,3.0697266550422597E-2,null,4.4043417710804222E-2,null,5.6856706785938238E-2,null,3.0846560535459977E-2,null,1.7191182509476821E-2,null,1.1595168595780692E-2,null,2.8435407123876599E-2,null,6.0678644950850735E-2,null,2.5355139400994542E-2,null,4.0804421572142813E-2,null,3.9822124526459834E-2,null,5.519777899187317E-2,null,2.9270556049316721E-2,null,6.0681700283880868E-2,null,1.3531628291826525E-2,null,4.0598334485254961E-2,null,6.3253717163151313E-2,null,2.9442250631830591E-2,null,2.6637769106115261E-2,null,7.1040072011593347E-2,null,2.2753955448876928E-2,null,2.590817279891966E-2,null,2.8904714289236244E-2,null,8.3957714151638774E-2,null,2.5941199791056135E-2]
[null,51,null,1.9605386891520027E-2,null,1.9304408644966298E-2,null,2.7430854693614171E-2,null,2.9355068053893874E-2,null,1.9545193753125245E-2,null,3.4451528390458508E-2,null,3.7265765182363353E-2,null,1.741186299232389E-2,null,3.1572235275102001E-2,null,3.0852448444415481E-2,null,4.3950966266735669E-2,null,5.6639861167210981E-2,null,3.1005815210888077E-2,null,1.741186299232389E-2,null,1.1915476510296452E-2,null,2.8631114972282656E-2,null,6.0572670737265799E-2,null,2.5577549095297858E-2,null,4.0884378624437945E-2,null,3.9919405922029139E-2,null,5.5008789396592261E-2,null,2.9449511780151871E-2,null,6.057559394295553E-2,null,1.3903505262072846E-2,null,4.0574294316275461E-2,null,6.2997873051384712E-2,null,2.9616638041617183E-2,null,2.6860360762823943E-2,null,7.0745578749995319E-2,null,2.3044044086589555E-2,null,2.6152292674303412E-2,null,2.9092047815494126E-2,null,8.3408967273510326E-2,null,2.6166591684181784E-2]
[null,52,null,1.994868260870386E-2,null,1.9652966517213377E-2,null,2.7644219959212624E-2,null,2.9531676555459185E-2,null,1.988954198188031E-2,null,3.4646212132306564E-2,null,3.7298024077860426E-2,null,1.7624993102624664E-2,null,3.1708902427083352E-2,null,3.1002335143326398E-2,null,4.3861455516071679E-2,null,5.6429818192015979E-2,null,3.1158967925515757E-2,null,1.7624993102624664E-2,null,1.2243167376979613E-2,null,2.882030201035124E-2,null,6.0470253758922343E-2,null,2.5795502071488396E-2,null,4.0961466603536723E-2,null,4.001332753717679E-2,null,5.482598819450013E-2,null,2.9622635086768767E-2,null,6.047305665436209E-2,null,1.4265386981636263E-2,null,4.0550495799733355E-2,null,6.2749548298762781E-2,null,2.978548229758271E-2,null,2.7076153024604643E-2,null,7.0460403069484645E-2,null,2.3325480953024114E-2,null,2.6388104079289265E-2,null,2.9273110801032454E-2,null,8.2879104616668364E-2,null,2.6386075877871562E-2]
[null,53,null,2.0281583764004241E-2,null,1.9990973717644023E-2,null,2.7850313173576335E-2,null,2.970239848596079E-2,null,2.0223464420058956E-2,null,3.4834252898434892E-2,null,3.7329165992189273E-2,null,1.7830914932716713E-2,null,3.1840959112332756E-2,null,3.1147164603646749E-2,null,4.3774776875365129E-2,null,5.6226338804218789E-2,null,3.1306362782467456E-2,null,1.7830914932716713E-2,null,1.2576004747338443E-2,null,2.9003245199042071E-2,null,6.0371241608852211E-2,null,2.6008872114841264E-2,null,4.1035828917942441E-2,null,4.0104044317363252E-2,null,5.4649127707433243E-2,null,2.9790159610811884E-2,null,6.0373934712712574E-2,null,1.4617446019968394E-2,null,4.0526989086665077E-2,null,6.2508537674756504E-2,null,2.9948990047809154E-2,null,2.7285368986104785E-2,null,7.0184209534977393E-2,null,2.3598526627544691E-2,null,2.6615979128212341E-2,null,2.9448172579169984E-2,null,8.2367277794365146E-2,null,2.6599732330510051E-2]
[null,54,null,2.0604435199319759E-2,null,2.0318779998715675E-2,null,2.8049467576998E-2,null,2.9867489678477632E-2,null,2.0547306892130468E-2,null,3.5015955712670133E-2,null,3.7359243653516394E-2,null,1.802995309913169E-2,null,3.1968611250713153E-2,null,3.1287162874565455E-2,null,4.3690824376582782E-2,null,5.6029187890408894E-2,null,3.144831849075902E-2,null,1.802995309913169E-2,null,1.2912086669771838E-2,null,2.9180209502427834E-2,null,6.0275488573099167E-2,null,2.6217577457650965E-2,null,4.11076001165116E-2,null,4.0191703002373069E-2,null,5.4477968933433596E-2,null,2.9952310621335299E-2,null,6.0278081260724869E-2,null,1.4959878370916391E-2,null,4.050381464761621E-2,null,6.2274630359295813E-2,null,3.0107362557465489E-2,null,2.7488230181754947E-2,null,6.9916669397479536E-2,null,2.3863443530178552E-2,null,2.6836271415643598E-2,null,2.9617490449207473E-2,null,8.1872680048385771E-2,null,2.6807658645779719E-2]
[null,55,null,2.0917578078088139E-2,null,2.0636731418245846E-2,null,2.8241998696373116E-2,null,3.0027193945478592E-2,null,2.0861411540840091E-2,null,3.5191609324199957E-2,null,3.7388306824691409E-2,null,1.8222415603381004E-2,null,3.2092054439710971E-2,null,3.1422544649553741E-2,null,4.3609494938252613E-2,null,5.5838135217889828E-2,null,3.158513066497326E-2,null,1.8222415603381004E-2,null,1.3249799492929037E-2,null,2.9351448188703388E-2,null,6.0182855453515316E-2,null,2.6421573480293281E-2,null,4.1176906529732049E-2,null,4.0276442567846127E-2,null,5.431228166812363E-2,null,3.0109304947109283E-2,null,6.0185356092401943E-2,null,1.5292897983943066E-2,null,4.048100471034588E-2,null,6.2047612410819575E-2,null,3.0260795277146757E-2,null,2.7684955341012563E-2,null,6.9657461701437828E-2,null,2.4120493800012577E-2,null,2.7049316863573258E-2,null,2.9781310036403275E-2,null,8.1394544490379639E-2,null,2.7009966283194853E-2]
[null,56,null,2.122134823979116E-2,null,2.0945168664325164E-2,null,2.8428205322881706E-2,null,3.0181743541184414E-2,null,2.1166115175794475E-2,null,3.5361487113107826E-2,null,3.7416402486863509E-2,null,1.8408594667908007E-2,null,3.221147444368766E-2,null,3.1553513808143752E-2,null,4.3530688559813235E-2,null,5.5652956149931265E-2,null,3.1717073879599766E-2,null,1.8408594667908007E-2,null,1.3587778119384719E-2,null,2.9517203172124029E-2,null,6.0093209369061151E-2,null,2.6620846497079409E-2,null,4.1243866857590739E-2,null,4.0358394647840079E-2,null,5.4151844527341231E-2,null,3.0261350993050273E-2,null,6.0095625437329936E-2,null,1.5616732188984406E-2,null,4.0458584491358751E-2,null,6.1827268784916178E-2,null,3.040947754290646E-2,null,2.7875759405361134E-2,null,6.9406274111232458E-2,null,2.436993758136663E-2,null,2.7255434555187197E-2,null,2.9939865681432254E-2,null,8.0932142338053348E-2,null,2.7206777377230651E-2]
[null,57,null,2.1516074909538441E-2,null,2.1244425741243189E-2,null,2.86083704427047E-2,null,3.0331359631941002E-2,null,2.1461747978317236E-2,null,3.5525847951360934E-2,null,3.7443575011346208E-2,null,1.8588767544026386E-2,null,3.2327047671822484E-2,null,3.1680263944535492E-2,null,4.3454308453077406E-2,null,5.5473432177191029E-2,null,3.1844403508004326E-2,null,1.8588767544026386E-2,null,1.3924871769238623E-2,null,2.9677705384076214E-2,null,6.0006423542053655E-2,null,2.681540846546282E-2,null,4.1308592709161873E-2,null,4.0437683938118862E-2,null,5.399644489125599E-2,null,3.040864882332639E-2,null,6.0008761732175175E-2,null,1.5931617876883131E-2,null,4.0436573251458885E-2,null,6.1613384976237917E-2,null,3.0553592383892436E-2,null,2.8060852763057254E-2,null,6.9162803506693793E-2,null,2.4612031651046307E-2,null,2.7454927549743546E-2,null,3.0093380849410822E-2,null,8.0484781165452324E-2,null,2.7398222071535416E-2]
[null,58,null,2.1802079703175492E-2,null,2.1534828955897645E-2,null,2.8782762121267957E-2,null,3.0476252768385725E-2,null,2.1748632502817111E-2,null,3.5684937019929475E-2,null,3.746986632044047E-2,null,1.8763197289682232E-2,null,3.243894164237715E-2,null,3.1802978880552724E-2,null,4.3380261122390795E-2,null,5.5299351297751986E-2,null,3.1967357371889049E-2,null,1.8763197289682232E-2,null,1.426011445885722E-2,null,2.9833175163737957E-2,null,5.9922377074558053E-2,null,2.7005292482083609E-2,null,4.1371189098474925E-2,null,4.0514428580144646E-2,null,5.384587878663516E-2,null,3.0551390296753578E-2,null,5.9924643384262399E-2,null,1.623779831898764E-2,null,4.0414985200891484E-2,null,6.1405748344693034E-2,null,3.0693316417555794E-2,null,2.8240440664777156E-2,null,6.8926756389178889E-2,null,2.4847028330696741E-2,null,2.7648083674472801E-2,null,3.0242068550516255E-2,null,8.0051803182104697E-2,null,2.758443628935181E-2]
[null,59,null,2.207967587796178E-2,null,2.1816696153922566E-2,null,2.8951634341914723E-2,null,3.0616623354518868E-2,null,2.2027082924557684E-2,null,3.5838986583049959E-2,null,3.7495316037898352E-2,null,1.8932133515678018E-2,null,3.2547315431582069E-2,null,3.1921833161179913E-2,null,4.3308456403114759E-2,null,5.5130508272848822E-2,null,3.2086157223629952E-2,null,1.8932133515678018E-2,null,1.4592699521404962E-2,null,2.9983822660631931E-2,null,5.9840954719103667E-2,null,2.7190548949999505E-2,null,4.1431754900721929E-2,null,4.0588740525978606E-2,null,5.3699950720978329E-2,null,3.0689759242636061E-2,null,5.9843154531140419E-2,null,1.653552052761742E-2,null,4.0393830275778475E-2,null,6.1204149177171763E-2,null,3.0828819815766684E-2,null,2.8414722789288804E-2,null,6.8697849132807187E-2,null,2.5075174637233522E-2,null,2.783517629055754E-2,null,3.0386131765832047E-2,null,7.9632583552202041E-2,null,2.7765559873518253E-2]
[null,60,null,2.2349167786886559E-2,null,2.2090336162913893E-2,null,2.9115227800217802E-2,null,3.0752662109873041E-2,null,2.2297404491756323E-2,null,3.5988216720905797E-2,null,3.7519961629674858E-2,null,1.9095813099632819E-2,null,3.2652320105980071E-2,null,3.2036992531486286E-2,null,4.3238807466444262E-2,null,5.4966704780881503E-2,null,3.2201010080902481E-2,null,1.9095813099632819E-2,null,1.49219575973778E-2,null,3.0129848242903767E-2,null,5.9762046647053202E-2,null,2.7371242318962929E-2,null,4.1490383272423603E-2,null,4.0660725884454907E-2,null,5.3558473479814461E-2,null,3.082393166730224E-2,null,5.9764184799242726E-2,null,1.6825033074263196E-2,null,4.0373114804288068E-2,null,6.100838152792476E-2,null,3.0960266327976216E-2,null,2.8583892933256916E-2,null,6.8475808109689229E-2,null,2.529671163181213E-2,null,2.8016465031165172E-2,null,3.0525763873356926E-2,null,7.9226528762085247E-2,null,2.7941735039686222E-2]
[null,61,null,2.2610850501407098E-2,null,2.235604840695804E-2,null,2.9273770655358744E-2,null,3.0884550521860454E-2,null,2.2559893146682164E-2,null,3.6132836022165771E-2,null,3.7543838535582852E-2,null,1.9254460867456746E-2,null,3.2754099137490611E-2,null,3.2148614394194919E-2,null,4.3171230797230509E-2,null,5.4807749488585689E-2,null,3.2312109430483682E-2,null,1.9254460867456746E-2,null,1.5247337608553346E-2,null,3.027144290639816E-2,null,5.9685548217276008E-2,null,2.7547448315328626E-2,null,4.1547162038801044E-2,null,4.0730485249122594E-2,null,5.3421267896430535E-2,null,3.0954075983333551E-2,null,5.9687629064092196E-2,null,1.7106584295142335E-2,null,4.0352842078250628E-2,null,6.0818243873890232E-2,null,3.1087813349893745E-2,null,2.8748138803461387E-2,null,6.8260369713176061E-2,null,2.5511873934060514E-2,null,2.8192196510238077E-2,null,3.0661149070190907E-2,null,7.8833075041970124E-2,null,2.8113105095010305E-2]
[null,62,null,2.2865009573022288E-2,null,2.2614122662390823E-2,null,2.9427479240154764E-2,null,3.1012461286096471E-2,null,2.2814835286067314E-2,null,3.6273042237954911E-2,null,3.7566980292436547E-2,null,1.9408290242509008E-2,null,3.2852788800793897E-2,null,3.2256848247521619E-2,null,4.31056461503454E-2,null,5.4653458055110571E-2,null,3.2419636315943023E-2,null,1.9408290242509008E-2,null,1.5568390300449098E-2,null,3.0408788680647003E-2,null,5.9611359747202552E-2,null,2.771925159058819E-2,null,4.1602174051253771E-2,null,4.0798114008538722E-2,null,5.3288162601629718E-2,null,3.1080353254928417E-2,null,5.9613387213964364E-2,null,1.7380420824448573E-2,null,4.0333012843610572E-2,null,6.0633539615548404E-2,null,3.121161202810474E-2,null,2.8907641893200164E-2,null,6.8051280299140204E-2,null,2.5720889373560318E-2,null,2.8362605001326591E-2,null,3.0792462787798014E-2,null,7.8451686845972812E-2,null,2.8279813381821395E-2]
[null,63,null,2.3111920908820416E-2,null,2.2864838929512743E-2,null,2.9576558731423397E-2,null,3.1136558733086295E-2,null,2.306250763589035E-2,null,3.6409022898894694E-2,null,3.758941864923071E-2,null,1.9557503862906778E-2,null,3.294851855290748E-2,null,3.2361836103190988E-2,null,4.3041976490194589E-2,null,5.4503653082148551E-2,null,3.2523760322080708E-2,null,1.9557503862906778E-2,null,1.5884753998825163E-2,null,3.0542059028720203E-2,null,5.9539386287879248E-2,null,2.7886743728012364E-2,null,4.1655497517558926E-2,null,4.0863702639561739E-2,null,5.3158993759725437E-2,null,3.1202917454051127E-2,null,5.954136391848186E-2,null,1.7646786404678316E-2,null,4.0313625721157376E-2,null,6.0454077449087151E-2,null,3.1331807392674937E-2,null,2.9062577427582781E-2,null,6.7848296061956637E-2,null,2.59239787549852E-2,null,2.8527913086211276E-2,null,3.0919872097958878E-2,null,7.80818553929985E-2,null,2.8442002411910305E-2]
[null,64,null,2.3351850740113589E-2,null,2.3108467399028942E-2,null,2.972120378241927E-2,null,3.125699924013392E-2,null,2.3303177219572424E-2,null,3.654095589690165E-2,null,3.7611183674877813E-2,null,1.9702294167690759E-2,null,3.3041411395036357E-2,null,3.2463712884760465E-2,null,4.2980147917197176E-2,null,5.4358164021076627E-2,null,3.2624640467365795E-2,null,1.9702294167690759E-2,null,1.6196142276879932E-2,null,3.067141923858796E-2,null,5.9469537404258421E-2,null,2.8050021555753535E-2,null,4.1707206307143752E-2,null,4.0927336984327711E-2,null,5.3033604795830191E-2,null,3.1321915723007354E-2,null,5.9471468403253125E-2,null,1.7905920931048813E-2,null,4.0294677567315196E-2,null,6.0279671631609855E-2,null,3.1448538511151813E-2,null,2.9213114364873061E-2,null,6.7651182859041592E-2,null,2.612135571701435E-2,null,2.8688332273428596E-2,null,3.1043536107623781E-2,null,7.7723097269861929E-2,null,2.8599813162214938E-2]
[null,65,null,2.3585055666619725E-2,null,2.3345268495376104E-2,null,2.986159911911912E-2,null,3.1373931627721063E-2,null,2.3537101401989391E-2,null,3.6669010033431038E-2,null,3.7632303858988081E-2,null,1.9842843952712297E-2,null,3.3131584216941512E-2,null,3.2562606806558314E-2,null,4.2920089584391752E-2,null,5.4216827046247973E-2,null,3.2722426014250905E-2,null,1.9842843952712297E-2,null,1.6502333273084702E-2,null,3.0797026804216587E-2,null,5.9401726961655354E-2,null,2.8209185722273711E-2,null,4.1757370233549862E-2,null,4.0989098511630129E-2,null,5.2911846118528505E-2,null,3.1437488639924238E-2,null,5.9403614231379631E-2,null,1.8158059693483164E-2,null,4.0276163783369734E-2,null,6.0110142157729474E-2,null,3.1561938658514643E-2,null,2.9359415443125148E-2,null,6.745971599547107E-2,null,2.631322666828062E-2,null,2.8844063587085245E-2,null,3.1163606341352734E-2,null,7.7374953097070209E-2,null,2.8753384507076207E-2]
[null,66,null,2.3811782761461231E-2,null,2.3575492981969592E-2,null,2.9997920102119879E-2,null,3.148749753990665E-2,null,2.3764527994521334E-2,null,3.679334553585778E-2,null,3.7652806206150302E-2,null,1.9979326897245686E-2,null,3.3219148124197684E-2,null,3.2658639733672779E-2,null,4.2861733606787578E-2,null,5.4079484902027852E-2,null,3.2817257206045447E-2,null,1.9979326897245686E-2,null,1.680316043638963E-2,null,3.0919031795076712E-2,null,5.9335872919042298E-2,null,2.8364339496361524E-2,null,4.180605531600845E-2,null,4.1049064563420279E-2,null,5.2793574841241142E-2,null,3.1549770484302631E-2,null,5.9337719092412478E-2,null,1.8403432785100593E-2,null,4.0258078580312606E-2,null,5.9945314863010246E-2,null,3.1672135498568954E-2,null,2.9501637263082525E-2,null,6.7273679978225864E-2,null,2.6499790786254085E-2,null,2.8995298126576641E-2,null,3.1280227110423331E-2,null,7.7036986256959539E-2,null,2.8902852765924969E-2]
[null,67,null,2.4032269724636679E-2,null,2.3799382115807566E-2,null,3.0130333255900199E-2,null,3.1597831808552579E-2,null,2.3985695408752061E-2,null,3.6914114543643128E-2,null,3.7672716324146815E-2,null,2.0111908062402595E-2,null,3.3304208748802022E-2,null,3.2751927523525737E-2,null,4.2805014965610955E-2,null,5.3945986729889484E-2,null,3.29092659379977E-2,null,2.0111908062402595E-2,null,1.7098504506825041E-2,null,3.1037577213133494E-2,null,5.9271897129650641E-2,null,2.8515587759416539E-2,null,4.1853324021860372E-2,null,4.1107308587157387E-2,null,5.267865450491982E-2,null,3.1658889500377319E-2,null,5.9273704599146937E-2,null,1.8642264650800433E-2,null,4.0240415205463842E-2,null,5.9785021467302801E-2,null,3.1779251273089892E-2,null,2.9639930399791403E-2,null,6.7092868247972115E-2,null,2.6681240067187195E-2,null,2.9142217597974307E-2,null,3.1393535868005973E-2,null,7.6708781683304306E-2,null,2.9048351348409662E-2]
[null,68,null,2.4246745074617548E-2,null,2.4017167840920228E-2,null,3.0258996767162039E-2,null,3.1705062801372641E-2,null,2.420083284843666E-2,null,3.7031461565912416E-2,null,3.7692058506499926E-2,null,2.0240744362490348E-2,null,3.338686654367029E-2,null,3.2842580349639716E-2,null,4.2749871409217377E-2,null,5.3816187880798783E-2,null,3.2998576369335897E-2,null,2.0240744362490348E-2,null,1.7388286566212274E-2,null,3.1152799336690018E-2,null,5.92097251491841E-2,null,2.8663036162317246E-2,null,4.1899235491393405E-2,null,4.1163900354721727E-2,null,5.2566954804161625E-2,null,3.1764968156503537E-2,null,5.9211496092493432E-2,null,1.88747737534527E-2,null,4.0223166136174271E-2,null,5.9629099568972999E-2,null,3.1883402995680044E-2,null,2.9774439536610409E-2,null,6.6917082894905278E-2,null,2.6857759417141303E-2,null,2.9284994817977639E-2,null,3.1503663550057404E-2,null,7.6389944711079183E-2,null,2.9190010481635165E-2]
[null,69,null,2.4455428369422494E-2,null,2.4229073011859725E-2,null,3.0384060953916991E-2,null,3.1809312753958929E-2,null,2.4410160531060487E-2,null,3.7145523912005318E-2,null,3.7710855809728328E-2,null,2.0365985010483811E-2,null,3.3467217061598165E-2,null,3.2930703008252848E-2,null,4.2696243352117857E-2,null,5.3689949717215635E-2,null,3.308530548224331E-2,null,2.0365985010483811E-2,null,1.7672462016485868E-2,null,3.1264828050709959E-2,null,5.9149286051808136E-2,null,2.8806790423129058E-2,null,4.1943845746524655E-2,null,4.1218906168595248E-2,null,5.2458351318389163E-2,null,3.1868123399173554E-2,null,5.9151022454529079E-2,null,1.9101172338573669E-2,null,4.0206323245152387E-2,null,5.9477392599284862E-2,null,3.1984702647867902E-2,null,2.9905303616344803E-2,null,6.6746134364021437E-2,null,2.7029526775706136E-2,null,2.9423794191401287E-2,null,3.161073490179378E-2,null,7.6080099984729754E-2,null,2.9327957006459071E-2]
[null,70,null,2.465853044994426E-2,null,2.4435311639891433E-2,null,3.0505668706935385E-2,null,3.1910698086059952E-2,null,2.461388993173963E-2,null,3.7256432096517411E-2,null,3.7729130125668586E-2,null,2.0487771938793697E-2,null,3.3545351219303132E-2,null,3.3016395208471661E-2,null,4.2644073773292934E-2,null,5.3567139408269515E-2,null,3.3169563593056228E-2,null,2.0487771938793697E-2,null,1.7951015362638989E-2,null,3.1373787163443412E-2,null,5.9090512253977767E-2,null,2.8946955745277725E-2,null,4.1987207884625288E-2,null,4.1272389055993175E-2,null,5.235272524935608E-2,null,3.1968466900603953E-2,null,5.9092215929739345E-2,null,1.9321666281201244E-2,null,4.0189877941341656E-2,null,5.9329749744745808E-2,null,3.2083257375444596E-2,null,3.0032656005116509E-2,null,6.6579841154220443E-2,null,2.7196713265369432E-2,null,2.9558772163234215E-2,null,3.1714868789767481E-2,null,7.5778890423065848E-2,null,2.946231423171608E-2]
[null,71,null,2.485625369952027E-2,null,2.4636089155767094E-2,null,3.0623955905112243E-2,null,3.2009329702479716E-2,null,2.4812224043431863E-2,null,3.7364310220282748E-2,null,3.7746902249183867E-2,null,2.0606240196512582E-2,null,3.362135554717649E-2,null,3.3099751846668912E-2,null,4.2593308114749817E-2,null,5.3447629721032452E-2,null,3.3251454820382609E-2,null,2.0606240196512582E-2,null,1.8223955694016691E-2,null,3.1479794709348141E-2,null,5.9033339346077796E-2,null,2.9083636338694152E-2,null,4.2029372258670206E-2,null,4.1324408951609382E-2,null,5.2249963165933E-2,null,3.206610529909093E-2,null,5.9035011954383432E-2,null,1.9536455001122333E-2,null,4.0173821289721356E-2,null,5.9186025843967149E-2,null,3.2179169683423492E-2,null,3.0156624665317988E-2,null,6.6418029514822896E-2,null,2.7359483360643422E-2,null,2.9690077646330471E-2,null,3.1816178499698422E-2,null,7.5485976238722108E-2,null,2.9593201836892957E-2]
[null,72,null,2.5048792314750878E-2,null,2.4831602684001863E-2,null,3.0739051806238704E-2,null,3.2105313279032766E-2,null,2.5005357648449689E-2,null,3.7469276328690793E-2,null,3.7764191941574321E-2,null,2.0721518324302579E-2,null,3.3695312425386703E-2,null,3.3180863265837468E-2,null,4.2543894181082731E-2,null,5.3331298810273653E-2,null,3.3331077514318741E-2,null,2.0721518324302579E-2,null,1.8491312772032531E-2,null,3.1582963238416362E-2,null,5.8977705931780644E-2,null,2.9216935028909097E-2,null,4.207038664478735E-2,null,4.1375022869610589E-2,null,5.2149956756875504E-2,null,3.2161140431564039E-2,null,5.8979348993847047E-2,null,1.974573143466829E-2,null,4.0158144112940386E-2,null,5.9046081264555239E-2,null,3.2272537628338371E-2,null,3.0277332334636142E-2,null,6.6260533142408207E-2,null,2.7517995072016355E-2,null,2.9817852425818359E-2,null,3.1914772020316784E-2,null,7.5201034010026868E-2,null,2.9720735815177424E-2]
[null,73,null,2.5236332583440824E-2,null,2.5022041324455513E-2,null,3.0851079414604632E-2,null,3.2198749534042781E-2,null,2.5193477597128089E-2,null,3.7571442748662642E-2,null,3.7781017989971577E-2,null,2.0833728708069543E-2,null,3.3767300306973613E-2,null,3.3259815500614742E-2,null,4.249578204064175E-2,null,5.3218030008628903E-2,null,3.3408524650483384E-2,null,2.0833728708069543E-2,null,1.8753133644713316E-2,null,3.1683400092130665E-2,null,5.8923553474979462E-2,null,2.9346952941180726E-2,null,4.2110296398190084E-2,null,4.1424285065494448E-2,null,5.205260259206046E-2,null,3.2253669557943843E-2,null,5.8925168387805371E-2,null,1.9949682053068463E-2,null,4.0142837077297822E-2,null,5.8909781764644675E-2,null,3.2363455006867214E-2,null,3.039489670865092E-2,null,6.6107192880306531E-2,null,2.7672400140618558E-2,null,2.9942231541306263E-2,null,3.2010752313544888E-2,null,7.4923755803047776E-2,null,2.9845028450001365E-2]
[null,74,null,2.541905316625992E-2,null,2.5207586437755891E-2,null,3.0960155826791347E-2,null,3.2289734485910104E-2,null,2.5376763090238841E-2,null,3.7670916405550425E-2,null,3.779739826298556E-2,null,2.0942987912535349E-2,null,3.3837393928563886E-2,null,3.3336690508679823E-2,null,4.2448923928785964E-2,null,5.3107711618737508E-2,null,3.3483884192188507E-2,null,2.0942987912535349E-2,null,1.9009479719101607E-2,null,3.1781207666336408E-2,null,5.8870826154105549E-2,null,2.947378924855748E-2,null,4.2149144598390809E-2,null,4.1472247188394373E-2,null,5.195780189250998E-2,null,3.234378557705897E-2,null,5.8872414202980616E-2,null,2.0148486918845299E-2,null,4.012789076523271E-2,null,5.8776998342941589E-2,null,3.2452011539995773E-2,null,3.0509430624968692E-2,null,6.5957856422603545E-2,null,2.7822844240188438E-2,null,3.0063343647958485E-2,null,3.2104217571410798E-2,null,7.4653848341564855E-2,null,2.9966188319226372E-2]
[null,75,null,2.5597125379337671E-2,null,2.5388411931728472E-2,null,3.1066392556941658E-2,null,3.2378359697291748E-2,null,2.5555385962354293E-2,null,3.776779912115491E-2,null,3.7813349762853221E-2,null,2.1049406995782949E-2,null,3.3905664509333855E-2,null,3.3411566389212277E-2,null,4.2403274153581139E-2,null,5.300023670858689E-2,null,3.3557239423713137E-2,null,2.1049406995782949E-2,null,1.9260424231688722E-2,null,3.1876483661389843E-2,null,5.8819470723618039E-2,null,2.9597540974336534E-2,null,4.2186972184512284E-2,null,4.1518958424388908E-2,null,5.1865460309382438E-2,null,3.2431577234001585E-2,null,5.8821033093254371E-2,null,2.0342319773039463E-2,null,4.011329573619804E-2,null,5.8647607080494879E-2,null,3.2538293052128076E-2,null,3.0621042247222396E-2,null,6.5812378024117546E-2,null,2.7969467183506902E-2,null,3.0181311357495355E-2,null,3.2195261460125524E-2,null,7.4391032222713926E-2,null,3.0084320321988267E-2]
[null,76,null,2.5770713475528728E-2,null,2.5564684546529381E-2,null,3.1169895842735773E-2,null,3.2464712506454108E-2,null,2.5729510963885094E-2,null,3.7862187894001753E-2,null,3.7828888674324768E-2,null,2.1153091805817592E-2,null,3.3972179938821512E-2,null,3.3484517589081886E-2,null,4.2358789004217856E-2,null,5.289550291103895E-2,null,3.3628669257333987E-2,null,2.1153091805817592E-2,null,1.9506050064954428E-2,null,3.1969321319976096E-2,null,5.8769436382426932E-2,null,2.9718302840707755E-2,null,4.2223818081454478E-2,null,4.1564465631344749E-2,null,5.177548771199314E-2,null,3.2517129318894833E-2,null,5.8770974166869383E-2,null,2.0531348147136974E-2,null,4.0099042577532718E-2,null,5.8521488976877478E-2,null,3.2622381644701548E-2,null,3.0729835247589543E-2,null,6.5670618217473775E-2,null,2.8112403130970964E-2,null,3.029625156014526E-2,null,3.2283973351783457E-2,null,7.4135041176078165E-2,null,3.0199525723971332E-2]
[null,77,null,2.5939974922517983E-2,null,2.5736564136613183E-2,null,3.1270766933226168E-2,null,3.2548876246361713E-2,null,2.5899296039959774E-2,null,3.7954175162943304E-2,null,3.7844030410497886E-2,null,2.1254143260133418E-2,null,3.4037004954174721E-2,null,3.3555615097422997E-2,null,4.2315426662348221E-2,null,5.2793412228285819E-2,null,3.3698248516494278E-2,null,2.1254143260133418E-2,null,1.9746447864904981E-2,null,3.2059809653026017E-2,null,5.8720674648994775E-2,null,2.9836167156533921E-2,null,4.2259719317596645E-2,null,4.1608813465797923E-2,null,5.1687797984840245E-2,null,3.2600522857127112E-2,null,5.8722188860455438E-2,null,2.0715733494523825E-2,null,4.0085121946732638E-2,null,5.8398529782993425E-2,null,3.270435586400211E-2,null,3.0835908986744043E-2,null,6.5532443538130813E-2,null,2.8251780799392501E-2,null,3.0408275728547096E-2,null,3.2370438544171432E-2,null,7.3885621364038423E-2,null,3.0311902217517561E-2]
[null,78,null,2.610506067630558E-2,null,2.590420394805415E-2,null,3.1369102359634526E-2,null,3.2630930452064888E-2,null,2.6064892604675594E-2,null,3.8043849055105383E-2,null,3.7858789655808689E-2,null,2.1352657609247538E-2,null,3.4100201307407429E-2,null,3.3624926629215901E-2,null,4.2273147116473897E-2,null,5.2693870841808543E-2,null,3.376604819724327E-2,null,2.1352657609247538E-2,null,1.9981714420407304E-2,null,3.2148033654180619E-2,null,5.8673139242854555E-2,null,2.9951223738198474E-2,null,4.2294711134672536E-2,null,4.1652044502348717E-2,null,5.1602308833538446E-2,null,3.2681835291168415E-2,null,5.8674630819592899E-2,null,2.0895631337084275E-2,null,4.0071524606324349E-2,null,5.8278619832344392E-2,null,3.2784290862974519E-2,null,3.0939358690388552E-2,null,6.5397726257977906E-2,null,2.8387723669470954E-2,null,3.0517490204565068E-2,null,3.2454738469173572E-2,null,7.3642530721255817E-2,null,3.0421543993526923E-2]
[null,79,null,2.6266115448921656E-2,null,2.6067750890044872E-2,null,3.1464994190136819E-2,null,3.2710951056940996E-2,null,2.6226445809573118E-2,null,3.8131293619130924E-2,null,3.7873180406364781E-2,null,2.1448726685105557E-2,null,3.4161827923202992E-2,null,3.3692516798480288E-2,null,4.223191207947341E-2,null,5.259678892824815E-2,null,3.3832135709872757E-2,null,2.1448726685105557E-2,null,2.0211951270222572E-2,null,3.2234074503265653E-2,null,5.8626785972279105E-2,null,3.0063559858311439E-2,null,4.2328827090394316E-2,null,4.1694199346019811E-2,null,5.1518941599500767E-2,null,3.276114065413438E-2,null,5.8628255785636796E-2,null,2.1071191423258417E-2,null,4.0058241452389343E-2,null,5.816165387225225E-2,null,3.2862258556917379E-2,null,3.1040275621691205E-2,null,6.5266344127937526E-2,null,2.852035019068011E-2,null,3.0623996469946402E-2,null,3.2536950890272642E-2,null,7.3405538331218656E-2,null,3.0528541822568478E-2]
[null,80,null,2.642327796948174E-2,null,2.6227345799664681E-2,null,3.1558530269618412E-2,null,3.2789010578334832E-2,null,2.6384094805432134E-2,null,3.821658904462355E-2,null,3.7887216007794322E-2,null,2.1542438135230935E-2,null,3.4221941047791082E-2,null,3.3758447281656112E-2,null,4.2191684909307581E-2,null,5.2502080481481528E-2,null,3.3896575102472015E-2,null,2.1542438135230935E-2,null,2.0437263508066295E-2,null,3.2318009759240152E-2,null,5.8581572627827594E-2,null,3.0173260217794429E-2,null,4.2362099154356958E-2,null,4.1735316738004347E-2,null,5.1437621083175733E-2,null,3.2838509735300336E-2,null,5.8583021488513687E-2,null,2.124255789445284E-2,null,4.0045263537642484E-2,null,5.8047530896257582E-2,null,3.2938327773017528E-2,null,3.1138747249121357E-2,null,6.5138180129846512E-2,null,2.8649773982571736E-2,null,3.0727891401708174E-2,null,3.2617150089637725E-2,null,7.3174423837866875E-2,null,3.0632983143031423E-2]
[null,81,null,2.6576681237906685E-2,null,2.6383123699233124E-2,null,3.1649794445315793E-2,null,3.2865178293129516E-2,null,2.6537972996720338E-2,null,3.8299811868639733E-2,null,3.7900909190778487E-2,null,2.1633875643438216E-2,null,3.4280594389397567E-2,null,3.3822776971723423E-2,null,4.2152430532915064E-2,null,5.2409663141081753E-2,null,3.3959427267966191E-2,null,2.1633875643438216E-2,null,2.0657758759868861E-2,null,3.2399913543090131E-2,null,5.8537458881505078E-2,null,3.0280406937496673E-2,null,4.2394557797713173E-2,null,4.1775433655204308E-2,null,5.1358275375597673E-2,null,3.291401023779561E-2,null,5.8538887545217522E-2,null,2.1409869457201136E-2,null,4.0032582089845503E-2,null,5.7936153978682903E-2,null,3.3012564393744892E-2,null,3.1234857409301098E-2,null,6.5013122237766563E-2,null,2.8776104031704497E-2,null,3.0829267513106773E-2,null,3.2695407045289615E-2,null,7.2948976890373052E-2,null,3.0734952154474415E-2]
[null,82,null,2.6726452770819531E-2,null,2.6535214045743327E-2,null,3.1738866779206454E-2,null,3.2939520403762357E-2,null,2.6688208288197179E-2,null,3.8381035170023559E-2,null,3.7914272104417002E-2,null,2.1723119137895264E-2,null,3.4337839250740965E-2,null,3.3885562123584956E-2,null,4.2114115373276029E-2,null,5.2319458027261678E-2,null,3.4020750136040556E-2,null,2.1723119137895264E-2,null,2.0873546310735014E-2,null,3.2479856711126631E-2,null,5.8494406191268444E-2,null,3.0385079566047191E-2,null,4.2426232077069859E-2,null,4.1814585403937121E-2,null,5.1280835697999239E-2,null,3.2987706928733207E-2,null,5.849581536372539E-2,null,2.1573259558903768E-2,null,4.0020188526230127E-2,null,5.7827430112140643E-2,null,3.3085031494163974E-2,null,3.1328686464600741E-2,null,6.4891063188766474E-2,null,2.8899444883589753E-2,null,3.0928213180997366E-2,null,3.277178959882332E-2,null,7.272899661925103E-2,null,3.0834529914640862E-2]
[null,83,null,2.687271483927689E-2,null,2.6683740972031078E-2,null,3.1825823747965831E-2,null,3.3012100195185523E-2,null,2.6834923323332927E-2,null,3.8460328752335515E-2,null,3.7927316347569295E-2,null,2.1810244987273242E-2,null,3.4393724654030677E-2,null,3.3946856491212207E-2,null,4.2076707279603998E-2,null,5.223138958232898E-2,null,3.4080598851224497E-2,null,2.1810244987273242E-2,null,2.1084736361998369E-2,null,3.2557907019144627E-2,null,5.8452377710619619E-2,null,3.0487355101109337E-2,null,4.2457149713016618E-2,null,4.1852805708165963E-2,null,5.1205236249204589E-2,null,3.3059661782038452E-2,null,5.8453768052066701E-2,null,2.1732856565338299E-2,null,4.0008074464520593E-2,null,5.7721270048609385E-2,null,3.315578947326836E-2,null,3.1420311455302663E-2,null,6.4771900263133508E-2,null,2.9019896829196368E-2,null,3.1024812860360518E-2,null,3.2846362614153302E-2,null,7.2514291142036447E-2,null,3.0931794438844529E-2]
[null,84,null,2.7015584698121486E-2,null,2.6828823519455813E-2,null,3.1910738431250918E-2,null,3.3082978183250011E-2,null,2.6978235714327781E-2,null,3.8537759316080944E-2,null,3.794005299830383E-2,null,2.1895326185685571E-2,null,3.4448297458896882E-2,null,3.400671145702705E-2,null,4.2040175460609008E-2,null,5.214538541862046E-2,null,3.4139025938284773E-2,null,2.1895326185685571E-2,null,2.1291439401291301E-2,null,3.2634129277887558E-2,null,5.8411338203034235E-2,null,3.0587308021616799E-2,null,4.2487337163671146E-2,null,4.189012679259041E-2,null,5.1131414060517022E-2,null,3.312993411425369E-2,null,5.8412710332286899E-2,null,2.1888783938444956E-2,null,3.9996231731054932E-2,null,5.7617588144551535E-2,null,3.3224896179463892E-2,null,3.1509806246227345E-2,null,6.4655535073906423E-2,null,2.9137556085679028E-2,null,3.1119147286724935E-2,null,3.291918812773531E-2,null,7.2304677096867831E-2,null,3.1026820800653887E-2]
[null,85,null,2.7155174806843929E-2,null,2.6970575861981594E-2,null,3.1993680689027082E-2,null,3.3152212254971225E-2,null,2.7118258263617578E-2,null,3.8613390620893862E-2,null,3.7952492641578406E-2,null,2.1978432527077763E-2,null,3.4501602473659743E-2,null,3.4065176153969423E-2,null,4.2004490420755047E-2,null,5.2061376172841678E-2,null,3.4196081455971417E-2,null,2.1978432527077763E-2,null,2.1493765670727694E-2,null,3.2708585500250686E-2,null,5.8371253960980418E-2,null,3.0685010328916462E-2,null,4.2516819693593444E-2,null,4.1926579460908719E-2,null,5.1059308857807961E-2,null,3.3198580713600379E-2,null,5.837260845904968E-2,null,2.2041160413157623E-2,null,3.9984652366447992E-2,null,5.7516302210433246E-2,null,3.3292407030351745E-2,null,3.1597241667778331E-2,null,6.4541873365566271E-2,null,2.925251497110426E-2,null,3.1211293667185558E-2,null,3.2990325490706462E-2,null,7.2099979202381981E-2,null,3.1119681232981478E-2]
[null,86,null,2.7291593041929296E-2,null,2.7109107521627651E-2,null,3.2074717328618885E-2,null,3.3219857801119357E-2,null,2.7255099176840991E-2,null,3.8687283638300984E-2,null,3.796464539526756E-2,null,2.2059630769691863E-2,null,3.4553682560324539E-2,null,3.4122297580676086E-2,null,4.1969623899436481E-2,null,5.1979295366701317E-2,null,3.4251813140061316E-2,null,2.2059630769691863E-2,null,2.1691824720214914E-2,null,3.2781335040641846E-2,null,5.8332092729288521E-2,null,3.0780531595047789E-2,null,4.2545621438391024E-2,null,4.19621931695493E-2,null,5.0988862930503309E-2,null,3.3265655962581908E-2,null,5.8333430142641474E-2,null,2.219010017227907E-2,null,3.9973328629170801E-2,null,5.7417333364907286E-2,null,3.3358375126981921E-2,null,3.1682685651416742E-2,null,6.4430824821680943E-2,null,2.9364862073029574E-2,null,3.1301325860676465E-2,null,3.3059831503361004E-2,null,7.190002984241084E-2,null,3.1210445228843531E-2]
[null,87,null,2.7424942900729388E-2,null,2.7244523575331137E-2,null,3.2153912262106399E-2,null,3.3285967841553576E-2,null,2.7388862267310854E-2,null,3.8759496695642826E-2,null,3.7976520934640989E-2,null,2.2138984791197469E-2,null,3.4604578733667291E-2,null,3.4178120710171456E-2,null,4.1935548812976231E-2,null,5.189907927369708E-2,null,3.430626653655966E-2,null,2.2138984791197469E-2,null,2.1885725034563652E-2,null,3.2852434726902136E-2,null,5.8293823632649344E-2,null,3.0873939016647922E-2,null,4.2573765465315772E-2,null,4.1996996097149575E-2,null,5.0920021007176519E-2,null,3.3331211954407136E-2,null,5.8295144476137706E-2,null,2.2335713018590386E-2,null,3.9962252997372882E-2,null,5.7320605893833587E-2,null,3.342285136275569E-2,null,3.1766203359612666E-2,null,6.4322302881263838E-2,null,2.947468241086959E-2,null,3.1389314548117664E-2,null,3.3127760542371876E-2,null,7.1704668674051009E-2,null,3.1299179641187003E-2]
[null,88,null,2.7555323696962342E-2,null,2.7376924853320661E-2,null,3.22313266546701E-2,null,3.3350593143699259E-2,null,2.7519647152088211E-2,null,3.8830085611701648E-2,null,3.7988128515398234E-2,null,2.2216555735040444E-2,null,3.4654330254758392E-2,null,3.4232688592451987E-2,null,4.1902239199355762E-2,null,5.1820666791893455E-2,null,3.4359485125839972E-2,null,2.2216555735040444E-2,null,2.2075573724516628E-2,null,3.2921938985178034E-2,null,5.8256417107016123E-2,null,3.0965297473197317E-2,null,4.2601273830131792E-2,null,4.2031015210040934E-2,null,5.0852730137447955E-2,null,3.3395298603514645E-2,null,5.8257721866514567E-2,null,2.2478104543545818E-2,null,3.9951418169231312E-2,null,5.7226047114249168E-2,null,3.3485884527165943E-2,null,3.1847857310356664E-2,null,6.421622456358711E-2,null,2.9582057592034028E-2,null,3.147532739303438E-2,null,3.3194164681144223E-2,null,7.1513742257753421E-2,null,3.1385948781295747E-2]
[null,89,null,2.7682830747979503E-2,null,2.7506408129146287E-2,null,3.2307019064432785E-2,null,3.3413782334552389E-2,null,2.7647549439802077E-2,null,3.8899103824540981E-2,null,3.7999476995345338E-2,null,2.2292402148536006E-2,null,3.4702974719247104E-2,null,3.428604245132072E-2,null,4.1869670165574302E-2,null,5.1743999322511058E-2,null,3.4411510438432602E-2,null,2.2292402148536006E-2,null,2.2261476273075731E-2,null,3.2989899958115521E-2,null,5.8219844834704881E-2,null,3.1054669588512329E-2,null,4.2628167630506475E-2,null,4.2064276323983796E-2,null,5.0786939579902102E-2,null,3.345796375047061E-2,null,5.8221133969486694E-2,null,2.2617376292050739E-2,null,3.9940817062067646E-2,null,5.7133587243339834E-2,null,3.354752140457129E-2,null,3.1927707496337998E-2,null,6.4112510301168824E-2,null,2.9687065961878867E-2,null,3.1559429193195099E-2,null,3.3259093803671647E-2,null,7.1327103708146877E-2,null,3.1470814515383472E-2]
[null,90,null,2.7807555553983399E-2,null,2.7633066301545162E-2,null,3.2381045574322531E-2,null,3.3475582006570637E-2,null,2.7772660910397429E-2,null,3.896660251204187E-2,null,3.8010574854806745E-2,null,2.2366580113196255E-2,null,3.4750548140717097E-2,null,3.4338221775810807E-2,null,4.1837817837537372E-2,null,5.1669020654138587E-2,null,3.4462382163112704E-2,null,2.2366580113196255E-2,null,2.2443536329610714E-2,null,3.3056367616733029E-2,null,5.8184079682992218E-2,null,3.1142115794564385E-2,null,4.2654467056162604E-2,null,4.2096804162384815E-2,null,5.0722600695738418E-2,null,3.3519253261506066E-2,null,5.8185353627872916E-2,null,2.2753625922929066E-2,null,3.9930442810442335E-2,null,5.704315927241721E-2,null,3.3607806868198642E-2,null,3.2005811498919901E-2,null,6.4011083780645128E-2,null,2.9789782747544846E-2,null,3.1641682023802797E-2,null,3.3322595712250713E-2,null,7.1144612364390181E-2,null,3.1553836359063503E-2]
[null,91,null,2.7929585969397985E-2,null,2.7756988568351293E-2,null,3.245345991644677E-2,null,3.3536036817795267E-2,null,2.7895069687013718E-2,null,3.9032630705578608E-2,null,3.8021430215849028E-2,null,2.2439143367753989E-2,null,3.479708502940082E-2,null,3.4389264406517128E-2,null,4.1806659312373817E-2,null,5.1595676852368877E-2,null,3.4512138247874802E-2,null,2.2439143367753989E-2,null,2.2621855545192915E-2,null,3.3121389866314521E-2,null,5.8149095646018223E-2,null,3.1227694396841255E-2,null,4.2680191436013093E-2,null,4.2128622411207628E-2,null,5.0659666847879814E-2,null,3.3579211122955144E-2,null,5.815035481329045E-2,null,2.2886947364787913E-2,null,3.992028876340914E-2,null,5.6954698845872009E-2,null,3.366678396957079E-2,null,3.2082224597054232E-2,null,6.3911871791226149E-2,null,2.989028019579143E-2,null,3.1722145372728772E-2,null,3.3384716229390321E-2,null,7.0966133478908011E-2,null,3.1635071569454665E-2]
[null,92,null,2.8049006366623441E-2,null,2.7878260592678616E-2,null,3.2524313589431086E-2,null,3.3595189586531404E-2,null,2.8014860400224384E-2,null,3.9097235397258734E-2,null,3.8032050860395072E-2,null,2.2510143424321116E-2,null,3.484261846652692E-2,null,3.4439206617134621E-2,null,4.1776172613075646E-2,null,5.1523916154654348E-2,null,3.4560814994339273E-2,null,2.2510143424321116E-2,null,2.2796533443435019E-2,null,3.3185012646647083E-2,null,5.8114867789816449E-2,null,3.1311461640596949E-2,null,4.2705359282477096E-2,null,4.2159753770780961E-2,null,5.0598093305269431E-2,null,3.363787953084274E-2,null,5.8116112570998357E-2,null,2.3017430967078978E-2,null,3.9910348481081437E-2,null,5.6868144145038935E-2,null,3.3724494023559481E-2,null,3.2156999871291836E-2,null,6.381480408043827E-2,null,2.9988627704958137E-2,null,3.1800876268258449E-2,null,3.3445499294235459E-2,null,7.0791537923434955E-2,null,3.1714575234741194E-2]
[null,93,null,2.816589779241041E-2,null,2.7996964661623824E-2,null,3.2593655969155089E-2,null,3.3653081380890848E-2,null,2.81321143448785E-2,null,3.9160461641116528E-2,null,3.804244424729375E-2,null,2.2579629678087354E-2,null,3.4887180174557164E-2,null,3.4488083191485996E-2,null,4.1746336645364535E-2,null,5.1453688870177539E-2,null,3.4608447146077026E-2,null,2.2579629678087354E-2,null,2.2967667321852403E-2,null,3.3247280026909687E-2,null,5.8081372200294634E-2,null,3.1393471777440451E-2,null,4.2729988333167546E-2,null,4.219022000469197E-2,null,5.0537837152098364E-2,null,3.3695298975866983E-2,null,5.8082602967712615E-2,null,2.3145163646209221E-2,null,3.990061573064696E-2,null,5.6783435776888158E-2,null,3.3780976689249842E-2,null,3.2230188303050689E-2,null,6.3719813216848387E-2,null,3.0084891951203785E-2,null,3.1877929399788396E-2,null,3.3504987053811108E-2,null,7.0620701911349837E-2,null,3.1792400361053907E-2]
[null,94,null,2.8280338117113724E-2,null,2.8113179837741198E-2,null,3.2661534413284343E-2,null,3.3709751603491878E-2,null,2.8246909629797479E-2,null,3.922235264863172E-2,null,3.8052617528418375E-2,null,2.2647649510945334E-2,null,3.4930800583555133E-2,null,3.4535927496305519E-2,null,4.1717131156681742E-2,null,5.1384947284531357E-2,null,3.4655067971312237E-2,null,2.2647649510945334E-2,null,2.3135352179400215E-2,null,3.3308234295510664E-2,null,5.8048585934004526E-2,null,3.1473777131804326E-2,null,4.2754095590125551E-2,null,4.2220041985940648E-2,null,5.0478857201713856E-2,null,3.3751508324006529E-2,null,5.8049803042226955E-2,null,2.3270229026630451E-2,null,3.9891084481941341E-2,null,5.6700516667433476E-2,null,3.3836270046813777E-2,null,3.2301838869313038E-2,null,6.3626834459471038E-2,null,3.0179137009189505E-2,null,3.1953357231886637E-2,null,3.3563219949373391E-2,null,7.0453506735346672E-2,null,3.1868597956583811E-2]
[null,95,null,2.8392402177078058E-2,null,2.8226982103553455E-2,null,3.2727994359977641E-2,null,3.3765238071591597E-2,null,2.8359321320586828E-2,null,3.9282949878916673E-2,null,3.8062577563847011E-2,null,2.2714248389403391E-2,null,3.4973508893912042E-2,null,3.4582771550027758E-2,null,4.168853669720729E-2,null,5.1317645569001868E-2,null,3.4700709340409919E-2,null,2.2714248389403391E-2,null,2.3299680666402312E-2,null,3.3367916045148327E-2,null,5.8016486971546932E-2,null,3.1552428166918611E-2,null,4.277769735676018E-2,null,4.2249239740524525E-2,null,5.0421113914969506E-2,null,3.3806544892979851E-2,null,5.8017690758683127E-2,null,2.3392707576870952E-2,null,3.988174890268259E-2,null,5.6619331959739227E-2,null,3.3890410670570414E-2,null,3.2371998632922283E-2,null,6.3535805633565756E-2,null,3.0271424467382069E-2,null,3.2027210112109072E-2,null,3.3620236798141301E-2,null,7.0289838519540071E-2,null,3.1943217112869737E-2]
[null,96,null,2.8502161910420654E-2,null,2.8338444499363735E-2,null,3.2793079421118643E-2,null,3.3819577092908837E-2,null,2.8469421575824772E-2,null,3.9342293123897587E-2,null,3.8072330936187671E-2,null,2.2779469957122433E-2,null,3.5015333135648419E-2,null,3.4628646087816239E-2,null,4.1660534582809605E-2,null,5.1251739694256004E-2,null,3.4745401798531583E-2,null,2.2779469957122433E-2,null,2.3460743053571376E-2,null,3.3426364253362095E-2,null,5.7985054173459671E-2,null,3.1629473549975806E-2,null,4.280080927264529E-2,null,4.227783248860506E-2,null,5.0364569322787212E-2,null,3.3860444524768996E-2,null,5.7986244962340949E-2,null,2.3512676740520488E-2,null,3.9872603353446001E-2,null,5.6539828916392088E-2,null,3.3943433698419456E-2,null,3.2440712828650353E-2,null,6.344666701253221E-2,null,3.03618135381587E-2,null,3.2099536372932835E-2,null,3.3676074870670591E-2,null,7.0129587985159114E-2,null,3.2016305083233609E-2]
[null,97,null,2.8609686486473551E-2,null,2.844763725463384E-2,null,3.2856831470404968E-2,null,3.3872803537384089E-2,null,2.8577279776890618E-2,null,3.9400420588787233E-2,null,3.8081883964098395E-2,null,2.2843356122399294E-2,null,3.5056300224487469E-2,null,3.467358062305359E-2,null,4.1633106859838787E-2,null,5.1187187348233909E-2,null,3.4789174633805819E-2,null,2.2843356122399294E-2,null,2.3618627217255606E-2,null,3.3483616358822355E-2,null,5.7954267238457424E-2,null,3.1704960216235145E-2,null,4.2823446346313077E-2,null,4.2305838683403429E-2,null,5.0309186952711693E-2,null,3.3913241654411896E-2,null,5.7955445337709133E-2,null,2.3630211062211748E-2,null,3.9863642382452547E-2,null,5.6461956826294513E-2,null,3.39953728978164E-2,null,3.2508024945212766E-2,null,6.3359361205623355E-2,null,3.0450361162901229E-2,null,3.217038242815673E-2,null,3.3730769964108953E-2,null,6.9972650229030986E-2,null,3.2087907358362644E-2]
[null,98,null,2.8715042429144022E-2,null,2.8554627913195185E-2,null,3.2919290726602712E-2,null,3.3924950905107831E-2,null,2.8682962651697785E-2,null,3.9457368968139894E-2,null,3.8091242715053486E-2,null,2.2905947140891447E-2,null,3.5096436014892207E-2,null,3.4717603505499461E-2,null,4.1606236271670927E-2,null,5.1123947858053187E-2,null,3.4832055941333095E-2,null,2.2905947140891447E-2,null,2.3773418638411314E-2,null,3.3539708333595541E-2,null,5.7924106663883146E-2,null,3.177893343186744E-2,null,4.2845622986171783E-2,null,4.2333276047961554E-2,null,5.0254931759247778E-2,null,3.3964969375262166E-2,null,5.7925272368901437E-2,null,2.3745382308664409E-2,null,3.98548607202307E-2,null,5.6385666915636401E-2,null,3.4046260728461952E-2,null,3.2573976803398352E-2,null,6.3273833051202155E-2,null,3.053712211227233E-2,null,3.2239792864088512E-2,null,3.3784356471570298E-2,null,6.981892451410654E-2,null,3.2158067739052276E-2]
[null,99,null,2.8818293734456546E-2,null,2.8659481452552482E-2,null,3.2980495832255707E-2,null,3.3976051390638196E-2,null,2.8786534392585494E-2,null,3.9513173517748079E-2,null,3.8100413017401635E-2,null,2.2967281693865305E-2,null,3.5135765350242876E-2,null,3.4760741976313181E-2,null,4.1579906226917762E-2,null,5.106198211573898E-2,null,3.4874072683320101E-2,null,2.2967281693865305E-2,null,2.3925200413135173E-2,null,3.3594674751612041E-2,null,5.7894553708252916E-2,null,3.1851436855373061E-2,null,4.286735302966993E-2,null,4.2360161609897196E-2,null,5.0201770057781259E-2,null,3.401565950090002E-2,null,5.7895707302094701E-2,null,2.3858259584884189E-2,null,3.9846253274202548E-2,null,5.6310912262893531E-2,null,3.4096128401866377E-2,null,3.2638608630483956E-2,null,6.3190029515275858E-2,null,3.0622149081859007E-2,null,3.2307810525823877E-2,null,3.3836867447840646E-2,null,6.966831407132168E-2,null,3.2226828406144437E-2]
[null,100,null,2.8919501982523022E-2,null,2.8762260397536377E-2,null,3.3040483928122644E-2,null,3.4026135943908242E-2,null,2.8888056768627379E-2,null,3.9567868122631911E-2,null,3.8109400471759702E-2,null,2.3027396962233215E-2,null,3.5174312110323402E-2,null,3.4803022220122104E-2,null,4.1554100769222613E-2,null,5.1001252507597128E-2,null,3.4915250745612303E-2,null,2.3027396962233215E-2,null,2.4074053272871154E-2,null,3.3648548853543181E-2,null,5.7865590355774543E-2,null,3.1922512597456265E-2,null,4.2888649770815634E-2,null,4.2386511734270771E-2,null,5.0149669461892366E-2,null,3.4065342623873063E-2,null,5.7866732109969066E-2,null,2.3968909445621467E-2,null,3.9837815123237252E-2,null,5.6237647717699346E-2,null,3.414500593794223E-2,null,3.2701959131097302E-2,null,6.3107899595052253E-2,null,3.0705492783376087E-2,null,3.2374476598904689E-2,null,3.3888334671626774E-2,null,6.9520725912133985E-2,null,3.22942299877087E-2]
[null,101,null,2.9018726444194121E-2,null,2.8863024928558634E-2,null,3.3099290723594743E-2,null,3.4075234327921811E-2,null,2.898758923260325E-2,null,3.9621485361355457E-2,null,3.8118210461782098E-2,null,2.3086328696620972E-2,null,3.5212099256270113E-2,null,3.4844469414309298E-2,null,4.1528804548557785E-2,null,5.094172284705456E-2,null,3.4955614990875183E-2,null,2.3086328696620972E-2,null,2.4220055612657942E-2,null,3.3701362608292929E-2,null,5.7837199282728902E-2,null,3.199220127925817E-2,null,4.2909525986158936E-2,null,4.2412342154677596E-2,null,5.009859882388179E-2,null,3.4114048171435041E-2,null,5.7838329458019144E-2,null,2.4077396002212259E-2,null,3.9829541512206301E-2,null,5.6165829823441094E-2,null,3.4192922218779565E-2,null,3.276406555469169E-2,null,6.302739422727055E-2,null,3.0787202031615335E-2,null,3.2439830686622928E-2,null,3.3938788704538148E-2,null,6.9376070651109289E-2,null,3.2360311623518712E-2]
[null,102,null,2.9116024182631151E-2,null,2.8961832984713665E-2,null,3.3156950563332233E-2,null,3.4123375173419346E-2,null,2.908518902287649E-2,null,3.9674056566884719E-2,null,3.8126848164343752E-2,null,2.3144111283704527E-2,null,3.5249148873134351E-2,null,3.48851077756831E-2,null,4.1504002793954387E-2,null,5.0883358310800819E-2,null,3.4995189308652641E-2,null,2.3144111283704527E-2,null,2.4363283526001478E-2,null,3.3753146771288156E-2,null,5.7809363825608528E-2,null,3.2060542088882649E-2,null,4.2929993959329948E-2,null,4.243766800267168E-2,null,5.0048528178336715E-2,null,3.4161804458444855E-2,null,5.781048267262956E-2,null,2.4183781024930129E-2,null,3.9821427846574053E-2,null,5.609541674342533E-2,null,3.4239905039740393E-2,null,3.2824963759783277E-2,null,6.2948466201071751E-2,null,3.0867323827322934E-2,null,3.2503910883224796E-2,null,3.398825894698887E-2,null,6.9234262337977137E-2,null,3.2425111026894493E-2]
[null,103,null,2.921145015003157E-2,null,2.9058740361959989E-2,null,3.321349649034433E-2,null,3.4170586030683348E-2,null,2.9180911260411557E-2,null,3.9725611884194656E-2,null,3.8135318559173514E-2,null,2.3200777809028628E-2,null,3.5285482210193786E-2,null,3.4924960604675981E-2,null,4.1479681287584613E-2,null,5.0826125378064413E-2,null,3.5033996662516165E-2,null,2.3200777809028628E-2,null,2.4503810845146079E-2,null,3.3803930939751536E-2,null,5.7782067950916671E-2,null,3.2127572836170737E-2,null,4.2950065504225643E-2,null,4.2462503835615895E-2,null,4.9999428688573655E-2,null,3.4208638737574626E-2,null,5.7783175710818258E-2,null,2.4288124040988457E-2,null,3.9813469687044911E-2,null,5.6026368190466469E-2,null,3.4285981158014733E-2,null,3.2884688275107932E-2,null,6.2871070075180002E-2,null,3.0945903436185418E-2,null,3.2566753843250584E-2,null,3.4036773691192179E-2,null,6.9095218298601768E-2,null,3.2488664543975254E-2]
[null,104,null,2.9305057279736868E-2,null,2.9153800806618335E-2,null,3.3268960305720796E-2,null,3.4216893418648198E-2,null,2.9274809041159422E-2,null,3.977618032481689E-2,null,3.8143626437968869E-2,null,2.3256360116512775E-2,null,3.5321119719143423E-2,null,3.4964050327222829E-2,null,4.1455826340134339E-2,null,5.0769991772871004E-2,null,3.5072059134497735E-2,null,2.3256360116512775E-2,null,2.4641709185688976E-2,null,3.3853743605117836E-2,null,5.7755296226533748E-2,null,3.2193330005696019E-2,null,4.2969751986926763E-2,null,4.2486863663055985E-2,null,4.995127259580423E-2,null,3.4254577246974005E-2,null,5.7756393131548345E-2,null,2.4390482428331861E-2,null,3.9805662744289538E-2,null,5.5958645359750259E-2,null,3.4331176338764591E-2,null,3.2943272357839781E-2,null,6.2795162099177571E-2,null,3.1022984464098124E-2,null,3.2628394847233233E-2,null,3.4084360171406924E-2,null,6.8958858984356164E-2,null,3.255100721050419E-2]
[null,105,null,2.9396896573938847E-2,null,2.9247066104401975E-2,null,3.3323372625211789E-2,null,3.426232287146691E-2,null,2.9366933524028749E-2,null,3.9825789818505486E-2,null,3.8151776413023475E-2,null,2.331088886483812E-2,null,3.5356081090291314E-2,null,3.500239853444409E-2,null,4.143242476739406E-2,null,5.0714926409133554E-2,null,3.5109397966988976E-2,null,2.331088886483812E-2,null,2.4777047994621881E-2,null,3.3902612202761251E-2,null,5.7729033794559736E-2,null,3.2257848807969669E-2,null,4.2989064346425243E-2,null,4.2510760971700368E-2,null,4.9904033170876883E-2,null,3.4299645255526867E-2,null,5.773012006852829E-2,null,2.449091150536753E-2,null,3.9798002873765004E-2,null,5.5892210864828096E-2,null,3.4375515398981538E-2,null,3.3000748049012651E-2,null,6.2720700138665375E-2,null,3.1098608928886495E-2,null,3.2688867863967408E-2,null,3.4131044611597217E-2,null,6.882510782940976E-2,null,3.2612172806200102E-2]
[null,106,null,2.9487017187195486E-2,null,2.9338586165193581E-2,null,3.3376762932839199E-2,null,3.4306898982675804E-2,null,2.945733401465489E-2,null,3.9874467262189572E-2,null,3.8159772925397961E-2,null,2.3364393580892706E-2,null,3.5390385286867776E-2,null,3.5040026020266346E-2,null,4.1409463868009588E-2,null,5.0660899338431653E-2,null,3.5146033602273086E-2,null,2.3364393580892706E-2,null,2.4909894601014893E-2,null,3.3950563159175662E-2,null,5.7703266345555448E-2,null,3.2321163228860472E-2,null,4.3008013114233856E-2,null,4.2534208749089641E-2,null,4.9857684668455304E-2,null,3.4343867105828485E-2,null,5.7704342204407233E-2,null,2.4589464616781465E-2,null,3.9790486070643283E-2,null,5.5827028676603829E-2,null,3.4419022249175812E-2,null,3.3057146226281198E-2,null,6.2647643604113679E-2,null,3.1172817328642743E-2,null,3.2748205609539838E-2,null,3.4176852270642932E-2,null,6.8693891115479078E-2,null,3.2672193906800207E-2]
[null,107,null,2.9575466505961101E-2,null,2.9428409103778863E-2,null,3.3429159631712446E-2,null,3.4350645447094097E-2,null,2.954605804516941E-2,null,3.9922238566372892E-2,null,3.8167620252659962E-2,null,2.3416902710446719E-2,null,3.5424050577562038E-2,null,3.5076952817095552E-2,null,4.1386931402328297E-2,null,5.0607881700345247E-2,null,3.5181985719844766E-2,null,2.3416902710446719E-2,null,2.5040314268671926E-2,null,3.3997621936753486E-2,null,5.7677980094100079E-2,null,3.238330607723694E-2,null,4.3026608432944924E-2,null,4.2557219506031974E-2,null,4.9812202283502582E-2,null,3.4387266255007765E-2,null,5.7679045746296786E-2,null,2.4686193215585517E-2,null,3.9783108464859662E-2,null,5.576306406517606E-2,null,3.4461719933010393E-2,null,3.3112496654148948E-2,null,6.2575953383209537E-2,null,3.124564870683777E-2,null,3.2806439603314086E-2,null,3.4221807485241396E-2,null,6.8565137843610069E-2,null,3.2731101933853202E-2]
[null,108,null,2.9662290224319543E-2,null,2.9516581316723967E-2,null,3.3480590092209717E-2,null,3.4393585100585433E-2,null,2.9633151450162876E-2,null,3.9969128699125056E-2,null,3.8175322516216692E-2,null,2.3468443666214034E-2,null,3.5457094567382219E-2,null,3.5113198229653309E-2,null,4.1364815572289881E-2,null,5.0555845675209543E-2,null,3.5217273271658911E-2,null,2.3468443666214034E-2,null,2.5168370250173266E-2,null,3.4043813076294782E-2,null,5.7653161755593318E-2,null,3.2444309030859486E-2,null,4.3044860073804037E-2,null,4.2579805297872753E-2,null,4.9767562109946928E-2,null,3.4429865313509334E-2,null,5.7654217402538732E-2,null,2.4781146941546206E-2,null,3.9775866316285269E-2,null,5.5700283544406037E-2,null,3.4503630664985074E-2,null,3.3166828031789164E-2,null,6.2505591776524705E-2,null,3.1317140714360869E-2,null,3.2863600221033851E-2,null,3.4265933710629026E-2,null,6.8438779612590261E-2,null,3.2788927202349383E-2]
[null,109,null,2.9747532416110722E-2,null,2.9603147555596232E-2,null,3.3531080697678073E-2,null,3.4435739957801026E-2,null,2.9718658439030543E-2,null,4.0015161727805282E-2,null,3.8182883688269165E-2,null,2.3519042873449747E-2,null,3.5489534226938346E-2,null,3.514878086708273E-2,null,4.134310500229943E-2,null,5.0504764439172067E-2,null,3.5251914515444405E-2,null,2.3519042873449747E-2,null,2.5294123841819616E-2,null,3.4089160237372074E-2,null,5.7628798524234082E-2,null,3.2504202680546879E-2,null,4.3062777453354961E-2,null,4.2601977744671338E-2,null,4.9723741101410868E-2,null,3.4471686081944508E-2,null,5.7629844360650884E-2,null,2.4874373696137431E-2,null,3.9768756010033712E-2,null,5.5638654819082367E-2,null,3.4544775866272692E-2,null,3.3220168038577746E-2,null,6.2436522436331021E-2,null,3.1387329668631336E-2,null,3.2919716745217542E-2,null,3.430925355924197E-2,null,6.8314750503615906E-2,null,3.2845698966267767E-2]
[null,110,null,2.9831235603625217E-2,null,2.9688150996698637E-2,null,3.3580656887792326E-2,null,3.447713124801588E-2,null,2.9802621664874795E-2,null,4.006036085864717E-2,null,3.8190307598404249E-2,null,2.3568725813224667E-2,null,3.5521385920233906E-2,null,3.5183718673419628E-2,null,4.1321788721040642E-2,null,5.0454612121430653E-2,null,3.5285927046203147E-2,null,2.3568725813224667E-2,null,2.5417634439051762E-2,null,3.4133686236669014E-2,null,5.7604878052108344E-2,null,3.2563016572652481E-2,null,4.3080369649215244E-2,null,4.2623748050339083E-2,null,4.9680717033893096E-2,null,3.4512749586117053E-2,null,5.7605914266388503E-2,null,2.496591971416029E-2,null,3.9761774051903176E-2,null,5.5578146734562628E-2,null,3.45851761988063E-2,null,3.3272543377449448E-2,null,6.2368710308401187E-2,null,3.1456250609925851E-2,null,3.2974817412987578E-2,null,3.4351788837432062E-2,null,6.8192986970854852E-2,null,3.2901445462122592E-2]
[null,111,null,2.9913440823039705E-2,null,2.9771633307496659E-2,null,3.3629343199706785E-2,null,3.4517779449166452E-2,null,2.9885082290138421E-2,null,4.0104748474329321E-2,null,3.8197597939849226E-2,null,2.3617517063507343E-2,null,3.5552665431052732E-2,null,3.5218028956523373E-2,null,4.1300856144171672E-2,null,5.0405363763541988E-2,null,3.5319327826009106E-2,null,2.3617517063507343E-2,null,2.5538959591995924E-2,null,3.417741308440525E-2,null,5.7581388429326585E-2,null,3.2620779249892262E-2,null,4.3097645415027364E-2,null,4.264512702080836E-2,null,4.963846847029818E-2,null,3.4553076110320102E-2,null,5.7582415203854209E-2,null,2.5055829632171234E-2,null,3.9754917063958173E-2,null,5.55187292287731E-2,null,3.4624851597704343E-2,null,3.3323979816189064E-2,null,6.2302121576640168E-2,null,3.152393735505532E-2,null,3.3028929461487389E-2,null,3.4393560580344484E-2,null,6.8073427737575853E-2,null,3.2956193950591794E-2]
[null,112,null,2.9994187686749774E-2,null,2.9853634709898103E-2,null,3.3677163307126223E-2,null,3.4557704320185678E-2,null,2.9966080049127708E-2,null,4.0148346169641691E-2,null,3.8204758275406814E-2,null,2.3665440338176413E-2,null,3.5583387988017634E-2,null,3.5251728415550243E-2,null,4.1280297057863624E-2,null,5.0356995280693262E-2,null,3.5352133212214421E-2,null,2.3665440338176413E-2,null,2.5658155060830579E-2,null,3.4220362018950512E-2,null,5.7558318165151112E-2,null,3.2677518290562091E-2,null,4.3114613194642049E-2,null,4.2666125081276318E-2,null,4.9596974726713317E-2,null,3.45926852289975E-2,null,5.755933567660354E-2,null,2.5144146553853552E-2,null,3.9748181780251857E-2,null,5.5460373286452924E-2,null,3.4663821302123976E-2,null,3.3374502226757086E-2,null,6.2236723610400224E-2,null,3.1590422548518626E-2,null,3.3082079171015355E-2,null,3.4434589085057477E-2,null,6.7956013697527684E-2,null,3.3009970756304297E-2]
[null,113,null,3.0073514442761295E-2,null,2.9934194040545092E-2,null,3.3724140057412644E-2,null,3.4596924931734163E-2,null,3.004565330758302E-2,null,4.0191174785360495E-2,null,3.8211792043089554E-2,null,2.3712518524080295E-2,null,3.5613568288396458E-2,null,3.5284833167056773E-2,null,4.1260101603134869E-2,null,5.0309483424837653E-2,null,3.5384358984160702E-2,null,2.3712518524080295E-2,null,2.5775274870728948E-2,null,3.4262553539728957E-2,null,5.7535656170062177E-2,null,3.2733260346195836E-2,null,4.3131281135571742E-2,null,4.2686752292585783E-2,null,4.9556215840340645E-2,null,3.4631595836855489E-2,null,5.7536664589688202E-2,null,2.5230912112465642E-2,null,3.9741565042688887E-2,null,5.5403050895538541E-2,null,3.4702103884623137E-2,null,3.3424134622752177E-2,null,6.2172484914340576E-2,null,3.1655737711259402E-2,null,3.3134291906005142E-2,null,3.4474893942082474E-2,null,6.784068782127628E-2,null,3.3062801305865808E-2]
[null,114,null,3.0151458031281608E-2,null,3.0013348808265006E-2,null,3.377029550683841E-2,null,3.463545969541082E-2,null,3.0123839119442497E-2,null,4.0233254440427801E-2,null,3.8218702561471085E-2,null,2.3758773716253234E-2,null,3.5643220520725993E-2,null,3.5317358769801244E-2,null,4.124026026094052E-2,null,5.026280574959574E-2,null,3.5416020368486123E-2,null,2.3758773716253234E-2,null,2.5890371366162679E-2,null,3.4304007438505035E-2,null,5.7513391738706732E-2,null,3.2788031177704902E-2,null,4.3147657101760384E-2,null,4.2707018366785032E-2,null,4.9516172538994985E-2,null,3.4669826177511132E-2,null,5.7514391232586615E-2,null,2.5316166530493733E-2,null,3.9735063797029957E-2,null,5.5346735005579406E-2,null,3.4739717279109739E-2,null,3.347290019510174E-2,null,6.2109375080701579E-2,null,3.1719913287140855E-2,null,3.3185592153972765E-2,null,3.4514494065311041E-2,null,6.7727395067221474E-2,null,3.3114710164195982E-2]
[null,115,null,3.022805413865326E-2,null,3.009113524882423E-2,null,3.3815650954089005E-2,null,3.467332639153109E-2,null,3.0200673280940338E-2,null,4.02746045625344E-2,null,3.8225493034767188E-2,null,2.380422725138831E-2,null,3.5672358386317216E-2,null,3.534932024832349E-2,null,4.1220763837976904E-2,null,5.0216940576833125E-2,null,3.544713206311445E-2,null,2.380422725138831E-2,null,2.6003495264399268E-2,null,3.4344742829141017E-2,null,5.7491514533685617E-2,null,3.2841855690053601E-2,null,4.3163748685707937E-2,null,4.2726932681914631E-2,null,4.9476826212083935E-2,null,3.4707393870751169E-2,null,5.7492505262972449E-2,null,2.539994867663542E-2,null,3.9728675089033327E-2,null,5.5291399488091253E-2,null,3.477667880745039E-2,null,3.3520821346069818E-2,null,6.204736474386241E-2,null,3.1782978687253438E-2,null,3.3236003562540306E-2,null,3.4553407720494533E-2,null,6.7616082297033753E-2,null,3.3165721069254639E-2]
[null,116,null,3.0303337248763329E-2,null,3.0167588377118415E-2,null,3.3860226972114438E-2,null,3.4710542195545591E-2,null,3.0276190382171109E-2,null,4.0315243917192323E-2,null,3.8232166557668368E-2,null,2.3848899739666418E-2,null,3.5700995119704038E-2,null,3.5380732115365188E-2,null,4.1201603453165259E-2,null,5.017186696482856E-2,null,3.5477708260006624E-2,null,2.3848899739666418E-2,null,2.6114695708051139E-2,null,3.4384778175906794E-2,null,5.7470014570133232E-2,null,3.2894757965516552E-2,null,4.3179563219985839E-2,null,4.2746504296065524E-2,null,4.9438158882990413E-2,null,3.4744315938478598E-2,null,5.7470996691278087E-2,null,2.5482296120231895E-2,null,3.972239606073602E-2,null,5.5237019098749229E-2,null,3.4813005204811232E-2,null,3.3567919721668282E-2,null,6.1986425537072787E-2,null,3.1844962332159277E-2,null,3.3285548974646417E-2,null,3.4591652552337759E-2,null,6.7506698195265669E-2,null,3.3215856965222113E-2]
[null,117,null,3.0377340692054222E-2,null,3.0242742036929782E-2,null,3.3904043438417242E-2,null,3.4747123703179339E-2,null,3.0350423856251085E-2,null,4.035519063538251E-2,null,3.8238726119930178E-2,null,2.3892811095029609E-2,null,3.5729143508094641E-2,null,3.5411608393195237E-2,null,4.1182770524777812E-2,null,5.0127564677947323E-2,null,3.550776266674549E-2,null,2.3892811095029609E-2,null,2.6224020316560681E-2,null,3.4424131320419882E-2,null,5.7448882201043494E-2,null,3.2946761295567173E-2,null,4.3195107788180254E-2,null,4.2765741960745896E-2,null,4.940015318278479E-2,null,3.478060882941425E-2,null,5.7449855866006372E-2,null,2.5563245183265471E-2,null,3.9716223946868023E-2,null,5.5183569441331848E-2,null,3.48487126437933E-2,null,3.3614216242551009E-2,null,6.1926530051236384E-2,null,3.1905891692179056E-2,null,3.3334250462037085E-2,null,3.4629245610278803E-2,null,6.7399193192908546E-2,null,3.3265140034207885E-2]
[null,118,null,3.0450096692256512E-2,null,3.0316628948370061E-2,null,3.3947119563868089E-2,null,3.4783086954354392E-2,null,3.0423406026192312E-2,null,4.0394462239853768E-2,null,3.8245174610739729E-2,null,2.3935980563984938E-2,null,3.575681590987978E-2,null,3.5441962633901092E-2,null,4.1164256758174478E-2,null,5.0084014157748102E-2,null,3.5537308527026967E-2,null,2.3935980563984938E-2,null,2.6331515236536207E-2,null,3.4462819507292464E-2,null,5.7428108103305231E-2,null,3.2997888211448556E-2,null,4.3210389235292634E-2,null,4.2784654133597888E-2,null,4.9362792325194693E-2,null,3.4816288442620191E-2,null,5.7429073459752455E-2,null,2.5642830990035614E-2,null,3.9710156071400604E-2,null,5.5131026933330718E-2,null,3.4883816757427688E-2,null,3.3659731133466764E-2,null,6.1867651795648904E-2,null,3.1965793325815062E-2,null,3.3382129357137025E-2,null,3.4666203373026949E-2,null,6.7293519394679091E-2,null,3.3313591726550573E-2]
[null,119,null,3.0521636410958175E-2,null,3.0389280753128745E-2,null,3.3989473920123636E-2,null,3.4818447455965851E-2,null,3.0495168149608176E-2,null,4.0433075670149865E-2,null,3.8251514822870814E-2,null,2.3978426753018089E-2,null,3.5784024272246917E-2,null,3.547180793870286E-2,null,4.1146054134115095E-2,null,5.0041196495444362E-2,null,3.5566358640118256E-2,null,2.3978426753018089E-2,null,2.6437225190864666E-2,null,3.4500859408549633E-2,null,5.7407683264408815E-2,null,3.3048160513476699E-2,null,4.3225414177630705E-2,null,4.2803248990498144E-2,null,4.9326060082765855E-2,null,3.4851370149907357E-2,null,5.7408640455896665E-2,null,2.5721087514615881E-2,null,3.970418984422186E-2,null,5.5079368773143234E-2,null,3.4918332661088014E-2,null,3.3704483951345843E-2,null,6.1809765160581565E-2,null,3.2024692916405639E-2,null,3.3429206283383195E-2,null,3.4702541771927553E-2,null,6.7189630509830067E-2,null,3.3361232789772766E-2]
[null,120,null,3.059198999011814E-2,null,3.0460728057635222E-2,null,3.4031124465730311E-2,null,3.4853220203571844E-2,null,3.0565740461355961E-2,null,4.0471047306431807E-2,null,3.8257749456635848E-2,null,2.4020167654692504E-2,null,3.5810780147952581E-2,null,3.5501156976339043E-2,null,4.1128154897624114E-2,null,4.9999093405653339E-2,null,3.5594925379345499E-2,null,2.4020167654692504E-2,null,2.6541193526553375E-2,null,3.4538267146889012E-2,null,5.7387598969784737E-2,null,3.3097599299120262E-2,null,4.3240189012215824E-2,null,4.2821534437075481E-2,null,4.9289940764152718E-2,null,3.4885868817185139E-2,null,5.738854813593286E-2,null,2.5798047626200304E-2,null,3.9698322757939719E-2,null,5.5028572908769391E-2,null,3.4952274973377495E-2,null,3.3748493612086206E-2,null,6.175284538162229E-2,null,3.2082615307094775E-2,null,3.3475501184109024E-2,null,3.4738276213212238E-2,null,6.7087481786294756E-2,null,3.3408083296255775E-2]
[null,121,null,3.0661186592627843E-2,null,3.0531000474236958E-2,null,3.4072088570976211E-2,null,3.4887419702053002E-2,null,3.0635152214222749E-2,null,4.0508392992161468E-2,null,3.8263881123649313E-2,null,2.40612206725066E-2,null,3.5837094711293149E-2,null,3.5530022000580752E-2,null,4.1110551547370422E-2,null,4.995768720136784E-2,null,3.5623020709665498E-2,null,2.40612206725066E-2,null,2.6643462261261464E-2,null,3.4575058317839913E-2,null,5.7367846790745025E-2,null,3.3146224989910378E-2,null,4.3254719925736929E-2,null,4.28395181196779E-2,null,4.9254419192479526E-2,null,3.4919798824808002E-2,null,5.7368788067398757E-2,null,2.5873743132432292E-2,null,3.9692552384807067E-2,null,5.4978618007940794E-2,null,3.4985657836041684E-2,null,3.3791778416107254E-2,null,6.1696868505679126E-2,null,3.2139584534206067E-2,null,3.3521033350053298E-2,null,3.4773421599197274E-2,null,6.6987029947985777E-2,null,3.345416266968626E-2]
[null,122,null,3.0729254441018483E-2,null,3.0600126660497384E-2,null,3.4112383041566829E-2,null,3.4921059985301595E-2,null,3.0703431717750362E-2,null,4.0545128055709423E-2,null,3.8269912350410218E-2,null,2.4101602644570841E-2,null,3.586297877332334E-2,null,3.5558414866913024E-2,null,4.1093236825544777E-2,null,4.9916960770085783E-2,null,3.5650656204375908E-2,null,2.4101602644570841E-2,null,2.6744072128497276E-2,null,3.4611248010881557E-2,null,5.7348418572991333E-2,null,3.3194057357221807E-2,null,4.3269012903071502E-2,null,4.2857207435819111E-2,null,4.921948068471238E-2,null,3.4953174086974181E-2,null,5.7349352092374906E-2,null,2.5948204820812171E-2,null,3.9686876373764335E-2,null,5.4929483429611015E-2,null,3.5018494932958832E-2,null,3.3834356072730998E-2,null,6.1641811358561061E-2,null,3.2195623859093914E-2,null,3.3565821445568966E-2,null,3.4807992348484529E-2,null,6.6888233135077524E-2,null,3.3499489710339336E-2]
[null,123,null,3.0796220854405254E-2,null,3.0668134356703902E-2,null,3.4152024141183457E-2,null,3.4954154634983858E-2,null,3.0770606375292164E-2,null,4.0581267330940252E-2,null,3.8275845581716261E-2,null,2.41413298661739E-2,null,3.5888442796355724E-2,null,3.5586347048433664E-2,null,4.1076203708200643E-2,null,4.9876897551038857E-2,null,3.5677843061009629E-2,null,2.41413298661739E-2,null,2.6843062621468849E-2,null,3.4646850829575193E-2,null,5.7329306425663917E-2,null,3.3241115546976951E-2,null,4.3283073735401523E-2,null,4.2874609544132136E-2,null,4.9185111031994966E-2,null,3.4986008070220675E-2,null,5.7330232316523677E-2,null,2.6021462498275971E-2,null,3.9681292447599548E-2,null,5.4881149196737811E-2,null,3.5050799508253627E-2,null,3.3876243723450772E-2,null,6.1587651514060315E-2,null,3.2250755798551856E-2,null,3.3609883533601836E-2,null,3.4842002415216733E-2,null,6.6791050847111899E-2,null,3.3544082619245463E-2]
[null,124,null,3.0862112283758902E-2,null,3.0735050421677235E-2,null,3.419102761298265E-2,null,3.4986716798432571E-2,null,3.0836702719392095E-2,null,4.061682517683618E-2,null,3.8281683183916337E-2,null,2.4180418111292123E-2,null,3.5913496907784337E-2,null,3.5613829651009787E-2,null,4.1059445396043781E-2,null,4.9837481513468562E-2,null,3.570459211646404E-2,null,2.4180418111292123E-2,null,2.6940472035583918E-2,null,3.4681880910762075E-2,null,5.7310502710897993E-2,null,3.328741810331004E-2,null,4.3296908027945058E-2,null,4.2891731373854602E-2,null,4.9151296480893336E-2,null,3.5018313811067792E-2,null,5.7311421098638515E-2,null,2.6093545029024723E-2,null,3.9675798400217177E-2,null,5.4833595970296134E-2,null,3.5082584383580917E-2,null,3.3917457964144138E-2,null,6.1534367264451051E-2,null,3.2305002153848239E-2,null,3.3653237099501077E-2,null,3.4875465307439457E-2,null,6.669544388877946E-2,null,3.358795902129641E-2]
[null,125,null,3.0926954345585012E-2,null,3.0800900866964742E-2,null,3.4229408700098274E-2,null,3.5018759205709182E-2,null,3.0901746445567646E-2,null,4.0651815496204557E-2,null,3.8287427448009392E-2,null,2.4218882653100238E-2,null,3.5938150913266576E-2,null,3.5640873427729147E-2,null,4.1042955305638174E-2,null,4.9798697135889025E-2,null,3.5730913861402369E-2,null,2.4218882653100238E-2,null,2.7036337509602104E-2,null,3.4716351942873258E-2,null,5.7292000033866808E-2,null,3.3332982991241877E-2,null,4.3310521207321928E-2,null,4.2908579633874178E-2,null,4.9118023715506665E-2,null,3.5050103932850352E-2,null,5.7292911040678796E-2,null,2.6164480370694632E-2,null,3.9670392094016904E-2,null,5.4786805024461094E-2,null,3.5113861974619187E-2,null,3.3958014866278363E-2,null,6.1481937592341884E-2,null,3.2358384038454702E-2,null,3.3695899073727942E-2,null,3.4908394104612439E-2,null,6.6601374318231654E-2,null,3.3631135987338467E-2]
[null,126,null,3.0990771854093158E-2,null,3.0865710889500519E-2,null,3.4267182165190979E-2,null,3.5050294185882125E-2,null,3.096576244457605E-2,null,4.0686251753520475E-2,null,3.8293080592602946E-2,null,2.4256738283535695E-2,null,3.5962414309295143E-2,null,3.5667488792684221E-2,null,4.1026727061016066E-2,null,4.9760529386294827E-2,null,3.5756818453971828E-2,null,2.4256738283535695E-2,null,2.7130695065449739E-2,null,3.4750277183401845E-2,null,5.7273791233281246E-2,null,3.3377827618401357E-2,null,4.3323918528577199E-2,null,4.2925160821353225E-2,null,4.9085279840394236E-2,null,3.5081390661782619E-2,null,5.7274694978261875E-2,null,2.6234295608940084E-2,null,3.9665071457374301E-2,null,5.4740758222902253E-2,null,3.5144644306816408E-2,null,3.3997929997165555E-2,null,6.1430342143804939E-2,null,3.2410921904536316E-2,null,3.3737885853515337E-2,null,3.4940801474317773E-2,null,6.6508805397792026E-2,null,3.3673630055301107E-2]
[null,127,null,3.1053588851927438E-2,null,3.0929504902805771E-2,null,3.4304362309103498E-2,null,3.5081333682561056E-2,null,3.1028774833239625E-2,null,4.0720146991949369E-2,null,3.8298644766730172E-2,null,2.4293999331964411E-2,null,3.5986296295195785E-2,null,3.569368583412591E-2,null,4.101075448566438E-2,null,4.9722963703259682E-2,null,3.5782315732875158E-2,null,2.4293999331964411E-2,null,2.722357964671418E-2,null,3.478366947557765E-2,null,5.7255869372323742E-2,null,3.3421968855837481E-2,null,4.3337105081877159E-2,null,4.2941481229958223E-2,null,4.9053052364283367E-2,null,3.5112185842293142E-2,null,5.7256765971592127E-2,null,2.6303016990505856E-2,null,3.9659834482222989E-2,null,5.4695437996134855E-2,null,3.5174943030423789E-2,null,3.4037218439307626E-2,null,6.1379561202723698E-2,null,3.2462635568260456E-2,null,3.3779213323536839E-2,null,3.4972699688206044E-2,null,6.6417701546940933E-2,null,3.3715457250404812E-2]
[null,128,null,3.1115428639532539E-2,null,3.0992306566802963E-2,null,3.4340962988661294E-2,null,3.5111889268724772E-2,null,3.1090806983901764E-2,null,4.0753513849591361E-2,null,3.8304122052542189E-2,null,2.4330679682997403E-2,null,3.6009805784575688E-2,null,3.5719474327016831E-2,null,4.0995031594874165E-2,null,4.9685985977885982E-2,null,3.5807415229829109E-2,null,2.4330679682997403E-2,null,2.7315025155836059E-2,null,3.4816541264284684E-2,null,5.7238227729996538E-2,null,3.3465423057959187E-2,null,4.3350085798898208E-2,null,4.2957546957712589E-2,null,4.9021329184512075E-2,null,3.514250095166882E-2,null,5.7239117296800979E-2,null,2.6370669954863812E-2,null,3.9654679221732936E-2,null,5.4650827319878248E-2,null,3.5204769434856287E-2,null,3.4075894808882401E-2,null,6.1329575666293268E-2,null,3.2513544233983893E-2,null,3.3819896875634026E-2,null,3.5004100637217039E-2,null,6.6328028297453656E-2,null,3.375663310449295E-2]
[null,129,null,3.1176313803221278E-2,null,3.105413881631236E-2,null,3.437699763366675E-2,null,3.5141972160879664E-2,null,3.115188155257842E-2,null,4.0786364574989298E-2,null,3.8309514467874672E-2,null,2.4366792793499181E-2,null,3.6032951416255843E-2,null,3.5744863745015953E-2,null,4.097955258843089E-2,null,4.9649582536559045E-2,null,3.5832126181444934E-2,null,2.4366792793499181E-2,null,2.7405064490023889E-2,null,3.4848904611263887E-2,null,5.7220859792859402E-2,null,3.3508206081641623E-2,null,4.3362865458921762E-2,null,4.2973363914492468E-2,null,4.8990098572173846E-2,null,3.5172347114039715E-2,null,5.7221742437680856E-2,null,2.6437279164473804E-2,null,3.9649603788080023E-2,null,5.4606909694369099E-2,null,3.5234134462409861E-2,null,3.4113973273407705E-2,null,6.1280367021618432E-2,null,3.2563666517373191E-2,null,3.3859951427651636E-2,null,3.5035015846116124E-2,null,6.6239752250581763E-2,null,3.3797172674526532E-2]
[null,130,null,3.1236266242006261E-2,null,3.1115023888294235E-2,null,3.4412479263128404E-2,null,3.5171593232584453E-2,null,3.1212020505874349E-2,null,4.0818711041937128E-2,null,3.8314823968699674E-2,null,2.4402351708832759E-2,null,3.6055741564710031E-2,null,3.5769863271924995E-2,null,4.0964311843629808E-2,null,4.961374012446873E-2,null,3.5856457540561326E-2,null,2.4402351708832759E-2,null,2.7493729575917891E-2,null,3.4880771209633288E-2,null,5.7203759247138386E-2,null,3.3550333304534163E-2,null,4.3375448694652485E-2,null,4.2988937829185447E-2,null,4.8959349157926324E-2,null,3.5201735113743027E-2,null,5.720463507778728E-2,null,2.6502868533742285E-2,null,3.9644606350307754E-2,null,5.4563669124585656E-2,null,3.526304872137076E-2,null,3.4151467568628746E-2,null,6.1231917323352869E-2,null,3.2613020467510578E-2,null,3.3899391441426951E-2,null,3.5065456487377578E-2,null,6.6152841036172694E-2,null,3.3837090560282501E-2]
[null,131,null,3.1295307193258237E-2,null,3.1174983347898921E-2,null,3.4447420500761217E-2,null,3.5200763027369408E-2,null,3.1271245146718085E-2,null,4.0850564763625252E-2,null,3.8320052451466857E-2,null,2.4437369078375903E-2,null,3.60781843500384E-2,null,3.5794481812621903E-2,null,4.0949303908601298E-2,null,4.9578445889858269E-2,null,3.5880417987059987E-2,null,2.4437369078375903E-2,null,2.7581051403032575E-2,null,3.491215239776313E-2,null,5.7186919971187633E-2,null,3.3591819642605936E-2,null,4.3387839997775179E-2,null,4.300427425652753E-2,null,4.8929069918430823E-2,null,3.523067540809155E-2,null,5.7187789092897123E-2,null,2.656746125673326E-2,null,3.9639685132271341E-2,null,5.4521090101336878E-2,null,3.5291522498545946E-2,null,3.418839101466431E-2,null,6.1184209172328918E-2,null,3.2661623588034372E-2,null,3.3938230939975389E-2,null,3.509543339445087E-2,null,6.6067263273625665E-2,null,3.3876400921293737E-2]
[null,132,null,3.1353457257247364E-2,null,3.1234038113383988E-2,null,3.4481833589799837E-2,null,3.5229491771084698E-2,null,3.1329576138979132E-2,null,4.088193690615638E-2,null,3.8325201755340377E-2,null,2.4471857170350608E-2,null,3.6100287647496732E-2,null,3.5818728003510492E-2,null,4.0934523495929298E-2,null,4.9543687368965861E-2,null,3.5904015938188261E-2,null,2.4471857170350608E-2,null,2.7667060056006276E-2,null,3.4943059172536817E-2,null,5.7170336028286028E-2,null,3.3632679566961254E-2,null,4.3400043724260318E-2,null,4.3019378583635692E-2,null,4.8899250163392916E-2,null,3.525917813958257E-2,null,5.7171198543799484E-2,null,2.6631079833694171E-2,null,3.9634838410667284E-2,null,5.447915758317512E-2,null,3.5319565771243733E-2,null,3.4224756531447964E-2,null,6.1137225695126363E-2,null,3.2709492857359912E-2,null,3.3976483523913137E-2,null,3.5124957074438745E-2,null,6.5982988534593057E-2,null,3.3915117493063418E-2]
[null,133,null,3.1410736420621532E-2,null,3.12922084799514E-2,null,3.4515730407155054E-2,null,3.5257789383705163E-2,null,3.138703353101846E-2,null,4.0912838301463195E-2,null,3.833027366433539E-2,null,2.4505827885996201E-2,null,3.6122059096605375E-2,null,3.5842610222506677E-2,null,4.0919965476548636E-2,null,4.9509452471623971E-2,null,3.5927259558418356E-2,null,2.4505827885996201E-2,null,2.7751784745694064E-2,null,3.4973502202028994E-2,null,5.7154001659749598E-2,null,3.3672927119958507E-2,null,4.3412064099435321E-2,null,4.3034256036253105E-2,null,4.8869879523171011E-2,null,3.5287253147568531E-2,null,5.7154857669404979E-2,null,2.6693746096451587E-2,null,3.9630064513139773E-2,null,5.4437856979093313E-2,null,3.534718821872973E-2,null,3.4260576653500463E-2,null,6.1090950524538057E-2,null,3.2756644748028751E-2,null,3.4014162387156155E-2,null,3.515403772021819E-2,null,6.5899987307336705E-2,null,3.3953253602590161E-2]
[null,134,null,3.1467164078873955E-2,null,3.1349514142559487E-2,null,3.4549122476951188E-2,null,3.5285665490617291E-2,null,3.1443636778223372E-2,null,4.0943279459660253E-2,null,3.833526990936309E-2,null,2.4539292773122279E-2,null,3.6143506109859835E-2,null,3.586613659858906E-2,null,4.0905624873908586E-2,null,4.9475729467484353E-2,null,3.5950156768865815E-2,null,2.4539292773122279E-2,null,2.7835253839132879E-2,null,3.5003491837629408E-2,null,5.713791127834833E-2,null,3.3712575930660904E-2,null,4.3423905222830239E-2,null,4.3048911684716362E-2,null,4.8840947936926948E-2,null,3.5314909979422549E-2,null,5.7138760880157458E-2,null,2.6755481232727973E-2,null,3.96253618164637E-2,null,5.4397174131966652E-2,null,3.5374399233188303E-2,null,3.429586354406311E-2,null,6.1045367780883319E-2,null,3.2803095245223179E-2,null,3.4051280331931055E-2,null,3.5182685222030941E-2,null,6.5818230962655599E-2,null,3.3990822183235903E-2]
[null,135,null,3.1522759057848404E-2,null,3.140597421775615E-2,null,3.4582020983469519E-2,null,3.5313129433416357E-2,null,3.1499404764580241E-2,null,4.0973270580855203E-2,null,3.8340192170182252E-2,null,2.4572263039070119E-2,null,3.6164635881060558E-2,null,3.5889315020930956E-2,null,4.0891496858387777E-2,null,4.9442506972837919E-2,null,3.5972715256288978E-2,null,2.4572263039070119E-2,null,2.7917494888414884E-2,null,3.5033038125641847E-2,null,5.7122059462007435E-2,null,3.3751639229650854E-2,null,4.3435571072811374E-2,null,4.3063350449666471E-2,null,4.881244564129239E-2,null,3.5342157901218307E-2,null,5.7122902751732152E-2,null,2.6816305809432617E-2,null,3.9620728744801159E-2,null,5.4357095302706382E-2,null,3.5401207930208622E-2,null,3.4330629008627156E-2,null,6.10004620541309E-2,null,3.2848859864491819E-2,null,3.4087849783133395E-2,null,3.5210909178570615E-2,null,6.5737691721309277E-2,null,3.4027835788964511E-2]
[null,136,null,3.157753963432719E-2,null,3.1461607264583691E-2,null,3.4614436783533931E-2,null,3.5340190280236827E-2,null,3.1554355823324665E-2,null,4.1002821566448189E-2,null,3.8345042077269964E-2,null,2.4604749563113426E-2,null,3.6185455393282551E-2,null,3.5912153147638959E-2,null,4.0877576741950028E-2,null,4.9409773938000612E-2,null,3.5994942481692771E-2,null,2.4604749563113426E-2,null,2.799853465850255E-2,null,3.50621508183806E-2,null,5.7106440947782611E-2,null,3.3790129863235929E-2,null,4.3447065511012406E-2,null,4.307757710750848E-2,null,4.8784363159522171E-2,null,3.5369005907951223E-2,null,5.7107278019007834E-2,null,2.6876239794973333E-2,null,3.9616163768026347E-2,null,5.4317607155087488E-2,null,3.5427623158822197E-2,null,3.4364884507882776E-2,null,6.0956218386791328E-2,null,3.2893953668718279E-2,null,3.4123882802063354E-2,null,3.5238718907591782E-2,null,6.5658342622856747E-2,null,3.4064306607985095E-2]
[null,137,null,3.163152355574983E-2,null,3.1516431304597692E-2,null,3.4646380418360323E-2,null,3.5366856835638893E-2,null,3.1608507756720527E-2,null,4.1031942029945423E-2,null,3.8349821213608415E-2,null,2.4636762908325727E-2,null,3.620597142650106E-2,null,3.5934658414114917E-2,null,4.0863859973027772E-2,null,4.9377519635239731E-2,null,3.6016845688556565E-2,null,2.4636762908325727E-2,null,2.8078399154019218E-2,null,3.5090839384792183E-2,null,5.709105062609332E-2,null,3.3828060307071306E-2,null,4.3458392286572778E-2,null,4.3091596295637302E-2,null,4.875669129111504E-2,null,3.5395462733322614E-2,null,5.7091881570296543E-2,null,2.6935302580633369E-2,null,3.9611665400118401E-2,null,5.4278696741221655E-2,null,3.5453653511112293E-2,null,3.4398641170120037E-2,null,6.0912622257540905E-2,null,3.2938391284374591E-2,null,3.4159391099572556E-2,null,3.5266123456062726E-2,null,6.5580157495845226E-2,null,3.4100246475823104E-2]
[null,138,null,3.1684728059097278E-2,null,3.1570463841041896E-2,null,3.4677862124902203E-2,null,3.5393137650072903E-2,null,3.1661877855002629E-2,null,4.1060641307308909E-2,null,3.8354531116396418E-2,null,2.4668313332939285E-2,null,3.6226190564893512E-2,null,3.595683804105998E-2,null,4.0850342131623529E-2,null,4.9345733647210066E-2,null,3.6038431910703217E-2,null,2.4668313332939285E-2,null,2.8157113645049581E-2,null,3.5119113020624759E-2,null,5.7075883535204763E-2,null,3.3865442679226421E-2,null,4.3469555040196006E-2,null,4.3105412517440378E-2,null,4.8729421101876058E-2,null,3.5421536859107983E-2,null,5.7076708441821555E-2,null,2.6993513001061009E-2,null,3.9607232197618414E-2,null,5.4240351487642391E-2,null,3.5479307331415466E-2,null,3.4431909803107841E-2,null,6.0869659565541578E-2,null,3.2982186917089873E-2,null,3.4194386048647551E-2,null,3.5293131609886341E-2,null,6.5503110929281405E-2,null,3.4135666887848082E-2]
[null,139,null,3.1737169888988781E-2,null,3.1623721877221511E-2,null,3.4708891846709999E-2,null,3.5419041028943221E-2,null,3.1714482914528386E-2,null,4.1088928466866292E-2,null,3.8359173278687875E-2,null,2.4699410801224175E-2,null,3.6246119203828586E-2,null,3.5978699042138906E-2,null,4.0837018924617885E-2,null,4.9314405855880761E-2,null,3.6059707979830602E-2,null,2.4699410801224175E-2,null,2.8234702691984692E-2,null,3.5146980658165905E-2,null,5.7060934855940548E-2,null,3.3902288752721832E-2,null,4.3480557308030798E-2,null,4.3119030147085402E-2,null,4.8702543914400653E-2,null,3.5447236524128511E-2,null,5.7061753812429394E-2,null,2.705088935390787E-2,null,3.9602862758146617E-2,null,5.4202559181975474E-2,null,3.5504592725135842E-2,null,3.4464700905471268E-2,null,6.0827316615423843E-2,null,3.3025354366565729E-2,null,3.4228878696461962E-2,null,3.5319751903207797E-2,null,6.5427178245319739E-2,null,3.4170579011283397E-2]
[null,140,null,3.1788865315021786E-2,null,3.1676221934110016E-2,null,3.4739479244335625E-2,null,3.5444575041289061E-2,null,3.1766339255171472E-2,null,4.1116812318802154E-2,null,3.8363749150960302E-2,null,2.4730064993905287E-2,null,3.6265763556562414E-2,null,3.6000248231321086E-2,null,4.0823886181275304E-2,null,4.9283526431925795E-2,null,3.6080680532720066E-2,null,2.4730064993905287E-2,null,2.8311190169440614E-2,null,3.5174450975570926E-2,null,5.7046199906622963E-2,null,3.3938609967554711E-2,null,4.3491402525391187E-2,null,4.3132453434107987E-2,null,4.8676051298960132E-2,null,3.547256973284707E-2,null,5.7047012998524549E-2,null,2.7107449418658058E-2,null,3.9598555718980188E-2,null,5.4165307960163833E-2,null,3.5529517567188806E-2,null,3.4497024677597299E-2,null,6.0785580102902026E-2,null,3.3067907040874811E-2,null,3.4262879775917243E-2,null,3.5345992627331402E-2,null,6.5352335473110701E-2,null,3.4204993696720365E-2]
[null,141,null,3.1839830148396642E-2,null,3.1727980067226325E-2,null,3.4769633705297176E-2,null,3.546974752810339E-2,null,3.1817462736996482E-2,null,4.1144301424250962E-2,null,3.8368260142618071E-2,null,2.4760285318144337E-2,null,3.6285129660652338E-2,null,3.6021492229913576E-2,null,4.0810939848936023E-2,null,4.9253085824557008E-2,null,3.610135601813913E-2,null,2.4760285318144337E-2,null,2.8386599289291103E-2,null,3.5201532405801039E-2,null,5.70316741382213E-2,null,3.3974417442242277E-2,null,4.3502094030317018E-2,null,4.3145686507804371E-2,null,4.8649935064766892E-2,null,3.5497544263604075E-2,null,5.703248144921802E-2,null,2.7163210474686839E-2,null,3.9594309755686341E-2,null,5.4128586294225345E-2,null,3.5554089510095643E-2,null,3.4528891032085562E-2,null,6.0744437100988202E-2,null,3.3109857970163636E-2,null,3.4296399716702286E-2,null,3.5371861839263996E-2,null,6.5278559323753482E-2,null,3.4238921489159857E-2]
[null,142,null,3.1890079757854073E-2,null,3.1779011882819175E-2,null,3.4799364353629958E-2,null,3.5494566110302772E-2,null,3.186786877624681E-2,null,4.1171404104010323E-2,null,3.8372707623431701E-2,null,2.4790080917105106E-2,null,3.6304223384103773E-2,null,3.6042437473301048E-2,null,4.0798175988887353E-2,null,4.9223074751779894E-2,null,3.6121740703451533E-2,null,2.4790080917105106E-2,null,2.8460952622836988E-2,null,3.5228233145190524E-2,null,5.7017353129706239E-2,null,3.4009721984898933E-2,null,4.3512635066986105E-2,null,4.3158733381442937E-2,null,4.8624187251605999E-2,null,3.552216767651295E-2,null,5.7018154741676597E-2,null,2.7218189318580333E-2,null,3.9590123580809156E-2,null,5.4092382980513998E-2,null,3.5578315991739551E-2,null,3.4560309603770323E-2,null,6.0703875046781208E-2,null,3.3151219819795408E-2,null,3.4329448655890715E-2,null,3.5397367369902399E-2,null,6.5205827166296304E-2,null,3.4272372638606052E-2]
[null,143,null,3.1939629084961174E-2,null,3.1829332553386491E-2,null,3.4828680059041384E-2,null,3.5519038196371033E-2,null,3.1917572360676605E-2,null,4.1198128446893412E-2,null,3.837709292491831E-2,null,2.481946067912344E-2,null,3.6323050431263715E-2,null,3.6063090217405724E-2,null,4.0785590772406843E-2,null,4.9193484191049963E-2,null,3.6141840680952164E-2,null,2.481946067912344E-2,null,2.8534272122153315E-2,null,3.5254561161658371E-2,null,5.7003232583593411E-2,null,3.4044534103870649E-2,null,4.3523028788984064E-2,null,4.3171597956298324E-2,null,4.8598800121811614E-2,null,3.5546447321028518E-2,null,5.7004028576666865E-2,null,2.7272402280754005E-2,null,3.9585995942609031E-2,null,5.4056687128464009E-2,null,3.5602204242805469E-2,null,3.4591289759329458E-2,null,6.0663881728799662E-2,null,3.3192004902951044E-2,null,3.4362036448101652E-2,null,3.5422516831883133E-2,null,6.5134117004738146E-2,null,3.4305357110226975E-2]
[null,144,null,3.1988492658776568E-2,null,3.1878956832564143E-2,null,3.4857589445687509E-2,null,3.554317098968629E-2,null,3.1966588064260115E-2,null,4.1224482317736788E-2,null,3.8381417341665003E-2,null,2.4848433246498658E-2,null,3.6341616348469774E-2,null,3.6083456544883319E-2,null,4.0773180476964432E-2,null,4.9164305370313244E-2,null,3.6161661873937101E-2,null,2.4848433246498658E-2,null,2.8606579140637134E-2,null,3.5280524202583541E-2,null,5.6989308321673038E-2,null,3.4078864017946797E-2,null,4.3533278262440467E-2,null,4.3184284025522546E-2,null,4.8573766152572473E-2,null,3.5570390343206304E-2,null,5.6990098774280851E-2,null,2.7325865241398573E-2,null,3.9581925623850767E-2,null,5.4021488149794017E-2,null,3.5625761293913927E-2,null,3.4621840606502641E-2,null,6.0624445274835459E-2,null,3.323222519272151E-2,null,3.439417267523992E-2,null,3.5447317627109287E-2,null,6.5063407455981048E-2,null,3.4337884594106916E-2]
[null,145,null,3.2036684609918264E-2,null,3.1927899069412513E-2,null,3.4886100900592965E-2,null,3.5566971495549549E-2,null,3.2014930061304625E-2,null,4.1250473365081364E-2,null,3.8385682132597188E-2,null,2.4877007023927034E-2,null,3.6359926529468956E-2,null,3.6103542371063391E-2,null,4.0760941482582691E-2,null,4.9135529759411378E-2,null,3.6181210042523393E-2,null,2.4877007023927034E-2,null,2.8677894452789232E-2,null,3.5306129802360475E-2,null,5.6975576280912543E-2,null,3.4112721666164081E-2,null,4.3543386469033107E-2,null,4.3196795277854694E-2,null,4.854907802855335E-2,null,3.5594003692665632E-2,null,5.6976361269837072E-2,null,2.7378593645786875E-2,null,3.9577911440640268E-2,null,5.3986775748147586E-2,null,3.5648993982464905E-2,null,3.4651971002935822E-2,null,6.0585554140303088E-2,null,3.327189233370853E-2,null,3.4425866655841242E-2,null,3.5471776953970302E-2,null,6.4993677728690358E-2,null,3.4369964514606499E-2]
[null,146,null,3.2084218684069965E-2,null,3.1976173222126869E-2,null,3.4914222581726717E-2,null,3.5590446527928421E-2,null,3.2062612139996505E-2,null,4.1276109028540287E-2,null,3.8389888522195381E-2,null,2.4905190186591541E-2,null,3.6377986220616831E-2,null,3.6123353449649676E-2,null,4.074887026834273E-2,null,4.9107149061835331E-2,null,3.6200490789229489E-2,null,2.4905190186591541E-2,null,2.8748238273260895E-2,null,3.5331385289645079E-2,null,5.6962032509527027E-2,null,3.4146116717225894E-2,null,4.3553356308872138E-2,null,4.3209135301181201E-2,null,4.8524728634815384E-2,null,3.5617294129270727E-2,null,5.6962812109949246E-2,null,2.7430602518968117E-2,null,3.9573952241304777E-2,null,5.3952539909154718E-2,null,3.5671908959205023E-2,null,3.4681689564668883E-2,null,6.0547197097060135E-2,null,3.3311017653158581E-2,null,3.445712745403573E-2,null,3.5495901814268427E-2,null,6.4924907603018056E-2,null,3.4401606039349719E-2]
[null,147,null,3.2131108254942475E-2,null,3.2023792871199941E-2,null,3.4941962425751205E-2,null,3.5613602715927062E-2,null,3.2109647715403478E-2,null,4.1301396545869729E-2,null,3.839403770166383E-2,null,2.4932990687925205E-2,null,3.6395800525865107E-2,null,3.6142895378190376E-2,null,4.0736963409030436E-2,null,4.907915520681061E-2,null,3.62195095643294E-2,null,2.4932990687925205E-2,null,2.8817630275188133E-2,null,3.5356297794310931E-2,null,5.6948673163208285E-2,null,3.417905857854997E-2,null,4.35631906032663E-2,null,4.3221307585952218E-2,null,4.8500711050023737E-2,null,3.5640268229542027E-2,null,5.6949447448753521E-2,null,2.7481906479879248E-2,null,3.9570046905318623E-2,null,5.39187708908897E-2,null,3.5694512694532277E-2,null,3.4711004674283119E-2,null,6.0509363222681189E-2,null,3.3349612171653886E-2,null,3.4487963888150786E-2,null,3.5519699019866957E-2,null,6.4857077411149877E-2,null,3.4432818087851702E-2]
[null,148,null,3.2177366336723079E-2,null,3.2070771232061368E-2,null,3.4969328155463053E-2,null,3.5636446509999642E-2,null,3.215604984196152E-2,null,4.1326342959755014E-2,null,3.8398130830051169E-2,null,2.4960416267062691E-2,null,3.6413374411550903E-2,null,3.6162173603327297E-2,null,4.0725217571918604E-2,null,4.9051540341700006E-2,null,3.6238271670987698E-2,null,2.4960416267062691E-2,null,2.888608960784711E-2,null,3.5380874254126171E-2,null,5.6935494501504147E-2,null,3.4211556404961874E-2,null,4.3572892097378357E-2,null,4.3233315528459215E-2,null,4.847701853992481E-2,null,3.5662932392813707E-2,null,5.6936263544285826E-2,null,2.7532519754897455E-2,null,3.956619434226849E-2,null,5.3885459214711551E-2,null,3.5716811484545863E-2,null,3.4739924488724316E-2,null,6.0472041890158978E-2,null,3.3387686613375323E-2,null,3.451838453896805E-2,null,3.5543175199070465E-2,null,6.4790168018637573E-2,null,3.4463609339807633E-2]
[null,149,null,3.2223005596030418E-2,null,3.2117121167216434E-2,null,3.499632728693336E-2,null,3.5658984187913134E-2,null,3.2201831225467048E-2,null,4.1350955124326738E-2,null,3.8402169035325562E-2,null,2.4987474455996139E-2,null,3.6430712710994184E-2,null,3.6181193425838032E-2,null,4.0713629513676297E-2,null,4.9024296824709435E-2,null,3.6256782270191579E-2,null,2.4987474455996139E-2,null,2.8953634913651438E-2,null,3.5405121421164365E-2,null,5.6922492884344367E-2,null,3.424361910705076E-2,null,4.3582463462771948E-2,null,4.3245162433983353E-2,null,4.8453644551087027E-2,null,3.5685292847142724E-2,null,5.6923256755006202E-2,null,2.7582456190861526E-2,null,3.9562393490860881E-2,null,5.385259565646705E-2,null,3.5738811456858643E-2,null,3.4768456946816517E-2,null,6.0435222758018048E-2,null,3.3425251415962087E-2,null,3.4548397757652838E-2,null,3.5566336802751453E-2,null,6.4724160806479691E-2,null,3.4493988243054385E-2]
[null,150,null,3.2268038363400642E-2,null,3.2162855197908069E-2,null,3.5022967136367322E-2,null,3.5681221860476064E-2,null,3.2247004234597476E-2,null,4.13752397114171E-2,null,3.8406153415408761E-2,null,2.5014172586445449E-2,null,3.644782012891179E-2,null,3.6199960005475429E-2,null,4.0702196077399444E-2,null,4.8997417217879757E-2,null,3.6275046385481957E-2,null,2.5014172586445449E-2,null,2.9020284344522196E-2,null,3.5429045867961584E-2,null,5.690966476870285E-2,null,3.4275255359199841E-2,null,4.3591907299860511E-2,null,4.3256851519818396E-2,null,4.843058270488787E-2,null,3.5707355654986506E-2,null,5.6910423536459698E-2,null,2.7631729267582061E-2,null,3.9558643317965769E-2,null,5.3820171238041725E-2,null,3.5760518576178679E-2,null,3.4796609776478471E-2,null,6.0398895760818139E-2,null,3.3462316739982345E-2,null,3.4578011673367826E-2,null,3.5589190110236091E-2,null,6.4659037653916895E-2,null,3.4523963021221737E-2]

{"sheet":"RfrAltConfig","index":6,"n_rows":113,"n_cols":59,"rows_kept":113,"cut":false,"hidden":true,"merged":[]}
[]
[null,"The DLT points for the alternative extrapolation method define the tenors for which input rates should be observed from Refinitiv."]
[null,"For DLT tenors starting at the FSP-tenor up to and including the LLP-tenor there is a separte table of weights to determine the LLFR below the first table."]
[]
[null,"Country","Order","ISO4217","Instrument","CouponFreq","FSP","LLP","UFR","DLT1","DLT2","DLT3","DLT4","DLT5","DLT6","DLT7","DLT8","DLT9","DLT10","DLT11","DLT12","DLT13","DLT14","DLT15","DLT16","DLT17","DLT18","DLT19","DLT20","DLT21","DLT22","DLT23","DLT24","DLT25","DLT26","DLT27","DLT28","DLT29","DLT30","DLT31","DLT32","DLT33","DLT34","DLT35","DLT36","DLT37","DLT38","DLT39","DLT40","DLT41","DLT42","DLT43","DLT44","DLT45","DLT46","DLT47","DLT48","DLT49","DLT50"]
[null,"Euro",1,"EUR","SWP",1,20,50,3.9,1,1,1,1,1,1,1,1,1,1,1,1,1,1,1,0,0,0,0,1,0,0,0,0,1,0,0,0,0,1,0,0,0,0,0,0,0,0,0,1,0,0,0,0,0,0,0,0,0,1]
[null,"Bulgaria",2,"BGN","SWP",1,20,20,3.9,1,1,1,1,1,1,1,1,1,1,1,1,1,1,1,0,0,0,0,1,0,0,0,0,0,0,0,0,0,0,0,0,0,0,0,0,0,0,0,0,0,0,0,0,0,0,0,0,0,0]
[null,"Croatia",3,"HRK","GVT",0,12,12,3.9,1,1,1,1,1,1,1,1,1,1,1,1,0,0,0,0,0,0,0,0,0,0,0,0,0,0,0,0,0,0,0,0,0,0,0,0,0,0,0,0,0,0,0,0,0,0,0,0,0,0]
[null,"Czech Republic",4,"CZK","SWP",1,10,10,3.9,1,1,0,0,1,0,0,0,0,1,0,0,0,0,0,0,0,0,0,0,0,0,0,0,0,0,0,0,0,0,0,0,0,0,0,0,0,0,0,0,0,0,0,0,0,0,0,0,0,0]
[null,"Denmark",5,"DKK","SWP",1,20,20,3.9,1,1,1,1,1,1,1,1,1,1,1,1,1,1,1,0,0,0,0,1,0,0,0,0,0,0,0,0,0,0,0,0,0,0,0,0,0,0,0,0,0,0,0,0,0,0,0,0,0,0]
[null,"Hungary",6,"HUF","SWP",1,10,10,4.5,1,1,1,0,1,0,0,0,0,1,0,0,0,0,0,0,0,0,0,0,0,0,0,0,0,0,0,0,0,0,0,0,0,0,0,0,0,0,0,0,0,0,0,0,0,0,0,0,0,0]
[null,"Iceland",7,"ISK","GVT",0,8,8,3.9,0,1,1,0,0,1,0,1,0,0,0,0,0,0,0,0,0,0,0,0,0,0,0,0,0,0,0,0,0,0,0,0,0,0,0,0,0,0,0,0,0,0,0,0,0,0,0,0,0,0]
[null,"Liechtenstein",8,"CHF","SWP",1,10,10,2.9,1,1,0,0,1,0,0,0,0,1,0,0,0,0,0,0,0,0,0,0,0,0,0,0,0,0,0,0,0,0,0,0,0,0,0,0,0,0,0,0,0,0,0,0,0,0,0,0,0,0]
[null,"Norway",9,"NOK","SWP",1,10,10,3.9,1,1,1,1,1,0,0,0,0,1,0,0,0,0,0,0,0,0,0,0,0,0,0,0,0,0,0,0,0,0,0,0,0,0,0,0,0,0,0,0,0,0,0,0,0,0,0,0,0,0]
[null,"Poland",10,"PLN","SWP",1,10,10,3.9,1,1,0,0,1,0,0,0,0,1,0,0,0,0,0,0,0,0,0,0,0,0,0,0,0,0,0,0,0,0,0,0,0,0,0,0,0,0,0,0,0,0,0,0,0,0,0,0,0,0]
[null,"Romania",11,"RON","GVT",0,10,15,3.9,1,1,1,1,1,0,1,1,1,1,0,0,0,0,1,0,0,0,0,0,0,0,0,0,0,0,0,0,0,0,0,0,0,0,0,0,0,0,0,0,0,0,0,0,0,0,0,0,0,0]
[null,"Russia",12,"RUB","GVT",0,15,15,4.5,1,1,1,1,1,0,1,0,1,1,0,0,0,0,1,0,0,0,0,0,0,0,0,0,0,0,0,0,0,0,0,0,0,0,0,0,0,0,0,0,0,0,0,0,0,0,0,0,0,0]
[null,"Sweden",13,"SEK","SWP",1,10,10,3.9,1,1,1,1,1,1,1,0,0,1,0,0,0,0,0,0,0,0,0,0,0,0,0,0,0,0,0,0,0,0,0,0,0,0,0,0,0,0,0,0,0,0,0,0,0,0,0,0,0,0]
[null,"Switzerland",14,"CHF","SWP",1,10,10,2.9,1,1,0,0,1,0,0,0,0,1,0,0,0,0,0,0,0,0,0,0,0,0,0,0,0,0,0,0,0,0,0,0,0,0,0,0,0,0,0,0,0,0,0,0,0,0,0,0,0,0]
[null,"United Kingdom",15,"GBP","SWP",2,40,50,3.9,1,1,1,1,1,1,1,1,1,1,0,1,0,0,1,0,0,0,0,1,0,0,0,0,1,0,0,0,0,1,0,0,0,0,0,0,0,0,0,1,0,0,0,0,0,0,0,0,0,1]
[null,"Australia",16,"AUD","SWP",2,15,30,3.9,1,1,1,1,1,0,1,0,0,1,0,1,0,0,1,0,0,0,0,1,0,0,0,0,1,0,0,0,0,1,0,0,0,0,0,0,0,0,0,0,0,0,0,0,0,0,0,0,0,0]
[null,"Brazil",17,"BRL","GVT",0,10,10,5.5,1,1,1,1,1,1,1,1,1,1,0,0,0,0,0,0,0,0,0,0,0,0,0,0,0,0,0,0,0,0,0,0,0,0,0,0,0,0,0,0,0,0,0,0,0,0,0,0,0,0]
[null,"Canada",18,"CAD","SWP",2,30,30,3.9,1,1,1,1,1,0,1,0,0,1,0,0,0,0,0,0,0,0,0,0,0,0,0,0,0,0,0,0,0,1,0,0,0,0,0,0,0,0,0,0,0,0,0,0,0,0,0,0,0,0]
[null,"Chile",19,"CLP","GVT",0,10,10,4.5,1,1,1,1,1,0,1,0,0,1,0,0,0,0,0,0,0,0,0,0,0,0,0,0,0,0,0,0,0,0,0,0,0,0,0,0,0,0,0,0,0,0,0,0,0,0,0,0,0,0]
[null,"China",20,"CNY","SWP",4,10,10,4.5,1,1,0,0,1,0,0,0,0,1,0,0,0,0,0,0,0,0,0,0,0,0,0,0,0,0,0,0,0,0,0,0,0,0,0,0,0,0,0,0,0,0,0,0,0,0,0,0,0,0]
[null,"Colombia",21,"COP","GVT",0,10,10,4.5,1,1,1,1,1,1,1,1,1,1,0,0,0,0,0,0,0,0,0,0,0,0,0,0,0,0,0,0,0,0,0,0,0,0,0,0,0,0,0,0,0,0,0,0,0,0,0,0,0,0]
[null,"Hong Kong",22,"HKD","SWP",4,15,15,3.9,1,1,1,0,1,0,0,0,0,1,0,0,0,0,1,0,0,0,0,0,0,0,0,0,0,0,0,0,0,0,0,0,0,0,0,0,0,0,0,0,0,0,0,0,0,0,0,0,0,0]
[null,"India",23,"INR","GVT",0,10,10,5.5,1,1,1,1,1,1,1,1,1,1,0,0,0,0,0,0,0,0,0,0,0,0,0,0,0,0,0,0,0,0,0,0,0,0,0,0,0,0,0,0,0,0,0,0,0,0,0,0,0,0]
[null,"Japan",24,"JPY","SWP",2,25,40,3.5,1,1,1,1,1,1,1,1,1,1,0,1,0,0,1,0,0,0,0,1,0,0,0,0,1,0,0,0,0,1,0,0,0,0,0,0,0,0,0,1,0,0,0,0,0,0,0,0,0,0]
[null,"Malaysia",25,"MYR","GVT",0,20,20,3.9,1,1,1,1,1,1,1,1,1,1,0,1,0,0,1,0,0,0,0,1,0,0,0,0,0,0,0,0,0,0,0,0,0,0,0,0,0,0,0,0,0,0,0,0,0,0,0,0,0,0]
[null,"Mexico",26,"MXN","SWP",13,20,20,4.9000000000000004,1,1,1,1,1,0,1,0,0,1,0,0,0,0,0,0,0,0,0,1,0,0,0,0,0,0,0,0,0,0,0,0,0,0,0,0,0,0,0,0,0,0,0,0,0,0,0,0,0,0]
[null,"New Zealand",27,"NZD","SWP",2,20,20,3.9,1,1,1,1,1,1,1,1,1,1,0,0,0,0,0,0,0,0,0,1,0,0,0,0,0,0,0,0,0,0,0,0,0,0,0,0,0,0,0,0,0,0,0,0,0,0,0,0,0,0]
[null,"Singapore",28,"SGD","SWP",2,20,20,3.9,1,1,1,0,1,0,0,0,0,1,0,0,0,0,0,0,0,0,0,1,0,0,0,0,0,0,0,0,0,0,0,0,0,0,0,0,0,0,0,0,0,0,0,0,0,0,0,0,0,0]
[null,"South Africa",29,"ZAR","SWP",4,15,15,5.5,1,1,1,0,1,0,0,0,0,1,0,0,0,0,1,0,0,0,0,0,0,0,0,0,0,0,0,0,0,0,0,0,0,0,0,0,0,0,0,0,0,0,0,0,0,0,0,0,0,0]
[null,"South Korea",30,"KRW","SWP",4,20,20,3.9,1,1,1,1,1,0,1,0,0,1,0,0,0,0,0,0,0,0,0,1,0,0,0,0,0,0,0,0,0,0,0,0,0,0,0,0,0,0,0,0,0,0,0,0,0,0,0,0,0,0]
[null,"Taiwan",31,"TWD","GVT",0,10,10,3.9,1,1,1,1,1,1,1,1,1,1,0,0,0,0,0,0,0,0,0,0,0,0,0,0,0,0,0,0,0,0,0,0,0,0,0,0,0,0,0,0,0,0,0,0,0,0,0,0,0,0]
[null,"Thailand",32,"THB","GVT",0,15,15,3.9,1,1,1,1,1,1,1,1,1,1,0,1,0,0,1,0,0,0,0,0,0,0,0,0,0,0,0,0,0,0,0,0,0,0,0,0,0,0,0,0,0,0,0,0,0,0,0,0,0,0]
[null,"Turkey",33,"TRY","GVT",0,9,9,5.5,1,1,1,1,1,0,1,0,1,0,0,0,0,0,0,0,0,0,0,0,0,0,0,0,0,0,0,0,0,0,0,0,0,0,0,0,0,0,0,0,0,0,0,0,0,0,0,0,0,0]
[null,"United States",34,"USD","SWP",2,25,30,3.9,1,1,1,1,1,1,1,1,1,1,0,1,0,0,1,0,0,0,0,1,0,0,0,0,1,0,0,0,0,1,0,0,0,0,0,0,0,0,0,0,0,0,0,0,0,0,0,0,0,0]
[]
[]
[null,"Weights used to calculate the LLFR for the alternative extrapolation method"]
[]
[null,"Country","Order","ISO4217","Instrument","FSP","LLP","UFR","1","2","3","4","5","6","7","8","9","10","11","12","13","14","15","16","17","18","19","20","21","22","23","24","25","26","27","28","29","30","31","32","33","34","35","36","37","38","39","40","41","42","43","44","45","46","47","48","49","50"]
[null,"Euro",1,"EUR","SWP",20,50,3.9,0,0,0,0,0,0,0,0,0,0,0,0,0,0,0,0,0,0,0,0.33,0,0,0,0,0.12,0,0,0,0,0.48,0,0,0,0,0,0,0,0,0,0.04,0,0,0,0,0,0,0,0,0,0.03]
[null,"Bulgaria",4,"BGN","SWP",20,20,3.9,0,0,0,0,0,0,0,0,0,0,0,0,0,0,0,0,0,0,0,1,0,0,0,0,0,0,0,0,0,0,0,0,0,0,0,0,0,0,0,0,0,0,0,0,0,0,0,0,0,0]
[null,"Croatia",5,"HRK","GVT",12,12,3.9,0,0,0,0,0,0,0,0,0,0,0,1,0,0,0,0,0,0,0,0,0,0,0,0,0,0,0,0,0,0,0,0,0,0,0,0,0,0,0,0,0,0,0,0,0,0,0,0,0,0]
[null,"Czech Republic",7,"CZK","SWP",10,10,3.9,0,0,0,0,0,0,0,0,0,1,0,0,0,0,0,0,0,0,0,0,0,0,0,0,0,0,0,0,0,0,0,0,0,0,0,0,0,0,0,0,0,0,0,0,0,0,0,0,0,0]
[null,"Denmark",8,"DKK","SWP",20,20,3.9,0,0,0,0,0,0,0,0,0,0,0,0,0,0,0,0,0,0,0,1,0,0,0,0,0,0,0,0,0,0,0,0,0,0,0,0,0,0,0,0,0,0,0,0,0,0,0,0,0,0]
[null,"Hungary",14,"HUF","SWP",10,10,4.5,0,0,0,0,0,0,0,0,0,1,0,0,0,0,0,0,0,0,0,0,0,0,0,0,0,0,0,0,0,0,0,0,0,0,0,0,0,0,0,0,0,0,0,0,0,0,0,0,0,0]
[null,"Iceland",15,"ISK","GVT",8,8,3.9,0,0,0,0,0,0,0,1,0,0,0,0,0,0,0,0,0,0,0,0,0,0,0,0,0,0,0,0,0,0,0,0,0,0,0,0,0,0,0,0,0,0,0,0,0,0,0,0,0,0]
[null,"Liechtenstein",19,"CHF","SWP",10,10,2.9,0,0,0,0,0,0,0,0,0,1,0,0,0,0,0,0,0,0,0,0,0,0,0,0,0,0,0,0,0,0,0,0,0,0,0,0,0,0,0,0,0,0,0,0,0,0,0,0,0,0]
[null,"Norway",24,"NOK","SWP",10,10,3.9,0,0,0,0,0,0,0,0,0,1,0,0,0,0,0,0,0,0,0,0,0,0,0,0,0,0,0,0,0,0,0,0,0,0,0,0,0,0,0,0,0,0,0,0,0,0,0,0,0,0]
[null,"Poland",25,"PLN","SWP",10,10,3.9,0,0,0,0,0,0,0,0,0,1,0,0,0,0,0,0,0,0,0,0,0,0,0,0,0,0,0,0,0,0,0,0,0,0,0,0,0,0,0,0,0,0,0,0,0,0,0,0,0,0]
[null,"Romania",27,"RON","GVT",10,15,3.9,0,0,0,0,0,0,0,0,0,1,0,0,0,0,0,0,0,0,0,0,0,0,0,0,0,0,0,0,0,0,0,0,0,0,0,0,0,0,0,0,0,0,0,0,0,0,0,0,0,0]
[null,"Russia",28,"RUB","GVT",15,15,4.5,0,0,0,0,0,0,0,0,0,0,0,0,0,0,1,0,0,0,0,0,0,0,0,0,0,0,0,0,0,0,0,0,0,0,0,0,0,0,0,0,0,0,0,0,0,0,0,0,0,0]
[null,"Sweden",32,"SEK","SWP",10,10,3.9,0,0,0,0,0,0,0,0,0,1,0,0,0,0,0,0,0,0,0,0,0,0,0,0,0,0,0,0,0,0,0,0,0,0,0,0,0,0,0,0,0,0,0,0,0,0,0,0,0,0]
[null,"Switzerland",33,"CHF","SWP",10,10,2.9,0,0,0,0,0,0,0,0,0,1,0,0,0,0,0,0,0,0,0,0,0,0,0,0,0,0,0,0,0,0,0,0,0,0,0,0,0,0,0,0,0,0,0,0,0,0,0,0,0,0]
[null,"United Kingdom",34,"GBP","SWP",40,50,3.9,0,0,0,0,0,0,0,0,0,0,0,0,0,0,0,0,0,0,0,0,0,0,0,0,0,0,0,0,0,0,0,0,0,0,0,0,0,0,0,0.55000000000000004,0,0,0,0,0,0,0,0,0,0.45]
[null,"Australia",35,"AUD","SWP",15,30,3.9,0,0,0,0,0,0,0,0,0,0,0,0,0,0,0.48,0,0,0,0,0.25,0,0,0,0,7.0000000000000007E-2,0,0,0,0,0.2,0,0,0,0,0,0,0,0,0,0,0,0,0,0,0,0,0,0,0,0]
[null,"Brazil",36,"BRL","GVT",10,10,5.5,0,0,0,0,0,0,0,0,0,1,0,0,0,0,0,0,0,0,0,0,0,0,0,0,0,0,0,0,0,0,0,0,0,0,0,0,0,0,0,0,0,0,0,0,0,0,0,0,0,0]
[null,"Canada",37,"CAD","SWP",30,30,3.9,0,0,0,0,0,0,0,0,0,0,0,0,0,0,0,0,0,0,0,0,0,0,0,0,0,0,0,0,0,1,0,0,0,0,0,0,0,0,0,0,0,0,0,0,0,0,0,0,0,0]
[null,"Chile",38,"CLP","GVT",10,10,4.5,0,0,0,0,0,0,0,0,0,1,0,0,0,0,0,0,0,0,0,0,0,0,0,0,0,0,0,0,0,0,0,0,0,0,0,0,0,0,0,0,0,0,0,0,0,0,0,0,0,0]
[null,"China",39,"CNY","SWP",10,10,4.5,0,0,0,0,0,0,0,0,0,1,0,0,0,0,0,0,0,0,0,0,0,0,0,0,0,0,0,0,0,0,0,0,0,0,0,0,0,0,0,0,0,0,0,0,0,0,0,0,0,0]
[null,"Colombia",40,"COP","GVT",10,10,4.5,0,0,0,0,0,0,0,0,0,1,0,0,0,0,0,0,0,0,0,0,0,0,0,0,0,0,0,0,0,0,0,0,0,0,0,0,0,0,0,0,0,0,0,0,0,0,0,0,0,0]
[null,"Hong Kong",41,"HKD","SWP",15,15,3.9,0,0,0,0,0,0,0,0,0,0,0,0,0,0,1,0,0,0,0,0,0,0,0,0,0,0,0,0,0,0,0,0,0,0,0,0,0,0,0,0,0,0,0,0,0,0,0,0,0,0]
[null,"India",42,"INR","GVT",10,10,5.5,0,0,0,0,0,0,0,0,0,1,0,0,0,0,0,0,0,0,0,0,0,0,0,0,0,0,0,0,0,0,0,0,0,0,0,0,0,0,0,0,0,0,0,0,0,0,0,0,0,0]
[null,"Japan",43,"JPY","SWP",25,40,3.5,0,0,0,0,0,0,0,0,0,0,0,0,0,0,0,0,0,0,0,0,0,0,0,0,0.17,0,0,0,0,0.81,0,0,0,0,0,0,0,0,0,0.02,0,0,0,0,0,0,0,0,0,0]
[null,"Malaysia",44,"MYR","GVT",20,20,3.9,0,0,0,0,0,0,0,0,0,0,0,0,0,0,0,0,0,0,0,1,0,0,0,0,0,0,0,0,0,0,0,0,0,0,0,0,0,0,0,0,0,0,0,0,0,0,0,0,0,0]
[null,"Mexico",45,"MXN","SWP",20,20,4.9000000000000004,0,0,0,0,0,0,0,0,0,0,0,0,0,0,0,0,0,0,0,1,0,0,0,0,0,0,0,0,0,0,0,0,0,0,0,0,0,0,0,0,0,0,0,0,0,0,0,0,0,0]
[null,"New Zealand",46,"NZD","SWP",20,20,3.9,0,0,0,0,0,0,0,0,0,0,0,0,0,0,0,0,0,0,0,1,0,0,0,0,0,0,0,0,0,0,0,0,0,0,0,0,0,0,0,0,0,0,0,0,0,0,0,0,0,0]
[null,"Singapore",47,"SGD","SWP",20,20,3.9,0,0,0,0,0,0,0,0,0,0,0,0,0,0,0,0,0,0,0,1,0,0,0,0,0,0,0,0,0,0,0,0,0,0,0,0,0,0,0,0,0,0,0,0,0,0,0,0,0,0]
[null,"South Africa",48,"ZAR","SWP",15,15,5.5,0,0,0,0,0,0,0,0,0,0,0,0,0,0,1,0,0,0,0,0,0,0,0,0,0,0,0,0,0,0,0,0,0,0,0,0,0,0,0,0,0,0,0,0,0,0,0,0,0,0]
[null,"South Korea",49,"KRW","SWP",20,20,3.9,0,0,0,0,0,0,0,0,0,0,0,0,0,0,0,0,0,0,0,1,0,0,0,0,0,0,0,0,0,0,0,0,0,0,0,0,0,0,0,0,0,0,0,0,0,0,0,0,0,0]
[null,"Taiwan",50,"TWD","GVT",10,10,3.9,0,0,0,0,0,0,0,0,0,1,0,0,0,0,0,0,0,0,0,0,0,0,0,0,0,0,0,0,0,0,0,0,0,0,0,0,0,0,0,0,0,0,0,0,0,0,0,0,0,0]
[null,"Thailand",51,"THB","GVT",15,15,3.9,0,0,0,0,0,0,0,0,0,0,0,0,0,0,1,0,0,0,0,0,0,0,0,0,0,0,0,0,0,0,0,0,0,0,0,0,0,0,0,0,0,0,0,0,0,0,0,0,0,0]
[null,"Turkey",52,"TRY","GVT",9,9,5.5,0,0,0,0,0,0,0,0,1,0,0,0,0,0,0,0,0,0,0,0,0,0,0,0,0,0,0,0,0,0,0,0,0,0,0,0,0,0,0,0,0,0,0,0,0,0,0,0,0,0]
[null,"United States",53,"USD","SWP",25,30,3.9,0,0,0,0,0,0,0,0,0,0,0,0,0,0,0,0,0,0,0,0,0,0,0,0,0.11,0,0,0,0,0.89,0,0,0,0,0,0,0,0,0,0,0,0,0,0,0,0,0,0,0,0]
[]
[null,"Currency"]
[null,"EUR"]
[null,"BGN"]
[null,"HRK"]
[null,"CZK"]
[null,"DKK"]
[null,"HUF"]
[null,"ISK"]
[null,"CHF"]
[null,"NOK"]
[null,"PLN"]
[null,"RON"]
[null,"RUB"]
[null,"SEK"]
[null,"GBP"]
[null,"AUD"]
[null,"BRL"]
[null,"CAD"]
[null,"CLP"]
[null,"CNY"]
[null,"COP"]
[null,"HKD"]
[null,"INR"]
[null,"JPY"]
[null,"MYR"]
[null,"MXN"]
[null,"NZD"]
[null,"SGD"]
[null,"ZAR"]
[null,"KRW"]
[null,"TWD"]
[null,"THB"]
[null,"TRY"]
[null,"USD"]

{"sheet":"Shocks","index":7,"n_rows":161,"n_cols":13,"rows_kept":161,"cut":false,"hidden":true,"merged":[[8,5,8,8],[8,9,8,12]]}
[]
[]
[null,"Standard calculation of the Solvency Capital Requirement"]
[]
[]
[null,"Interest rate risk submodule"]
[]
[]
[null,null,null,"Current SCR Shocks",null,"CP Scenario 1 Shocks",null,null,null,"Shocks until 10Y"]
[null,null,null,"Down Shock","Up Shock","smdown","bmdown ","smup","bmup","smdown","bmdown ","smup","bmup"]
[]
[null,1,null,0.75,0.7,0.57999999999999996,1.1599999999999999E-2,0.61,2.1399999999999999E-2,0.57999999999999996,1.1599999999999999E-2,0.61,2.1399999999999999E-2]
[null,2,null,0.65,0.7,0.51,9.9000000000000008E-3,0.53,1.8599999999999998E-2,0.51,9.9000000000000008E-3,0.53,1.8599999999999998E-2]
[null,3,null,0.56000000000000005,0.64,0.44,8.3000000000000001E-3,0.49,1.72E-2,0.44,8.3000000000000001E-3,0.49,1.72E-2]
[null,4,null,0.5,0.59,0.4,7.4000000000000003E-3,0.46,1.61E-2,0.4,7.4000000000000003E-3,0.46,1.61E-2]
[null,5,null,0.46,0.55000000000000004,0.4,7.1000000000000004E-3,0.45,1.5800000000000002E-2,0.4,7.1000000000000004E-3,0.45,1.5800000000000002E-2]
[null,6,null,0.42,0.52,0.38,6.7000000000000002E-3,0.41,1.44E-2,0.38,6.7000000000000002E-3,0.41,1.44E-2]
[null,7,null,0.39,0.49,0.37,6.3E-3,0.37,1.2999999999999999E-2,0.37,6.3E-3,0.37,1.2999999999999999E-2]
[null,8,null,0.36,0.47,0.38,6.1999999999999998E-3,0.34,1.1900000000000001E-2,0.38,6.1999999999999998E-3,0.34,1.1900000000000001E-2]
[null,9,null,0.33,0.44,0.39,6.1000000000000004E-3,0.32,1.12E-2,0.39,6.1000000000000004E-3,0.32,1.12E-2]
[null,10,null,0.31,0.42,0.4,6.1000000000000004E-3,0.3,1.0500000000000001E-2,0.4,6.1000000000000004E-3,0.3,1.0500000000000001E-2]
[null,11,null,0.3,0.39,0.41,6.0000000000000001E-3,0.3,1.0500000000000001E-2,{"$f":"$J$21+($B22-$B$21)*(0.2-$J$21)/(90-10)","v":0.39750000000000002},{"$f":"K$21+($B22-$B$21)*(0-$K$21)/(60-10)","v":5.9780000000000007E-3},{"$f":"$L$21+($B22-$B$21)*(0.2-$L$21)/(90-10)","v":0.29875000000000002},{"$f":"$M$21+($B22-$B$21)*(0-$M$21)/(60-10)","v":1.0290000000000001E-2}]
[null,12,null,0.28999999999999998,0.37,0.42,6.0000000000000001E-3,0.3,1.0500000000000001E-2,0.39500000000000002,5.8560000000000001E-3,0.29749999999999999,1.008E-2]
[null,13,null,0.28000000000000003,0.35,0.43,5.8999999999999999E-3,0.3,1.0500000000000001E-2,0.39250000000000002,5.7340000000000004E-3,0.29625000000000001,9.8700000000000003E-3]
[null,14,null,0.28000000000000003,0.34,0.44,5.7999999999999996E-3,0.28999999999999998,1.0200000000000001E-2,0.39,5.6120000000000007E-3,0.29499999999999998,9.6600000000000002E-3]
[null,15,null,0.27,0.33,0.45,5.7000000000000002E-3,0.28000000000000003,9.7999999999999997E-3,0.38750000000000001,5.4900000000000001E-3,0.29375000000000001,9.4500000000000001E-3]
[null,16,null,0.28000000000000003,0.31,0.47,5.5999999999999999E-3,0.28000000000000003,9.7999999999999997E-3,0.38500000000000001,5.3680000000000004E-3,0.29249999999999998,9.2399999999999999E-3]
[null,17,null,0.28000000000000003,0.3,0.48,5.4999999999999997E-3,0.27,9.4999999999999998E-3,0.38250000000000001,5.2460000000000007E-3,0.29125000000000001,9.0299999999999998E-3]
[null,18,null,0.28000000000000003,0.28999999999999998,0.49,5.4000000000000003E-3,0.26,9.1000000000000004E-3,0.38,5.1240000000000001E-3,0.28999999999999998,8.8200000000000014E-3]
[null,19,null,0.28999999999999998,0.27,0.49,5.1999999999999998E-3,0.26,9.1000000000000004E-3,0.3775,5.0020000000000004E-3,0.28875000000000001,8.6100000000000013E-3]
[null,20,null,0.28999999999999998,0.26,0.5,5.0000000000000001E-3,0.25,8.8000000000000005E-3,0.375,4.8800000000000007E-3,0.28749999999999998,8.4000000000000012E-3]
[null,21,null,0.2887142857142857,0.25914285714285717,0.49571428571428572,4.875E-3,0.24928571428571428,8.5800000000000008E-3,0.3725,4.7580000000000001E-3,0.28625,8.1900000000000011E-3]
[null,22,null,0.28742857142857142,0.25828571428571429,0.49142857142857144,4.7499999999999999E-3,0.24857142857142858,8.3600000000000011E-3,0.37,4.6360000000000004E-3,0.28499999999999998,7.980000000000001E-3]
[null,23,null,0.28614285714285714,0.25742857142857145,0.48714285714285716,4.6249999999999998E-3,0.24785714285714286,8.1400000000000014E-3,0.36750000000000005,4.5140000000000007E-3,0.28375,7.7700000000000009E-3]
[null,24,null,0.28485714285714286,0.25657142857142856,0.48285714285714287,4.5000000000000005E-3,0.24714285714285714,7.92E-3,0.36499999999999999,4.3920000000000001E-3,0.28249999999999997,7.5600000000000007E-3]
[null,25,null,0.28357142857142853,0.25571428571428573,0.47857142857142859,4.3750000000000004E-3,0.24642857142857144,7.7000000000000002E-3,0.36250000000000004,4.2700000000000004E-3,0.28125,7.3500000000000006E-3]
[null,26,null,0.28228571428571425,0.25485714285714289,0.47428571428571431,4.2500000000000003E-3,0.24571428571428572,7.4800000000000005E-3,0.36000000000000004,4.1480000000000006E-3,0.27999999999999997,7.1400000000000005E-3]
[null,27,null,0.28099999999999997,0.254,0.47,4.1250000000000002E-3,0.245,7.2600000000000008E-3,0.35750000000000004,4.0260000000000001E-3,0.27875,6.9300000000000004E-3]
[null,28,null,0.27971428571428569,0.25314285714285717,0.46571428571428569,4.0000000000000001E-3,0.24428571428571427,7.0400000000000003E-3,0.35500000000000004,3.9040000000000004E-3,0.27749999999999997,6.7200000000000003E-3]
[null,29,null,0.27842857142857141,0.25228571428571428,0.46142857142857141,3.875E-3,0.24357142857142858,6.8200000000000005E-3,0.35250000000000004,3.7820000000000002E-3,0.27625,6.5100000000000002E-3]
[null,30,null,0.27714285714285714,0.25142857142857145,0.45714285714285713,3.7499999999999999E-3,0.24285714285714285,6.6E-3,0.35000000000000003,3.6600000000000001E-3,0.27500000000000002,6.3E-3]
[null,31,null,0.27585714285714286,0.25057142857142856,0.45285714285714285,3.6250000000000002E-3,0.24214285714285716,6.3800000000000003E-3,0.34750000000000003,3.5379999999999999E-3,0.27374999999999999,6.0900000000000008E-3]
[null,32,null,0.27457142857142858,0.24971428571428572,0.44857142857142857,3.5000000000000001E-3,0.24142857142857144,6.1600000000000005E-3,0.34500000000000003,3.4160000000000002E-3,0.27250000000000002,5.8800000000000007E-3]
[null,33,null,0.2732857142857143,0.24885714285714286,0.44428571428571428,3.375E-3,0.24071428571428571,5.9400000000000008E-3,0.34250000000000003,3.2940000000000001E-3,0.27124999999999999,5.6700000000000006E-3]
[null,34,null,0.27199999999999996,0.248,0.44,3.2499999999999999E-3,0.24,5.7200000000000003E-3,0.34,3.1720000000000003E-3,0.27,5.4600000000000004E-3]
[null,35,null,0.27071428571428569,0.24714285714285716,0.43571428571428572,3.1250000000000002E-3,0.2392857142857143,5.5000000000000005E-3,0.33750000000000002,3.0500000000000006E-3,0.26874999999999999,5.2500000000000003E-3]
[null,36,null,0.26942857142857141,0.2462857142857143,0.43142857142857144,3.0000000000000001E-3,0.23857142857142857,5.28E-3,0.33500000000000002,2.928E-3,0.26750000000000002,5.0400000000000002E-3]
[null,37,null,0.26814285714285713,0.24542857142857144,0.42714285714285716,2.875E-3,0.23785714285714285,5.0600000000000003E-3,0.33250000000000002,2.8060000000000003E-3,0.26624999999999999,4.8300000000000001E-3]
[null,38,null,0.26685714285714285,0.24457142857142858,0.42285714285714288,2.7500000000000003E-3,0.23714285714285716,4.8400000000000006E-3,0.33,2.6840000000000002E-3,0.26500000000000001,4.62E-3]
[null,39,null,0.26557142857142857,0.24371428571428572,0.41857142857142859,2.6250000000000002E-3,0.23642857142857143,4.62E-3,0.32750000000000001,2.5620000000000005E-3,0.26374999999999998,4.4100000000000007E-3]
[null,40,null,0.26428571428571429,0.24285714285714285,0.41428571428571426,2.5000000000000001E-3,0.23571428571428571,4.4000000000000003E-3,0.32500000000000001,2.4399999999999999E-3,0.26250000000000001,4.2000000000000006E-3]
[null,41,null,0.26300000000000001,0.24200000000000002,0.41000000000000003,2.3750000000000004E-3,0.23500000000000001,4.1799999999999997E-3,0.32250000000000001,2.3180000000000002E-3,0.26124999999999998,3.9900000000000005E-3]
[null,42,null,0.26171428571428568,0.24114285714285716,0.40571428571428569,2.2500000000000003E-3,0.23428571428571429,3.96E-3,0.32,2.196E-3,0.26,3.7800000000000004E-3]
[null,43,null,0.2604285714285714,0.2402857142857143,0.40142857142857147,2.1250000000000002E-3,0.23357142857142857,3.7400000000000003E-3,{"$f":"$J$21+($B54-$B$21)*(0.2-$J$21)/(90-10)","v":0.3175},{"$f":"K$21+($B54-$B$21)*(0-$K$21)/(60-10)","v":2.0740000000000003E-3},{"$f":"$L$21+($B54-$B$21)*(0.2-$L$21)/(90-10)","v":0.25874999999999998},{"$f":"$M$21+($B54-$B$21)*(0-$M$21)/(60-10)","v":3.5700000000000003E-3}]
[null,44,null,0.25914285714285712,0.23942857142857144,0.39714285714285713,2E-3,0.23285714285714287,3.5200000000000006E-3,0.315,1.9520000000000006E-3,0.25750000000000001,3.3600000000000001E-3]
[null,45,null,0.25785714285714284,0.23857142857142857,0.39285714285714285,1.8749999999999999E-3,0.23214285714285715,3.3000000000000008E-3,0.3125,1.83E-3,0.25624999999999998,3.15E-3]
[null,46,null,0.25657142857142856,0.23771428571428571,0.38857142857142857,1.7499999999999998E-3,0.23142857142857143,3.0800000000000003E-3,0.31000000000000005,1.7080000000000003E-3,0.255,2.9400000000000008E-3]
[null,47,null,0.25528571428571428,0.23685714285714288,0.38428571428571429,1.6249999999999997E-3,0.23071428571428571,2.8600000000000006E-3,0.3075,1.5859999999999997E-3,0.25374999999999998,2.7300000000000007E-3]
[null,48,null,0.254,0.23600000000000002,0.38,1.4999999999999996E-3,0.23,2.64E-3,0.30500000000000005,1.464E-3,0.2525,2.5199999999999997E-3]
[null,49,null,0.25271428571428572,0.23514285714285715,0.37571428571428572,1.3750000000000004E-3,0.22928571428571429,2.4199999999999994E-3,0.30249999999999999,1.3419999999999994E-3,0.25124999999999997,2.3099999999999996E-3]
[null,50,null,0.25142857142857145,0.23428571428571429,0.37142857142857144,1.2500000000000002E-3,0.22857142857142859,2.2000000000000006E-3,0.30000000000000004,1.2199999999999997E-3,0.25,2.0999999999999994E-3]
[null,51,null,0.25014285714285711,0.23342857142857143,0.36714285714285716,1.1250000000000001E-3,0.22785714285714287,1.9799999999999991E-3,0.29749999999999999,1.0980000000000009E-3,0.24875,1.8899999999999993E-3]
[null,52,null,0.24885714285714286,0.2325714285714286,0.36285714285714288,1E-3,0.22714285714285715,1.7600000000000003E-3,0.29500000000000004,9.7599999999999944E-4,0.2475,1.6800000000000009E-3]
[null,53,null,0.24757142857142855,0.23171428571428573,0.35857142857142854,8.7499999999999991E-4,0.22642857142857142,1.5400000000000006E-3,0.29250000000000004,8.5399999999999972E-4,0.24625,1.4700000000000008E-3]
[null,54,null,0.24628571428571427,0.23085714285714287,0.35428571428571431,7.499999999999998E-4,0.22571428571428573,1.32E-3,0.29000000000000004,7.3200000000000001E-4,0.245,1.2600000000000007E-3]
[null,55,null,0.245,0.23,0.35,6.2499999999999969E-4,0.22500000000000001,1.1000000000000003E-3,0.28750000000000003,6.100000000000003E-4,0.24374999999999999,1.0500000000000006E-3]
[null,56,null,0.24371428571428572,0.22914285714285715,0.34571428571428575,5.0000000000000044E-4,0.22428571428571428,8.8000000000000057E-4,0.28500000000000003,4.8799999999999972E-4,0.24249999999999999,8.4000000000000047E-4]
[null,57,null,0.24242857142857144,0.22828571428571431,0.34142857142857141,3.7500000000000033E-4,0.22357142857142859,6.6000000000000086E-4,0.28250000000000003,3.6600000000000001E-4,0.24124999999999999,6.3000000000000035E-4]
[null,58,null,0.24114285714285713,0.22742857142857142,0.33714285714285713,2.5000000000000022E-4,0.22285714285714286,4.3999999999999942E-4,0.28000000000000003,2.4400000000000029E-4,0.24,4.2000000000000023E-4]
[null,59,null,0.23985714285714285,0.22657142857142859,0.33285714285714285,1.2500000000000011E-4,0.22214285714285714,2.1999999999999971E-4,0.27750000000000002,1.2200000000000058E-4,0.23875000000000002,2.1000000000000012E-4]
[null,60,null,0.23857142857142857,0.22571428571428573,0.32857142857142857,0,0.22142857142857145,0,0.27500000000000002,0,0.23749999999999999,0]
[null,61,null,0.23728571428571429,0.22485714285714287,0.32428571428571429,0,0.22071428571428572,0,0.27250000000000002,0,0.23625000000000002,0]
[null,62,null,0.23599999999999999,0.224,0.32,0,0.22,0,0.27,0,0.23499999999999999,0]
[null,63,null,0.23471428571428571,0.22314285714285714,0.31571428571428573,0,0.21928571428571431,0,0.26750000000000002,0,0.23375000000000001,0]
[null,64,null,0.23342857142857143,0.22228571428571431,0.31142857142857144,0,0.21857142857142858,0,0.26500000000000001,0,0.23250000000000001,0]
[null,65,null,0.23214285714285715,0.22142857142857145,0.30714285714285716,0,0.21785714285714286,0,0.26250000000000001,0,0.23125000000000001,0]
[null,66,null,0.23085714285714284,0.22057142857142858,0.30285714285714288,0,0.21714285714285714,0,0.26,0,0.23,0]
[null,67,null,0.22957142857142857,0.21971428571428572,0.2985714285714286,0,0.21642857142857144,0,0.25750000000000001,0,0.22875000000000001,0]
[null,68,null,0.22828571428571429,0.21885714285714286,0.29428571428571432,0,0.21571428571428572,0,0.255,0,0.22750000000000001,0]
[null,69,null,0.22700000000000001,0.218,0.29000000000000004,0,0.21500000000000002,0,0.2525,0,0.22625000000000001,0]
[null,70,null,0.2257142857142857,0.21714285714285714,0.2857142857142857,0,0.2142857142857143,0,0.25,0,0.22500000000000001,0]
[null,71,null,0.22442857142857142,0.2162857142857143,0.28142857142857147,0,0.21357142857142858,0,0.2475,0,0.22375,0]
[null,72,null,0.22314285714285714,0.21542857142857144,0.27714285714285714,0,0.21285714285714286,0,0.24500000000000002,0,0.2225,0]
[null,73,null,0.22185714285714286,0.21457142857142858,0.27285714285714291,0,0.21214285714285716,0,0.24249999999999999,0,0.22125,0]
[null,74,null,0.22057142857142858,0.21371428571428572,0.26857142857142857,0,0.21142857142857144,0,0.24000000000000002,0,0.22,0]
[null,75,null,0.21928571428571431,0.21285714285714286,0.26428571428571429,0,0.21071428571428572,0,{"$f":"$J$21+($B86-$B$21)*(0.2-$J$21)/(90-10)","v":0.23750000000000002},0,{"$f":"$L$21+($B86-$B$21)*(0.2-$L$21)/(90-10)","v":0.21875},0]
[null,76,null,0.218,0.21200000000000002,0.26,0,0.21000000000000002,0,0.23500000000000001,0,0.2175,0]
[null,77,null,0.21671428571428572,0.21114285714285716,0.25571428571428578,0,0.2092857142857143,0,0.23250000000000001,0,0.21625,0]
[null,78,null,0.21542857142857144,0.2102857142857143,0.25142857142857145,0,0.20857142857142857,0,0.23,0,0.215,0]
[null,79,null,0.21414285714285713,0.20942857142857144,0.24714285714285716,0,0.20785714285714285,0,0.22750000000000001,0,0.21375,0]
[null,80,null,0.21285714285714286,0.20857142857142857,0.24285714285714288,0,0.20714285714285716,0,0.22500000000000003,0,0.21250000000000002,0]
[null,81,null,0.21157142857142858,0.20771428571428574,0.23857142857142855,0,0.20642857142857143,0,0.2225,0,0.21124999999999999,0]
[null,82,null,0.2102857142857143,0.20685714285714288,0.23428571428571432,0,0.20571428571428574,0,0.22000000000000003,0,0.21000000000000002,0]
[null,83,null,0.20900000000000002,0.20600000000000002,0.23000000000000004,0,0.20500000000000002,0,0.2175,0,0.20875000000000002,0]
[null,84,null,0.20771428571428574,0.20514285714285715,0.2257142857142857,0,0.20428571428571429,0,0.21500000000000002,0,0.20750000000000002,0]
[null,85,null,0.20642857142857143,0.20428571428571429,0.22142857142857142,0,0.20357142857142857,0,0.21250000000000002,0,0.20625000000000002,0]
[null,86,null,0.20514285714285715,0.20342857142857143,0.21714285714285714,0,0.20285714285714287,0,0.21000000000000002,0,0.20500000000000002,0]
[null,87,null,0.20385714285714288,0.2025714285714286,0.21285714285714291,0,0.20214285714285715,0,0.20750000000000002,0,0.20375000000000001,0]
[null,88,null,0.20257142857142857,0.20171428571428573,0.20857142857142857,0,0.20142857142857143,0,0.20500000000000002,0,0.20250000000000001,0]
[null,89,null,0.20128571428571429,0.20085714285714287,0.20428571428571429,0,0.20071428571428573,0,0.20250000000000001,0,0.20125000000000001,0]
[null,90,null,0.2,0.2,0.2,0,0.2,0,0.2,0,0.2,0]
[null,91,null,0.2,0.2,0.2,0,0.2,0,0.2,0,0.19875000000000001,0]
[null,92,null,0.2,0.2,0.2,0,0.2,0,0.2,0,0.19750000000000001,0]
[null,93,null,0.2,0.2,0.2,0,0.2,0,0.2,0,0.19625000000000001,0]
[null,94,null,0.2,0.2,0.2,0,0.2,0,0.2,0,0.19500000000000001,0]
[null,95,null,0.2,0.2,0.2,0,0.2,0,0.2,0,0.19375000000000001,0]
[null,96,null,0.2,0.2,0.2,0,0.2,0,0.2,0,0.1925,0]
[null,97,null,0.2,0.2,0.2,0,0.2,0,0.2,0,0.19125000000000003,0]
[null,98,null,0.2,0.2,0.2,0,0.2,0,0.2,0,0.19000000000000003,0]
[null,99,null,0.2,0.2,0.2,0,0.2,0,0.2,0,0.18875,0]
[null,100,null,0.2,0.2,0.2,0,0.2,0,0.2,0,0.1875,0]
[null,101,null,0.2,0.2,0.2,0,0.2,0,0.2,0,0.18625000000000003,0]
[null,102,null,0.2,0.2,0.2,0,0.2,0,0.2,0,0.18500000000000003,0]
[null,103,null,0.2,0.2,0.2,0,0.2,0,0.2,0,0.18375000000000002,0]
[null,104,null,0.2,0.2,0.2,0,0.2,0,0.2,0,0.1825,0]
[null,105,null,0.2,0.2,0.2,0,0.2,0,0.2,0,0.18125000000000002,0]
[null,106,null,0.2,0.2,0.2,0,0.2,0,0.2,0,0.18000000000000002,0]
[null,107,null,0.2,0.2,0.2,0,0.2,0,0.2,0,{"$f":"$L$21+($B118-$B$21)*(0.2-$L$21)/(90-10)","v":0.17875000000000002},0]
[null,108,null,0.2,0.2,0.2,0,0.2,0,0.2,0,0.17750000000000002,0]
[null,109,null,0.2,0.2,0.2,0,0.2,0,0.2,0,0.17625000000000002,0]
[null,110,null,0.2,0.2,0.2,0,0.2,0,0.2,0,0.17500000000000002,0]
[null,111,null,0.2,0.2,0.2,0,0.2,0,0.2,0,0.17375000000000002,0]
[null,112,null,0.2,0.2,0.2,0,0.2,0,0.2,0,0.17250000000000001,0]
[null,113,null,0.2,0.2,0.2,0,0.2,0,0.2,0,0.17125000000000001,0]
[null,114,null,0.2,0.2,0.2,0,0.2,0,0.2,0,0.17,0]
[null,115,null,0.2,0.2,0.2,0,0.2,0,0.2,0,0.16875000000000001,0]
[null,116,null,0.2,0.2,0.2,0,0.2,0,0.2,0,0.16750000000000001,0]
[null,117,null,0.2,0.2,0.2,0,0.2,0,0.2,0,0.16625000000000001,0]
[null,118,null,0.2,0.2,0.2,0,0.2,0,0.2,0,0.16500000000000004,0]
[null,119,null,0.2,0.2,0.2,0,0.2,0,0.2,0,0.16375000000000003,0]
[null,120,null,0.2,0.2,0.2,0,0.2,0,0.2,0,0.16250000000000001,0]
[null,121,null,0.2,0.2,0.2,0,0.2,0,0.2,0,0.16125,0]
[null,122,null,0.2,0.2,0.2,0,0.2,0,0.2,0,0.16000000000000003,0]
[null,123,null,0.2,0.2,0.2,0,0.2,0,0.2,0,0.15875000000000003,0]
[null,124,null,0.2,0.2,0.2,0,0.2,0,0.2,0,0.15750000000000003,0]
[null,125,null,0.2,0.2,0.2,0,0.2,0,0.2,0,0.15625,0]
[null,126,null,0.2,0.2,0.2,0,0.2,0,0.2,0,0.15500000000000003,0]
[null,127,null,0.2,0.2,0.2,0,0.2,0,0.2,0,0.15375000000000003,0]
[null,128,null,0.2,0.2,0.2,0,0.2,0,0.2,0,0.15250000000000002,0]
[null,129,null,0.2,0.2,0.2,0,0.2,0,0.2,0,0.15125000000000002,0]
[null,130,null,0.2,0.2,0.2,0,0.2,0,0.2,0,0.15000000000000002,0]
[null,131,null,0.2,0.2,0.2,0,0.2,0,0.2,0,0.14875000000000002,0]
[null,132,null,0.2,0.2,0.2,0,0.2,0,0.2,0,0.14750000000000002,0]
[null,133,null,0.2,0.2,0.2,0,0.2,0,0.2,0,0.14625000000000002,0]
[null,134,null,0.2,0.2,0.2,0,0.2,0,0.2,0,0.14500000000000002,0]
[null,135,null,0.2,0.2,0.2,0,0.2,0,0.2,0,0.14375000000000004,0]
[null,136,null,0.2,0.2,0.2,0,0.2,0,0.2,0,0.14250000000000002,0]
[null,137,null,0.2,0.2,0.2,0,0.2,0,0.2,0,0.14125000000000001,0]
[null,138,null,0.2,0.2,0.2,0,0.2,0,0.2,0,0.14000000000000001,0]
[null,139,null,0.2,0.2,0.2,0,0.2,0,0.2,0,{"$f":"$L$21+($B150-$B$21)*(0.2-$L$21)/(90-10)","v":0.13875000000000004},0]
[null,140,null,0.2,0.2,0.2,0,0.2,0,0.2,0,0.13750000000000004,0]
[null,141,null,0.2,0.2,0.2,0,0.2,0,0.2,0,0.13625000000000001,0]
[null,142,null,0.2,0.2,0.2,0,0.2,0,0.2,0,0.13500000000000001,0]
[null,143,null,0.2,0.2,0.2,0,0.2,0,0.2,0,0.13375000000000004,0]
[null,144,null,0.2,0.2,0.2,0,0.2,0,0.2,0,0.13250000000000003,0]
[null,145,null,0.2,0.2,0.2,0,0.2,0,0.2,0,0.13125000000000003,0]
[null,146,null,0.2,0.2,0.2,0,0.2,0,0.2,0,0.13,0]
[null,147,null,0.2,0.2,0.2,0,0.2,0,0.2,0,0.12875000000000003,0]
[null,148,null,0.2,0.2,0.2,0,0.2,0,0.2,0,0.12750000000000003,0]
[null,149,null,0.2,0.2,0.2,0,0.2,0,0.2,0,0.12625000000000003,0]
[null,150,null,0.2,0.2,0.2,0,0.2,0,0.2,0,0.12500000000000003,0]