{"text_format":"1","workbook":"xlsx","n_sheets":8,"sheets":["Instructions","Scenario Data","EUR Smith-Wilson LLP30","SRC & Scaling Factors","Extrapolation","2020 Review Term Structures","RfrAltConfig","Shocks"],"not_rendered":{"charts":4,"images":2,"macros":1,"external_links":0,"defined_names":17,"comments":0,"pivot_tables":0},"unopened":[],"bounds":{"document_bytes":16777216,"sheet_cells":100000,"rows_first":2000,"rows_last":500,"rows_between":2000,"halvings":0,"cell_chars":16384,"cell_head_chars":4096},"cells_cut":0,"cells_raw":0,"read":"whole","date_system":"1900"}

{"sheet":"Instructions","index":0,"n_rows":33,"n_cols":9,"rows_kept":33,"cut":false,"hidden":false,"merged":[]}
[]
[]
[]
[]
[]
[]
[null,"This workbook sets out amended risk-free interest rate term structures:"]
[]
[null,"Worksheet \"Scenario Data\""]
[null,"Scenario 1: CP interest rate risk shocks based on LLP 20Y"]
[null,"Scenario 2: Current SCR interest rate risk shocks"]
[]
[null,"Worksheet EUR Smith-Wilson LLP30"]
[null,"Term structure for the additional calculation set out in section 7.3 of the technical specification. "]
[null,"Only relevant for undertakings from the euro area."]
[]
[null,"Worksheet \"SRC & Scaling Factors\""]
[null,"Risk-corrected currency spreads and scaling factors for the calculation of the volatility adjustment."]
[]
[]
[null,"Inputs are provided for integer term maturities"]
[]
[null,"Undertakings shall apply appropriate interpolation techniques for discounting inter-annual cash flows"]
[]
[]
[]
[]
[]
[null,"Log of changes",null,null,null,null,null,null,"Amendments"]
[]
[null,"Version"]
[null,"v1.0 ",null,null,null,null,null,null,"-"]
[null,"v1.1",null,null,null,null,null,null,"EUR Smith-Wilson LLP30 fixed"]

{"sheet":"Scenario Data","index":1,"n_rows":162,"n_cols":26,"rows_kept":162,"cut":false,"hidden":false,"merged":[[5,9,5,10],[6,9,6,10],[10,1,10,5],[10,7,10,11]]}
[]
[]
[]
[]
[]
[null,null,null,null,null,null,null,null,null,"EUR"]
[null,null,null,null,null,null,null,null,null,15]
[]
[]
[]
[null,"NO volatility adjustment",null,null,null,null,null,"WITH volatility adjustment"]
[null,"Alternative Extrapolation Method RFR","Scenario 1- Up Shock","Scenario 1 - Down Shock","Scenario 2 - Up Shock","Scenario 2 - Down Shock",null,"Alternative Extrapolation Method RFR","Scenario 1 - Up Shock","Scenario 1 - Down Shock","Scenario 2 - Up Shock","Scenario 2 - Down Shock"]
[1,{"$f":"BaseCurve","v":-4.449999999999843E-3},{"$f":"ROUND(B13*(1+Shocks!H12)+Shocks!I12,5)","v":1.4239999999999999E-2},{"$f":"ROUND(B13*(1-Shocks!F12)-Shocks!G12,5)","v":-1.3469999999999999E-2},{"$f":"ROUND(B13 + MAX(0.01,Shocks!E12*ABS(B13) ),5)","v":5.5500000000000002E-3},{"$f":"ROUND(IF(B13<0,B13, B13 - Shocks!D12 * ABS(B13)),5)","v":-4.45E-3},null,{"$f":"BaseCurveWithVA","v":{"$error":"#NAME?"}},{"$f":"ROUND(B13*(1+Shocks!H12)+Shocks!I12,5)+Extrapolation!T15","v":{"$error":"#NAME?"}},{"$f":"ROUND(B13*(1-Shocks!F12)-Shocks!G12,5)+Extrapolation!T15","v":{"$error":"#NAME?"}},{"$f":"ROUND(B13 + MAX(0.01,Shocks!E12*ABS(B13) )+Extrapolation!T15, 5)","v":{"$error":"#NAME?"}},{"$f":"ROUND(IF(B13<0,B13, B13 - Shocks!D12 * ABS(B13))+Extrapolation!T15, 5)","v":{"$error":"#NAME?"}},null,null,null,null,null,null,null,null,null,null,null,null,"Czech Republic",1]
[2,-4.7492877139407863E-3,{"$f":"ROUND(B14*(1+Shocks!H13)+Shocks!I13,5)","v":1.133E-2},{"$f":"ROUND(B14*(1-Shocks!F13)-Shocks!G13,5)","v":-1.223E-2},{"$f":"ROUND(B14 + MAX(0.01,Shocks!E13*ABS(B14) ),5)","v":5.2500000000000003E-3},{"$f":"ROUND(IF(B14<0,B14, B14 - Shocks!D13 * ABS(B14)),5)","v":-4.7499999999999999E-3},null,{"$error":"#NAME?"},{"$f":"ROUND(B14*(1+Shocks!H13)+Shocks!I13,5)+Extrapolation!T16","v":{"$error":"#NAME?"}},{"$f":"ROUND(B14*(1-Shocks!F13)-Shocks!G13,5)+Extrapolation!T16","v":{"$error":"#NAME?"}},{"$f":"ROUND(B14 + MAX(0.01,Shocks!E13*ABS(B14) )+Extrapolation!T16, 5)","v":{"$error":"#NAME?"}},{"$f":"ROUND(IF(B14<0,B14, B14 - Shocks!D13 * ABS(B14))+Extrapolation!T16, 5)","v":{"$error":"#NAME?"}},null,null,null,null,null,null,null,null,null,null,null,null,"Hungary",2]
[3,-4.8490311393776242E-3,{"$f":"ROUND(B15*(1+Shocks!H14)+Shocks!I14,5)","v":9.9699999999999997E-3},{"$f":"ROUND(B15*(1-Shocks!F14)-Shocks!G14,5)","v":-1.102E-2},{"$f":"ROUND(B15 + MAX(0.01,Shocks!E14*ABS(B15) ),5)","v":5.1500000000000001E-3},{"$f":"ROUND(IF(B15<0,B15, B15 - Shocks!D14 * ABS(B15)),5)","v":-4.8500000000000001E-3},null,{"$error":"#NAME?"},{"$f":"ROUND(B15*(1+Shocks!H14)+Shocks!I14,5)+Extrapolation!T17","v":{"$error":"#NAME?"}},{"$f":"ROUND(B15*(1-Shocks!F14)-Shocks!G14,5)+Extrapolation!T17","v":{"$error":"#NAME?"}},{"$f":"ROUND(B15 + MAX(0.01,Shocks!E14*ABS(B15) )+Extrapolation!T17, 5)","v":{"$error":"#NAME?"}},{"$f":"ROUND(IF(B15<0,B15, B15 - Shocks!D14 * ABS(B15))+Extrapolation!T17, 5)","v":{"$error":"#NAME?"}},null,null,null,null,null,null,null,null,null,null,null,null,"Poland",3]
[4,-4.6506939059682839E-3,{"$f":"ROUND(B16*(1+Shocks!H15)+Shocks!I15,5)","v":9.3100000000000006E-3},{"$f":"ROUND(B16*(1-Shocks!F15)-Shocks!G15,5)","v":-1.0189999999999999E-2},{"$f":"ROUND(B16 + MAX(0.01,Shocks!E15*ABS(B16) ),5)","v":5.3499999999999997E-3},{"$f":"ROUND(IF(B16<0,B16, B16 - Shocks!D15 * ABS(B16)),5)","v":-4.6499999999999996E-3},null,{"$error":"#NAME?"},{"$f":"ROUND(B16*(1+Shocks!H15)+Shocks!I15,5)+Extrapolation!T18","v":{"$error":"#NAME?"}},{"$f":"ROUND(B16*(1-Shocks!F15)-Shocks!G15,5)+Extrapolation!T18","v":{"$error":"#NAME?"}},{"$f":"ROUND(B16 + MAX(0.01,Shocks!E15*ABS(B16) )+Extrapolation!T18, 5)","v":{"$error":"#NAME?"}},{"$f":"ROUND(IF(B16<0,B16, B16 - Shocks!D15 * ABS(B16))+Extrapolation!T18, 5)","v":{"$error":"#NAME?"}},null,null,null,null,null,null,null,null,null,null,null,null,"Romania",4]
[5,-4.4523045769666592E-3,{"$f":"ROUND(B17*(1+Shocks!H16)+Shocks!I16,5)","v":9.3399999999999993E-3},{"$f":"ROUND(B17*(1-Shocks!F16)-Shocks!G16,5)","v":-9.7699999999999992E-3},{"$f":"ROUND(B17 + MAX(0.01,Shocks!E16*ABS(B17) ),5)","v":5.5500000000000002E-3},{"$f":"ROUND(IF(B17<0,B17, B17 - Shocks!D16 * ABS(B17)),5)","v":-4.45E-3},null,{"$error":"#NAME?"},{"$f":"ROUND(B17*(1+Shocks!H16)+Shocks!I16,5)+Extrapolation!T19","v":{"$error":"#NAME?"}},{"$f":"ROUND(B17*(1-Shocks!F16)-Shocks!G16,5)+Extrapolation!T19","v":{"$error":"#NAME?"}},{"$f":"ROUND(B17 + MAX(0.01,Shocks!E16*ABS(B17) )+Extrapolation!T19, 5)","v":{"$error":"#NAME?"}},{"$f":"ROUND(IF(B17<0,B17, B17 - Shocks!D16 * ABS(B17))+Extrapolation!T19, 5)","v":{"$error":"#NAME?"}},null,null,null,null,null,null,null,null,null,null,null,null,"Switzerland",5]
[6,-4.1548916903217936E-3,{"$f":"ROUND(B18*(1+Shocks!H17)+Shocks!I17,5)","v":8.5400000000000007E-3},{"$f":"ROUND(B18*(1-Shocks!F17)-Shocks!G17,5)","v":-9.2800000000000001E-3},{"$f":"ROUND(B18 + MAX(0.01,Shocks!E17*ABS(B18) ),5)","v":5.8500000000000002E-3},{"$f":"ROUND(IF(B18<0,B18, B18 - Shocks!D17 * ABS(B18)),5)","v":-4.15E-3},null,{"$error":"#NAME?"},{"$f":"ROUND(B18*(1+Shocks!H17)+Shocks!I17,5)+Extrapolation!T20","v":{"$error":"#NAME?"}},{"$f":"ROUND(B18*(1-Shocks!F17)-Shocks!G17,5)+Extrapolation!T20","v":{"$error":"#NAME?"}},{"$f":"ROUND(B18 + MAX(0.01,Shocks!E17*ABS(B18) )+Extrapolation!T20, 5)","v":{"$error":"#NAME?"}},{"$f":"ROUND(IF(B18<0,B18, B18 - Shocks!D17 * ABS(B18))+Extrapolation!T20, 5)","v":{"$error":"#NAME?"}},null,null,null,null,null,null,null,null,null,null,null,null,"United States",6]
[7,-3.8573434612039215E-3,{"$f":"ROUND(B19*(1+Shocks!H18)+Shocks!I18,5)","v":7.7200000000000003E-3},{"$f":"ROUND(B19*(1-Shocks!F18)-Shocks!G18,5)","v":-8.7299999999999999E-3},{"$f":"ROUND(B19 + MAX(0.01,Shocks!E18*ABS(B19) ),5)","v":6.1399999999999996E-3},{"$f":"ROUND(IF(B19<0,B19, B19 - Shocks!D18 * ABS(B19)),5)","v":-3.8600000000000001E-3},null,{"$error":"#NAME?"},{"$f":"ROUND(B19*(1+Shocks!H18)+Shocks!I18,5)+Extrapolation!T21","v":{"$error":"#NAME?"}},{"$f":"ROUND(B19*(1-Shocks!F18)-Shocks!G18,5)+Extrapolation!T21","v":{"$error":"#NAME?"}},{"$f":"ROUND(B19 + MAX(0.01,Shocks!E18*ABS(B19) )+Extrapolation!T21, 5)","v":{"$error":"#NAME?"}},{"$f":"ROUND(IF(B19<0,B19, B19 - Shocks!D18 * ABS(B19))+Extrapolation!T21, 5)","v":{"$error":"#NAME?"}}]
[8,-3.460578737007669E-3,{"$f":"ROUND(B20*(1+Shocks!H19)+Shocks!I19,5)","v":7.26E-3},{"$f":"ROUND(B20*(1-Shocks!F19)-Shocks!G19,5)","v":-8.3499999999999998E-3},{"$f":"ROUND(B20 + MAX(0.01,Shocks!E19*ABS(B20) ),5)","v":6.5399999999999998E-3},{"$f":"ROUND(IF(B20<0,B20, B20 - Shocks!D19 * ABS(B20)),5)","v":-3.46E-3},null,{"$error":"#NAME?"},{"$f":"ROUND(B20*(1+Shocks!H19)+Shocks!I19,5)+Extrapolation!T22","v":{"$error":"#NAME?"}},{"$f":"ROUND(B20*(1-Shocks!F19)-Shocks!G19,5)+Extrapolation!T22","v":{"$error":"#NAME?"}},{"$f":"ROUND(B20 + MAX(0.01,Shocks!E19*ABS(B20) )+Extrapolation!T22, 5)","v":{"$error":"#NAME?"}},{"$f":"ROUND(IF(B20<0,B20, B20 - Shocks!D19 * ABS(B20))+Extrapolation!T22, 5)","v":{"$error":"#NAME?"}}]
[9,-3.0631946140144972E-3,{"$f":"ROUND(B21*(1+Shocks!H20)+Shocks!I20,5)","v":7.1599999999999997E-3},{"$f":"ROUND(B21*(1-Shocks!F20)-Shocks!G20,5)","v":-7.9699999999999997E-3},{"$f":"ROUND(B21 + MAX(0.01,Shocks!E20*ABS(B21) ),5)","v":6.94E-3},{"$f":"ROUND(IF(B21<0,B21, B21 - Shocks!D20 * ABS(B21)),5)","v":-3.0599999999999998E-3},null,{"$error":"#NAME?"},{"$f":"ROUND(B21*(1+Shocks!H20)+Shocks!I20,5)+Extrapolation!T23","v":{"$error":"#NAME?"}},{"$f":"ROUND(B21*(1-Shocks!F20)-Shocks!G20,5)+Extrapolation!T23","v":{"$error":"#NAME?"}},{"$f":"ROUND(B21 + MAX(0.01,Shocks!E20*ABS(B21) )+Extrapolation!T23, 5)","v":{"$error":"#NAME?"}},{"$f":"ROUND(IF(B21<0,B21, B21 - Shocks!D20 * ABS(B21))+Extrapolation!T23, 5)","v":{"$error":"#NAME?"}}]
[10,-2.6651020891858002E-3,{"$f":"ROUND(B22*(1+Shocks!H21)+Shocks!I21,5)","v":7.0400000000000003E-3},{"$f":"ROUND(B22*(1-Shocks!F21)-Shocks!G21,5)","v":-7.7000000000000002E-3},{"$f":"ROUND(B22 + MAX(0.01,Shocks!E21*ABS(B22) ),5)","v":7.3299999999999997E-3},{"$f":"ROUND(IF(B22<0,B22, B22 - Shocks!D21 * ABS(B22)),5)","v":-2.6700000000000001E-3},null,{"$error":"#NAME?"},{"$f":"ROUND(B22*(1+Shocks!H21)+Shocks!I21,5)+Extrapolation!T24","v":{"$error":"#NAME?"}},{"$f":"ROUND(B22*(1-Shocks!F21)-Shocks!G21,5)+Extrapolation!T24","v":{"$error":"#NAME?"}},{"$f":"ROUND(B22 + MAX(0.01,Shocks!E21*ABS(B22) )+Extrapolation!T24, 5)","v":{"$error":"#NAME?"}},{"$f":"ROUND(IF(B22<0,B22, B22 - Shocks!D21 * ABS(B22))+Extrapolation!T24, 5)","v":{"$error":"#NAME?"}}]
[11,-2.3428351222567478E-3,{"$f":"ROUND(B23*(1+Shocks!H22)+Shocks!I22,5)","v":7.45E-3},{"$f":"ROUND(B23*(1-Shocks!F22)-Shocks!G22,5)","v":-7.3800000000000003E-3},{"$f":"ROUND(B23 + MAX(0.01,Shocks!E22*ABS(B23) ),5)","v":7.6600000000000001E-3},{"$f":"ROUND(IF(B23<0,B23, B23 - Shocks!D22 * ABS(B23)),5)","v":-2.3400000000000001E-3},null,{"$error":"#NAME?"},{"$f":"ROUND(B23*(1+Shocks!H22)+Shocks!I22,5)+Extrapolation!T25","v":{"$error":"#NAME?"}},{"$f":"ROUND(B23*(1-Shocks!F22)-Shocks!G22,5)+Extrapolation!T25","v":{"$error":"#NAME?"}},{"$f":"ROUND(B23 + MAX(0.01,Shocks!E22*ABS(B23) )+Extrapolation!T25, 5)","v":{"$error":"#NAME?"}},{"$f":"ROUND(IF(B23<0,B23, B23 - Shocks!D22 * ABS(B23))+Extrapolation!T25, 5)","v":{"$error":"#NAME?"}}]
[12,-1.8664394833945996E-3,{"$f":"ROUND(B24*(1+Shocks!H23)+Shocks!I23,5)","v":8.0700000000000008E-3},{"$f":"ROUND(B24*(1-Shocks!F23)-Shocks!G23,5)","v":-7.0800000000000004E-3},{"$f":"ROUND(B24 + MAX(0.01,Shocks!E23*ABS(B24) ),5)","v":8.1300000000000001E-3},{"$f":"ROUND(IF(B24<0,B24, B24 - Shocks!D23 * ABS(B24)),5)","v":-1.8699999999999999E-3},null,{"$error":"#NAME?"},{"$f":"ROUND(B24*(1+Shocks!H23)+Shocks!I23,5)+Extrapolation!T26","v":{"$error":"#NAME?"}},{"$f":"ROUND(B24*(1-Shocks!F23)-Shocks!G23,5)+Extrapolation!T26","v":{"$error":"#NAME?"}},{"$f":"ROUND(B24 + MAX(0.01,Shocks!E23*ABS(B24) )+Extrapolation!T26, 5)","v":{"$error":"#NAME?"}},{"$f":"ROUND(IF(B24<0,B24, B24 - Shocks!D23 * ABS(B24))+Extrapolation!T26, 5)","v":{"$error":"#NAME?"}}]
[13,-1.5785481548286073E-3,{"$f":"ROUND(B25*(1+Shocks!H24)+Shocks!I24,5)","v":8.4499999999999992E-3},{"$f":"ROUND(B25*(1-Shocks!F24)-Shocks!G24,5)","v":-6.7999999999999996E-3},{"$f":"ROUND(B25 + MAX(0.01,Shocks!E24*ABS(B25) ),5)","v":8.4200000000000004E-3},{"$f":"ROUND(IF(B25<0,B25, B25 - Shocks!D24 * ABS(B25)),5)","v":-1.58E-3},null,{"$error":"#NAME?"},{"$f":"ROUND(B25*(1+Shocks!H24)+Shocks!I24,5)+Extrapolation!T27","v":{"$error":"#NAME?"}},{"$f":"ROUND(B25*(1-Shocks!F24)-Shocks!G24,5)+Extrapolation!T27","v":{"$error":"#NAME?"}},{"$f":"ROUND(B25 + MAX(0.01,Shocks!E24*ABS(B25) )+Extrapolation!T27, 5)","v":{"$error":"#NAME?"}},{"$f":"ROUND(IF(B25<0,B25, B25 - Shocks!D24 * ABS(B25))+Extrapolation!T27, 5)","v":{"$error":"#NAME?"}}]
[14,-1.2510909281734373E-3,{"$f":"ROUND(B26*(1+Shocks!H25)+Shocks!I25,5)","v":8.5900000000000004E-3},{"$f":"ROUND(B26*(1-Shocks!F25)-Shocks!G25,5)","v":-6.4999999999999997E-3},{"$f":"ROUND(B26 + MAX(0.01,Shocks!E25*ABS(B26) ),5)","v":8.7500000000000008E-3},{"$f":"ROUND(IF(B26<0,B26, B26 - Shocks!D25 * ABS(B26)),5)","v":-1.25E-3},null,{"$error":"#NAME?"},{"$f":"ROUND(B26*(1+Shocks!H25)+Shocks!I25,5)+Extrapolation!T28","v":{"$error":"#NAME?"}},{"$f":"ROUND(B26*(1-Shocks!F25)-Shocks!G25,5)+Extrapolation!T28","v":{"$error":"#NAME?"}},{"$f":"ROUND(B26 + MAX(0.01,Shocks!E25*ABS(B26) )+Extrapolation!T28, 5)","v":{"$error":"#NAME?"}},{"$f":"ROUND(IF(B26<0,B26, B26 - Shocks!D25 * ABS(B26))+Extrapolation!T28, 5)","v":{"$error":"#NAME?"}}]
[15,-9.4192697808626047E-4,{"$f":"ROUND(B27*(1+Shocks!H26)+Shocks!I26,5)","v":8.5900000000000004E-3},{"$f":"ROUND(B27*(1-Shocks!F26)-Shocks!G26,5)","v":-6.2199999999999998E-3},{"$f":"ROUND(B27 + MAX(0.01,Shocks!E26*ABS(B27) ),5)","v":9.0600000000000003E-3},{"$f":"ROUND(IF(B27<0,B27, B27 - Shocks!D26 * ABS(B27)),5)","v":-9.3999999999999997E-4},null,{"$error":"#NAME?"},{"$f":"ROUND(B27*(1+Shocks!H26)+Shocks!I26,5)+Extrapolation!T29","v":{"$error":"#NAME?"}},{"$f":"ROUND(B27*(1-Shocks!F26)-Shocks!G26,5)+Extrapolation!T29","v":{"$error":"#NAME?"}},{"$f":"ROUND(B27 + MAX(0.01,Shocks!E26*ABS(B27) )+Extrapolation!T29, 5)","v":{"$error":"#NAME?"}},{"$f":"ROUND(IF(B27<0,B27, B27 - Shocks!D26 * ABS(B27))+Extrapolation!T29, 5)","v":{"$error":"#NAME?"}}]
[16,-7.7497898425404887E-4,{"$f":"ROUND(B28*(1+Shocks!H27)+Shocks!I27,5)","v":8.8100000000000001E-3},{"$f":"ROUND(B28*(1-Shocks!F27)-Shocks!G27,5)","v":-6.0099999999999997E-3},{"$f":"ROUND(B28 + MAX(0.01,Shocks!E27*ABS(B28) ),5)","v":9.2300000000000004E-3},{"$f":"ROUND(IF(B28<0,B28, B28 - Shocks!D27 * ABS(B28)),5)","v":-7.6999999999999996E-4},null,{"$error":"#NAME?"},{"$f":"ROUND(B28*(1+Shocks!H27)+Shocks!I27,5)+Extrapolation!T30","v":{"$error":"#NAME?"}},{"$f":"ROUND(B28*(1-Shocks!F27)-Shocks!G27,5)+Extrapolation!T30","v":{"$error":"#NAME?"}},{"$f":"ROUND(B28 + MAX(0.01,Shocks!E27*ABS(B28) )+Extrapolation!T30, 5)","v":{"$error":"#NAME?"}},{"$f":"ROUND(IF(B28<0,B28, B28 - Shocks!D27 * ABS(B28))+Extrapolation!T30, 5)","v":{"$error":"#NAME?"}}]
[17,-6.276487632096428E-4,{"$f":"ROUND(B29*(1+Shocks!H28)+Shocks!I28,5)","v":8.6999999999999994E-3},{"$f":"ROUND(B29*(1-Shocks!F28)-Shocks!G28,5)","v":-5.8300000000000001E-3},{"$f":"ROUND(B29 + MAX(0.01,Shocks!E28*ABS(B29) ),5)","v":9.3699999999999999E-3},{"$f":"ROUND(IF(B29<0,B29, B29 - Shocks!D28 * ABS(B29)),5)","v":-6.3000000000000003E-4},null,{"$error":"#NAME?"},{"$f":"ROUND(B29*(1+Shocks!H28)+Shocks!I28,5)+Extrapolation!T31","v":{"$error":"#NAME?"}},{"$f":"ROUND(B29*(1-Shocks!F28)-Shocks!G28,5)+Extrapolation!T31","v":{"$error":"#NAME?"}},{"$f":"ROUND(B29 + MAX(0.01,Shocks!E28*ABS(B29) )+Extrapolation!T31, 5)","v":{"$error":"#NAME?"}},{"$f":"ROUND(IF(B29<0,B29, B29 - Shocks!D28 * ABS(B29))+Extrapolation!T31, 5)","v":{"$error":"#NAME?"}}]
[18,-4.9667033020839302E-4,{"$f":"ROUND(B30*(1+Shocks!H29)+Shocks!I29,5)","v":8.4700000000000001E-3},{"$f":"ROUND(B30*(1-Shocks!F29)-Shocks!G29,5)","v":-5.6499999999999996E-3},{"$f":"ROUND(B30 + MAX(0.01,Shocks!E29*ABS(B30) ),5)","v":9.4999999999999998E-3},{"$f":"ROUND(IF(B30<0,B30, B30 - Shocks!D29 * ABS(B30)),5)","v":-5.0000000000000001E-4},null,{"$error":"#NAME?"},{"$f":"ROUND(B30*(1+Shocks!H29)+Shocks!I29,5)+Extrapolation!T32","v":{"$error":"#NAME?"}},{"$f":"ROUND(B30*(1-Shocks!F29)-Shocks!G29,5)+Extrapolation!T32","v":{"$error":"#NAME?"}},{"$f":"ROUND(B30 + MAX(0.01,Shocks!E29*ABS(B30) )+Extrapolation!T32, 5)","v":{"$error":"#NAME?"}},{"$f":"ROUND(IF(B30<0,B30, B30 - Shocks!D29 * ABS(B30))+Extrapolation!T32, 5)","v":{"$error":"#NAME?"}}]
[19,-3.7946454996118373E-4,{"$f":"ROUND(B31*(1+Shocks!H30)+Shocks!I30,5)","v":8.6199999999999992E-3},{"$f":"ROUND(B31*(1-Shocks!F30)-Shocks!G30,5)","v":-5.3899999999999998E-3},{"$f":"ROUND(B31 + MAX(0.01,Shocks!E30*ABS(B31) ),5)","v":9.6200000000000001E-3},{"$f":"ROUND(IF(B31<0,B31, B31 - Shocks!D30 * ABS(B31)),5)","v":-3.8000000000000002E-4},null,{"$error":"#NAME?"},{"$f":"ROUND(B31*(1+Shocks!H30)+Shocks!I30,5)+Extrapolation!T33","v":{"$error":"#NAME?"}},{"$f":"ROUND(B31*(1-Shocks!F30)-Shocks!G30,5)+Extrapolation!T33","v":{"$error":"#NAME?"}},{"$f":"ROUND(B31 + MAX(0.01,Shocks!E30*ABS(B31) )+Extrapolation!T33, 5)","v":{"$error":"#NAME?"}},{"$f":"ROUND(IF(B31<0,B31, B31 - Shocks!D30 * ABS(B31))+Extrapolation!T33, 5)","v":{"$error":"#NAME?"}}]
[20,-2.7396759664655157E-4,{"$f":"ROUND(B32*(1+Shocks!H31)+Shocks!I31,5)","v":8.4600000000000005E-3},{"$f":"ROUND(B32*(1-Shocks!F31)-Shocks!G31,5)","v":-5.1399999999999996E-3},{"$f":"ROUND(B32 + MAX(0.01,Shocks!E31*ABS(B32) ),5)","v":9.7300000000000008E-3},{"$f":"ROUND(IF(B32<0,B32, B32 - Shocks!D31 * ABS(B32)),5)","v":-2.7E-4},null,{"$error":"#NAME?"},{"$f":"ROUND(B32*(1+Shocks!H31)+Shocks!I31,5)+Extrapolation!T34","v":{"$error":"#NAME?"}},{"$f":"ROUND(B32*(1-Shocks!F31)-Shocks!G31,5)+Extrapolation!T34","v":{"$error":"#NAME?"}},{"$f":"ROUND(B32 + MAX(0.01,Shocks!E31*ABS(B32) )+Extrapolation!T34, 5)","v":{"$error":"#NAME?"}},{"$f":"ROUND(IF(B32<0,B32, B32 - Shocks!D31 * ABS(B32))+Extrapolation!T34, 5)","v":{"$error":"#NAME?"}}]
[21,-1.9306145426889465E-4,{"$f":"ROUND(B33*(1+Shocks!H32)+Shocks!I32,5)","v":8.3400000000000002E-3},{"$f":"ROUND(B33*(1-Shocks!F32)-Shocks!G32,5)","v":-4.9699999999999996E-3},{"$f":"ROUND(B33 + MAX(0.01,Shocks!E32*ABS(B33) ),5)","v":9.8099999999999993E-3},{"$f":"ROUND(IF(B33<0,B33, B33 - Shocks!D32 * ABS(B33)),5)","v":-1.9000000000000001E-4},null,{"$error":"#NAME?"},{"$f":"ROUND(B33*(1+Shocks!H32)+Shocks!I32,5)+Extrapolation!T35","v":{"$error":"#NAME?"}},{"$f":"ROUND(B33*(1-Shocks!F32)-Shocks!G32,5)+Extrapolation!T35","v":{"$error":"#NAME?"}},{"$f":"ROUND(B33 + MAX(0.01,Shocks!E32*ABS(B33) )+Extrapolation!T35, 5)","v":{"$error":"#NAME?"}},{"$f":"ROUND(IF(B33<0,B33, B33 - Shocks!D32 * ABS(B33))+Extrapolation!T35, 5)","v":{"$error":"#NAME?"}}]
[22,3.356441626500839E-5,{"$f":"ROUND(B34*(1+Shocks!H33)+Shocks!I33,5)","v":8.3999999999999995E-3},{"$f":"ROUND(B34*(1-Shocks!F33)-Shocks!G33,5)","v":-4.7299999999999998E-3},{"$f":"ROUND(B34 + MAX(0.01,Shocks!E33*ABS(B34) ),5)","v":1.0030000000000001E-2},{"$f":"ROUND(IF(B34<0,B34, B34 - Shocks!D33 * ABS(B34)),5)","v":2.0000000000000002E-5},null,{"$error":"#NAME?"},{"$f":"ROUND(B34*(1+Shocks!H33)+Shocks!I33,5)+Extrapolation!T36","v":{"$error":"#NAME?"}},{"$f":"ROUND(B34*(1-Shocks!F33)-Shocks!G33,5)+Extrapolation!T36","v":{"$error":"#NAME?"}},{"$f":"ROUND(B34 + MAX(0.01,Shocks!E33*ABS(B34) )+Extrapolation!T36, 5)","v":{"$error":"#NAME?"}},{"$f":"ROUND(IF(B34<0,B34, B34 - Shocks!D33 * ABS(B34))+Extrapolation!T36, 5)","v":{"$error":"#NAME?"}}]
[23,3.7305572938839404E-4,{"$f":"ROUND(B35*(1+Shocks!H34)+Shocks!I34,5)","v":8.6099999999999996E-3},{"$f":"ROUND(B35*(1-Shocks!F34)-Shocks!G34,5)","v":-4.4299999999999999E-3},{"$f":"ROUND(B35 + MAX(0.01,Shocks!E34*ABS(B35) ),5)","v":1.0370000000000001E-2},{"$f":"ROUND(IF(B35<0,B35, B35 - Shocks!D34 * ABS(B35)),5)","v":2.7E-4},null,{"$error":"#NAME?"},{"$f":"ROUND(B35*(1+Shocks!H34)+Shocks!I34,5)+Extrapolation!T37","v":{"$error":"#NAME?"}},{"$f":"ROUND(B35*(1-Shocks!F34)-Shocks!G34,5)+Extrapolation!T37","v":{"$error":"#NAME?"}},{"$f":"ROUND(B35 + MAX(0.01,Shocks!E34*ABS(B35) )+Extrapolation!T37, 5)","v":{"$error":"#NAME?"}},{"$f":"ROUND(IF(B35<0,B35, B35 - Shocks!D34 * ABS(B35))+Extrapolation!T37, 5)","v":{"$error":"#NAME?"}}]
[24,7.9932639103041936E-4,{"$f":"ROUND(B36*(1+Shocks!H35)+Shocks!I35,5)","v":8.9200000000000008E-3},{"$f":"ROUND(B36*(1-Shocks!F35)-Shocks!G35,5)","v":-4.0899999999999999E-3},{"$f":"ROUND(B36 + MAX(0.01,Shocks!E35*ABS(B36) ),5)","v":1.0800000000000001E-2},{"$f":"ROUND(IF(B36<0,B36, B36 - Shocks!D35 * ABS(B36)),5)","v":5.6999999999999998E-4},null,{"$error":"#NAME?"},{"$f":"ROUND(B36*(1+Shocks!H35)+Shocks!I35,5)+Extrapolation!T38","v":{"$error":"#NAME?"}},{"$f":"ROUND(B36*(1-Shocks!F35)-Shocks!G35,5)+Extrapolation!T38","v":{"$error":"#NAME?"}},{"$f":"ROUND(B36 + MAX(0.01,Shocks!E35*ABS(B36) )+Extrapolation!T38, 5)","v":{"$error":"#NAME?"}},{"$f":"ROUND(IF(B36<0,B36, B36 - Shocks!D35 * ABS(B36))+Extrapolation!T38, 5)","v":{"$error":"#NAME?"}}]
[25,1.2915728598819065E-3,{"$f":"ROUND(B37*(1+Shocks!H36)+Shocks!I36,5)","v":9.3100000000000006E-3},{"$f":"ROUND(B37*(1-Shocks!F36)-Shocks!G36,5)","v":-3.7000000000000002E-3},{"$f":"ROUND(B37 + MAX(0.01,Shocks!E36*ABS(B37) ),5)","v":1.129E-2},{"$f":"ROUND(IF(B37<0,B37, B37 - Shocks!D36 * ABS(B37)),5)","v":9.3000000000000005E-4},null,{"$error":"#NAME?"},{"$f":"ROUND(B37*(1+Shocks!H36)+Shocks!I36,5)+Extrapolation!T39","v":{"$error":"#NAME?"}},{"$f":"ROUND(B37*(1-Shocks!F36)-Shocks!G36,5)+Extrapolation!T39","v":{"$error":"#NAME?"}},{"$f":"ROUND(B37 + MAX(0.01,Shocks!E36*ABS(B37) )+Extrapolation!T39, 5)","v":{"$error":"#NAME?"}},{"$f":"ROUND(IF(B37<0,B37, B37 - Shocks!D36 * ABS(B37))+Extrapolation!T39, 5)","v":{"$error":"#NAME?"}}]
[26,1.8331481078603939E-3,{"$f":"ROUND(B38*(1+Shocks!H37)+Shocks!I37,5)","v":9.7599999999999996E-3},{"$f":"ROUND(B38*(1-Shocks!F37)-Shocks!G37,5)","v":-3.29E-3},{"$f":"ROUND(B38 + MAX(0.01,Shocks!E37*ABS(B38) ),5)","v":1.183E-2},{"$f":"ROUND(IF(B38<0,B38, B38 - Shocks!D37 * ABS(B38)),5)","v":1.32E-3},null,{"$error":"#NAME?"},{"$f":"ROUND(B38*(1+Shocks!H37)+Shocks!I37,5)+Extrapolation!T40","v":{"$error":"#NAME?"}},{"$f":"ROUND(B38*(1-Shocks!F37)-Shocks!G37,5)+Extrapolation!T40","v":{"$error":"#NAME?"}},{"$f":"ROUND(B38 + MAX(0.01,Shocks!E37*ABS(B38) )+Extrapolation!T40, 5)","v":{"$error":"#NAME?"}},{"$f":"ROUND(IF(B38<0,B38, B38 - Shocks!D37 * ABS(B38))+Extrapolation!T40, 5)","v":{"$error":"#NAME?"}}]
[27,2.4106989351067032E-3,{"$f":"ROUND(B39*(1+Shocks!H38)+Shocks!I38,5)","v":1.026E-2},{"$f":"ROUND(B39*(1-Shocks!F38)-Shocks!G38,5)","v":-2.8500000000000001E-3},{"$f":"ROUND(B39 + MAX(0.01,Shocks!E38*ABS(B39) ),5)","v":1.2409999999999999E-2},{"$f":"ROUND(IF(B39<0,B39, B39 - Shocks!D38 * ABS(B39)),5)","v":1.73E-3},null,{"$error":"#NAME?"},{"$f":"ROUND(B39*(1+Shocks!H38)+Shocks!I38,5)+Extrapolation!T41","v":{"$error":"#NAME?"}},{"$f":"ROUND(B39*(1-Shocks!F38)-Shocks!G38,5)+Extrapolation!T41","v":{"$error":"#NAME?"}},{"$f":"ROUND(B39 + MAX(0.01,Shocks!E38*ABS(B39) )+Extrapolation!T41, 5)","v":{"$error":"#NAME?"}},{"$f":"ROUND(IF(B39<0,B39, B39 - Shocks!D38 * ABS(B39))+Extrapolation!T41, 5)","v":{"$error":"#NAME?"}}]
[28,3.0134986404870556E-3,{"$f":"ROUND(B40*(1+Shocks!H39)+Shocks!I39,5)","v":1.0789999999999999E-2},{"$f":"ROUND(B40*(1-Shocks!F39)-Shocks!G39,5)","v":-2.3900000000000002E-3},{"$f":"ROUND(B40 + MAX(0.01,Shocks!E39*ABS(B40) ),5)","v":1.3010000000000001E-2},{"$f":"ROUND(IF(B40<0,B40, B40 - Shocks!D39 * ABS(B40)),5)","v":2.1700000000000001E-3},null,{"$error":"#NAME?"},{"$f":"ROUND(B40*(1+Shocks!H39)+Shocks!I39,5)+Extrapolation!T42","v":{"$error":"#NAME?"}},{"$f":"ROUND(B40*(1-Shocks!F39)-Shocks!G39,5)+Extrapolation!T42","v":{"$error":"#NAME?"}},{"$f":"ROUND(B40 + MAX(0.01,Shocks!E39*ABS(B40) )+Extrapolation!T42, 5)","v":{"$error":"#NAME?"}},{"$f":"ROUND(IF(B40<0,B40, B40 - Shocks!D39 * ABS(B40))+Extrapolation!T42, 5)","v":{"$error":"#NAME?"}}]
[29,3.6329263050836058E-3,{"$f":"ROUND(B41*(1+Shocks!H40)+Shocks!I40,5)","v":1.1339999999999999E-2},{"$f":"ROUND(B41*(1-Shocks!F40)-Shocks!G40,5)","v":-1.92E-3},{"$f":"ROUND(B41 + MAX(0.01,Shocks!E40*ABS(B41) ),5)","v":1.363E-2},{"$f":"ROUND(IF(B41<0,B41, B41 - Shocks!D40 * ABS(B41)),5)","v":2.6199999999999999E-3},null,{"$error":"#NAME?"},{"$f":"ROUND(B41*(1+Shocks!H40)+Shocks!I40,5)+Extrapolation!T43","v":{"$error":"#NAME?"}},{"$f":"ROUND(B41*(1-Shocks!F40)-Shocks!G40,5)+Extrapolation!T43","v":{"$error":"#NAME?"}},{"$f":"ROUND(B41 + MAX(0.01,Shocks!E40*ABS(B41) )+Extrapolation!T43, 5)","v":{"$error":"#NAME?"}},{"$f":"ROUND(IF(B41<0,B41, B41 - Shocks!D40 * ABS(B41))+Extrapolation!T43, 5)","v":{"$error":"#NAME?"}}]
[30,4.2620572835279091E-3,{"$f":"ROUND(B42*(1+Shocks!H41)+Shocks!I41,5)","v":1.1900000000000001E-2},{"$f":"ROUND(B42*(1-Shocks!F41)-Shocks!G41,5)","v":-1.4400000000000001E-3},{"$f":"ROUND(B42 + MAX(0.01,Shocks!E41*ABS(B42) ),5)","v":1.426E-2},{"$f":"ROUND(IF(B42<0,B42, B42 - Shocks!D41 * ABS(B42)),5)","v":3.0799999999999998E-3},null,{"$error":"#NAME?"},{"$f":"ROUND(B42*(1+Shocks!H41)+Shocks!I41,5)+Extrapolation!T44","v":{"$error":"#NAME?"}},{"$f":"ROUND(B42*(1-Shocks!F41)-Shocks!G41,5)+Extrapolation!T44","v":{"$error":"#NAME?"}},{"$f":"ROUND(B42 + MAX(0.01,Shocks!E41*ABS(B42) )+Extrapolation!T44, 5)","v":{"$error":"#NAME?"}},{"$f":"ROUND(IF(B42<0,B42, B42 - Shocks!D41 * ABS(B42))+Extrapolation!T44, 5)","v":{"$error":"#NAME?"}}]
[31,4.895338870999133E-3,{"$f":"ROUND(B43*(1+Shocks!H42)+Shocks!I42,5)","v":1.2460000000000001E-2},{"$f":"ROUND(B43*(1-Shocks!F42)-Shocks!G42,5)","v":-9.5E-4},{"$f":"ROUND(B43 + MAX(0.01,Shocks!E42*ABS(B43) ),5)","v":1.49E-2},{"$f":"ROUND(IF(B43<0,B43, B43 - Shocks!D42 * ABS(B43)),5)","v":3.5400000000000002E-3},null,{"$error":"#NAME?"},{"$f":"ROUND(B43*(1+Shocks!H42)+Shocks!I42,5)+Extrapolation!T45","v":{"$error":"#NAME?"}},{"$f":"ROUND(B43*(1-Shocks!F42)-Shocks!G42,5)+Extrapolation!T45","v":{"$error":"#NAME?"}},{"$f":"ROUND(B43 + MAX(0.01,Shocks!E42*ABS(B43) )+Extrapolation!T45, 5)","v":{"$error":"#NAME?"}},{"$f":"ROUND(IF(B43<0,B43, B43 - Shocks!D42 * ABS(B43))+Extrapolation!T45, 5)","v":{"$error":"#NAME?"}}]
[32,5.5283317896184236E-3,{"$f":"ROUND(B44*(1+Shocks!H43)+Shocks!I43,5)","v":1.302E-2},{"$f":"ROUND(B44*(1-Shocks!F43)-Shocks!G43,5)","v":-4.4999999999999999E-4},{"$f":"ROUND(B44 + MAX(0.01,Shocks!E43*ABS(B44) ),5)","v":1.553E-2},{"$f":"ROUND(IF(B44<0,B44, B44 - Shocks!D43 * ABS(B44)),5)","v":4.0099999999999997E-3},null,{"$error":"#NAME?"},{"$f":"ROUND(B44*(1+Shocks!H43)+Shocks!I43,5)+Extrapolation!T46","v":{"$error":"#NAME?"}},{"$f":"ROUND(B44*(1-Shocks!F43)-Shocks!G43,5)+Extrapolation!T46","v":{"$error":"#NAME?"}},{"$f":"ROUND(B44 + MAX(0.01,Shocks!E43*ABS(B44) )+Extrapolation!T46, 5)","v":{"$error":"#NAME?"}},{"$f":"ROUND(IF(B44<0,B44, B44 - Shocks!D43 * ABS(B44))+Extrapolation!T46, 5)","v":{"$error":"#NAME?"}}]
[33,6.1575029522564773E-3,{"$f":"ROUND(B45*(1+Shocks!H44)+Shocks!I44,5)","v":1.358E-2},{"$f":"ROUND(B45*(1-Shocks!F44)-Shocks!G44,5)","v":5.0000000000000002E-5},{"$f":"ROUND(B45 + MAX(0.01,Shocks!E44*ABS(B45) ),5)","v":1.6160000000000001E-2},{"$f":"ROUND(IF(B45<0,B45, B45 - Shocks!D44 * ABS(B45)),5)","v":4.47E-3},null,{"$error":"#NAME?"},{"$f":"ROUND(B45*(1+Shocks!H44)+Shocks!I44,5)+Extrapolation!T47","v":{"$error":"#NAME?"}},{"$f":"ROUND(B45*(1-Shocks!F44)-Shocks!G44,5)+Extrapolation!T47","v":{"$error":"#NAME?"}},{"$f":"ROUND(B45 + MAX(0.01,Shocks!E44*ABS(B45) )+Extrapolation!T47, 5)","v":{"$error":"#NAME?"}},{"$f":"ROUND(IF(B45<0,B45, B45 - Shocks!D44 * ABS(B45))+Extrapolation!T47, 5)","v":{"$error":"#NAME?"}}]
[34,6.7800584737407465E-3,{"$f":"ROUND(B46*(1+Shocks!H45)+Shocks!I45,5)","v":1.413E-2},{"$f":"ROUND(B46*(1-Shocks!F45)-Shocks!G45,5)","v":5.5000000000000003E-4},{"$f":"ROUND(B46 + MAX(0.01,Shocks!E45*ABS(B46) ),5)","v":1.678E-2},{"$f":"ROUND(IF(B46<0,B46, B46 - Shocks!D45 * ABS(B46)),5)","v":4.9399999999999999E-3},null,{"$error":"#NAME?"},{"$f":"ROUND(B46*(1+Shocks!H45)+Shocks!I45,5)+Extrapolation!T48","v":{"$error":"#NAME?"}},{"$f":"ROUND(B46*(1-Shocks!F45)-Shocks!G45,5)+Extrapolation!T48","v":{"$error":"#NAME?"}},{"$f":"ROUND(B46 + MAX(0.01,Shocks!E45*ABS(B46) )+Extrapolation!T48, 5)","v":{"$error":"#NAME?"}},{"$f":"ROUND(IF(B46<0,B46, B46 - Shocks!D45 * ABS(B46))+Extrapolation!T48, 5)","v":{"$error":"#NAME?"}}]
[35,7.3938084889249023E-3,{"$f":"ROUND(B47*(1+Shocks!H46)+Shocks!I46,5)","v":1.4659999999999999E-2},{"$f":"ROUND(B47*(1-Shocks!F46)-Shocks!G46,5)","v":1.0499999999999999E-3},{"$f":"ROUND(B47 + MAX(0.01,Shocks!E46*ABS(B47) ),5)","v":1.7389999999999999E-2},{"$f":"ROUND(IF(B47<0,B47, B47 - Shocks!D46 * ABS(B47)),5)","v":5.3899999999999998E-3},null,{"$error":"#NAME?"},{"$f":"ROUND(B47*(1+Shocks!H46)+Shocks!I46,5)+Extrapolation!T49","v":{"$error":"#NAME?"}},{"$f":"ROUND(B47*(1-Shocks!F46)-Shocks!G46,5)+Extrapolation!T49","v":{"$error":"#NAME?"}},{"$f":"ROUND(B47 + MAX(0.01,Shocks!E46*ABS(B47) )+Extrapolation!T49, 5)","v":{"$error":"#NAME?"}},{"$f":"ROUND(IF(B47<0,B47, B47 - Shocks!D46 * ABS(B47))+Extrapolation!T49, 5)","v":{"$error":"#NAME?"}}]
[36,7.997057265482832E-3,{"$f":"ROUND(B48*(1+Shocks!H47)+Shocks!I47,5)","v":1.5180000000000001E-2},{"$f":"ROUND(B48*(1-Shocks!F47)-Shocks!G47,5)","v":1.5499999999999999E-3},{"$f":"ROUND(B48 + MAX(0.01,Shocks!E47*ABS(B48) ),5)","v":1.7999999999999999E-2},{"$f":"ROUND(IF(B48<0,B48, B48 - Shocks!D47 * ABS(B48)),5)","v":5.8399999999999997E-3},null,{"$error":"#NAME?"},{"$f":"ROUND(B48*(1+Shocks!H47)+Shocks!I47,5)+Extrapolation!T50","v":{"$error":"#NAME?"}},{"$f":"ROUND(B48*(1-Shocks!F47)-Shocks!G47,5)+Extrapolation!T50","v":{"$error":"#NAME?"}},{"$f":"ROUND(B48 + MAX(0.01,Shocks!E47*ABS(B48) )+Extrapolation!T50, 5)","v":{"$error":"#NAME?"}},{"$f":"ROUND(IF(B48<0,B48, B48 - Shocks!D47 * ABS(B48))+Extrapolation!T50, 5)","v":{"$error":"#NAME?"}}]
[37,8.5885135487726583E-3,{"$f":"ROUND(B49*(1+Shocks!H48)+Shocks!I48,5)","v":1.5689999999999999E-2},{"$f":"ROUND(B49*(1-Shocks!F48)-Shocks!G48,5)","v":2.0400000000000001E-3},{"$f":"ROUND(B49 + MAX(0.01,Shocks!E48*ABS(B49) ),5)","v":1.8589999999999999E-2},{"$f":"ROUND(IF(B49<0,B49, B49 - Shocks!D48 * ABS(B49)),5)","v":6.2899999999999996E-3},null,{"$error":"#NAME?"},{"$f":"ROUND(B49*(1+Shocks!H48)+Shocks!I48,5)+Extrapolation!T51","v":{"$error":"#NAME?"}},{"$f":"ROUND(B49*(1-Shocks!F48)-Shocks!G48,5)+Extrapolation!T51","v":{"$error":"#NAME?"}},{"$f":"ROUND(B49 + MAX(0.01,Shocks!E48*ABS(B49) )+Extrapolation!T51, 5)","v":{"$error":"#NAME?"}},{"$f":"ROUND(IF(B49<0,B49, B49 - Shocks!D48 * ABS(B49))+Extrapolation!T51, 5)","v":{"$error":"#NAME?"}}]
[38,9.1672171750911691E-3,{"$f":"ROUND(B50*(1+Shocks!H49)+Shocks!I49,5)","v":1.618E-2},{"$f":"ROUND(B50*(1-Shocks!F49)-Shocks!G49,5)","v":2.5400000000000002E-3},{"$f":"ROUND(B50 + MAX(0.01,Shocks!E49*ABS(B50) ),5)","v":1.917E-2},{"$f":"ROUND(IF(B50<0,B50, B50 - Shocks!D49 * ABS(B50)),5)","v":6.7200000000000003E-3},null,{"$error":"#NAME?"},{"$f":"ROUND(B50*(1+Shocks!H49)+Shocks!I49,5)+Extrapolation!T52","v":{"$error":"#NAME?"}},{"$f":"ROUND(B50*(1-Shocks!F49)-Shocks!G49,5)+Extrapolation!T52","v":{"$error":"#NAME?"}},{"$f":"ROUND(B50 + MAX(0.01,Shocks!E49*ABS(B50) )+Extrapolation!T52, 5)","v":{"$error":"#NAME?"}},{"$f":"ROUND(IF(B50<0,B50, B50 - Shocks!D49 * ABS(B50))+Extrapolation!T52, 5)","v":{"$error":"#NAME?"}}]
[39,9.7324788296642151E-3,{"$f":"ROUND(B51*(1+Shocks!H50)+Shocks!I50,5)","v":1.6650000000000002E-2},{"$f":"ROUND(B51*(1-Shocks!F50)-Shocks!G50,5)","v":3.0300000000000001E-3},{"$f":"ROUND(B51 + MAX(0.01,Shocks!E50*ABS(B51) ),5)","v":1.9730000000000001E-2},{"$f":"ROUND(IF(B51<0,B51, B51 - Shocks!D50 * ABS(B51)),5)","v":7.1500000000000001E-3},null,{"$error":"#NAME?"},{"$f":"ROUND(B51*(1+Shocks!H50)+Shocks!I50,5)+Extrapolation!T53","v":{"$error":"#NAME?"}},{"$f":"ROUND(B51*(1-Shocks!F50)-Shocks!G50,5)+Extrapolation!T53","v":{"$error":"#NAME?"}},{"$f":"ROUND(B51 + MAX(0.01,Shocks!E50*ABS(B51) )+Extrapolation!T53, 5)","v":{"$error":"#NAME?"}},{"$f":"ROUND(IF(B51<0,B51, B51 - Shocks!D50 * ABS(B51))+Extrapolation!T53, 5)","v":{"$error":"#NAME?"}}]
[40,1.0283830472670896E-2,{"$f":"ROUND(B52*(1+Shocks!H51)+Shocks!I51,5)","v":1.711E-2},{"$f":"ROUND(B52*(1-Shocks!F51)-Shocks!G51,5)","v":3.5200000000000001E-3},{"$f":"ROUND(B52 + MAX(0.01,Shocks!E51*ABS(B52) ),5)","v":2.0279999999999999E-2},{"$f":"ROUND(IF(B52<0,B52, B52 - Shocks!D51 * ABS(B52)),5)","v":7.5700000000000003E-3},null,{"$error":"#NAME?"},{"$f":"ROUND(B52*(1+Shocks!H51)+Shocks!I51,5)+Extrapolation!T54","v":{"$error":"#NAME?"}},{"$f":"ROUND(B52*(1-Shocks!F51)-Shocks!G51,5)+Extrapolation!T54","v":{"$error":"#NAME?"}},{"$f":"ROUND(B52 + MAX(0.01,Shocks!E51*ABS(B52) )+Extrapolation!T54, 5)","v":{"$error":"#NAME?"}},{"$f":"ROUND(IF(B52<0,B52, B52 - Shocks!D51 * ABS(B52))+Extrapolation!T54, 5)","v":{"$error":"#NAME?"}}]
[41,1.0820984458427274E-2,{"$f":"ROUND(B53*(1+Shocks!H52)+Shocks!I52,5)","v":1.754E-2},{"$f":"ROUND(B53*(1-Shocks!F52)-Shocks!G52,5)","v":4.0099999999999997E-3},{"$f":"ROUND(B53 + MAX(0.01,Shocks!E52*ABS(B53) ),5)","v":2.0820000000000002E-2},{"$f":"ROUND(IF(B53<0,B53, B53 - Shocks!D52 * ABS(B53)),5)","v":7.9799999999999992E-3},null,{"$error":"#NAME?"},{"$f":"ROUND(B53*(1+Shocks!H52)+Shocks!I52,5)+Extrapolation!T55","v":{"$error":"#NAME?"}},{"$f":"ROUND(B53*(1-Shocks!F52)-Shocks!G52,5)+Extrapolation!T55","v":{"$error":"#NAME?"}},{"$f":"ROUND(B53 + MAX(0.01,Shocks!E52*ABS(B53) )+Extrapolation!T55, 5)","v":{"$error":"#NAME?"}},{"$f":"ROUND(IF(B53<0,B53, B53 - Shocks!D52 * ABS(B53))+Extrapolation!T55, 5)","v":{"$error":"#NAME?"}}]
[42,1.1343799764694351E-2,{"$f":"ROUND(B54*(1+Shocks!H53)+Shocks!I53,5)","v":1.796E-2},{"$f":"ROUND(B54*(1-Shocks!F53)-Shocks!G53,5)","v":4.4900000000000001E-3},{"$f":"ROUND(B54 + MAX(0.01,Shocks!E53*ABS(B54) ),5)","v":2.1340000000000001E-2},{"$f":"ROUND(IF(B54<0,B54, B54 - Shocks!D53 * ABS(B54)),5)","v":8.3700000000000007E-3},null,{"$error":"#NAME?"},{"$f":"ROUND(B54*(1+Shocks!H53)+Shocks!I53,5)+Extrapolation!T56","v":{"$error":"#NAME?"}},{"$f":"ROUND(B54*(1-Shocks!F53)-Shocks!G53,5)+Extrapolation!T56","v":{"$error":"#NAME?"}},{"$f":"ROUND(B54 + MAX(0.01,Shocks!E53*ABS(B54) )+Extrapolation!T56, 5)","v":{"$error":"#NAME?"}},{"$f":"ROUND(IF(B54<0,B54, B54 - Shocks!D53 * ABS(B54))+Extrapolation!T56, 5)","v":{"$error":"#NAME?"}}]
[43,1.1852254056962552E-2,{"$f":"ROUND(B55*(1+Shocks!H54)+Shocks!I54,5)","v":1.8360000000000001E-2},{"$f":"ROUND(B55*(1-Shocks!F54)-Shocks!G54,5)","v":4.9699999999999996E-3},{"$f":"ROUND(B55 + MAX(0.01,Shocks!E54*ABS(B55) ),5)","v":2.1850000000000001E-2},{"$f":"ROUND(IF(B55<0,B55, B55 - Shocks!D54 * ABS(B55)),5)","v":8.77E-3},null,{"$error":"#NAME?"},{"$f":"ROUND(B55*(1+Shocks!H54)+Shocks!I54,5)+Extrapolation!T57","v":{"$error":"#NAME?"}},{"$f":"ROUND(B55*(1-Shocks!F54)-Shocks!G54,5)+Extrapolation!T57","v":{"$error":"#NAME?"}},{"$f":"ROUND(B55 + MAX(0.01,Shocks!E54*ABS(B55) )+Extrapolation!T57, 5)","v":{"$error":"#NAME?"}},{"$f":"ROUND(IF(B55<0,B55, B55 - Shocks!D54 * ABS(B55))+Extrapolation!T57, 5)","v":{"$error":"#NAME?"}}]
[44,1.234642055588786E-2,{"$f":"ROUND(B56*(1+Shocks!H55)+Shocks!I55,5)","v":1.874E-2},{"$f":"ROUND(B56*(1-Shocks!F55)-Shocks!G55,5)","v":5.4400000000000004E-3},{"$f":"ROUND(B56 + MAX(0.01,Shocks!E55*ABS(B56) ),5)","v":2.2349999999999998E-2},{"$f":"ROUND(IF(B56<0,B56, B56 - Shocks!D55 * ABS(B56)),5)","v":9.1500000000000001E-3},null,{"$error":"#NAME?"},{"$f":"ROUND(B56*(1+Shocks!H55)+Shocks!I55,5)+Extrapolation!T58","v":{"$error":"#NAME?"}},{"$f":"ROUND(B56*(1-Shocks!F55)-Shocks!G55,5)+Extrapolation!T58","v":{"$error":"#NAME?"}},{"$f":"ROUND(B56 + MAX(0.01,Shocks!E55*ABS(B56) )+Extrapolation!T58, 5)","v":{"$error":"#NAME?"}},{"$f":"ROUND(IF(B56<0,B56, B56 - Shocks!D55 * ABS(B56))+Extrapolation!T58, 5)","v":{"$error":"#NAME?"}}]
[45,1.2826448869438511E-2,{"$f":"ROUND(B57*(1+Shocks!H56)+Shocks!I56,5)","v":1.9099999999999999E-2},{"$f":"ROUND(B57*(1-Shocks!F56)-Shocks!G56,5)","v":5.9100000000000003E-3},{"$f":"ROUND(B57 + MAX(0.01,Shocks!E56*ABS(B57) ),5)","v":2.283E-2},{"$f":"ROUND(IF(B57<0,B57, B57 - Shocks!D56 * ABS(B57)),5)","v":9.5200000000000007E-3},null,{"$error":"#NAME?"},{"$f":"ROUND(B57*(1+Shocks!H56)+Shocks!I56,5)+Extrapolation!T59","v":{"$error":"#NAME?"}},{"$f":"ROUND(B57*(1-Shocks!F56)-Shocks!G56,5)+Extrapolation!T59","v":{"$error":"#NAME?"}},{"$f":"ROUND(B57 + MAX(0.01,Shocks!E56*ABS(B57) )+Extrapolation!T59, 5)","v":{"$error":"#NAME?"}},{"$f":"ROUND(IF(B57<0,B57, B57 - Shocks!D56 * ABS(B57))+Extrapolation!T59, 5)","v":{"$error":"#NAME?"}}]
[46,1.3292549105763385E-2,{"$f":"ROUND(B58*(1+Shocks!H57)+Shocks!I57,5)","v":1.9449999999999999E-2},{"$f":"ROUND(B58*(1-Shocks!F57)-Shocks!G57,5)","v":6.3800000000000003E-3},{"$f":"ROUND(B58 + MAX(0.01,Shocks!E57*ABS(B58) ),5)","v":2.3290000000000002E-2},{"$f":"ROUND(IF(B58<0,B58, B58 - Shocks!D57 * ABS(B58)),5)","v":9.8799999999999999E-3},null,{"$error":"#NAME?"},{"$f":"ROUND(B58*(1+Shocks!H57)+Shocks!I57,5)+Extrapolation!T60","v":{"$error":"#NAME?"}},{"$f":"ROUND(B58*(1-Shocks!F57)-Shocks!G57,5)+Extrapolation!T60","v":{"$error":"#NAME?"}},{"$f":"ROUND(B58 + MAX(0.01,Shocks!E57*ABS(B58) )+Extrapolation!T60, 5)","v":{"$error":"#NAME?"}},{"$f":"ROUND(IF(B58<0,B58, B58 - Shocks!D57 * ABS(B58))+Extrapolation!T60, 5)","v":{"$error":"#NAME?"}}]
[47,1.3744978706791366E-2,{"$f":"ROUND(B59*(1+Shocks!H58)+Shocks!I58,5)","v":1.9779999999999999E-2},{"$f":"ROUND(B59*(1-Shocks!F58)-Shocks!G58,5)","v":6.8399999999999997E-3},{"$f":"ROUND(B59 + MAX(0.01,Shocks!E58*ABS(B59) ),5)","v":2.3740000000000001E-2},{"$f":"ROUND(IF(B59<0,B59, B59 - Shocks!D58 * ABS(B59)),5)","v":1.0240000000000001E-2},null,{"$error":"#NAME?"},{"$f":"ROUND(B59*(1+Shocks!H58)+Shocks!I58,5)+Extrapolation!T61","v":{"$error":"#NAME?"}},{"$f":"ROUND(B59*(1-Shocks!F58)-Shocks!G58,5)+Extrapolation!T61","v":{"$error":"#NAME?"}},{"$f":"ROUND(B59 + MAX(0.01,Shocks!E58*ABS(B59) )+Extrapolation!T61, 5)","v":{"$error":"#NAME?"}},{"$f":"ROUND(IF(B59<0,B59, B59 - Shocks!D58 * ABS(B59))+Extrapolation!T61, 5)","v":{"$error":"#NAME?"}}]
[48,1.4184031542527009E-2,{"$f":"ROUND(B60*(1+Shocks!H59)+Shocks!I59,5)","v":2.009E-2},{"$f":"ROUND(B60*(1-Shocks!F59)-Shocks!G59,5)","v":7.2899999999999996E-3},{"$f":"ROUND(B60 + MAX(0.01,Shocks!E59*ABS(B60) ),5)","v":2.418E-2},{"$f":"ROUND(IF(B60<0,B60, B60 - Shocks!D59 * ABS(B60)),5)","v":1.0580000000000001E-2},null,{"$error":"#NAME?"},{"$f":"ROUND(B60*(1+Shocks!H59)+Shocks!I59,5)+Extrapolation!T62","v":{"$error":"#NAME?"}},{"$f":"ROUND(B60*(1-Shocks!F59)-Shocks!G59,5)+Extrapolation!T62","v":{"$error":"#NAME?"}},{"$f":"ROUND(B60 + MAX(0.01,Shocks!E59*ABS(B60) )+Extrapolation!T62, 5)","v":{"$error":"#NAME?"}},{"$f":"ROUND(IF(B60<0,B60, B60 - Shocks!D59 * ABS(B60))+Extrapolation!T62, 5)","v":{"$error":"#NAME?"}}]
[49,1.4610028886971271E-2,{"$f":"ROUND(B61*(1+Shocks!H60)+Shocks!I60,5)","v":2.0379999999999999E-2},{"$f":"ROUND(B61*(1-Shocks!F60)-Shocks!G60,5)","v":7.7499999999999999E-3},{"$f":"ROUND(B61 + MAX(0.01,Shocks!E60*ABS(B61) ),5)","v":2.461E-2},{"$f":"ROUND(IF(B61<0,B61, B61 - Shocks!D60 * ABS(B61)),5)","v":1.0919999999999999E-2},null,{"$error":"#NAME?"},{"$f":"ROUND(B61*(1+Shocks!H60)+Shocks!I60,5)+Extrapolation!T63","v":{"$error":"#NAME?"}},{"$f":"ROUND(B61*(1-Shocks!F60)-Shocks!G60,5)+Extrapolation!T63","v":{"$error":"#NAME?"}},{"$f":"ROUND(B61 + MAX(0.01,Shocks!E60*ABS(B61) )+Extrapolation!T63, 5)","v":{"$error":"#NAME?"}},{"$f":"ROUND(IF(B61<0,B61, B61 - Shocks!D60 * ABS(B61))+Extrapolation!T63, 5)","v":{"$error":"#NAME?"}}]
[50,1.5023311962402364E-2,{"$f":"ROUND(B62*(1+Shocks!H61)+Shocks!I61,5)","v":2.0660000000000001E-2},{"$f":"ROUND(B62*(1-Shocks!F61)-Shocks!G61,5)","v":8.1899999999999994E-3},{"$f":"ROUND(B62 + MAX(0.01,Shocks!E61*ABS(B62) ),5)","v":2.5020000000000001E-2},{"$f":"ROUND(IF(B62<0,B62, B62 - Shocks!D61 * ABS(B62)),5)","v":1.125E-2},null,{"$error":"#NAME?"},{"$f":"ROUND(B62*(1+Shocks!H61)+Shocks!I61,5)+Extrapolation!T64","v":{"$error":"#NAME?"}},{"$f":"ROUND(B62*(1-Shocks!F61)-Shocks!G61,5)+Extrapolation!T64","v":{"$error":"#NAME?"}},{"$f":"ROUND(B62 + MAX(0.01,Shocks!E61*ABS(B62) )+Extrapolation!T64, 5)","v":{"$error":"#NAME?"}},{"$f":"ROUND(IF(B62<0,B62, B62 - Shocks!D61 * ABS(B62))+Extrapolation!T64, 5)","v":{"$error":"#NAME?"}}]
[51,1.542423579245833E-2,{"$f":"ROUND(B63*(1+Shocks!H62)+Shocks!I62,5)","v":2.0920000000000001E-2},{"$f":"ROUND(B63*(1-Shocks!F62)-Shocks!G62,5)","v":8.6400000000000001E-3},{"$f":"ROUND(B63 + MAX(0.01,Shocks!E62*ABS(B63) ),5)","v":2.5420000000000002E-2},{"$f":"ROUND(IF(B63<0,B63, B63 - Shocks!D62 * ABS(B63)),5)","v":1.157E-2},null,{"$error":"#NAME?"},{"$f":"ROUND(B63*(1+Shocks!H62)+Shocks!I62,5)+Extrapolation!T65","v":{"$error":"#NAME?"}},{"$f":"ROUND(B63*(1-Shocks!F62)-Shocks!G62,5)+Extrapolation!T65","v":{"$error":"#NAME?"}},{"$f":"ROUND(B63 + MAX(0.01,Shocks!E62*ABS(B63) )+Extrapolation!T65, 5)","v":{"$error":"#NAME?"}},{"$f":"ROUND(IF(B63<0,B63, B63 - Shocks!D62 * ABS(B63))+Extrapolation!T65, 5)","v":{"$error":"#NAME?"}}]
[52,1.581316414844669E-2,{"$f":"ROUND(B64*(1+Shocks!H63)+Shocks!I63,5)","v":2.1170000000000001E-2},{"$f":"ROUND(B64*(1-Shocks!F63)-Shocks!G63,5)","v":9.0799999999999995E-3},{"$f":"ROUND(B64 + MAX(0.01,Shocks!E63*ABS(B64) ),5)","v":2.581E-2},{"$f":"ROUND(IF(B64<0,B64, B64 - Shocks!D63 * ABS(B64)),5)","v":1.188E-2},null,{"$error":"#NAME?"},{"$f":"ROUND(B64*(1+Shocks!H63)+Shocks!I63,5)+Extrapolation!T66","v":{"$error":"#NAME?"}},{"$f":"ROUND(B64*(1-Shocks!F63)-Shocks!G63,5)+Extrapolation!T66","v":{"$error":"#NAME?"}},{"$f":"ROUND(B64 + MAX(0.01,Shocks!E63*ABS(B64) )+Extrapolation!T66, 5)","v":{"$error":"#NAME?"}},{"$f":"ROUND(IF(B64<0,B64, B64 - Shocks!D63 * ABS(B64))+Extrapolation!T66, 5)","v":{"$error":"#NAME?"}}]
[53,1.6190465409437804E-2,{"$f":"ROUND(B65*(1+Shocks!H64)+Shocks!I64,5)","v":2.1399999999999999E-2},{"$f":"ROUND(B65*(1-Shocks!F64)-Shocks!G64,5)","v":9.5099999999999994E-3},{"$f":"ROUND(B65 + MAX(0.01,Shocks!E64*ABS(B65) ),5)","v":2.6190000000000001E-2},{"$f":"ROUND(IF(B65<0,B65, B65 - Shocks!D64 * ABS(B65)),5)","v":1.218E-2},null,{"$error":"#NAME?"},{"$f":"ROUND(B65*(1+Shocks!H64)+Shocks!I64,5)+Extrapolation!T67","v":{"$error":"#NAME?"}},{"$f":"ROUND(B65*(1-Shocks!F64)-Shocks!G64,5)+Extrapolation!T67","v":{"$error":"#NAME?"}},{"$f":"ROUND(B65 + MAX(0.01,Shocks!E64*ABS(B65) )+Extrapolation!T67, 5)","v":{"$error":"#NAME?"}},{"$f":"ROUND(IF(B65<0,B65, B65 - Shocks!D64 * ABS(B65))+Extrapolation!T67, 5)","v":{"$error":"#NAME?"}}]
[54,1.6556509186476109E-2,{"$f":"ROUND(B66*(1+Shocks!H65)+Shocks!I65,5)","v":2.1610000000000001E-2},{"$f":"ROUND(B66*(1-Shocks!F65)-Shocks!G65,5)","v":9.9399999999999992E-3},{"$f":"ROUND(B66 + MAX(0.01,Shocks!E65*ABS(B66) ),5)","v":2.656E-2},{"$f":"ROUND(IF(B66<0,B66, B66 - Shocks!D65 * ABS(B66)),5)","v":1.248E-2},null,{"$error":"#NAME?"},{"$f":"ROUND(B66*(1+Shocks!H65)+Shocks!I65,5)+Extrapolation!T68","v":{"$error":"#NAME?"}},{"$f":"ROUND(B66*(1-Shocks!F65)-Shocks!G65,5)+Extrapolation!T68","v":{"$error":"#NAME?"}},{"$f":"ROUND(B66 + MAX(0.01,Shocks!E65*ABS(B66) )+Extrapolation!T68, 5)","v":{"$error":"#NAME?"}},{"$f":"ROUND(IF(B66<0,B66, B66 - Shocks!D65 * ABS(B66))+Extrapolation!T68, 5)","v":{"$error":"#NAME?"}}]
[55,1.691166358586238E-2,{"$f":"ROUND(B67*(1+Shocks!H66)+Shocks!I66,5)","v":2.1819999999999999E-2},{"$f":"ROUND(B67*(1-Shocks!F66)-Shocks!G66,5)","v":1.0370000000000001E-2},{"$f":"ROUND(B67 + MAX(0.01,Shocks!E66*ABS(B67) ),5)","v":2.691E-2},{"$f":"ROUND(IF(B67<0,B67, B67 - Shocks!D66 * ABS(B67)),5)","v":1.277E-2},null,{"$error":"#NAME?"},{"$f":"ROUND(B67*(1+Shocks!H66)+Shocks!I66,5)+Extrapolation!T69","v":{"$error":"#NAME?"}},{"$f":"ROUND(B67*(1-Shocks!F66)-Shocks!G66,5)+Extrapolation!T69","v":{"$error":"#NAME?"}},{"$f":"ROUND(B67 + MAX(0.01,Shocks!E66*ABS(B67) )+Extrapolation!T69, 5)","v":{"$error":"#NAME?"}},{"$f":"ROUND(IF(B67<0,B67, B67 - Shocks!D66 * ABS(B67))+Extrapolation!T69, 5)","v":{"$error":"#NAME?"}}]
[56,1.7256293006847168E-2,{"$f":"ROUND(B68*(1+Shocks!H67)+Shocks!I67,5)","v":2.2009999999999998E-2},{"$f":"ROUND(B68*(1-Shocks!F67)-Shocks!G67,5)","v":1.0789999999999999E-2},{"$f":"ROUND(B68 + MAX(0.01,Shocks!E67*ABS(B68) ),5)","v":2.726E-2},{"$f":"ROUND(IF(B68<0,B68, B68 - Shocks!D67 * ABS(B68)),5)","v":1.3050000000000001E-2},null,{"$error":"#NAME?"},{"$f":"ROUND(B68*(1+Shocks!H67)+Shocks!I67,5)+Extrapolation!T70","v":{"$error":"#NAME?"}},{"$f":"ROUND(B68*(1-Shocks!F67)-Shocks!G67,5)+Extrapolation!T70","v":{"$error":"#NAME?"}},{"$f":"ROUND(B68 + MAX(0.01,Shocks!E67*ABS(B68) )+Extrapolation!T70, 5)","v":{"$error":"#NAME?"}},{"$f":"ROUND(IF(B68<0,B68, B68 - Shocks!D67 * ABS(B68))+Extrapolation!T70, 5)","v":{"$error":"#NAME?"}}]
[57,1.759075638602825E-2,{"$f":"ROUND(B69*(1+Shocks!H68)+Shocks!I68,5)","v":2.2179999999999998E-2},{"$f":"ROUND(B69*(1-Shocks!F68)-Shocks!G68,5)","v":1.1209999999999999E-2},{"$f":"ROUND(B69 + MAX(0.01,Shocks!E68*ABS(B69) ),5)","v":2.759E-2},{"$f":"ROUND(IF(B69<0,B69, B69 - Shocks!D68 * ABS(B69)),5)","v":1.333E-2},null,{"$error":"#NAME?"},{"$f":"ROUND(B69*(1+Shocks!H68)+Shocks!I68,5)+Extrapolation!T71","v":{"$error":"#NAME?"}},{"$f":"ROUND(B69*(1-Shocks!F68)-Shocks!G68,5)+Extrapolation!T71","v":{"$error":"#NAME?"}},{"$f":"ROUND(B69 + MAX(0.01,Shocks!E68*ABS(B69) )+Extrapolation!T71, 5)","v":{"$error":"#NAME?"}},{"$f":"ROUND(IF(B69<0,B69, B69 - Shocks!D68 * ABS(B69))+Extrapolation!T71, 5)","v":{"$error":"#NAME?"}}]
[58,1.7915405814849628E-2,{"$f":"ROUND(B70*(1+Shocks!H69)+Shocks!I69,5)","v":2.2349999999999998E-2},{"$f":"ROUND(B70*(1-Shocks!F69)-Shocks!G69,5)","v":1.163E-2},{"$f":"ROUND(B70 + MAX(0.01,Shocks!E69*ABS(B70) ),5)","v":2.792E-2},{"$f":"ROUND(IF(B70<0,B70, B70 - Shocks!D69 * ABS(B70)),5)","v":1.3599999999999999E-2},null,{"$error":"#NAME?"},{"$f":"ROUND(B70*(1+Shocks!H69)+Shocks!I69,5)+Extrapolation!T72","v":{"$error":"#NAME?"}},{"$f":"ROUND(B70*(1-Shocks!F69)-Shocks!G69,5)+Extrapolation!T72","v":{"$error":"#NAME?"}},{"$f":"ROUND(B70 + MAX(0.01,Shocks!E69*ABS(B70) )+Extrapolation!T72, 5)","v":{"$error":"#NAME?"}},{"$f":"ROUND(IF(B70<0,B70, B70 - Shocks!D69 * ABS(B70))+Extrapolation!T72, 5)","v":{"$error":"#NAME?"}}]
[59,1.8230585468377525E-2,{"$f":"ROUND(B71*(1+Shocks!H70)+Shocks!I70,5)","v":2.2499999999999999E-2},{"$f":"ROUND(B71*(1-Shocks!F70)-Shocks!G70,5)","v":1.204E-2},{"$f":"ROUND(B71 + MAX(0.01,Shocks!E70*ABS(B71) ),5)","v":2.8230000000000002E-2},{"$f":"ROUND(IF(B71<0,B71, B71 - Shocks!D70 * ABS(B71)),5)","v":1.3860000000000001E-2},null,{"$error":"#NAME?"},{"$f":"ROUND(B71*(1+Shocks!H70)+Shocks!I70,5)+Extrapolation!T73","v":{"$error":"#NAME?"}},{"$f":"ROUND(B71*(1-Shocks!F70)-Shocks!G70,5)+Extrapolation!T73","v":{"$error":"#NAME?"}},{"$f":"ROUND(B71 + MAX(0.01,Shocks!E70*ABS(B71) )+Extrapolation!T73, 5)","v":{"$error":"#NAME?"}},{"$f":"ROUND(IF(B71<0,B71, B71 - Shocks!D70 * ABS(B71))+Extrapolation!T73, 5)","v":{"$error":"#NAME?"}}]
[60,1.8536630793370756E-2,{"$f":"ROUND(B72*(1+Shocks!H71)+Shocks!I71,5)","v":2.264E-2},{"$f":"ROUND(B72*(1-Shocks!F71)-Shocks!G71,5)","v":1.2449999999999999E-2},{"$f":"ROUND(B72 + MAX(0.01,Shocks!E71*ABS(B72) ),5)","v":2.8539999999999999E-2},{"$f":"ROUND(IF(B72<0,B72, B72 - Shocks!D71 * ABS(B72)),5)","v":1.4109999999999999E-2},null,{"$error":"#NAME?"},{"$f":"ROUND(B72*(1+Shocks!H71)+Shocks!I71,5)+Extrapolation!T74","v":{"$error":"#NAME?"}},{"$f":"ROUND(B72*(1-Shocks!F71)-Shocks!G71,5)+Extrapolation!T74","v":{"$error":"#NAME?"}},{"$f":"ROUND(B72 + MAX(0.01,Shocks!E71*ABS(B72) )+Extrapolation!T74, 5)","v":{"$error":"#NAME?"}},{"$f":"ROUND(IF(B72<0,B72, B72 - Shocks!D71 * ABS(B72))+Extrapolation!T74, 5)","v":{"$error":"#NAME?"}}]
[61,1.8833867911915103E-2,{"$f":"ROUND(B73*(1+Shocks!H72)+Shocks!I72,5)","v":2.299E-2},{"$f":"ROUND(B73*(1-Shocks!F72)-Shocks!G72,5)","v":1.273E-2},{"$f":"ROUND(B73 + MAX(0.01,Shocks!E72*ABS(B73) ),5)","v":2.8830000000000001E-2},{"$f":"ROUND(IF(B73<0,B73, B73 - Shocks!D72 * ABS(B73)),5)","v":1.436E-2},null,{"$error":"#NAME?"},{"$f":"ROUND(B73*(1+Shocks!H72)+Shocks!I72,5)+Extrapolation!T75","v":{"$error":"#NAME?"}},{"$f":"ROUND(B73*(1-Shocks!F72)-Shocks!G72,5)+Extrapolation!T75","v":{"$error":"#NAME?"}},{"$f":"ROUND(B73 + MAX(0.01,Shocks!E72*ABS(B73) )+Extrapolation!T75, 5)","v":{"$error":"#NAME?"}},{"$f":"ROUND(IF(B73<0,B73, B73 - Shocks!D72 * ABS(B73))+Extrapolation!T75, 5)","v":{"$error":"#NAME?"}}]
[62,1.9122613203806038E-2,{"$f":"ROUND(B74*(1+Shocks!H73)+Shocks!I73,5)","v":2.333E-2},{"$f":"ROUND(B74*(1-Shocks!F73)-Shocks!G73,5)","v":1.2999999999999999E-2},{"$f":"ROUND(B74 + MAX(0.01,Shocks!E73*ABS(B74) ),5)","v":2.912E-2},{"$f":"ROUND(IF(B74<0,B74, B74 - Shocks!D73 * ABS(B74)),5)","v":1.461E-2},null,{"$error":"#NAME?"},{"$f":"ROUND(B74*(1+Shocks!H73)+Shocks!I73,5)+Extrapolation!T76","v":{"$error":"#NAME?"}},{"$f":"ROUND(B74*(1-Shocks!F73)-Shocks!G73,5)+Extrapolation!T76","v":{"$error":"#NAME?"}},{"$f":"ROUND(B74 + MAX(0.01,Shocks!E73*ABS(B74) )+Extrapolation!T76, 5)","v":{"$error":"#NAME?"}},{"$f":"ROUND(IF(B74<0,B74, B74 - Shocks!D73 * ABS(B74))+Extrapolation!T76, 5)","v":{"$error":"#NAME?"}}]
[63,1.9403173036683707E-2,{"$f":"ROUND(B75*(1+Shocks!H74)+Shocks!I74,5)","v":2.366E-2},{"$f":"ROUND(B75*(1-Shocks!F74)-Shocks!G74,5)","v":1.328E-2},{"$f":"ROUND(B75 + MAX(0.01,Shocks!E74*ABS(B75) ),5)","v":2.9399999999999999E-2},{"$f":"ROUND(IF(B75<0,B75, B75 - Shocks!D74 * ABS(B75)),5)","v":1.485E-2},null,{"$error":"#NAME?"},{"$f":"ROUND(B75*(1+Shocks!H74)+Shocks!I74,5)+Extrapolation!T77","v":{"$error":"#NAME?"}},{"$f":"ROUND(B75*(1-Shocks!F74)-Shocks!G74,5)+Extrapolation!T77","v":{"$error":"#NAME?"}},{"$f":"ROUND(B75 + MAX(0.01,Shocks!E74*ABS(B75) )+Extrapolation!T77, 5)","v":{"$error":"#NAME?"}},{"$f":"ROUND(IF(B75<0,B75, B75 - Shocks!D74 * ABS(B75))+Extrapolation!T77, 5)","v":{"$error":"#NAME?"}}]
[64,1.9675843617816824E-2,{"$f":"ROUND(B76*(1+Shocks!H75)+Shocks!I75,5)","v":2.3980000000000001E-2},{"$f":"ROUND(B76*(1-Shocks!F75)-Shocks!G75,5)","v":1.355E-2},{"$f":"ROUND(B76 + MAX(0.01,Shocks!E75*ABS(B76) ),5)","v":2.9680000000000002E-2},{"$f":"ROUND(IF(B76<0,B76, B76 - Shocks!D75 * ABS(B76)),5)","v":1.508E-2},null,{"$error":"#NAME?"},{"$f":"ROUND(B76*(1+Shocks!H75)+Shocks!I75,5)+Extrapolation!T78","v":{"$error":"#NAME?"}},{"$f":"ROUND(B76*(1-Shocks!F75)-Shocks!G75,5)+Extrapolation!T78","v":{"$error":"#NAME?"}},{"$f":"ROUND(B76 + MAX(0.01,Shocks!E75*ABS(B76) )+Extrapolation!T78, 5)","v":{"$error":"#NAME?"}},{"$f":"ROUND(IF(B76<0,B76, B76 - Shocks!D75 * ABS(B76))+Extrapolation!T78, 5)","v":{"$error":"#NAME?"}}]
[65,1.9940910945556833E-2,{"$f":"ROUND(B77*(1+Shocks!H76)+Shocks!I76,5)","v":2.4289999999999999E-2},{"$f":"ROUND(B77*(1-Shocks!F76)-Shocks!G76,5)","v":1.3820000000000001E-2},{"$f":"ROUND(B77 + MAX(0.01,Shocks!E76*ABS(B77) ),5)","v":2.9940000000000001E-2},{"$f":"ROUND(IF(B77<0,B77, B77 - Shocks!D76 * ABS(B77)),5)","v":1.5310000000000001E-2},null,{"$error":"#NAME?"},{"$f":"ROUND(B77*(1+Shocks!H76)+Shocks!I76,5)+Extrapolation!T79","v":{"$error":"#NAME?"}},{"$f":"ROUND(B77*(1-Shocks!F76)-Shocks!G76,5)+Extrapolation!T79","v":{"$error":"#NAME?"}},{"$f":"ROUND(B77 + MAX(0.01,Shocks!E76*ABS(B77) )+Extrapolation!T79, 5)","v":{"$error":"#NAME?"}},{"$f":"ROUND(IF(B77<0,B77, B77 - Shocks!D76 * ABS(B77))+Extrapolation!T79, 5)","v":{"$error":"#NAME?"}}]
[66,2.019865084195871E-2,{"$f":"ROUND(B78*(1+Shocks!H77)+Shocks!I77,5)","v":2.4580000000000001E-2},{"$f":"ROUND(B78*(1-Shocks!F77)-Shocks!G77,5)","v":1.4080000000000001E-2},{"$f":"ROUND(B78 + MAX(0.01,Shocks!E77*ABS(B78) ),5)","v":3.0200000000000001E-2},{"$f":"ROUND(IF(B78<0,B78, B78 - Shocks!D77 * ABS(B78)),5)","v":1.554E-2},null,{"$error":"#NAME?"},{"$f":"ROUND(B78*(1+Shocks!H77)+Shocks!I77,5)+Extrapolation!T80","v":{"$error":"#NAME?"}},{"$f":"ROUND(B78*(1-Shocks!F77)-Shocks!G77,5)+Extrapolation!T80","v":{"$error":"#NAME?"}},{"$f":"ROUND(B78 + MAX(0.01,Shocks!E77*ABS(B78) )+Extrapolation!T80, 5)","v":{"$error":"#NAME?"}},{"$f":"ROUND(IF(B78<0,B78, B78 - Shocks!D77 * ABS(B78))+Extrapolation!T80, 5)","v":{"$error":"#NAME?"}}]
[67,2.0449329051009046E-2,{"$f":"ROUND(B79*(1+Shocks!H78)+Shocks!I78,5)","v":2.4879999999999999E-2},{"$f":"ROUND(B79*(1-Shocks!F78)-Shocks!G78,5)","v":1.434E-2},{"$f":"ROUND(B79 + MAX(0.01,Shocks!E78*ABS(B79) ),5)","v":3.0450000000000001E-2},{"$f":"ROUND(IF(B79<0,B79, B79 - Shocks!D78 * ABS(B79)),5)","v":1.575E-2},null,{"$error":"#NAME?"},{"$f":"ROUND(B79*(1+Shocks!H78)+Shocks!I78,5)+Extrapolation!T81","v":{"$error":"#NAME?"}},{"$f":"ROUND(B79*(1-Shocks!F78)-Shocks!G78,5)+Extrapolation!T81","v":{"$error":"#NAME?"}},{"$f":"ROUND(B79 + MAX(0.01,Shocks!E78*ABS(B79) )+Extrapolation!T81, 5)","v":{"$error":"#NAME?"}},{"$f":"ROUND(IF(B79<0,B79, B79 - Shocks!D78 * ABS(B79))+Extrapolation!T81, 5)","v":{"$error":"#NAME?"}}]
[68,2.0693201389375693E-2,{"$f":"ROUND(B80*(1+Shocks!H79)+Shocks!I79,5)","v":2.5159999999999998E-2},{"$f":"ROUND(B80*(1-Shocks!F79)-Shocks!G79,5)","v":1.46E-2},{"$f":"ROUND(B80 + MAX(0.01,Shocks!E79*ABS(B80) ),5)","v":3.0689999999999999E-2},{"$f":"ROUND(IF(B80<0,B80, B80 - Shocks!D79 * ABS(B80)),5)","v":1.5970000000000002E-2},null,{"$error":"#NAME?"},{"$f":"ROUND(B80*(1+Shocks!H79)+Shocks!I79,5)+Extrapolation!T82","v":{"$error":"#NAME?"}},{"$f":"ROUND(B80*(1-Shocks!F79)-Shocks!G79,5)+Extrapolation!T82","v":{"$error":"#NAME?"}},{"$f":"ROUND(B80 + MAX(0.01,Shocks!E79*ABS(B80) )+Extrapolation!T82, 5)","v":{"$error":"#NAME?"}},{"$f":"ROUND(IF(B80<0,B80, B80 - Shocks!D79 * ABS(B80))+Extrapolation!T82, 5)","v":{"$error":"#NAME?"}}]
[69,2.0930513938697271E-2,{"$f":"ROUND(B81*(1+Shocks!H80)+Shocks!I80,5)","v":2.5430000000000001E-2},{"$f":"ROUND(B81*(1-Shocks!F80)-Shocks!G80,5)","v":1.486E-2},{"$f":"ROUND(B81 + MAX(0.01,Shocks!E80*ABS(B81) ),5)","v":3.0929999999999999E-2},{"$f":"ROUND(IF(B81<0,B81, B81 - Shocks!D80 * ABS(B81)),5)","v":1.618E-2},null,{"$error":"#NAME?"},{"$f":"ROUND(B81*(1+Shocks!H80)+Shocks!I80,5)+Extrapolation!T83","v":{"$error":"#NAME?"}},{"$f":"ROUND(B81*(1-Shocks!F80)-Shocks!G80,5)+Extrapolation!T83","v":{"$error":"#NAME?"}},{"$f":"ROUND(B81 + MAX(0.01,Shocks!E80*ABS(B81) )+Extrapolation!T83, 5)","v":{"$error":"#NAME?"}},{"$f":"ROUND(IF(B81<0,B81, B81 - Shocks!D80 * ABS(B81))+Extrapolation!T83, 5)","v":{"$error":"#NAME?"}}]
[70,2.1161503270206383E-2,{"$f":"ROUND(B82*(1+Shocks!H81)+Shocks!I81,5)","v":2.5700000000000001E-2},{"$f":"ROUND(B82*(1-Shocks!F81)-Shocks!G81,5)","v":1.512E-2},{"$f":"ROUND(B82 + MAX(0.01,Shocks!E81*ABS(B82) ),5)","v":3.116E-2},{"$f":"ROUND(IF(B82<0,B82, B82 - Shocks!D81 * ABS(B82)),5)","v":1.6389999999999998E-2},null,{"$error":"#NAME?"},{"$f":"ROUND(B82*(1+Shocks!H81)+Shocks!I81,5)+Extrapolation!T84","v":{"$error":"#NAME?"}},{"$f":"ROUND(B82*(1-Shocks!F81)-Shocks!G81,5)+Extrapolation!T84","v":{"$error":"#NAME?"}},{"$f":"ROUND(B82 + MAX(0.01,Shocks!E81*ABS(B82) )+Extrapolation!T84, 5)","v":{"$error":"#NAME?"}},{"$f":"ROUND(IF(B82<0,B82, B82 - Shocks!D81 * ABS(B82))+Extrapolation!T84, 5)","v":{"$error":"#NAME?"}}]
[71,2.1386396693980902E-2,{"$f":"ROUND(B83*(1+Shocks!H82)+Shocks!I82,5)","v":2.5950000000000001E-2},{"$f":"ROUND(B83*(1-Shocks!F82)-Shocks!G82,5)","v":1.537E-2},{"$f":"ROUND(B83 + MAX(0.01,Shocks!E82*ABS(B83) ),5)","v":3.1390000000000001E-2},{"$f":"ROUND(IF(B83<0,B83, B83 - Shocks!D82 * ABS(B83)),5)","v":1.6590000000000001E-2},null,{"$error":"#NAME?"},{"$f":"ROUND(B83*(1+Shocks!H82)+Shocks!I82,5)+Extrapolation!T85","v":{"$error":"#NAME?"}},{"$f":"ROUND(B83*(1-Shocks!F82)-Shocks!G82,5)+Extrapolation!T85","v":{"$error":"#NAME?"}},{"$f":"ROUND(B83 + MAX(0.01,Shocks!E82*ABS(B83) )+Extrapolation!T85, 5)","v":{"$error":"#NAME?"}},{"$f":"ROUND(IF(B83<0,B83, B83 - Shocks!D82 * ABS(B83))+Extrapolation!T85, 5)","v":{"$error":"#NAME?"}}]
[72,2.1605412526390921E-2,{"$f":"ROUND(B84*(1+Shocks!H83)+Shocks!I83,5)","v":2.6200000000000001E-2},{"$f":"ROUND(B84*(1-Shocks!F83)-Shocks!G83,5)","v":1.562E-2},{"$f":"ROUND(B84 + MAX(0.01,Shocks!E83*ABS(B84) ),5)","v":3.1609999999999999E-2},{"$f":"ROUND(IF(B84<0,B84, B84 - Shocks!D83 * ABS(B84)),5)","v":1.678E-2},null,{"$error":"#NAME?"},{"$f":"ROUND(B84*(1+Shocks!H83)+Shocks!I83,5)+Extrapolation!T86","v":{"$error":"#NAME?"}},{"$f":"ROUND(B84*(1-Shocks!F83)-Shocks!G83,5)+Extrapolation!T86","v":{"$error":"#NAME?"}},{"$f":"ROUND(B84 + MAX(0.01,Shocks!E83*ABS(B84) )+Extrapolation!T86, 5)","v":{"$error":"#NAME?"}},{"$f":"ROUND(IF(B84<0,B84, B84 - Shocks!D83 * ABS(B84))+Extrapolation!T86, 5)","v":{"$error":"#NAME?"}}]
[73,2.1818760370390544E-2,{"$f":"ROUND(B85*(1+Shocks!H84)+Shocks!I84,5)","v":2.6450000000000001E-2},{"$f":"ROUND(B85*(1-Shocks!F84)-Shocks!G84,5)","v":1.5869999999999999E-2},{"$f":"ROUND(B85 + MAX(0.01,Shocks!E84*ABS(B85) ),5)","v":3.1820000000000001E-2},{"$f":"ROUND(IF(B85<0,B85, B85 - Shocks!D84 * ABS(B85)),5)","v":1.6979999999999999E-2},null,{"$error":"#NAME?"},{"$f":"ROUND(B85*(1+Shocks!H84)+Shocks!I84,5)+Extrapolation!T87","v":{"$error":"#NAME?"}},{"$f":"ROUND(B85*(1-Shocks!F84)-Shocks!G84,5)+Extrapolation!T87","v":{"$error":"#NAME?"}},{"$f":"ROUND(B85 + MAX(0.01,Shocks!E84*ABS(B85) )+Extrapolation!T87, 5)","v":{"$error":"#NAME?"}},{"$f":"ROUND(IF(B85<0,B85, B85 - Shocks!D84 * ABS(B85))+Extrapolation!T87, 5)","v":{"$error":"#NAME?"}}]
[74,2.2026641404207181E-2,{"$f":"ROUND(B86*(1+Shocks!H85)+Shocks!I85,5)","v":2.6679999999999999E-2},{"$f":"ROUND(B86*(1-Shocks!F85)-Shocks!G85,5)","v":1.6109999999999999E-2},{"$f":"ROUND(B86 + MAX(0.01,Shocks!E85*ABS(B86) ),5)","v":3.2030000000000003E-2},{"$f":"ROUND(IF(B86<0,B86, B86 - Shocks!D85 * ABS(B86)),5)","v":1.7170000000000001E-2},null,{"$error":"#NAME?"},{"$f":"ROUND(B86*(1+Shocks!H85)+Shocks!I85,5)+Extrapolation!T88","v":{"$error":"#NAME?"}},{"$f":"ROUND(B86*(1-Shocks!F85)-Shocks!G85,5)+Extrapolation!T88","v":{"$error":"#NAME?"}},{"$f":"ROUND(B86 + MAX(0.01,Shocks!E85*ABS(B86) )+Extrapolation!T88, 5)","v":{"$error":"#NAME?"}},{"$f":"ROUND(IF(B86<0,B86, B86 - Shocks!D85 * ABS(B86))+Extrapolation!T88, 5)","v":{"$error":"#NAME?"}}]
[75,2.2229248674763724E-2,{"$f":"ROUND(B87*(1+Shocks!H86)+Shocks!I86,5)","v":2.691E-2},{"$f":"ROUND(B87*(1-Shocks!F86)-Shocks!G86,5)","v":1.635E-2},{"$f":"ROUND(B87 + MAX(0.01,Shocks!E86*ABS(B87) ),5)","v":3.2230000000000002E-2},{"$f":"ROUND(IF(B87<0,B87, B87 - Shocks!D86 * ABS(B87)),5)","v":1.7350000000000001E-2},null,{"$error":"#NAME?"},{"$f":"ROUND(B87*(1+Shocks!H86)+Shocks!I86,5)+Extrapolation!T89","v":{"$error":"#NAME?"}},{"$f":"ROUND(B87*(1-Shocks!F86)-Shocks!G86,5)+Extrapolation!T89","v":{"$error":"#NAME?"}},{"$f":"ROUND(B87 + MAX(0.01,Shocks!E86*ABS(B87) )+Extrapolation!T89, 5)","v":{"$error":"#NAME?"}},{"$f":"ROUND(IF(B87<0,B87, B87 - Shocks!D86 * ABS(B87))+Extrapolation!T89, 5)","v":{"$error":"#NAME?"}}]
[76,2.2426767392813352E-2,{"$f":"ROUND(B88*(1+Shocks!H87)+Shocks!I87,5)","v":2.7140000000000001E-2},{"$f":"ROUND(B88*(1-Shocks!F87)-Shocks!G87,5)","v":1.66E-2},{"$f":"ROUND(B88 + MAX(0.01,Shocks!E87*ABS(B88) ),5)","v":3.243E-2},{"$f":"ROUND(IF(B88<0,B88, B88 - Shocks!D87 * ABS(B88)),5)","v":1.754E-2},null,{"$error":"#NAME?"},{"$f":"ROUND(B88*(1+Shocks!H87)+Shocks!I87,5)+Extrapolation!T90","v":{"$error":"#NAME?"}},{"$f":"ROUND(B88*(1-Shocks!F87)-Shocks!G87,5)+Extrapolation!T90","v":{"$error":"#NAME?"}},{"$f":"ROUND(B88 + MAX(0.01,Shocks!E87*ABS(B88) )+Extrapolation!T90, 5)","v":{"$error":"#NAME?"}},{"$f":"ROUND(IF(B88<0,B88, B88 - Shocks!D87 * ABS(B88))+Extrapolation!T90, 5)","v":{"$error":"#NAME?"}}]
[77,2.2619375227323602E-2,{"$f":"ROUND(B89*(1+Shocks!H88)+Shocks!I88,5)","v":2.7349999999999999E-2},{"$f":"ROUND(B89*(1-Shocks!F88)-Shocks!G88,5)","v":1.6840000000000001E-2},{"$f":"ROUND(B89 + MAX(0.01,Shocks!E88*ABS(B89) ),5)","v":3.2620000000000003E-2},{"$f":"ROUND(IF(B89<0,B89, B89 - Shocks!D88 * ABS(B89)),5)","v":1.772E-2},null,{"$error":"#NAME?"},{"$f":"ROUND(B89*(1+Shocks!H88)+Shocks!I88,5)+Extrapolation!T91","v":{"$error":"#NAME?"}},{"$f":"ROUND(B89*(1-Shocks!F88)-Shocks!G88,5)+Extrapolation!T91","v":{"$error":"#NAME?"}},{"$f":"ROUND(B89 + MAX(0.01,Shocks!E88*ABS(B89) )+Extrapolation!T91, 5)","v":{"$error":"#NAME?"}},{"$f":"ROUND(IF(B89<0,B89, B89 - Shocks!D88 * ABS(B89))+Extrapolation!T91, 5)","v":{"$error":"#NAME?"}}]
[78,2.2807242597112198E-2,{"$f":"ROUND(B90*(1+Shocks!H89)+Shocks!I89,5)","v":2.7560000000000001E-2},{"$f":"ROUND(B90*(1-Shocks!F89)-Shocks!G89,5)","v":1.7069999999999998E-2},{"$f":"ROUND(B90 + MAX(0.01,Shocks!E89*ABS(B90) ),5)","v":3.2809999999999999E-2},{"$f":"ROUND(IF(B90<0,B90, B90 - Shocks!D89 * ABS(B90)),5)","v":1.789E-2},null,{"$error":"#NAME?"},{"$f":"ROUND(B90*(1+Shocks!H89)+Shocks!I89,5)+Extrapolation!T92","v":{"$error":"#NAME?"}},{"$f":"ROUND(B90*(1-Shocks!F89)-Shocks!G89,5)+Extrapolation!T92","v":{"$error":"#NAME?"}},{"$f":"ROUND(B90 + MAX(0.01,Shocks!E89*ABS(B90) )+Extrapolation!T92, 5)","v":{"$error":"#NAME?"}},{"$f":"ROUND(IF(B90<0,B90, B90 - Shocks!D89 * ABS(B90))+Extrapolation!T92, 5)","v":{"$error":"#NAME?"}}]
[79,2.2990532958129695E-2,{"$f":"ROUND(B91*(1+Shocks!H90)+Shocks!I90,5)","v":2.777E-2},{"$f":"ROUND(B91*(1-Shocks!F90)-Shocks!G90,5)","v":1.7309999999999999E-2},{"$f":"ROUND(B91 + MAX(0.01,Shocks!E90*ABS(B91) ),5)","v":3.2989999999999998E-2},{"$f":"ROUND(IF(B91<0,B91, B91 - Shocks!D90 * ABS(B91)),5)","v":1.8069999999999999E-2},null,{"$error":"#NAME?"},{"$f":"ROUND(B91*(1+Shocks!H90)+Shocks!I90,5)+Extrapolation!T93","v":{"$error":"#NAME?"}},{"$f":"ROUND(B91*(1-Shocks!F90)-Shocks!G90,5)+Extrapolation!T93","v":{"$error":"#NAME?"}},{"$f":"ROUND(B91 + MAX(0.01,Shocks!E90*ABS(B91) )+Extrapolation!T93, 5)","v":{"$error":"#NAME?"}},{"$f":"ROUND(IF(B91<0,B91, B91 - Shocks!D90 * ABS(B91))+Extrapolation!T93, 5)","v":{"$error":"#NAME?"}}]
[80,2.3169403085117946E-2,{"$f":"ROUND(B92*(1+Shocks!H91)+Shocks!I91,5)","v":2.7969999999999998E-2},{"$f":"ROUND(B92*(1-Shocks!F91)-Shocks!G91,5)","v":1.754E-2},{"$f":"ROUND(B92 + MAX(0.01,Shocks!E91*ABS(B92) ),5)","v":3.3169999999999998E-2},{"$f":"ROUND(IF(B92<0,B92, B92 - Shocks!D91 * ABS(B92)),5)","v":1.8239999999999999E-2},null,{"$error":"#NAME?"},{"$f":"ROUND(B92*(1+Shocks!H91)+Shocks!I91,5)+Extrapolation!T94","v":{"$error":"#NAME?"}},{"$f":"ROUND(B92*(1-Shocks!F91)-Shocks!G91,5)+Extrapolation!T94","v":{"$error":"#NAME?"}},{"$f":"ROUND(B92 + MAX(0.01,Shocks!E91*ABS(B92) )+Extrapolation!T94, 5)","v":{"$error":"#NAME?"}},{"$f":"ROUND(IF(B92<0,B92, B92 - Shocks!D91 * ABS(B92))+Extrapolation!T94, 5)","v":{"$error":"#NAME?"}}]
[81,2.3344003346649211E-2,{"$f":"ROUND(B93*(1+Shocks!H92)+Shocks!I92,5)","v":2.8160000000000001E-2},{"$f":"ROUND(B93*(1-Shocks!F92)-Shocks!G92,5)","v":1.7770000000000001E-2},{"$f":"ROUND(B93 + MAX(0.01,Shocks!E92*ABS(B93) ),5)","v":3.3340000000000002E-2},{"$f":"ROUND(IF(B93<0,B93, B93 - Shocks!D92 * ABS(B93)),5)","v":1.8409999999999999E-2},null,{"$error":"#NAME?"},{"$f":"ROUND(B93*(1+Shocks!H92)+Shocks!I92,5)+Extrapolation!T95","v":{"$error":"#NAME?"}},{"$f":"ROUND(B93*(1-Shocks!F92)-Shocks!G92,5)+Extrapolation!T95","v":{"$error":"#NAME?"}},{"$f":"ROUND(B93 + MAX(0.01,Shocks!E92*ABS(B93) )+Extrapolation!T95, 5)","v":{"$error":"#NAME?"}},{"$f":"ROUND(IF(B93<0,B93, B93 - Shocks!D92 * ABS(B93))+Extrapolation!T95, 5)","v":{"$error":"#NAME?"}}]
[82,2.3514477972788494E-2,{"$f":"ROUND(B94*(1+Shocks!H93)+Shocks!I93,5)","v":2.835E-2},{"$f":"ROUND(B94*(1-Shocks!F93)-Shocks!G93,5)","v":1.8010000000000002E-2},{"$f":"ROUND(B94 + MAX(0.01,Shocks!E93*ABS(B94) ),5)","v":3.3509999999999998E-2},{"$f":"ROUND(IF(B94<0,B94, B94 - Shocks!D93 * ABS(B94)),5)","v":1.857E-2},null,{"$error":"#NAME?"},{"$f":"ROUND(B94*(1+Shocks!H93)+Shocks!I93,5)+Extrapolation!T96","v":{"$error":"#NAME?"}},{"$f":"ROUND(B94*(1-Shocks!F93)-Shocks!G93,5)+Extrapolation!T96","v":{"$error":"#NAME?"}},{"$f":"ROUND(B94 + MAX(0.01,Shocks!E93*ABS(B94) )+Extrapolation!T96, 5)","v":{"$error":"#NAME?"}},{"$f":"ROUND(IF(B94<0,B94, B94 - Shocks!D93 * ABS(B94))+Extrapolation!T96, 5)","v":{"$error":"#NAME?"}}]
[83,2.3680965314814229E-2,{"$f":"ROUND(B95*(1+Shocks!H94)+Shocks!I94,5)","v":2.8539999999999999E-2},{"$f":"ROUND(B95*(1-Shocks!F94)-Shocks!G94,5)","v":1.823E-2},{"$f":"ROUND(B95 + MAX(0.01,Shocks!E94*ABS(B95) ),5)","v":3.3680000000000002E-2},{"$f":"ROUND(IF(B95<0,B95, B95 - Shocks!D94 * ABS(B95)),5)","v":1.873E-2},null,{"$error":"#NAME?"},{"$f":"ROUND(B95*(1+Shocks!H94)+Shocks!I94,5)+Extrapolation!T97","v":{"$error":"#NAME?"}},{"$f":"ROUND(B95*(1-Shocks!F94)-Shocks!G94,5)+Extrapolation!T97","v":{"$error":"#NAME?"}},{"$f":"ROUND(B95 + MAX(0.01,Shocks!E94*ABS(B95) )+Extrapolation!T97, 5)","v":{"$error":"#NAME?"}},{"$f":"ROUND(IF(B95<0,B95, B95 - Shocks!D94 * ABS(B95))+Extrapolation!T97, 5)","v":{"$error":"#NAME?"}}]
[84,2.3843598096600749E-2,{"$f":"ROUND(B96*(1+Shocks!H95)+Shocks!I95,5)","v":2.8709999999999999E-2},{"$f":"ROUND(B96*(1-Shocks!F95)-Shocks!G95,5)","v":1.8460000000000001E-2},{"$f":"ROUND(B96 + MAX(0.01,Shocks!E95*ABS(B96) ),5)","v":3.3840000000000002E-2},{"$f":"ROUND(IF(B96<0,B96, B96 - Shocks!D95 * ABS(B96)),5)","v":1.8890000000000001E-2},null,{"$error":"#NAME?"},{"$f":"ROUND(B96*(1+Shocks!H95)+Shocks!I95,5)+Extrapolation!T98","v":{"$error":"#NAME?"}},{"$f":"ROUND(B96*(1-Shocks!F95)-Shocks!G95,5)+Extrapolation!T98","v":{"$error":"#NAME?"}},{"$f":"ROUND(B96 + MAX(0.01,Shocks!E95*ABS(B96) )+Extrapolation!T98, 5)","v":{"$error":"#NAME?"}},{"$f":"ROUND(IF(B96<0,B96, B96 - Shocks!D95 * ABS(B96))+Extrapolation!T98, 5)","v":{"$error":"#NAME?"}}]
[85,2.4002503657397423E-2,{"$f":"ROUND(B97*(1+Shocks!H96)+Shocks!I96,5)","v":2.8889999999999999E-2},{"$f":"ROUND(B97*(1-Shocks!F96)-Shocks!G96,5)","v":1.8689999999999998E-2},{"$f":"ROUND(B97 + MAX(0.01,Shocks!E96*ABS(B97) ),5)","v":3.4000000000000002E-2},{"$f":"ROUND(IF(B97<0,B97, B97 - Shocks!D96 * ABS(B97)),5)","v":1.9050000000000001E-2},null,{"$error":"#NAME?"},{"$f":"ROUND(B97*(1+Shocks!H96)+Shocks!I96,5)+Extrapolation!T99","v":{"$error":"#NAME?"}},{"$f":"ROUND(B97*(1-Shocks!F96)-Shocks!G96,5)+Extrapolation!T99","v":{"$error":"#NAME?"}},{"$f":"ROUND(B97 + MAX(0.01,Shocks!E96*ABS(B97) )+Extrapolation!T99, 5)","v":{"$error":"#NAME?"}},{"$f":"ROUND(IF(B97<0,B97, B97 - Shocks!D96 * ABS(B97))+Extrapolation!T99, 5)","v":{"$error":"#NAME?"}}]
[86,2.4157804185853005E-2,{"$f":"ROUND(B98*(1+Shocks!H97)+Shocks!I97,5)","v":2.9059999999999999E-2},{"$f":"ROUND(B98*(1-Shocks!F97)-Shocks!G97,5)","v":1.891E-2},{"$f":"ROUND(B98 + MAX(0.01,Shocks!E97*ABS(B98) ),5)","v":3.4160000000000003E-2},{"$f":"ROUND(IF(B98<0,B98, B98 - Shocks!D97 * ABS(B98)),5)","v":1.9199999999999998E-2},null,{"$error":"#NAME?"},{"$f":"ROUND(B98*(1+Shocks!H97)+Shocks!I97,5)+Extrapolation!T100","v":{"$error":"#NAME?"}},{"$f":"ROUND(B98*(1-Shocks!F97)-Shocks!G97,5)+Extrapolation!T100","v":{"$error":"#NAME?"}},{"$f":"ROUND(B98 + MAX(0.01,Shocks!E97*ABS(B98) )+Extrapolation!T100, 5)","v":{"$error":"#NAME?"}},{"$f":"ROUND(IF(B98<0,B98, B98 - Shocks!D97 * ABS(B98))+Extrapolation!T100, 5)","v":{"$error":"#NAME?"}}]
[87,2.4309616945233259E-2,{"$f":"ROUND(B99*(1+Shocks!H98)+Shocks!I98,5)","v":2.9219999999999999E-2},{"$f":"ROUND(B99*(1-Shocks!F98)-Shocks!G98,5)","v":1.9140000000000001E-2},{"$f":"ROUND(B99 + MAX(0.01,Shocks!E98*ABS(B99) ),5)","v":3.431E-2},{"$f":"ROUND(IF(B99<0,B99, B99 - Shocks!D98 * ABS(B99)),5)","v":1.9349999999999999E-2},null,{"$error":"#NAME?"},{"$f":"ROUND(B99*(1+Shocks!H98)+Shocks!I98,5)+Extrapolation!T101","v":{"$error":"#NAME?"}},{"$f":"ROUND(B99*(1-Shocks!F98)-Shocks!G98,5)+Extrapolation!T101","v":{"$error":"#NAME?"}},{"$f":"ROUND(B99 + MAX(0.01,Shocks!E98*ABS(B99) )+Extrapolation!T101, 5)","v":{"$error":"#NAME?"}},{"$f":"ROUND(IF(B99<0,B99, B99 - Shocks!D98 * ABS(B99))+Extrapolation!T101, 5)","v":{"$error":"#NAME?"}}]
[88,2.4458054489842951E-2,{"$f":"ROUND(B100*(1+Shocks!H99)+Shocks!I99,5)","v":2.938E-2},{"$f":"ROUND(B100*(1-Shocks!F99)-Shocks!G99,5)","v":1.9359999999999999E-2},{"$f":"ROUND(B100 + MAX(0.01,Shocks!E99*ABS(B100) ),5)","v":3.4459999999999998E-2},{"$f":"ROUND(IF(B100<0,B100, B100 - Shocks!D99 * ABS(B100)),5)","v":1.95E-2},null,{"$error":"#NAME?"},{"$f":"ROUND(B100*(1+Shocks!H99)+Shocks!I99,5)+Extrapolation!T102","v":{"$error":"#NAME?"}},{"$f":"ROUND(B100*(1-Shocks!F99)-Shocks!G99,5)+Extrapolation!T102","v":{"$error":"#NAME?"}},{"$f":"ROUND(B100 + MAX(0.01,Shocks!E99*ABS(B100) )+Extrapolation!T102, 5)","v":{"$error":"#NAME?"}},{"$f":"ROUND(IF(B100<0,B100, B100 - Shocks!D99 * ABS(B100))+Extrapolation!T102, 5)","v":{"$error":"#NAME?"}}]
[89,2.4603224872740137E-2,{"$f":"ROUND(B101*(1+Shocks!H100)+Shocks!I100,5)","v":2.954E-2},{"$f":"ROUND(B101*(1-Shocks!F100)-Shocks!G100,5)","v":1.958E-2},{"$f":"ROUND(B101 + MAX(0.01,Shocks!E100*ABS(B101) ),5)","v":3.4599999999999999E-2},{"$f":"ROUND(IF(B101<0,B101, B101 - Shocks!D100 * ABS(B101)),5)","v":1.9650000000000001E-2},null,{"$error":"#NAME?"},{"$f":"ROUND(B101*(1+Shocks!H100)+Shocks!I100,5)+Extrapolation!T103","v":{"$error":"#NAME?"}},{"$f":"ROUND(B101*(1-Shocks!F100)-Shocks!G100,5)+Extrapolation!T103","v":{"$error":"#NAME?"}},{"$f":"ROUND(B101 + MAX(0.01,Shocks!E100*ABS(B101) )+Extrapolation!T103, 5)","v":{"$error":"#NAME?"}},{"$f":"ROUND(IF(B101<0,B101, B101 - Shocks!D100 * ABS(B101))+Extrapolation!T103, 5)","v":{"$error":"#NAME?"}}]
[90,2.4745231844867099E-2,{"$f":"ROUND(B102*(1+Shocks!H101)+Shocks!I101,5)","v":2.9690000000000001E-2},{"$f":"ROUND(B102*(1-Shocks!F101)-Shocks!G101,5)","v":1.9800000000000002E-2},{"$f":"ROUND(B102 + MAX(0.01,Shocks!E101*ABS(B102) ),5)","v":3.4750000000000003E-2},{"$f":"ROUND(IF(B102<0,B102, B102 - Shocks!D101 * ABS(B102)),5)","v":1.9800000000000002E-2},null,{"$error":"#NAME?"},{"$f":"ROUND(B102*(1+Shocks!H101)+Shocks!I101,5)+Extrapolation!T104","v":{"$error":"#NAME?"}},{"$f":"ROUND(B102*(1-Shocks!F101)-Shocks!G101,5)+Extrapolation!T104","v":{"$error":"#NAME?"}},{"$f":"ROUND(B102 + MAX(0.01,Shocks!E101*ABS(B102) )+Extrapolation!T104, 5)","v":{"$error":"#NAME?"}},{"$f":"ROUND(IF(B102<0,B102, B102 - Shocks!D101 * ABS(B102))+Extrapolation!T104, 5)","v":{"$error":"#NAME?"}}]
[91,2.4884175045773116E-2,{"$f":"ROUND(B103*(1+Shocks!H102)+Shocks!I102,5)","v":2.9860000000000001E-2},{"$f":"ROUND(B103*(1-Shocks!F102)-Shocks!G102,5)","v":1.9910000000000001E-2},{"$f":"ROUND(B103 + MAX(0.01,Shocks!E102*ABS(B103) ),5)","v":3.4880000000000001E-2},{"$f":"ROUND(IF(B103<0,B103, B103 - Shocks!D102 * ABS(B103)),5)","v":1.9910000000000001E-2},null,{"$error":"#NAME?"},{"$f":"ROUND(B103*(1+Shocks!H102)+Shocks!I102,5)+Extrapolation!T105","v":{"$error":"#NAME?"}},{"$f":"ROUND(B103*(1-Shocks!F102)-Shocks!G102,5)+Extrapolation!T105","v":{"$error":"#NAME?"}},{"$f":"ROUND(B103 + MAX(0.01,Shocks!E102*ABS(B103) )+Extrapolation!T105, 5)","v":{"$error":"#NAME?"}},{"$f":"ROUND(IF(B103<0,B103, B103 - Shocks!D102 * ABS(B103))+Extrapolation!T105, 5)","v":{"$error":"#NAME?"}}]
[92,2.5020150186124246E-2,{"$f":"ROUND(B104*(1+Shocks!H103)+Shocks!I103,5)","v":3.0020000000000002E-2},{"$f":"ROUND(B104*(1-Shocks!F103)-Shocks!G103,5)","v":2.002E-2},{"$f":"ROUND(B104 + MAX(0.01,Shocks!E103*ABS(B104) ),5)","v":3.5020000000000003E-2},{"$f":"ROUND(IF(B104<0,B104, B104 - Shocks!D103 * ABS(B104)),5)","v":2.002E-2},null,{"$error":"#NAME?"},{"$f":"ROUND(B104*(1+Shocks!H103)+Shocks!I103,5)+Extrapolation!T106","v":{"$error":"#NAME?"}},{"$f":"ROUND(B104*(1-Shocks!F103)-Shocks!G103,5)+Extrapolation!T106","v":{"$error":"#NAME?"}},{"$f":"ROUND(B104 + MAX(0.01,Shocks!E103*ABS(B104) )+Extrapolation!T106, 5)","v":{"$error":"#NAME?"}},{"$f":"ROUND(IF(B104<0,B104, B104 - Shocks!D103 * ABS(B104))+Extrapolation!T106, 5)","v":{"$error":"#NAME?"}}]
[93,2.5153249222228835E-2,{"$f":"ROUND(B105*(1+Shocks!H104)+Shocks!I104,5)","v":3.0179999999999998E-2},{"$f":"ROUND(B105*(1-Shocks!F104)-Shocks!G104,5)","v":2.0119999999999999E-2},{"$f":"ROUND(B105 + MAX(0.01,Shocks!E104*ABS(B105) ),5)","v":3.5150000000000001E-2},{"$f":"ROUND(IF(B105<0,B105, B105 - Shocks!D104 * ABS(B105)),5)","v":2.0119999999999999E-2},null,{"$error":"#NAME?"},{"$f":"ROUND(B105*(1+Shocks!H104)+Shocks!I104,5)+Extrapolation!T107","v":{"$error":"#NAME?"}},{"$f":"ROUND(B105*(1-Shocks!F104)-Shocks!G104,5)+Extrapolation!T107","v":{"$error":"#NAME?"}},{"$f":"ROUND(B105 + MAX(0.01,Shocks!E104*ABS(B105) )+Extrapolation!T107, 5)","v":{"$error":"#NAME?"}},{"$f":"ROUND(IF(B105<0,B105, B105 - Shocks!D104 * ABS(B105))+Extrapolation!T107, 5)","v":{"$error":"#NAME?"}}]
[94,2.5283560522819881E-2,{"$f":"ROUND(B106*(1+Shocks!H105)+Shocks!I105,5)","v":3.0339999999999999E-2},{"$f":"ROUND(B106*(1-Shocks!F105)-Shocks!G105,5)","v":2.0230000000000001E-2},{"$f":"ROUND(B106 + MAX(0.01,Shocks!E105*ABS(B106) ),5)","v":3.5279999999999999E-2},{"$f":"ROUND(IF(B106<0,B106, B106 - Shocks!D105 * ABS(B106)),5)","v":2.0230000000000001E-2},null,{"$error":"#NAME?"},{"$f":"ROUND(B106*(1+Shocks!H105)+Shocks!I105,5)+Extrapolation!T108","v":{"$error":"#NAME?"}},{"$f":"ROUND(B106*(1-Shocks!F105)-Shocks!G105,5)+Extrapolation!T108","v":{"$error":"#NAME?"}},{"$f":"ROUND(B106 + MAX(0.01,Shocks!E105*ABS(B106) )+Extrapolation!T108, 5)","v":{"$error":"#NAME?"}},{"$f":"ROUND(IF(B106<0,B106, B106 - Shocks!D105 * ABS(B106))+Extrapolation!T108, 5)","v":{"$error":"#NAME?"}}]
[95,2.5411169028346281E-2,{"$f":"ROUND(B107*(1+Shocks!H106)+Shocks!I106,5)","v":3.049E-2},{"$f":"ROUND(B107*(1-Shocks!F106)-Shocks!G106,5)","v":2.0330000000000001E-2},{"$f":"ROUND(B107 + MAX(0.01,Shocks!E106*ABS(B107) ),5)","v":3.5409999999999997E-2},{"$f":"ROUND(IF(B107<0,B107, B107 - Shocks!D106 * ABS(B107)),5)","v":2.0330000000000001E-2},null,{"$error":"#NAME?"},{"$f":"ROUND(B107*(1+Shocks!H106)+Shocks!I106,5)+Extrapolation!T109","v":{"$error":"#NAME?"}},{"$f":"ROUND(B107*(1-Shocks!F106)-Shocks!G106,5)+Extrapolation!T109","v":{"$error":"#NAME?"}},{"$f":"ROUND(B107 + MAX(0.01,Shocks!E106*ABS(B107) )+Extrapolation!T109, 5)","v":{"$error":"#NAME?"}},{"$f":"ROUND(IF(B107<0,B107, B107 - Shocks!D106 * ABS(B107))+Extrapolation!T109, 5)","v":{"$error":"#NAME?"}}]
[96,2.5536156403038746E-2,{"$f":"ROUND(B108*(1+Shocks!H107)+Shocks!I107,5)","v":3.0640000000000001E-2},{"$f":"ROUND(B108*(1-Shocks!F107)-Shocks!G107,5)","v":2.043E-2},{"$f":"ROUND(B108 + MAX(0.01,Shocks!E107*ABS(B108) ),5)","v":3.5540000000000002E-2},{"$f":"ROUND(IF(B108<0,B108, B108 - Shocks!D107 * ABS(B108)),5)","v":2.043E-2},null,{"$error":"#NAME?"},{"$f":"ROUND(B108*(1+Shocks!H107)+Shocks!I107,5)+Extrapolation!T110","v":{"$error":"#NAME?"}},{"$f":"ROUND(B108*(1-Shocks!F107)-Shocks!G107,5)+Extrapolation!T110","v":{"$error":"#NAME?"}},{"$f":"ROUND(B108 + MAX(0.01,Shocks!E107*ABS(B108) )+Extrapolation!T110, 5)","v":{"$error":"#NAME?"}},{"$f":"ROUND(IF(B108<0,B108, B108 - Shocks!D107 * ABS(B108))+Extrapolation!T110, 5)","v":{"$error":"#NAME?"}}]
[97,2.5658601180016616E-2,{"$f":"ROUND(B109*(1+Shocks!H108)+Shocks!I108,5)","v":3.0790000000000001E-2},{"$f":"ROUND(B109*(1-Shocks!F108)-Shocks!G108,5)","v":2.053E-2},{"$f":"ROUND(B109 + MAX(0.01,Shocks!E108*ABS(B109) ),5)","v":3.5659999999999997E-2},{"$f":"ROUND(IF(B109<0,B109, B109 - Shocks!D108 * ABS(B109)),5)","v":2.053E-2},null,{"$error":"#NAME?"},{"$f":"ROUND(B109*(1+Shocks!H108)+Shocks!I108,5)+Extrapolation!T111","v":{"$error":"#NAME?"}},{"$f":"ROUND(B109*(1-Shocks!F108)-Shocks!G108,5)+Extrapolation!T111","v":{"$error":"#NAME?"}},{"$f":"ROUND(B109 + MAX(0.01,Shocks!E108*ABS(B109) )+Extrapolation!T111, 5)","v":{"$error":"#NAME?"}},{"$f":"ROUND(IF(B109<0,B109, B109 - Shocks!D108 * ABS(B109))+Extrapolation!T111, 5)","v":{"$error":"#NAME?"}}]
[98,2.5778578899704474E-2,{"$f":"ROUND(B110*(1+Shocks!H109)+Shocks!I109,5)","v":3.0929999999999999E-2},{"$f":"ROUND(B110*(1-Shocks!F109)-Shocks!G109,5)","v":2.0619999999999999E-2},{"$f":"ROUND(B110 + MAX(0.01,Shocks!E109*ABS(B110) ),5)","v":3.5779999999999999E-2},{"$f":"ROUND(IF(B110<0,B110, B110 - Shocks!D109 * ABS(B110)),5)","v":2.0619999999999999E-2},null,{"$error":"#NAME?"},{"$f":"ROUND(B110*(1+Shocks!H109)+Shocks!I109,5)+Extrapolation!T112","v":{"$error":"#NAME?"}},{"$f":"ROUND(B110*(1-Shocks!F109)-Shocks!G109,5)+Extrapolation!T112","v":{"$error":"#NAME?"}},{"$f":"ROUND(B110 + MAX(0.01,Shocks!E109*ABS(B110) )+Extrapolation!T112, 5)","v":{"$error":"#NAME?"}},{"$f":"ROUND(IF(B110<0,B110, B110 - Shocks!D109 * ABS(B110))+Extrapolation!T112, 5)","v":{"$error":"#NAME?"}}]
[99,2.5896162241828113E-2,{"$f":"ROUND(B111*(1+Shocks!H110)+Shocks!I110,5)","v":3.108E-2},{"$f":"ROUND(B111*(1-Shocks!F110)-Shocks!G110,5)","v":2.0719999999999999E-2},{"$f":"ROUND(B111 + MAX(0.01,Shocks!E110*ABS(B111) ),5)","v":3.5900000000000001E-2},{"$f":"ROUND(IF(B111<0,B111, B111 - Shocks!D110 * ABS(B111)),5)","v":2.0719999999999999E-2},null,{"$error":"#NAME?"},{"$f":"ROUND(B111*(1+Shocks!H110)+Shocks!I110,5)+Extrapolation!T113","v":{"$error":"#NAME?"}},{"$f":"ROUND(B111*(1-Shocks!F110)-Shocks!G110,5)+Extrapolation!T113","v":{"$error":"#NAME?"}},{"$f":"ROUND(B111 + MAX(0.01,Shocks!E110*ABS(B111) )+Extrapolation!T113, 5)","v":{"$error":"#NAME?"}},{"$f":"ROUND(IF(B111<0,B111, B111 - Shocks!D110 * ABS(B111))+Extrapolation!T113, 5)","v":{"$error":"#NAME?"}}]
[100,2.6011421151256098E-2,{"$f":"ROUND(B112*(1+Shocks!H111)+Shocks!I111,5)","v":3.1210000000000002E-2},{"$f":"ROUND(B112*(1-Shocks!F111)-Shocks!G111,5)","v":2.0809999999999999E-2},{"$f":"ROUND(B112 + MAX(0.01,Shocks!E111*ABS(B112) ),5)","v":3.601E-2},{"$f":"ROUND(IF(B112<0,B112, B112 - Shocks!D111 * ABS(B112)),5)","v":2.0809999999999999E-2},null,{"$error":"#NAME?"},{"$f":"ROUND(B112*(1+Shocks!H111)+Shocks!I111,5)+Extrapolation!T114","v":{"$error":"#NAME?"}},{"$f":"ROUND(B112*(1-Shocks!F111)-Shocks!G111,5)+Extrapolation!T114","v":{"$error":"#NAME?"}},{"$f":"ROUND(B112 + MAX(0.01,Shocks!E111*ABS(B112) )+Extrapolation!T114, 5)","v":{"$error":"#NAME?"}},{"$f":"ROUND(IF(B112<0,B112, B112 - Shocks!D111 * ABS(B112))+Extrapolation!T114, 5)","v":{"$error":"#NAME?"}}]
[101,2.6124422957949811E-2,{"$f":"ROUND(B113*(1+Shocks!H112)+Shocks!I112,5)","v":3.1350000000000003E-2},{"$f":"ROUND(B113*(1-Shocks!F112)-Shocks!G112,5)","v":2.0899999999999998E-2},{"$f":"ROUND(B113 + MAX(0.01,Shocks!E112*ABS(B113) ),5)","v":3.6119999999999999E-2},{"$f":"ROUND(IF(B113<0,B113, B113 - Shocks!D112 * ABS(B113)),5)","v":2.0899999999999998E-2},null,{"$error":"#NAME?"},{"$f":"ROUND(B113*(1+Shocks!H112)+Shocks!I112,5)+Extrapolation!T115","v":{"$error":"#NAME?"}},{"$f":"ROUND(B113*(1-Shocks!F112)-Shocks!G112,5)+Extrapolation!T115","v":{"$error":"#NAME?"}},{"$f":"ROUND(B113 + MAX(0.01,Shocks!E112*ABS(B113) )+Extrapolation!T115, 5)","v":{"$error":"#NAME?"}},{"$f":"ROUND(IF(B113<0,B113, B113 - Shocks!D112 * ABS(B113))+Extrapolation!T115, 5)","v":{"$error":"#NAME?"}}]
[102,2.6235232491277127E-2,{"$f":"ROUND(B114*(1+Shocks!H113)+Shocks!I113,5)","v":3.1480000000000001E-2},{"$f":"ROUND(B114*(1-Shocks!F113)-Shocks!G113,5)","v":2.0990000000000002E-2},{"$f":"ROUND(B114 + MAX(0.01,Shocks!E113*ABS(B114) ),5)","v":3.6240000000000001E-2},{"$f":"ROUND(IF(B114<0,B114, B114 - Shocks!D113 * ABS(B114)),5)","v":2.0990000000000002E-2},null,{"$error":"#NAME?"},{"$f":"ROUND(B114*(1+Shocks!H113)+Shocks!I113,5)+Extrapolation!T116","v":{"$error":"#NAME?"}},{"$f":"ROUND(B114*(1-Shocks!F113)-Shocks!G113,5)+Extrapolation!T116","v":{"$error":"#NAME?"}},{"$f":"ROUND(B114 + MAX(0.01,Shocks!E113*ABS(B114) )+Extrapolation!T116, 5)","v":{"$error":"#NAME?"}},{"$f":"ROUND(IF(B114<0,B114, B114 - Shocks!D113 * ABS(B114))+Extrapolation!T116, 5)","v":{"$error":"#NAME?"}}]
[103,2.6343912188943941E-2,{"$f":"ROUND(B115*(1+Shocks!H114)+Shocks!I114,5)","v":3.1609999999999999E-2},{"$f":"ROUND(B115*(1-Shocks!F114)-Shocks!G114,5)","v":2.1080000000000002E-2},{"$f":"ROUND(B115 + MAX(0.01,Shocks!E114*ABS(B115) ),5)","v":3.6339999999999997E-2},{"$f":"ROUND(IF(B115<0,B115, B115 - Shocks!D114 * ABS(B115)),5)","v":2.1080000000000002E-2},null,{"$error":"#NAME?"},{"$f":"ROUND(B115*(1+Shocks!H114)+Shocks!I114,5)+Extrapolation!T117","v":{"$error":"#NAME?"}},{"$f":"ROUND(B115*(1-Shocks!F114)-Shocks!G114,5)+Extrapolation!T117","v":{"$error":"#NAME?"}},{"$f":"ROUND(B115 + MAX(0.01,Shocks!E114*ABS(B115) )+Extrapolation!T117, 5)","v":{"$error":"#NAME?"}},{"$f":"ROUND(IF(B115<0,B115, B115 - Shocks!D114 * ABS(B115))+Extrapolation!T117, 5)","v":{"$error":"#NAME?"}}]
[104,2.64505222007827E-2,{"$f":"ROUND(B116*(1+Shocks!H115)+Shocks!I115,5)","v":3.1739999999999997E-2},{"$f":"ROUND(B116*(1-Shocks!F115)-Shocks!G115,5)","v":2.1160000000000002E-2},{"$f":"ROUND(B116 + MAX(0.01,Shocks!E115*ABS(B116) ),5)","v":3.6450000000000003E-2},{"$f":"ROUND(IF(B116<0,B116, B116 - Shocks!D115 * ABS(B116)),5)","v":2.1160000000000002E-2},null,{"$error":"#NAME?"},{"$f":"ROUND(B116*(1+Shocks!H115)+Shocks!I115,5)+Extrapolation!T118","v":{"$error":"#NAME?"}},{"$f":"ROUND(B116*(1-Shocks!F115)-Shocks!G115,5)+Extrapolation!T118","v":{"$error":"#NAME?"}},{"$f":"ROUND(B116 + MAX(0.01,Shocks!E115*ABS(B116) )+Extrapolation!T118, 5)","v":{"$error":"#NAME?"}},{"$f":"ROUND(IF(B116<0,B116, B116 - Shocks!D115 * ABS(B116))+Extrapolation!T118, 5)","v":{"$error":"#NAME?"}}]
[105,2.6555120487640194E-2,{"$f":"ROUND(B117*(1+Shocks!H116)+Shocks!I116,5)","v":3.1870000000000002E-2},{"$f":"ROUND(B117*(1-Shocks!F116)-Shocks!G116,5)","v":2.1239999999999998E-2},{"$f":"ROUND(B117 + MAX(0.01,Shocks!E116*ABS(B117) ),5)","v":3.6560000000000002E-2},{"$f":"ROUND(IF(B117<0,B117, B117 - Shocks!D116 * ABS(B117)),5)","v":2.1239999999999998E-2},null,{"$error":"#NAME?"},{"$f":"ROUND(B117*(1+Shocks!H116)+Shocks!I116,5)+Extrapolation!T119","v":{"$error":"#NAME?"}},{"$f":"ROUND(B117*(1-Shocks!F116)-Shocks!G116,5)+Extrapolation!T119","v":{"$error":"#NAME?"}},{"$f":"ROUND(B117 + MAX(0.01,Shocks!E116*ABS(B117) )+Extrapolation!T119, 5)","v":{"$error":"#NAME?"}},{"$f":"ROUND(IF(B117<0,B117, B117 - Shocks!D116 * ABS(B117))+Extrapolation!T119, 5)","v":{"$error":"#NAME?"}}]
[106,2.665776291558819E-2,{"$f":"ROUND(B118*(1+Shocks!H117)+Shocks!I117,5)","v":3.1989999999999998E-2},{"$f":"ROUND(B118*(1-Shocks!F117)-Shocks!G117,5)","v":2.1329999999999998E-2},{"$f":"ROUND(B118 + MAX(0.01,Shocks!E117*ABS(B118) ),5)","v":3.6659999999999998E-2},{"$f":"ROUND(IF(B118<0,B118, B118 - Shocks!D117 * ABS(B118)),5)","v":2.1329999999999998E-2},null,{"$error":"#NAME?"},{"$f":"ROUND(B118*(1+Shocks!H117)+Shocks!I117,5)+Extrapolation!T120","v":{"$error":"#NAME?"}},{"$f":"ROUND(B118*(1-Shocks!F117)-Shocks!G117,5)+Extrapolation!T120","v":{"$error":"#NAME?"}},{"$f":"ROUND(B118 + MAX(0.01,Shocks!E117*ABS(B118) )+Extrapolation!T120, 5)","v":{"$error":"#NAME?"}},{"$f":"ROUND(IF(B118<0,B118, B118 - Shocks!D117 * ABS(B118))+Extrapolation!T120, 5)","v":{"$error":"#NAME?"}}]
[107,2.6758503345678752E-2,{"$f":"ROUND(B119*(1+Shocks!H118)+Shocks!I118,5)","v":3.211E-2},{"$f":"ROUND(B119*(1-Shocks!F118)-Shocks!G118,5)","v":2.1409999999999998E-2},{"$f":"ROUND(B119 + MAX(0.01,Shocks!E118*ABS(B119) ),5)","v":3.6760000000000001E-2},{"$f":"ROUND(IF(B119<0,B119, B119 - Shocks!D118 * ABS(B119)),5)","v":2.1409999999999998E-2},null,{"$error":"#NAME?"},{"$f":"ROUND(B119*(1+Shocks!H118)+Shocks!I118,5)+Extrapolation!T121","v":{"$error":"#NAME?"}},{"$f":"ROUND(B119*(1-Shocks!F118)-Shocks!G118,5)+Extrapolation!T121","v":{"$error":"#NAME?"}},{"$f":"ROUND(B119 + MAX(0.01,Shocks!E118*ABS(B119) )+Extrapolation!T121, 5)","v":{"$error":"#NAME?"}},{"$f":"ROUND(IF(B119<0,B119, B119 - Shocks!D118 * ABS(B119))+Extrapolation!T121, 5)","v":{"$error":"#NAME?"}}]
[108,2.6857393719457612E-2,{"$f":"ROUND(B120*(1+Shocks!H119)+Shocks!I119,5)","v":3.2230000000000002E-2},{"$f":"ROUND(B120*(1-Shocks!F119)-Shocks!G119,5)","v":2.1489999999999999E-2},{"$f":"ROUND(B120 + MAX(0.01,Shocks!E119*ABS(B120) ),5)","v":3.6859999999999997E-2},{"$f":"ROUND(IF(B120<0,B120, B120 - Shocks!D119 * ABS(B120)),5)","v":2.1489999999999999E-2},null,{"$error":"#NAME?"},{"$f":"ROUND(B120*(1+Shocks!H119)+Shocks!I119,5)+Extrapolation!T122","v":{"$error":"#NAME?"}},{"$f":"ROUND(B120*(1-Shocks!F119)-Shocks!G119,5)+Extrapolation!T122","v":{"$error":"#NAME?"}},{"$f":"ROUND(B120 + MAX(0.01,Shocks!E119*ABS(B120) )+Extrapolation!T122, 5)","v":{"$error":"#NAME?"}},{"$f":"ROUND(IF(B120<0,B120, B120 - Shocks!D119 * ABS(B120))+Extrapolation!T122, 5)","v":{"$error":"#NAME?"}}]
[109,2.6954484140437218E-2,{"$f":"ROUND(B121*(1+Shocks!H120)+Shocks!I120,5)","v":3.2349999999999997E-2},{"$f":"ROUND(B121*(1-Shocks!F120)-Shocks!G120,5)","v":2.1559999999999999E-2},{"$f":"ROUND(B121 + MAX(0.01,Shocks!E120*ABS(B121) ),5)","v":3.6949999999999997E-2},{"$f":"ROUND(IF(B121<0,B121, B121 - Shocks!D120 * ABS(B121)),5)","v":2.1559999999999999E-2},null,{"$error":"#NAME?"},{"$f":"ROUND(B121*(1+Shocks!H120)+Shocks!I120,5)+Extrapolation!T123","v":{"$error":"#NAME?"}},{"$f":"ROUND(B121*(1-Shocks!F120)-Shocks!G120,5)+Extrapolation!T123","v":{"$error":"#NAME?"}},{"$f":"ROUND(B121 + MAX(0.01,Shocks!E120*ABS(B121) )+Extrapolation!T123, 5)","v":{"$error":"#NAME?"}},{"$f":"ROUND(IF(B121<0,B121, B121 - Shocks!D120 * ABS(B121))+Extrapolation!T123, 5)","v":{"$error":"#NAME?"}}]
[110,2.7049822951725311E-2,{"$f":"ROUND(B122*(1+Shocks!H121)+Shocks!I121,5)","v":3.2460000000000003E-2},{"$f":"ROUND(B122*(1-Shocks!F121)-Shocks!G121,5)","v":2.164E-2},{"$f":"ROUND(B122 + MAX(0.01,Shocks!E121*ABS(B122) ),5)","v":3.705E-2},{"$f":"ROUND(IF(B122<0,B122, B122 - Shocks!D121 * ABS(B122)),5)","v":2.164E-2},null,{"$error":"#NAME?"},{"$f":"ROUND(B122*(1+Shocks!H121)+Shocks!I121,5)+Extrapolation!T124","v":{"$error":"#NAME?"}},{"$f":"ROUND(B122*(1-Shocks!F121)-Shocks!G121,5)+Extrapolation!T124","v":{"$error":"#NAME?"}},{"$f":"ROUND(B122 + MAX(0.01,Shocks!E121*ABS(B122) )+Extrapolation!T124, 5)","v":{"$error":"#NAME?"}},{"$f":"ROUND(IF(B122<0,B122, B122 - Shocks!D121 * ABS(B122))+Extrapolation!T124, 5)","v":{"$error":"#NAME?"}}]
[111,2.7143456809996191E-2,{"$f":"ROUND(B123*(1+Shocks!H122)+Shocks!I122,5)","v":3.2570000000000002E-2},{"$f":"ROUND(B123*(1-Shocks!F122)-Shocks!G122,5)","v":2.171E-2},{"$f":"ROUND(B123 + MAX(0.01,Shocks!E122*ABS(B123) ),5)","v":3.7139999999999999E-2},{"$f":"ROUND(IF(B123<0,B123, B123 - Shocks!D122 * ABS(B123)),5)","v":2.171E-2},null,{"$error":"#NAME?"},{"$f":"ROUND(B123*(1+Shocks!H122)+Shocks!I122,5)+Extrapolation!T125","v":{"$error":"#NAME?"}},{"$f":"ROUND(B123*(1-Shocks!F122)-Shocks!G122,5)+Extrapolation!T125","v":{"$error":"#NAME?"}},{"$f":"ROUND(B123 + MAX(0.01,Shocks!E122*ABS(B123) )+Extrapolation!T125, 5)","v":{"$error":"#NAME?"}},{"$f":"ROUND(IF(B123<0,B123, B123 - Shocks!D122 * ABS(B123))+Extrapolation!T125, 5)","v":{"$error":"#NAME?"}}]
[112,2.7235430755983003E-2,{"$f":"ROUND(B124*(1+Shocks!H123)+Shocks!I123,5)","v":3.2680000000000001E-2},{"$f":"ROUND(B124*(1-Shocks!F123)-Shocks!G123,5)","v":2.179E-2},{"$f":"ROUND(B124 + MAX(0.01,Shocks!E123*ABS(B124) ),5)","v":3.7240000000000002E-2},{"$f":"ROUND(IF(B124<0,B124, B124 - Shocks!D123 * ABS(B124)),5)","v":2.179E-2},null,{"$error":"#NAME?"},{"$f":"ROUND(B124*(1+Shocks!H123)+Shocks!I123,5)+Extrapolation!T126","v":{"$error":"#NAME?"}},{"$f":"ROUND(B124*(1-Shocks!F123)-Shocks!G123,5)+Extrapolation!T126","v":{"$error":"#NAME?"}},{"$f":"ROUND(B124 + MAX(0.01,Shocks!E123*ABS(B124) )+Extrapolation!T126, 5)","v":{"$error":"#NAME?"}},{"$f":"ROUND(IF(B124<0,B124, B124 - Shocks!D123 * ABS(B124))+Extrapolation!T126, 5)","v":{"$error":"#NAME?"}}]
[113,2.7325788281662433E-2,{"$f":"ROUND(B125*(1+Shocks!H124)+Shocks!I124,5)","v":3.279E-2},{"$f":"ROUND(B125*(1-Shocks!F124)-Shocks!G124,5)","v":2.1860000000000001E-2},{"$f":"ROUND(B125 + MAX(0.01,Shocks!E124*ABS(B125) ),5)","v":3.7330000000000002E-2},{"$f":"ROUND(IF(B125<0,B125, B125 - Shocks!D124 * ABS(B125)),5)","v":2.1860000000000001E-2},null,{"$error":"#NAME?"},{"$f":"ROUND(B125*(1+Shocks!H124)+Shocks!I124,5)+Extrapolation!T127","v":{"$error":"#NAME?"}},{"$f":"ROUND(B125*(1-Shocks!F124)-Shocks!G124,5)+Extrapolation!T127","v":{"$error":"#NAME?"}},{"$f":"ROUND(B125 + MAX(0.01,Shocks!E124*ABS(B125) )+Extrapolation!T127, 5)","v":{"$error":"#NAME?"}},{"$f":"ROUND(IF(B125<0,B125, B125 - Shocks!D124 * ABS(B125))+Extrapolation!T127, 5)","v":{"$error":"#NAME?"}}]
[114,2.7414571394293707E-2,{"$f":"ROUND(B126*(1+Shocks!H125)+Shocks!I125,5)","v":3.2899999999999999E-2},{"$f":"ROUND(B126*(1-Shocks!F125)-Shocks!G125,5)","v":2.1930000000000002E-2},{"$f":"ROUND(B126 + MAX(0.01,Shocks!E125*ABS(B126) ),5)","v":3.7409999999999999E-2},{"$f":"ROUND(IF(B126<0,B126, B126 - Shocks!D125 * ABS(B126)),5)","v":2.1930000000000002E-2},null,{"$error":"#NAME?"},{"$f":"ROUND(B126*(1+Shocks!H125)+Shocks!I125,5)+Extrapolation!T128","v":{"$error":"#NAME?"}},{"$f":"ROUND(B126*(1-Shocks!F125)-Shocks!G125,5)+Extrapolation!T128","v":{"$error":"#NAME?"}},{"$f":"ROUND(B126 + MAX(0.01,Shocks!E125*ABS(B126) )+Extrapolation!T128, 5)","v":{"$error":"#NAME?"}},{"$f":"ROUND(IF(B126<0,B126, B126 - Shocks!D125 * ABS(B126))+Extrapolation!T128, 5)","v":{"$error":"#NAME?"}}]
[115,2.7501820677467759E-2,{"$f":"ROUND(B127*(1+Shocks!H126)+Shocks!I126,5)","v":3.3000000000000002E-2},{"$f":"ROUND(B127*(1-Shocks!F126)-Shocks!G126,5)","v":2.1999999999999999E-2},{"$f":"ROUND(B127 + MAX(0.01,Shocks!E126*ABS(B127) ),5)","v":3.7499999999999999E-2},{"$f":"ROUND(IF(B127<0,B127, B127 - Shocks!D126 * ABS(B127)),5)","v":2.1999999999999999E-2},null,{"$error":"#NAME?"},{"$f":"ROUND(B127*(1+Shocks!H126)+Shocks!I126,5)+Extrapolation!T129","v":{"$error":"#NAME?"}},{"$f":"ROUND(B127*(1-Shocks!F126)-Shocks!G126,5)+Extrapolation!T129","v":{"$error":"#NAME?"}},{"$f":"ROUND(B127 + MAX(0.01,Shocks!E126*ABS(B127) )+Extrapolation!T129, 5)","v":{"$error":"#NAME?"}},{"$f":"ROUND(IF(B127<0,B127, B127 - Shocks!D126 * ABS(B127))+Extrapolation!T129, 5)","v":{"$error":"#NAME?"}}]
[116,2.7587575349314886E-2,{"$f":"ROUND(B128*(1+Shocks!H127)+Shocks!I127,5)","v":3.3110000000000001E-2},{"$f":"ROUND(B128*(1-Shocks!F127)-Shocks!G127,5)","v":2.2069999999999999E-2},{"$f":"ROUND(B128 + MAX(0.01,Shocks!E127*ABS(B128) ),5)","v":3.7589999999999998E-2},{"$f":"ROUND(IF(B128<0,B128, B128 - Shocks!D127 * ABS(B128)),5)","v":2.2069999999999999E-2},null,{"$error":"#NAME?"},{"$f":"ROUND(B128*(1+Shocks!H127)+Shocks!I127,5)+Extrapolation!T130","v":{"$error":"#NAME?"}},{"$f":"ROUND(B128*(1-Shocks!F127)-Shocks!G127,5)+Extrapolation!T130","v":{"$error":"#NAME?"}},{"$f":"ROUND(B128 + MAX(0.01,Shocks!E127*ABS(B128) )+Extrapolation!T130, 5)","v":{"$error":"#NAME?"}},{"$f":"ROUND(IF(B128<0,B128, B128 - Shocks!D127 * ABS(B128))+Extrapolation!T130, 5)","v":{"$error":"#NAME?"}}]
[117,2.7671873318010798E-2,{"$f":"ROUND(B129*(1+Shocks!H128)+Shocks!I128,5)","v":3.3210000000000003E-2},{"$f":"ROUND(B129*(1-Shocks!F128)-Shocks!G128,5)","v":2.214E-2},{"$f":"ROUND(B129 + MAX(0.01,Shocks!E128*ABS(B129) ),5)","v":3.7670000000000002E-2},{"$f":"ROUND(IF(B129<0,B129, B129 - Shocks!D128 * ABS(B129)),5)","v":2.214E-2},null,{"$error":"#NAME?"},{"$f":"ROUND(B129*(1+Shocks!H128)+Shocks!I128,5)+Extrapolation!T131","v":{"$error":"#NAME?"}},{"$f":"ROUND(B129*(1-Shocks!F128)-Shocks!G128,5)+Extrapolation!T131","v":{"$error":"#NAME?"}},{"$f":"ROUND(B129 + MAX(0.01,Shocks!E128*ABS(B129) )+Extrapolation!T131, 5)","v":{"$error":"#NAME?"}},{"$f":"ROUND(IF(B129<0,B129, B129 - Shocks!D128 * ABS(B129))+Extrapolation!T131, 5)","v":{"$error":"#NAME?"}}]
[118,2.7754751234716935E-2,{"$f":"ROUND(B130*(1+Shocks!H129)+Shocks!I129,5)","v":3.3309999999999999E-2},{"$f":"ROUND(B130*(1-Shocks!F129)-Shocks!G129,5)","v":2.2200000000000001E-2},{"$f":"ROUND(B130 + MAX(0.01,Shocks!E129*ABS(B130) ),5)","v":3.7749999999999999E-2},{"$f":"ROUND(IF(B130<0,B130, B130 - Shocks!D129 * ABS(B130)),5)","v":2.2200000000000001E-2},null,{"$error":"#NAME?"},{"$f":"ROUND(B130*(1+Shocks!H129)+Shocks!I129,5)+Extrapolation!T132","v":{"$error":"#NAME?"}},{"$f":"ROUND(B130*(1-Shocks!F129)-Shocks!G129,5)+Extrapolation!T132","v":{"$error":"#NAME?"}},{"$f":"ROUND(B130 + MAX(0.01,Shocks!E129*ABS(B130) )+Extrapolation!T132, 5)","v":{"$error":"#NAME?"}},{"$f":"ROUND(IF(B130<0,B130, B130 - Shocks!D129 * ABS(B130))+Extrapolation!T132, 5)","v":{"$error":"#NAME?"}}]
[119,2.7836244544079847E-2,{"$f":"ROUND(B131*(1+Shocks!H130)+Shocks!I130,5)","v":3.3399999999999999E-2},{"$f":"ROUND(B131*(1-Shocks!F130)-Shocks!G130,5)","v":2.2270000000000002E-2},{"$f":"ROUND(B131 + MAX(0.01,Shocks!E130*ABS(B131) ),5)","v":3.7839999999999999E-2},{"$f":"ROUND(IF(B131<0,B131, B131 - Shocks!D130 * ABS(B131)),5)","v":2.2270000000000002E-2},null,{"$error":"#NAME?"},{"$f":"ROUND(B131*(1+Shocks!H130)+Shocks!I130,5)+Extrapolation!T133","v":{"$error":"#NAME?"}},{"$f":"ROUND(B131*(1-Shocks!F130)-Shocks!G130,5)+Extrapolation!T133","v":{"$error":"#NAME?"}},{"$f":"ROUND(B131 + MAX(0.01,Shocks!E130*ABS(B131) )+Extrapolation!T133, 5)","v":{"$error":"#NAME?"}},{"$f":"ROUND(IF(B131<0,B131, B131 - Shocks!D130 * ABS(B131))+Extrapolation!T133, 5)","v":{"$error":"#NAME?"}}]
[120,2.7916387532413101E-2,{"$f":"ROUND(B132*(1+Shocks!H131)+Shocks!I131,5)","v":3.3500000000000002E-2},{"$f":"ROUND(B132*(1-Shocks!F131)-Shocks!G131,5)","v":2.2329999999999999E-2},{"$f":"ROUND(B132 + MAX(0.01,Shocks!E131*ABS(B132) ),5)","v":3.7920000000000002E-2},{"$f":"ROUND(IF(B132<0,B132, B132 - Shocks!D131 * ABS(B132)),5)","v":2.2329999999999999E-2},null,{"$error":"#NAME?"},{"$f":"ROUND(B132*(1+Shocks!H131)+Shocks!I131,5)+Extrapolation!T134","v":{"$error":"#NAME?"}},{"$f":"ROUND(B132*(1-Shocks!F131)-Shocks!G131,5)+Extrapolation!T134","v":{"$error":"#NAME?"}},{"$f":"ROUND(B132 + MAX(0.01,Shocks!E131*ABS(B132) )+Extrapolation!T134, 5)","v":{"$error":"#NAME?"}},{"$f":"ROUND(IF(B132<0,B132, B132 - Shocks!D131 * ABS(B132))+Extrapolation!T134, 5)","v":{"$error":"#NAME?"}}]
[121,2.7995213373676275E-2,{"$f":"ROUND(B133*(1+Shocks!H132)+Shocks!I132,5)","v":3.3590000000000002E-2},{"$f":"ROUND(B133*(1-Shocks!F132)-Shocks!G132,5)","v":2.24E-2},{"$f":"ROUND(B133 + MAX(0.01,Shocks!E132*ABS(B133) ),5)","v":3.7999999999999999E-2},{"$f":"ROUND(IF(B133<0,B133, B133 - Shocks!D132 * ABS(B133)),5)","v":2.24E-2},null,{"$error":"#NAME?"},{"$f":"ROUND(B133*(1+Shocks!H132)+Shocks!I132,5)+Extrapolation!T135","v":{"$error":"#NAME?"}},{"$f":"ROUND(B133*(1-Shocks!F132)-Shocks!G132,5)+Extrapolation!T135","v":{"$error":"#NAME?"}},{"$f":"ROUND(B133 + MAX(0.01,Shocks!E132*ABS(B133) )+Extrapolation!T135, 5)","v":{"$error":"#NAME?"}},{"$f":"ROUND(IF(B133<0,B133, B133 - Shocks!D132 * ABS(B133))+Extrapolation!T135, 5)","v":{"$error":"#NAME?"}}]
[122,2.8072754173359415E-2,{"$f":"ROUND(B134*(1+Shocks!H133)+Shocks!I133,5)","v":3.3689999999999998E-2},{"$f":"ROUND(B134*(1-Shocks!F133)-Shocks!G133,5)","v":2.2460000000000001E-2},{"$f":"ROUND(B134 + MAX(0.01,Shocks!E133*ABS(B134) ),5)","v":3.807E-2},{"$f":"ROUND(IF(B134<0,B134, B134 - Shocks!D133 * ABS(B134)),5)","v":2.2460000000000001E-2},null,{"$error":"#NAME?"},{"$f":"ROUND(B134*(1+Shocks!H133)+Shocks!I133,5)+Extrapolation!T136","v":{"$error":"#NAME?"}},{"$f":"ROUND(B134*(1-Shocks!F133)-Shocks!G133,5)+Extrapolation!T136","v":{"$error":"#NAME?"}},{"$f":"ROUND(B134 + MAX(0.01,Shocks!E133*ABS(B134) )+Extrapolation!T136, 5)","v":{"$error":"#NAME?"}},{"$f":"ROUND(IF(B134<0,B134, B134 - Shocks!D133 * ABS(B134))+Extrapolation!T136, 5)","v":{"$error":"#NAME?"}}]
[123,2.8149041010377518E-2,{"$f":"ROUND(B135*(1+Shocks!H134)+Shocks!I134,5)","v":3.3779999999999998E-2},{"$f":"ROUND(B135*(1-Shocks!F134)-Shocks!G134,5)","v":2.2519999999999998E-2},{"$f":"ROUND(B135 + MAX(0.01,Shocks!E134*ABS(B135) ),5)","v":3.8150000000000003E-2},{"$f":"ROUND(IF(B135<0,B135, B135 - Shocks!D134 * ABS(B135)),5)","v":2.2519999999999998E-2},null,{"$error":"#NAME?"},{"$f":"ROUND(B135*(1+Shocks!H134)+Shocks!I134,5)+Extrapolation!T137","v":{"$error":"#NAME?"}},{"$f":"ROUND(B135*(1-Shocks!F134)-Shocks!G134,5)+Extrapolation!T137","v":{"$error":"#NAME?"}},{"$f":"ROUND(B135 + MAX(0.01,Shocks!E134*ABS(B135) )+Extrapolation!T137, 5)","v":{"$error":"#NAME?"}},{"$f":"ROUND(IF(B135<0,B135, B135 - Shocks!D134 * ABS(B135))+Extrapolation!T137, 5)","v":{"$error":"#NAME?"}}]
[124,2.8224103977074533E-2,{"$f":"ROUND(B136*(1+Shocks!H135)+Shocks!I135,5)","v":3.3869999999999997E-2},{"$f":"ROUND(B136*(1-Shocks!F135)-Shocks!G135,5)","v":2.2579999999999999E-2},{"$f":"ROUND(B136 + MAX(0.01,Shocks!E135*ABS(B136) ),5)","v":3.8219999999999997E-2},{"$f":"ROUND(IF(B136<0,B136, B136 - Shocks!D135 * ABS(B136)),5)","v":2.2579999999999999E-2},null,{"$error":"#NAME?"},{"$f":"ROUND(B136*(1+Shocks!H135)+Shocks!I135,5)+Extrapolation!T138","v":{"$error":"#NAME?"}},{"$f":"ROUND(B136*(1-Shocks!F135)-Shocks!G135,5)+Extrapolation!T138","v":{"$error":"#NAME?"}},{"$f":"ROUND(B136 + MAX(0.01,Shocks!E135*ABS(B136) )+Extrapolation!T138, 5)","v":{"$error":"#NAME?"}},{"$f":"ROUND(IF(B136<0,B136, B136 - Shocks!D135 * ABS(B136))+Extrapolation!T138, 5)","v":{"$error":"#NAME?"}}]
[125,2.8297972217427692E-2,{"$f":"ROUND(B137*(1+Shocks!H136)+Shocks!I136,5)","v":3.3959999999999997E-2},{"$f":"ROUND(B137*(1-Shocks!F136)-Shocks!G136,5)","v":2.264E-2},{"$f":"ROUND(B137 + MAX(0.01,Shocks!E136*ABS(B137) ),5)","v":3.8300000000000001E-2},{"$f":"ROUND(IF(B137<0,B137, B137 - Shocks!D136 * ABS(B137)),5)","v":2.264E-2},null,{"$error":"#NAME?"},{"$f":"ROUND(B137*(1+Shocks!H136)+Shocks!I136,5)+Extrapolation!T139","v":{"$error":"#NAME?"}},{"$f":"ROUND(B137*(1-Shocks!F136)-Shocks!G136,5)+Extrapolation!T139","v":{"$error":"#NAME?"}},{"$f":"ROUND(B137 + MAX(0.01,Shocks!E136*ABS(B137) )+Extrapolation!T139, 5)","v":{"$error":"#NAME?"}},{"$f":"ROUND(IF(B137<0,B137, B137 - Shocks!D136 * ABS(B137))+Extrapolation!T139, 5)","v":{"$error":"#NAME?"}}]
[126,2.8370673963544757E-2,{"$f":"ROUND(B138*(1+Shocks!H137)+Shocks!I137,5)","v":3.4040000000000001E-2},{"$f":"ROUND(B138*(1-Shocks!F137)-Shocks!G137,5)","v":2.2700000000000001E-2},{"$f":"ROUND(B138 + MAX(0.01,Shocks!E137*ABS(B138) ),5)","v":3.8370000000000001E-2},{"$f":"ROUND(IF(B138<0,B138, B138 - Shocks!D137 * ABS(B138)),5)","v":2.2700000000000001E-2},null,{"$error":"#NAME?"},{"$f":"ROUND(B138*(1+Shocks!H137)+Shocks!I137,5)+Extrapolation!T140","v":{"$error":"#NAME?"}},{"$f":"ROUND(B138*(1-Shocks!F137)-Shocks!G137,5)+Extrapolation!T140","v":{"$error":"#NAME?"}},{"$f":"ROUND(B138 + MAX(0.01,Shocks!E137*ABS(B138) )+Extrapolation!T140, 5)","v":{"$error":"#NAME?"}},{"$f":"ROUND(IF(B138<0,B138, B138 - Shocks!D137 * ABS(B138))+Extrapolation!T140, 5)","v":{"$error":"#NAME?"}}]
[127,2.8442236570533463E-2,{"$f":"ROUND(B139*(1+Shocks!H138)+Shocks!I138,5)","v":3.4130000000000001E-2},{"$f":"ROUND(B139*(1-Shocks!F138)-Shocks!G138,5)","v":2.2749999999999999E-2},{"$f":"ROUND(B139 + MAX(0.01,Shocks!E138*ABS(B139) ),5)","v":3.8440000000000002E-2},{"$f":"ROUND(IF(B139<0,B139, B139 - Shocks!D138 * ABS(B139)),5)","v":2.2749999999999999E-2},null,{"$error":"#NAME?"},{"$f":"ROUND(B139*(1+Shocks!H138)+Shocks!I138,5)+Extrapolation!T141","v":{"$error":"#NAME?"}},{"$f":"ROUND(B139*(1-Shocks!F138)-Shocks!G138,5)+Extrapolation!T141","v":{"$error":"#NAME?"}},{"$f":"ROUND(B139 + MAX(0.01,Shocks!E138*ABS(B139) )+Extrapolation!T141, 5)","v":{"$error":"#NAME?"}},{"$f":"ROUND(IF(B139<0,B139, B139 - Shocks!D138 * ABS(B139))+Extrapolation!T141, 5)","v":{"$error":"#NAME?"}}]
[128,2.8512686549828858E-2,{"$f":"ROUND(B140*(1+Shocks!H139)+Shocks!I139,5)","v":3.422E-2},{"$f":"ROUND(B140*(1-Shocks!F139)-Shocks!G139,5)","v":2.281E-2},{"$f":"ROUND(B140 + MAX(0.01,Shocks!E139*ABS(B140) ),5)","v":3.8510000000000003E-2},{"$f":"ROUND(IF(B140<0,B140, B140 - Shocks!D139 * ABS(B140)),5)","v":2.281E-2},null,{"$error":"#NAME?"},{"$f":"ROUND(B140*(1+Shocks!H139)+Shocks!I139,5)+Extrapolation!T142","v":{"$error":"#NAME?"}},{"$f":"ROUND(B140*(1-Shocks!F139)-Shocks!G139,5)+Extrapolation!T142","v":{"$error":"#NAME?"}},{"$f":"ROUND(B140 + MAX(0.01,Shocks!E139*ABS(B140) )+Extrapolation!T142, 5)","v":{"$error":"#NAME?"}},{"$f":"ROUND(IF(B140<0,B140, B140 - Shocks!D139 * ABS(B140))+Extrapolation!T142, 5)","v":{"$error":"#NAME?"}}]
[129,2.8582049601048487E-2,{"$f":"ROUND(B141*(1+Shocks!H140)+Shocks!I140,5)","v":3.4299999999999997E-2},{"$f":"ROUND(B141*(1-Shocks!F140)-Shocks!G140,5)","v":2.2870000000000001E-2},{"$f":"ROUND(B141 + MAX(0.01,Shocks!E140*ABS(B141) ),5)","v":3.8580000000000003E-2},{"$f":"ROUND(IF(B141<0,B141, B141 - Shocks!D140 * ABS(B141)),5)","v":2.2870000000000001E-2},null,{"$error":"#NAME?"},{"$f":"ROUND(B141*(1+Shocks!H140)+Shocks!I140,5)+Extrapolation!T143","v":{"$error":"#NAME?"}},{"$f":"ROUND(B141*(1-Shocks!F140)-Shocks!G140,5)+Extrapolation!T143","v":{"$error":"#NAME?"}},{"$f":"ROUND(B141 + MAX(0.01,Shocks!E140*ABS(B141) )+Extrapolation!T143, 5)","v":{"$error":"#NAME?"}},{"$f":"ROUND(IF(B141<0,B141, B141 - Shocks!D140 * ABS(B141))+Extrapolation!T143, 5)","v":{"$error":"#NAME?"}}]
[130,2.8650350642451139E-2,{"$f":"ROUND(B142*(1+Shocks!H141)+Shocks!I141,5)","v":3.4380000000000001E-2},{"$f":"ROUND(B142*(1-Shocks!F141)-Shocks!G141,5)","v":2.2919999999999999E-2},{"$f":"ROUND(B142 + MAX(0.01,Shocks!E141*ABS(B142) ),5)","v":3.8649999999999997E-2},{"$f":"ROUND(IF(B142<0,B142, B142 - Shocks!D141 * ABS(B142)),5)","v":2.2919999999999999E-2},null,{"$error":"#NAME?"},{"$f":"ROUND(B142*(1+Shocks!H141)+Shocks!I141,5)+Extrapolation!T144","v":{"$error":"#NAME?"}},{"$f":"ROUND(B142*(1-Shocks!F141)-Shocks!G141,5)+Extrapolation!T144","v":{"$error":"#NAME?"}},{"$f":"ROUND(B142 + MAX(0.01,Shocks!E141*ABS(B142) )+Extrapolation!T144, 5)","v":{"$error":"#NAME?"}},{"$f":"ROUND(IF(B142<0,B142, B142 - Shocks!D141 * ABS(B142))+Extrapolation!T144, 5)","v":{"$error":"#NAME?"}}]
[131,2.871761384006688E-2,{"$f":"ROUND(B143*(1+Shocks!H142)+Shocks!I142,5)","v":3.4459999999999998E-2},{"$f":"ROUND(B143*(1-Shocks!F142)-Shocks!G142,5)","v":2.2970000000000001E-2},{"$f":"ROUND(B143 + MAX(0.01,Shocks!E142*ABS(B143) ),5)","v":3.8719999999999997E-2},{"$f":"ROUND(IF(B143<0,B143, B143 - Shocks!D142 * ABS(B143)),5)","v":2.2970000000000001E-2},null,{"$error":"#NAME?"},{"$f":"ROUND(B143*(1+Shocks!H142)+Shocks!I142,5)+Extrapolation!T145","v":{"$error":"#NAME?"}},{"$f":"ROUND(B143*(1-Shocks!F142)-Shocks!G142,5)+Extrapolation!T145","v":{"$error":"#NAME?"}},{"$f":"ROUND(B143 + MAX(0.01,Shocks!E142*ABS(B143) )+Extrapolation!T145, 5)","v":{"$error":"#NAME?"}},{"$f":"ROUND(IF(B143<0,B143, B143 - Shocks!D142 * ABS(B143))+Extrapolation!T145, 5)","v":{"$error":"#NAME?"}}]
[132,2.8783862635559432E-2,{"$f":"ROUND(B144*(1+Shocks!H143)+Shocks!I143,5)","v":3.4540000000000001E-2},{"$f":"ROUND(B144*(1-Shocks!F143)-Shocks!G143,5)","v":2.3029999999999998E-2},{"$f":"ROUND(B144 + MAX(0.01,Shocks!E143*ABS(B144) ),5)","v":3.8780000000000002E-2},{"$f":"ROUND(IF(B144<0,B144, B144 - Shocks!D143 * ABS(B144)),5)","v":2.3029999999999998E-2},null,{"$error":"#NAME?"},{"$f":"ROUND(B144*(1+Shocks!H143)+Shocks!I143,5)+Extrapolation!T146","v":{"$error":"#NAME?"}},{"$f":"ROUND(B144*(1-Shocks!F143)-Shocks!G143,5)+Extrapolation!T146","v":{"$error":"#NAME?"}},{"$f":"ROUND(B144 + MAX(0.01,Shocks!E143*ABS(B144) )+Extrapolation!T146, 5)","v":{"$error":"#NAME?"}},{"$f":"ROUND(IF(B144<0,B144, B144 - Shocks!D143 * ABS(B144))+Extrapolation!T146, 5)","v":{"$error":"#NAME?"}}]
[133,2.8849119772888399E-2,{"$f":"ROUND(B145*(1+Shocks!H144)+Shocks!I144,5)","v":3.4619999999999998E-2},{"$f":"ROUND(B145*(1-Shocks!F144)-Shocks!G144,5)","v":2.308E-2},{"$f":"ROUND(B145 + MAX(0.01,Shocks!E144*ABS(B145) ),5)","v":3.8850000000000003E-2},{"$f":"ROUND(IF(B145<0,B145, B145 - Shocks!D144 * ABS(B145)),5)","v":2.308E-2},null,{"$error":"#NAME?"},{"$f":"ROUND(B145*(1+Shocks!H144)+Shocks!I144,5)+Extrapolation!T147","v":{"$error":"#NAME?"}},{"$f":"ROUND(B145*(1-Shocks!F144)-Shocks!G144,5)+Extrapolation!T147","v":{"$error":"#NAME?"}},{"$f":"ROUND(B145 + MAX(0.01,Shocks!E144*ABS(B145) )+Extrapolation!T147, 5)","v":{"$error":"#NAME?"}},{"$f":"ROUND(IF(B145<0,B145, B145 - Shocks!D144 * ABS(B145))+Extrapolation!T147, 5)","v":{"$error":"#NAME?"}}]
[134,2.8913407323822193E-2,{"$f":"ROUND(B146*(1+Shocks!H145)+Shocks!I145,5)","v":3.4700000000000002E-2},{"$f":"ROUND(B146*(1-Shocks!F145)-Shocks!G145,5)","v":2.3130000000000001E-2},{"$f":"ROUND(B146 + MAX(0.01,Shocks!E145*ABS(B146) ),5)","v":3.891E-2},{"$f":"ROUND(IF(B146<0,B146, B146 - Shocks!D145 * ABS(B146)),5)","v":2.3130000000000001E-2},null,{"$error":"#NAME?"},{"$f":"ROUND(B146*(1+Shocks!H145)+Shocks!I145,5)+Extrapolation!T148","v":{"$error":"#NAME?"}},{"$f":"ROUND(B146*(1-Shocks!F145)-Shocks!G145,5)+Extrapolation!T148","v":{"$error":"#NAME?"}},{"$f":"ROUND(B146 + MAX(0.01,Shocks!E145*ABS(B146) )+Extrapolation!T148, 5)","v":{"$error":"#NAME?"}},{"$f":"ROUND(IF(B146<0,B146, B146 - Shocks!D145 * ABS(B146))+Extrapolation!T148, 5)","v":{"$error":"#NAME?"}}]
[135,2.8976746712363832E-2,{"$f":"ROUND(B147*(1+Shocks!H146)+Shocks!I146,5)","v":3.4770000000000002E-2},{"$f":"ROUND(B147*(1-Shocks!F146)-Shocks!G146,5)","v":2.3179999999999999E-2},{"$f":"ROUND(B147 + MAX(0.01,Shocks!E146*ABS(B147) ),5)","v":3.8980000000000001E-2},{"$f":"ROUND(IF(B147<0,B147, B147 - Shocks!D146 * ABS(B147)),5)","v":2.3179999999999999E-2},null,{"$error":"#NAME?"},{"$f":"ROUND(B147*(1+Shocks!H146)+Shocks!I146,5)+Extrapolation!T149","v":{"$error":"#NAME?"}},{"$f":"ROUND(B147*(1-Shocks!F146)-Shocks!G146,5)+Extrapolation!T149","v":{"$error":"#NAME?"}},{"$f":"ROUND(B147 + MAX(0.01,Shocks!E146*ABS(B147) )+Extrapolation!T149, 5)","v":{"$error":"#NAME?"}},{"$f":"ROUND(IF(B147<0,B147, B147 - Shocks!D146 * ABS(B147))+Extrapolation!T149, 5)","v":{"$error":"#NAME?"}}]
[136,2.9039158738135784E-2,{"$f":"ROUND(B148*(1+Shocks!H147)+Shocks!I147,5)","v":3.4849999999999999E-2},{"$f":"ROUND(B148*(1-Shocks!F147)-Shocks!G147,5)","v":2.3230000000000001E-2},{"$f":"ROUND(B148 + MAX(0.01,Shocks!E147*ABS(B148) ),5)","v":3.9039999999999998E-2},{"$f":"ROUND(IF(B148<0,B148, B148 - Shocks!D147 * ABS(B148)),5)","v":2.3230000000000001E-2},null,{"$error":"#NAME?"},{"$f":"ROUND(B148*(1+Shocks!H147)+Shocks!I147,5)+Extrapolation!T150","v":{"$error":"#NAME?"}},{"$f":"ROUND(B148*(1-Shocks!F147)-Shocks!G147,5)+Extrapolation!T150","v":{"$error":"#NAME?"}},{"$f":"ROUND(B148 + MAX(0.01,Shocks!E147*ABS(B148) )+Extrapolation!T150, 5)","v":{"$error":"#NAME?"}},{"$f":"ROUND(IF(B148<0,B148, B148 - Shocks!D147 * ABS(B148))+Extrapolation!T150, 5)","v":{"$error":"#NAME?"}}]
[137,2.9100663598777388E-2,{"$f":"ROUND(B149*(1+Shocks!H148)+Shocks!I148,5)","v":3.492E-2},{"$f":"ROUND(B149*(1-Shocks!F148)-Shocks!G148,5)","v":2.3279999999999999E-2},{"$f":"ROUND(B149 + MAX(0.01,Shocks!E148*ABS(B149) ),5)","v":3.9100000000000003E-2},{"$f":"ROUND(IF(B149<0,B149, B149 - Shocks!D148 * ABS(B149)),5)","v":2.3279999999999999E-2},null,{"$error":"#NAME?"},{"$f":"ROUND(B149*(1+Shocks!H148)+Shocks!I148,5)+Extrapolation!T151","v":{"$error":"#NAME?"}},{"$f":"ROUND(B149*(1-Shocks!F148)-Shocks!G148,5)+Extrapolation!T151","v":{"$error":"#NAME?"}},{"$f":"ROUND(B149 + MAX(0.01,Shocks!E148*ABS(B149) )+Extrapolation!T151, 5)","v":{"$error":"#NAME?"}},{"$f":"ROUND(IF(B149<0,B149, B149 - Shocks!D148 * ABS(B149))+Extrapolation!T151, 5)","v":{"$error":"#NAME?"}}]
[138,2.9161280911400578E-2,{"$f":"ROUND(B150*(1+Shocks!H149)+Shocks!I149,5)","v":3.499E-2},{"$f":"ROUND(B150*(1-Shocks!F149)-Shocks!G149,5)","v":2.333E-2},{"$f":"ROUND(B150 + MAX(0.01,Shocks!E149*ABS(B150) ),5)","v":3.916E-2},{"$f":"ROUND(IF(B150<0,B150, B150 - Shocks!D149 * ABS(B150)),5)","v":2.333E-2},null,{"$error":"#NAME?"},{"$f":"ROUND(B150*(1+Shocks!H149)+Shocks!I149,5)+Extrapolation!T152","v":{"$error":"#NAME?"}},{"$f":"ROUND(B150*(1-Shocks!F149)-Shocks!G149,5)+Extrapolation!T152","v":{"$error":"#NAME?"}},{"$f":"ROUND(B150 + MAX(0.01,Shocks!E149*ABS(B150) )+Extrapolation!T152, 5)","v":{"$error":"#NAME?"}},{"$f":"ROUND(IF(B150<0,B150, B150 - Shocks!D149 * ABS(B150))+Extrapolation!T152, 5)","v":{"$error":"#NAME?"}}]
[139,2.9221029733147441E-2,{"$f":"ROUND(B151*(1+Shocks!H150)+Shocks!I150,5)","v":3.5069999999999997E-2},{"$f":"ROUND(B151*(1-Shocks!F150)-Shocks!G150,5)","v":2.3380000000000001E-2},{"$f":"ROUND(B151 + MAX(0.01,Shocks!E150*ABS(B151) ),5)","v":3.9219999999999998E-2},{"$f":"ROUND(IF(B151<0,B151, B151 - Shocks!D150 * ABS(B151)),5)","v":2.3380000000000001E-2},null,{"$error":"#NAME?"},{"$f":"ROUND(B151*(1+Shocks!H150)+Shocks!I150,5)+Extrapolation!T153","v":{"$error":"#NAME?"}},{"$f":"ROUND(B151*(1-Shocks!F150)-Shocks!G150,5)+Extrapolation!T153","v":{"$error":"#NAME?"}},{"$f":"ROUND(B151 + MAX(0.01,Shocks!E150*ABS(B151) )+Extrapolation!T153, 5)","v":{"$error":"#NAME?"}},{"$f":"ROUND(IF(B151<0,B151, B151 - Shocks!D150 * ABS(B151))+Extrapolation!T153, 5)","v":{"$error":"#NAME?"}}]
[140,2.927992858089401E-2,{"$f":"ROUND(B152*(1+Shocks!H151)+Shocks!I151,5)","v":3.5139999999999998E-2},{"$f":"ROUND(B152*(1-Shocks!F151)-Shocks!G151,5)","v":2.342E-2},{"$f":"ROUND(B152 + MAX(0.01,Shocks!E151*ABS(B152) ),5)","v":3.9280000000000002E-2},{"$f":"ROUND(IF(B152<0,B152, B152 - Shocks!D151 * ABS(B152)),5)","v":2.342E-2},null,{"$error":"#NAME?"},{"$f":"ROUND(B152*(1+Shocks!H151)+Shocks!I151,5)+Extrapolation!T154","v":{"$error":"#NAME?"}},{"$f":"ROUND(B152*(1-Shocks!F151)-Shocks!G151,5)+Extrapolation!T154","v":{"$error":"#NAME?"}},{"$f":"ROUND(B152 + MAX(0.01,Shocks!E151*ABS(B152) )+Extrapolation!T154, 5)","v":{"$error":"#NAME?"}},{"$f":"ROUND(IF(B152<0,B152, B152 - Shocks!D151 * ABS(B152))+Extrapolation!T154, 5)","v":{"$error":"#NAME?"}}]
[141,2.9337995450139154E-2,{"$f":"ROUND(B153*(1+Shocks!H152)+Shocks!I152,5)","v":3.5209999999999998E-2},{"$f":"ROUND(B153*(1-Shocks!F152)-Shocks!G152,5)","v":2.3470000000000001E-2},{"$f":"ROUND(B153 + MAX(0.01,Shocks!E152*ABS(B153) ),5)","v":3.934E-2},{"$f":"ROUND(IF(B153<0,B153, B153 - Shocks!D152 * ABS(B153)),5)","v":2.3470000000000001E-2},null,{"$error":"#NAME?"},{"$f":"ROUND(B153*(1+Shocks!H152)+Shocks!I152,5)+Extrapolation!T155","v":{"$error":"#NAME?"}},{"$f":"ROUND(B153*(1-Shocks!F152)-Shocks!G152,5)+Extrapolation!T155","v":{"$error":"#NAME?"}},{"$f":"ROUND(B153 + MAX(0.01,Shocks!E152*ABS(B153) )+Extrapolation!T155, 5)","v":{"$error":"#NAME?"}},{"$f":"ROUND(IF(B153<0,B153, B153 - Shocks!D152 * ABS(B153))+Extrapolation!T155, 5)","v":{"$error":"#NAME?"}}]
[142,2.9395247833115423E-2,{"$f":"ROUND(B154*(1+Shocks!H153)+Shocks!I153,5)","v":3.5270000000000003E-2},{"$f":"ROUND(B154*(1-Shocks!F153)-Shocks!G153,5)","v":2.3519999999999999E-2},{"$f":"ROUND(B154 + MAX(0.01,Shocks!E153*ABS(B154) ),5)","v":3.9399999999999998E-2},{"$f":"ROUND(IF(B154<0,B154, B154 - Shocks!D153 * ABS(B154)),5)","v":2.3519999999999999E-2},null,{"$error":"#NAME?"},{"$f":"ROUND(B154*(1+Shocks!H153)+Shocks!I153,5)+Extrapolation!T156","v":{"$error":"#NAME?"}},{"$f":"ROUND(B154*(1-Shocks!F153)-Shocks!G153,5)+Extrapolation!T156","v":{"$error":"#NAME?"}},{"$f":"ROUND(B154 + MAX(0.01,Shocks!E153*ABS(B154) )+Extrapolation!T156, 5)","v":{"$error":"#NAME?"}},{"$f":"ROUND(IF(B154<0,B154, B154 - Shocks!D153 * ABS(B154))+Extrapolation!T156, 5)","v":{"$error":"#NAME?"}}]
[143,2.9451702736162044E-2,{"$f":"ROUND(B155*(1+Shocks!H154)+Shocks!I154,5)","v":3.5340000000000003E-2},{"$f":"ROUND(B155*(1-Shocks!F154)-Shocks!G154,5)","v":2.3560000000000001E-2},{"$f":"ROUND(B155 + MAX(0.01,Shocks!E154*ABS(B155) ),5)","v":3.9449999999999999E-2},{"$f":"ROUND(IF(B155<0,B155, B155 - Shocks!D154 * ABS(B155)),5)","v":2.3560000000000001E-2},null,{"$error":"#NAME?"},{"$f":"ROUND(B155*(1+Shocks!H154)+Shocks!I154,5)+Extrapolation!T157","v":{"$error":"#NAME?"}},{"$f":"ROUND(B155*(1-Shocks!F154)-Shocks!G154,5)+Extrapolation!T157","v":{"$error":"#NAME?"}},{"$f":"ROUND(B155 + MAX(0.01,Shocks!E154*ABS(B155) )+Extrapolation!T157, 5)","v":{"$error":"#NAME?"}},{"$f":"ROUND(IF(B155<0,B155, B155 - Shocks!D154 * ABS(B155))+Extrapolation!T157, 5)","v":{"$error":"#NAME?"}}]
[144,2.9507376696388254E-2,{"$f":"ROUND(B156*(1+Shocks!H155)+Shocks!I155,5)","v":3.5409999999999997E-2},{"$f":"ROUND(B156*(1-Shocks!F155)-Shocks!G155,5)","v":2.3609999999999999E-2},{"$f":"ROUND(B156 + MAX(0.01,Shocks!E155*ABS(B156) ),5)","v":3.9510000000000003E-2},{"$f":"ROUND(IF(B156<0,B156, B156 - Shocks!D155 * ABS(B156)),5)","v":2.3609999999999999E-2},null,{"$error":"#NAME?"},{"$f":"ROUND(B156*(1+Shocks!H155)+Shocks!I155,5)+Extrapolation!T158","v":{"$error":"#NAME?"}},{"$f":"ROUND(B156*(1-Shocks!F155)-Shocks!G155,5)+Extrapolation!T158","v":{"$error":"#NAME?"}},{"$f":"ROUND(B156 + MAX(0.01,Shocks!E155*ABS(B156) )+Extrapolation!T158, 5)","v":{"$error":"#NAME?"}},{"$f":"ROUND(IF(B156<0,B156, B156 - Shocks!D155 * ABS(B156))+Extrapolation!T158, 5)","v":{"$error":"#NAME?"}}]
[145,2.9562285797666732E-2,{"$f":"ROUND(B157*(1+Shocks!H156)+Shocks!I156,5)","v":3.5470000000000002E-2},{"$f":"ROUND(B157*(1-Shocks!F156)-Shocks!G156,5)","v":2.3650000000000001E-2},{"$f":"ROUND(B157 + MAX(0.01,Shocks!E156*ABS(B157) ),5)","v":3.9559999999999998E-2},{"$f":"ROUND(IF(B157<0,B157, B157 - Shocks!D156 * ABS(B157)),5)","v":2.3650000000000001E-2},null,{"$error":"#NAME?"},{"$f":"ROUND(B157*(1+Shocks!H156)+Shocks!I156,5)+Extrapolation!T159","v":{"$error":"#NAME?"}},{"$f":"ROUND(B157*(1-Shocks!F156)-Shocks!G156,5)+Extrapolation!T159","v":{"$error":"#NAME?"}},{"$f":"ROUND(B157 + MAX(0.01,Shocks!E156*ABS(B157) )+Extrapolation!T159, 5)","v":{"$error":"#NAME?"}},{"$f":"ROUND(IF(B157<0,B157, B157 - Shocks!D156 * ABS(B157))+Extrapolation!T159, 5)","v":{"$error":"#NAME?"}}]
[146,2.9616445685981319E-2,{"$f":"ROUND(B158*(1+Shocks!H157)+Shocks!I157,5)","v":3.5540000000000002E-2},{"$f":"ROUND(B158*(1-Shocks!F157)-Shocks!G157,5)","v":2.3689999999999999E-2},{"$f":"ROUND(B158 + MAX(0.01,Shocks!E157*ABS(B158) ),5)","v":3.9620000000000002E-2},{"$f":"ROUND(IF(B158<0,B158, B158 - Shocks!D157 * ABS(B158)),5)","v":2.3689999999999999E-2},null,{"$error":"#NAME?"},{"$f":"ROUND(B158*(1+Shocks!H157)+Shocks!I157,5)+Extrapolation!T160","v":{"$error":"#NAME?"}},{"$f":"ROUND(B158*(1-Shocks!F157)-Shocks!G157,5)+Extrapolation!T160","v":{"$error":"#NAME?"}},{"$f":"ROUND(B158 + MAX(0.01,Shocks!E157*ABS(B158) )+Extrapolation!T160, 5)","v":{"$error":"#NAME?"}},{"$f":"ROUND(IF(B158<0,B158, B158 - Shocks!D157 * ABS(B158))+Extrapolation!T160, 5)","v":{"$error":"#NAME?"}}]
[147,2.9669871584162344E-2,{"$f":"ROUND(B159*(1+Shocks!H158)+Shocks!I158,5)","v":3.56E-2},{"$f":"ROUND(B159*(1-Shocks!F158)-Shocks!G158,5)","v":2.3740000000000001E-2},{"$f":"ROUND(B159 + MAX(0.01,Shocks!E158*ABS(B159) ),5)","v":3.9669999999999997E-2},{"$f":"ROUND(IF(B159<0,B159, B159 - Shocks!D158 * ABS(B159)),5)","v":2.3740000000000001E-2},null,{"$error":"#NAME?"},{"$f":"ROUND(B159*(1+Shocks!H158)+Shocks!I158,5)+Extrapolation!T161","v":{"$error":"#NAME?"}},{"$f":"ROUND(B159*(1-Shocks!F158)-Shocks!G158,5)+Extrapolation!T161","v":{"$error":"#NAME?"}},{"$f":"ROUND(B159 + MAX(0.01,Shocks!E158*ABS(B159) )+Extrapolation!T161, 5)","v":{"$error":"#NAME?"}},{"$f":"ROUND(IF(B159<0,B159, B159 - Shocks!D158 * ABS(B159))+Extrapolation!T161, 5)","v":{"$error":"#NAME?"}}]
[148,2.9722578306037306E-2,{"$f":"ROUND(B160*(1+Shocks!H159)+Shocks!I159,5)","v":3.567E-2},{"$f":"ROUND(B160*(1-Shocks!F159)-Shocks!G159,5)","v":2.3779999999999999E-2},{"$f":"ROUND(B160 + MAX(0.01,Shocks!E159*ABS(B160) ),5)","v":3.9719999999999998E-2},{"$f":"ROUND(IF(B160<0,B160, B160 - Shocks!D159 * ABS(B160)),5)","v":2.3779999999999999E-2},null,{"$error":"#NAME?"},{"$f":"ROUND(B160*(1+Shocks!H159)+Shocks!I159,5)+Extrapolation!T162","v":{"$error":"#NAME?"}},{"$f":"ROUND(B160*(1-Shocks!F159)-Shocks!G159,5)+Extrapolation!T162","v":{"$error":"#NAME?"}},{"$f":"ROUND(B160 + MAX(0.01,Shocks!E159*ABS(B160) )+Extrapolation!T162, 5)","v":{"$error":"#NAME?"}},{"$f":"ROUND(IF(B160<0,B160, B160 - Shocks!D159 * ABS(B160))+Extrapolation!T162, 5)","v":{"$error":"#NAME?"}}]
[149,2.9774580270021778E-2,{"$f":"ROUND(B161*(1+Shocks!H160)+Shocks!I160,5)","v":3.5729999999999998E-2},{"$f":"ROUND(B161*(1-Shocks!F160)-Shocks!G160,5)","v":2.3820000000000001E-2},{"$f":"ROUND(B161 + MAX(0.01,Shocks!E160*ABS(B161) ),5)","v":3.977E-2},{"$f":"ROUND(IF(B161<0,B161, B161 - Shocks!D160 * ABS(B161)),5)","v":2.3820000000000001E-2},null,{"$error":"#NAME?"},{"$f":"ROUND(B161*(1+Shocks!H160)+Shocks!I160,5)+Extrapolation!T163","v":{"$error":"#NAME?"}},{"$f":"ROUND(B161*(1-Shocks!F160)-Shocks!G160,5)+Extrapolation!T163","v":{"$error":"#NAME?"}},{"$f":"ROUND(B161 + MAX(0.01,Shocks!E160*ABS(B161) )+Extrapolation!T163, 5)","v":{"$error":"#NAME?"}},{"$f":"ROUND(IF(B161<0,B161, B161 - Shocks!D160 * ABS(B161))+Extrapolation!T163, 5)","v":{"$error":"#NAME?"}}]
[150,2.9825891512175629E-2,{"$f":"ROUND(B162*(1+Shocks!H161)+Shocks!I161,5)","v":3.5790000000000002E-2},{"$f":"ROUND(B162*(1-Shocks!F161)-Shocks!G161,5)","v":2.3859999999999999E-2},{"$f":"ROUND(B162 + MAX(0.01,Shocks!E161*ABS(B162) ),5)","v":3.9829999999999997E-2},{"$f":"ROUND(IF(B162<0,B162, B162 - Shocks!D161 * ABS(B162)),5)","v":2.3859999999999999E-2},null,{"$error":"#NAME?"},{"$f":"ROUND(B162*(1+Shocks!H161)+Shocks!I161,5)+Extrapolation!T164","v":{"$error":"#NAME?"}},{"$f":"ROUND(B162*(1-Shocks!F161)-Shocks!G161,5)+Extrapolation!T164","v":{"$error":"#NAME?"}},{"$f":"ROUND(B162 + MAX(0.01,Shocks!E161*ABS(B162) )+Extrapolation!T164, 5)","v":{"$error":"#NAME?"}},{"$f":"ROUND(IF(B162<0,B162, B162 - Shocks!D161 * ABS(B162))+Extrapolation!T164, 5)","v":{"$error":"#NAME?"}}]

{"sheet":"EUR Smith-Wilson LLP30","index":2,"n_rows":174,"n_cols":4,"rows_kept":174,"cut":false,"hidden":false,"merged":[[22,2,22,3]]}
[]
[]
[]
[]
[]
[]
[]
[]
[]
[]
[null,null,"Euro Smith-Wilson LLP30 Term Structures"]
[null,null,"Date","2020-06-30"]
[null,null,"Instrument","SWP"]
[null,null,"CouponFreq",1]
[null,null,"LLP",30]
[null,null,"ConvHorizon",40]
[null,null,"CRA",10]
[null,null,"UFR",3.7499999999999999E-2]
[null,null,"Fitted Alpha"]
[null,null,0.138511,0.137269]
[null,null,"VA","VA"]
[null,null,"n/a",19]
[null,null,"Zero Rates AC"]
[null,null,"SW no VA","SW with VA"]
[null,1,-4.4500000000218974E-3,-2.5500000003025824E-3]
[null,2,-4.7492877139759804E-3,-2.8492877140249284E-3]
[null,3,-4.8490311394123742E-3,-2.9490311395620195E-3]
[null,4,-4.6506939060008134E-3,-2.7506939062259539E-3]
[null,5,-4.4523045769938596E-3,-2.5523045772442021E-3]
[null,6,-4.154891690343665E-3,-2.2548916906028893E-3]
[null,7,-3.8573434612204638E-3,-1.9573434614709173E-3]
[null,8,-3.4605787370208807E-3,-1.5605787372627855E-3]
[null,9,-3.0631946140242672E-3,-1.1631946142895977E-3]
[null,10,-2.6651020891924615E-3,-7.6510208944891023E-4]
[null,11,-2.3428351222611887E-3,-4.4283512247189627E-4]
[null,12,-1.8664394833975972E-3,3.356051641789648E-5]
[null,13,-1.5785481548303837E-3,3.2145184501541912E-4]
[null,14,-1.2510909281745475E-3,6.4890907168679846E-4]
[null,15,-9.4192697808670456E-4,9.5807302179129472E-4]
[null,16,-7.1991780864189003E-4,1.1800821912479886E-3]
[null,17,-5.6480226201971462E-4,1.335197737879934E-3]
[null,18,-4.4978322039745944E-4,1.4502167795120702E-3]
[null,19,-3.5680600017773401E-4,1.5431939997392341E-3]
[null,20,-2.7392386145552727E-4,1.6260761384661038E-3]
[null,21,-1.9878432099218468E-4,1.7012156789355526E-3]
[null,22,-1.500690496910595E-4,1.7499309502431171E-3]
[null,23,-1.462415443802545E-4,1.7537584555589181E-3]
[null,24,-2.0098909477794802E-4,1.6990109051653324E-3]
[null,25,-3.2441679024985959E-4,1.5755832096981948E-3]
[null,26,-5.0787347502723179E-4,1.3921265249250414E-3]
[null,27,-6.8620737678071198E-4,1.213792623175225E-3]
[null,28,-7.9961024789976243E-4,1.1003897520596162E-3]
[null,29,-8.0563773862118992E-4,1.0943622613410753E-3]
[null,30,-6.7345380706040903E-4,1.2265461929041876E-3]
[null,31,-3.9058115694101669E-4,1.5001641540148825E-3]
[null,32,1.1187119563382808E-5,1.8839692837031574E-3]
[null,33,4.9853483193484927E-4,2.3473571479386557E-3]
[null,34,1.0464592478687251E-3,2.867253461652064E-3]
[null,35,1.6360526855419E-3,3.4261382609195312E-3]
[null,36,2.2529390092709267E-3,4.010642719147528E-3]
[null,37,2.8861511237208148E-3,4.6105351025427233E-3]
[null,38,3.527312085758405E-3,5.2179767663993459E-3]
[null,39,4.1700293417021861E-3,5.8269690219070469E-3]
[null,40,4.8094411437391571E-3,6.4329371225129162E-3]
[null,41,5.441873282712395E-3,7.0324141862234679E-3]
[null,42,6.0645768737070949E-3,7.6227988965602567E-3]
[null,43,6.6755264139450876E-3,8.2021683023891789E-3]
[null,44,7.2732631458338748E-3,8.7691321941925082E-3]
[null,45,7.8567728059402153E-3,9.3227191463780557E-3]
[null,46,8.4253897004302747E-3,9.8622868804942865E-3]
[null,47,8.9787210948366614E-3,1.0387451449470841E-2]
[null,48,9.5165873895530773E-3,1.0898031085944115E-2]
[null,49,1.0038974639543286E-2,1.1394001545713017E-2]
[null,50,1.054599678155399E-2,1.1875460511450386E-2]
[null,51,1.1037865533639613E-2,1.234259917231828E-2]
[null,52,1.1514866385374356E-2,1.279567951149585E-2]
[null,53,1.1977339441920032E-2,1.323501615107503E-2]
[null,54,1.2425664149254612E-2,1.3660961847564934E-2]
[null,55,1.2860247131602387E-2,1.407389591977859E-2]
[null,56,1.3281512530331385E-2,1.4474215037593385E-2]
[null,57,1.3689894357171939E-2,1.4862325914942964E-2]
[null,58,1.4085830471722627E-2,1.5238639540811505E-2]
[null,59,1.4469757869884248E-2,1.5603566653542345E-2]
[null,60,1.4842109030728023E-2,1.5957514220633184E-2]
[null,61,1.5203309117795216E-2,1.6300882731592692E-2]
[null,62,1.5553773869646959E-2,1.6634064147817096E-2]
[null,63,1.5893908045661043E-2,1.6957440382719735E-2]
[null,64,1.6224104318196098E-2,1.7271382208965846E-2]
[null,65,1.6544742522564215E-2,1.7576248508797576E-2]
[null,66,1.6856189192711479E-2,1.7872385798945345E-2]
[null,67,1.7158797323888253E-2,1.816012797426092E-2]
[null,68,1.745290631448837E-2,1.8439796224496874E-2]
[null,69,1.7738842048117043E-2,1.8711699087071931E-2]
[null,70,1.8016917084211492E-2,1.8976132605539764E-2]
[null,71,1.8287430931482884E-2,1.9233380569112501E-2]
[null,72,1.8550670383300272E-2,1.9483714813215647E-2]
[null,73,1.8806909898137159E-2,1.9727395564839156E-2]
[null,74,1.9056412011457358E-2,1.9964671819560742E-2]
[null,75,1.9299427768104449E-2,2.019578173967651E-2]
[null,76,1.9536197166446723E-2,2.0420953064971492E-2]
[null,77,1.9766949607341378E-2,2.0640403529380125E-2]
[null,78,1.9991904342442357E-2,2.085434127820629E-2]
[null,79,2.0211270917589674E-2,2.1062965281721135E-2]
[null,80,2.0425249607998852E-2,2.126646574190838E-2]
[null,81,2.0634031842771128E-2,2.1465024489898177E-2]
[null,82,2.0837800616895441E-2,2.1658815372255225E-2]
[null,83,2.1036730889442135E-2,2.1848004624806405E-2]
[null,84,2.1230989967073066E-2,2.2032751233091341E-2]
[null,85,2.1420737872330786E-2,2.2213207278871216E-2]
[null,86,2.1606127696450761E-2,2.2389518272377007E-2]
[null,87,2.1787305936645351E-2,2.2561823470204301E-2]
[null,88,2.1964412817981893E-2,2.2730256178921104E-2]
[null,89,2.2137582600112893E-2,2.2894944044586474E-2]
[null,90,2.230694386920451E-2,2.3056009328477511E-2]
[null,91,2.2472619815494532E-2,2.3213569169394432E-2]
[null,92,2.2634728496956136E-2,2.3367735832974024E-2]
[null,93,2.2793383089587227E-2,2.3518616948469795E-2]
[null,94,2.2948692124862946E-2,2.3666315733496424E-2]
[null,95,2.3100759714901997E-2,2.3810931207233654E-2]
[null,96,2.3249685765907468E-2,2.3952558392608791E-2]
[null,97,2.3395566180429705E-2,2.4091288507959385E-2]
[null,98,2.3538493049000797E-2,2.4227209148688589E-2]
[null,99,2.3678554831669807E-2,2.4360404459399243E-2]
[null,100,2.3815836529961221E-2,2.4490955296994743E-2]
[null,101,2.3950419849751992E-2,2.4618939385209426E-2]
[null,102,2.4082383355555237E-2,2.4744431461021676E-2]
[null,103,2.4211802616667333E-2,2.4867503413377179E-2]
[null,104,2.4338750345625826E-2,2.4988224414642879E-2]
[null,105,2.4463296529394052E-2,2.5106661045180667E-2]
[null,106,2.4585508553681024E-2,2.5222877411421818E-2]
[null,107,2.4705451320770955E-2,2.5336935257799231E-2]
[null,108,2.4823187361227017E-2,2.5448894072875428E-2]
[null,109,2.4938776939814167E-2,2.5558811189992037E-2]
[null,110,2.5052278155958341E-2,2.5666741882744093E-2]
[null,111,2.5163747039055773E-2,2.577273945556624E-2]
[null,112,2.5273237638914647E-2,2.5876855329706849E-2]
[null,113,2.5380802111606426E-2,2.597913912484362E-2]
[null,114,2.548649080098131E-2,2.6079638736587363E-2]
[null,115,2.5590352316090526E-2,2.6178400410099556E-2]
[null,116,2.5692433604745046E-2,2.6275468810041502E-2]
[null,117,2.5792780023423889E-2,2.6370887087056705E-2]
[null,118,2.5891435403733842E-2,2.6464696940981192E-2]
[null,119,2.5988442115615573E-2,2.6556938680957876E-2]
[null,120,2.6083841127467977E-2,2.6647651282627693E-2]
[null,121,2.6177672063366852E-2,2.6736872442557624E-2]
[null,122,2.626997325753222E-2,2.6824638630053466E-2]
[null,123,2.6360781806194611E-2,2.6910985136502363E-2]
[null,124,2.6450133617001992E-2,2.699594612237477E-2]
[null,125,2.6538063456098993E-2,2.7079554662016836E-2]
[null,126,2.6624604993003009E-2,2.7161842786344703E-2]
[null,127,2.6709790843394421E-2,2.7242841523558381E-2]
[null,128,2.6793652609932384E-2,2.7322580937975127E-2]
[null,129,2.6876220921198346E-2,2.740109016708514E-2]
[null,130,2.6957525468867649E-2,2.7478397456919046E-2]
[null,131,2.703759504319847E-2,2.7554530195819105E-2]
[null,132,2.7116457566929819E-2,2.7629514946690303E-2]
[null,133,2.719414012766519E-2,2.770337747781948E-2]
[null,134,2.7270669008822246E-2,2.7776142792322434E-2]
[null,135,2.734606971922271E-2,2.7847835156302958E-2]
[null,136,2.742036702138706E-2,2.7918478125775081E-2]
[null,137,2.7493584958603545E-2,2.798809457242446E-2]
[null,138,2.7565746880829467E-2,2.8056706708252666E-2]
[null,139,2.763687546948379E-2,2.8124336109172754E-2]
[null,140,2.7706992761187488E-2,2.8191003737596976E-2]
[null,141,2.7776120170498242E-2,2.8256729964073912E-2]
[null,142,2.7844278511695686E-2,2.8321534588017894E-2]
[null,143,2.7911488019654929E-2,2.8385436857572444E-2]
[null,144,2.7977768369860323E-2,2.8448455488655711E-2]
[null,145,2.8043138697593006E-2,2.8510608683218308E-2]
[null,146,2.810761761633862E-2,2.8571914146760413E-2]
[null,147,2.8171223235444076E-2,2.8632389105134548E-2]
[null,148,2.8233973177066884E-2,2.869205032067379E-2]
[null,149,2.8295884592443254E-2,2.8750914107671388E-2]
[null,150,2.8356974177511374E-2,2.880899634724976E-2]

{"sheet":"SRC & Scaling Factors","index":3,"n_rows":26,"n_cols":6,"rows_kept":26,"cut":false,"hidden":false,"merged":[]}
[]
[]
[]
[]
[]
[]
[]
[]
[null,"Currency","Risk corrected currency spread","Scaling factor"]
[null,"AUD",1.73976142051167E-3,1.88323917137476,null,"For no country a macroeconomic VA would apply on 30 June 2020."]
[null,"BGN",2.37706804294294E-3,2.5]
[null,"CAD",2.8302956499067999E-3,1.3793103448275901]
[null,"CHF",1.5803839504874601E-3,1.55038759689922]
[null,"CZK",1.7801839275219799E-3,1.5673981191222599]
[null,"DKK",3.6099096063690402E-3,1.3755158184319101]
[null,"EUR",2.73590851213918E-3,1.3869625520111]
[null,"GBP",3.3726131018310397E-3,1.7452006980802801]
[null,"HRK",1.0910114626156301E-3,1.7985611510791399]
[null,"HUF",1.27555851696983E-3,1.4265335235378001]
[null,"ISK",2.6700000000000001E-3,1.81]
[null,"JPY",1.2626877552824301E-3,1.5847860538827301]
[null,"NOK",4.5378336977615705E-3,1.34408602150538]
[null,"PLN",1.9639203894196099E-3,1.5220700152207001]
[null,"RON",1.9281953743117898E-3,1.30548302872063]
[null,"SEK",1.4588470435005201E-3,1.94931773879142]
[null,"USD",6.3105085372913003E-3,1.32802124833997]

{"sheet":"Extrapolation","index":4,"n_rows":164,"n_cols":20,"rows_kept":164,"cut":false,"hidden":true,"merged":[[11,12,11,13],[2,16,2,17]]}
[]
[null,"inputs",null,"Alternative Extrapolation with VA - Derived from situation without VA"]
[null,"outputs",null,"based on alternvative extrapolations from worksheet 2020 Review Term Structures",null,null,null,null,null,null,null,null,null,null,null,"Currency",{"$f":"'Scenario Data'!$J$6","v":"EUR"}]
[null,null,null,null,null,{"$f":"MATCH(Q3,L.ISO4217,0)","v":1}]
[]
[null,null,null,null,null,null,null,null,null,null,null,null,null,null,null,"Alternative Extrapolation with VA"]
[null,null,null,null,"FSP",{"$f":"INDEX(tblRfrAltConfig[FSP],index)","v":20}]
[null,null,null,null,"UFR",{"$f":"INDEX(tblRfrAltConfig[UFR],index)/100","v":3.7499999999999999E-2}]
[null,null,null,null,"MeanReversion",{"$f":"IF(Q3=\"SEK\",40%,10%)","v":0.1},null,null,null,null,null,null,null,null,null,"First weight",{"$f":"INDEX(LLFRweights,FSP)","v":0.33}]
[null,null,null,null,"VA",{"$f":"'Scenario Data'!J7","v":15},"bp AC",null,null,null,null,null,null,null,null,"First fw LLFR",{"$f":"GetFirstFwLLFR($I$15:$I$64,DLT,LLFRweights)","v":{"$error":"#NAME?"}}]
[null,null,null,null,"LLFR",{"$f":"INDEX(TermStructuresLLFR,,2*index)","v":-3.7349246878853084E-4},null,null,null,null,null,null,null,null,null,"LLFRVA",{"$f":"Q9*(Q10+LN(1+VA/10000))+(LLFR-Q9*Q10)","v":{"$error":"#NAME?"}}]
[null,null,null,null,null,null,null,null,null,null,null,null,"+ VA up to FSP"]
[null,"Tenor","DLT","LLFRweights","Tenor","Zero AC",null,"Tenor","Zero CC","1YFw CC",null,"Tenor","Zero CC","1YFw CC",null,"Tenor","Zero+VA AC","1YFw+VA AC","Discount","VA"]
[null,null,null,null,0,null,null,0,null,null,null,0,null,null,null,0,null,null,1]
[null,1,{"$f":"INDEX(INDIRECT(\"tblRfrAltConfig[DLT\"&B15&\"]\"),index)","v":1},{"$f":"INDEX(INDIRECT(\"tblWeightsLLFR[\"&B15&\"]\"),index)","v":0},1,{"$f":"INDEX(TermStructures,,2*index)","v":-4.449999999999843E-3},null,1,{"$f":"LN(1+F15)","v":-4.4599307220932298E-3},{"$f":"$H15*I15-$H14*I14","v":-4.4599307220932298E-3},null,1,{"$f":"AVERAGE(N$15:N15)","v":-2.9610545983572811E-3},{"$f":"J15+($L15<=FSP)*LN(1+VA/10000)","v":-2.9610545983572811E-3},null,1,{"$f":"AlternativeExtrapolation($M$15:$M$164,FSP,UFR,$Q$11,MeanReversion,\"A\")","v":{"$error":"#NAME?"}},{"$error":"#NAME?"},{"$error":"#NAME?"},{"$f":"Q15-F15","v":{"$error":"#NAME?"}}]
[null,2,1,0,2,-4.7492877139407863E-3,null,2,-4.7606014164009221E-3,{"$f":"$H16*I16-$H15*I15","v":-5.0612721107086145E-3},null,2,{"$f":"AVERAGE(N$15:N16)","v":-3.2617252926649735E-3},-3.5623959869726658E-3,null,2,{"$error":"#NAME?"},{"$error":"#NAME?"},{"$error":"#NAME?"},{"$f":"Q16-F16","v":{"$error":"#NAME?"}}]
[null,3,1,0,3,-4.8490311393776242E-3,null,3,-4.8608258348839979E-3,-5.0612746718501495E-3,null,3,{"$f":"AVERAGE(N$15:N17)","v":-3.3619497111480492E-3},-3.5623985481142008E-3,null,3,{"$error":"#NAME?"},{"$error":"#NAME?"},{"$error":"#NAME?"},{"$error":"#NAME?"}]
[null,4,1,0,4,-4.6506939059682839E-3,null,4,-4.6615420301427436E-3,-4.0636906159189808E-3,null,4,{"$f":"AVERAGE(N$15:N18)","v":-3.1626659064067949E-3},-2.5648144921830321E-3,null,4,{"$error":"#NAME?"},{"$error":"#NAME?"},{"$error":"#NAME?"},{"$error":"#NAME?"}]
[null,5,1,0,5,-4.4523045769666592E-3,null,5,-4.4622456029472582E-3,-3.6650598941653165E-3,null,5,{"$f":"AVERAGE(N$15:N19)","v":-2.9633694792113095E-3},-2.1661837704293678E-3,null,5,{"$error":"#NAME?"},{"$error":"#NAME?"},{"$error":"#NAME?"},{"$error":"#NAME?"}]
[null,6,1,0,6,-4.1548916903217936E-3,null,6,-4.1635472363581345E-3,-2.6700554034125162E-3,null,6,{"$f":"AVERAGE(N$15:N20)","v":-2.6646711126221858E-3},-1.1711792796765676E-3,null,6,{"$error":"#NAME?"},{"$error":"#NAME?"},{"$error":"#NAME?"},{"$error":"#NAME?"}]
[null,7,1,0,7,-3.8573434612039215E-3,null,7,-3.8648021972755415E-3,-2.0723319627799844E-3,null,7,{"$f":"AVERAGE(N$15:N21)","v":-2.3659260735395928E-3},-5.734558390440357E-4,null,7,{"$error":"#NAME?"},{"$error":"#NAME?"},{"$error":"#NAME?"},{"$error":"#NAME?"}]
[null,8,1,0,8,-3.460578737007669E-3,null,8,-3.4665803897334108E-3,-6.7902773693849505E-4,null,8,{"$f":"AVERAGE(N$15:N22)","v":-1.9677042659974621E-3},8.1984838679745363E-4,null,8,{"$error":"#NAME?"},{"$error":"#NAME?"},{"$error":"#NAME?"},{"$error":"#NAME?"}]
[null,9,1,0,9,-3.0631946140144972E-3,null,9,-3.0678957975174945E-3,1.2158094020983667E-4,null,9,{"$f":"AVERAGE(N$15:N23)","v":-1.5690196737815458E-3},1.6204570639457854E-3,null,9,{"$error":"#NAME?"},{"$error":"#NAME?"},{"$error":"#NAME?"},{"$error":"#NAME?"}]
[null,10,1,0,10,-2.6651020891858002E-3,null,10,-2.6686597962662707E-3,9.2446421499474407E-4,null,10,{"$f":"AVERAGE(N$15:N24)","v":-1.169783672530322E-3},2.4233403387306928E-3,null,10,{"$error":"#NAME?"},{"$error":"#NAME?"},{"$error":"#NAME?"},{"$error":"#NAME?"}]
[null,11,1,0,11,-2.3428351222567478E-3,null,11,-2.345583854518685E-3,8.8517556295716893E-4,null,11,{"$f":"AVERAGE(N$15:N25)","v":-8.4670773078273666E-4},2.3840516866931176E-3,null,11,{"$error":"#NAME?"},{"$error":"#NAME?"},{"$error":"#NAME?"},{"$error":"#NAME?"}]
[null,12,1,0,12,-1.8664394833945996E-3,null,12,-1.868183451912839E-3,3.3832209767514707E-3,null,12,{"$f":"AVERAGE(N$15:N26)","v":-3.6930732817689032E-4},4.8820971004874189E-3,null,12,{"$error":"#NAME?"},{"$error":"#NAME?"},{"$error":"#NAME?"},{"$error":"#NAME?"}]
[null,13,1,0,13,-1.5785481548286073E-3,null,13,-1.5797953746710209E-3,1.8808615522307934E-3,null,13,{"$f":"AVERAGE(N$15:N27)","v":-8.0919250935072447E-5},3.3797376759667421E-3,null,13,{"$error":"#NAME?"},{"$error":"#NAME?"},{"$error":"#NAME?"},{"$error":"#NAME?"}]
[null,14,1,0,14,-1.2510909281734373E-3,null,14,-1.251874195789545E-3,3.0111011296696417E-3,null,14,{"$f":"AVERAGE(N$15:N28)","v":2.4700192794640342E-4},4.50997725340559E-3,null,14,{"$error":"#NAME?"},{"$error":"#NAME?"},{"$error":"#NAME?"},{"$error":"#NAME?"}]
[null,15,1,0,15,-9.4192697808626047E-4,null,15,-9.4237087006672894E-4,3.3906756900526965E-3,null,15,{"$f":"AVERAGE(N$15:N29)","v":5.5650525366921953E-4},4.8895518137886448E-3,null,15,{"$error":"#NAME?"},{"$error":"#NAME?"},{"$error":"#NAME?"},{"$error":"#NAME?"}]
[null,16,0,0,16,-7.7497898425404887E-4,null,16,-7.7527943570613646E-4,1.7310920797027514E-3,null,16,{"$f":"AVERAGE(N$15:N30)","v":7.2359668802981201E-4},3.2299682034387001E-3,null,16,{"$error":"#NAME?"},{"$error":"#NAME?"},{"$error":"#NAME?"},{"$error":"#NAME?"}]
[null,17,0,0,17,-6.276487632096428E-4,null,17,-6.2784581715271195E-4,1.7310920797020801E-3,null,17,{"$f":"AVERAGE(N$15:N31)","v":8.7103030658323651E-4},3.2299682034380287E-3,null,17,{"$error":"#NAME?"},{"$error":"#NAME?"},{"$error":"#NAME?"},{"$error":"#NAME?"}]
[null,18,0,0,18,-4.9667033020839302E-4,null,18,-4.967937117718469E-4,1.7310920797028589E-3,null,18,{"$f":"AVERAGE(N$15:N32)","v":1.0020824119641016E-3},3.2299682034388076E-3,null,18,{"$error":"#NAME?"},{"$error":"#NAME?"},{"$error":"#NAME?"},{"$error":"#NAME?"}]
[null,19,0,0,19,-3.7946454996118373E-4,null,19,-3.7953656485216404E-4,1.7310920797021278E-3,null,19,{"$f":"AVERAGE(N$15:N33)","v":1.1193395588837843E-3},3.2299682034380764E-3,null,19,{"$error":"#NAME?"},{"$error":"#NAME?"},{"$error":"#NAME?"},{"$error":"#NAME?"}]
[null,20,1,0.33,20,-2.7396759664655157E-4,null,20,-2.7400513262447538E-4,1.7310920797016091E-3,null,20,{"$f":"AVERAGE(N$15:N34)","v":1.2248709911114731E-3},3.2299682034375578E-3,null,20,{"$error":"#NAME?"},{"$error":"#NAME?"},{"$error":"#NAME?"},{"$error":"#NAME?"}]
[null,21,0,0,21,-1.9306145426889465E-4,null,21,-1.930800930304464E-4,1.4254206988501333E-3,null,21,{"$f":"AVERAGE(N$15:N35)","v":1.2344209771942664E-3},1.4254206988501333E-3,null,21,{"$error":"#NAME?"},{"$error":"#NAME?"},{"$error":"#NAME?"},{"$error":"#NAME?"}]
[null,22,0,0,22,3.356441626500839E-5,null,22,3.3563852992592687E-5,4.7930867194764136E-3,null,22,{"$f":"AVERAGE(N$15:N36)","v":1.3961785109343641E-3},4.7930867194764136E-3,null,22,{"$error":"#NAME?"},{"$error":"#NAME?"},{"$error":"#NAME?"},{"$error":"#NAME?"}]
[null,23,0,0,23,3.7305572938839404E-4,null,23,3.729861614010657E-4,7.8402769463874721E-3,null,23,{"$f":"AVERAGE(N$15:N37)","v":1.6763567037801515E-3},7.8402769463874721E-3,null,23,{"$error":"#NAME?"},{"$error":"#NAME?"},{"$error":"#NAME?"},{"$error":"#NAME?"}]
[null,24,0,0,24,7.9932639103041936E-4,null,24,7.9900709982464997E-4,1.0597488683567089E-2,null,24,{"$f":"AVERAGE(N$15:N38)","v":2.0480705362712738E-3},1.0597488683567089E-2,null,24,{"$error":"#NAME?"},{"$error":"#NAME?"},{"$error":"#NAME?"},{"$error":"#NAME?"}]
[null,25,1,0.12,25,1.2915728598819065E-3,null,25,1.2907394971443317E-3,1.3092317032816693E-2,null,25,{"$f":"AVERAGE(N$15:N39)","v":2.4898403961330904E-3},1.3092317032816693E-2,null,25,{"$error":"#NAME?"},{"$error":"#NAME?"},{"$error":"#NAME?"},{"$error":"#NAME?"}]
[null,26,0,0,26,1.8331481078603939E-3,null,26,1.831469942438571E-3,1.5349731074794551E-2,null,26,{"$f":"AVERAGE(N$15:N40)","v":2.9844515760816081E-3},1.5349731074794551E-2,null,26,{"$error":"#NAME?"},{"$error":"#NAME?"},{"$error":"#NAME?"},{"$error":"#NAME?"}]
[null,27,0,0,27,2.4106989351067032E-3,null,27,2.4077978619027932E-3,1.7392323767972569E-2,null,27,{"$f":"AVERAGE(N$15:N41)","v":3.5180764720775699E-3},1.7392323767972569E-2,null,27,{"$error":"#NAME?"},{"$error":"#NAME?"},{"$error":"#NAME?"},{"$error":"#NAME?"}]
[null,28,0,0,28,3.0134986404870556E-3,null,28,3.0089671549268192E-3,1.9240538066575524E-2,null,28,{"$f":"AVERAGE(N$15:N42)","v":4.0795929575953545E-3},1.9240538066575524E-2,null,28,{"$error":"#NAME?"},{"$error":"#NAME?"},{"$error":"#NAME?"},{"$error":"#NAME?"}]
[null,29,0,0,29,3.6329263050836058E-3,null,29,3.6263431675326125E-3,2.0912871520494827E-2,null,29,{"$f":"AVERAGE(N$15:N43)","v":4.6600508390746472E-3},2.0912871520494827E-2,null,29,{"$error":"#NAME?"},{"$error":"#NAME?"},{"$error":"#NAME?"},{"$error":"#NAME?"}]
[null,30,1,0.48,30,4.2620572835279091E-3,null,30,4.2530004421159331E-3,2.2426061405032227E-2,null,30,{"$f":"AVERAGE(N$15:N44)","v":5.2522511912732328E-3},2.2426061405032227E-2,null,30,{"$error":"#NAME?"},{"$error":"#NAME?"},{"$error":"#NAME?"},{"$error":"#NAME?"}]
[null,31,0,0,31,4.895338870999133E-3,null,31,4.8833956611817799E-3,2.3795252233157177E-2,null,31,{"$f":"AVERAGE(N$15:N45)","v":5.8504125152049726E-3},2.3795252233157177E-2,null,31,{"$error":"#NAME?"},{"$error":"#NAME?"},{"$error":"#NAME?"},{"$error":"#NAME?"}]
[null,32,0,0,32,5.5283317896184236E-3,null,32,5.5131066507348708E-3,2.5034147326880696E-2,null,32,{"$f":"AVERAGE(N$15:N46)","v":6.4499042280698393E-3},2.5034147326880696E-2,null,32,{"$error":"#NAME?"},{"$error":"#NAME?"},{"$error":"#NAME?"},{"$error":"#NAME?"}]
[null,33,{"$f":"INDEX(INDIRECT(\"tblRfrAltConfig[DLT\"&B47&\"]\"),index)","v":0},{"$f":"INDEX(INDIRECT(\"tblWeightsLLFR[\"&B47&\"]\"),index)","v":0},33,6.1575029522564773E-3,null,33,{"$f":"LN(1+F47)","v":6.1386229935821825E-3},2.6155145964696147E-2,null,33,{"$f":"AVERAGE(N$15:N47)","v":7.0470327655433639E-3},{"$f":"J47+($L47<=FSP)*LN(1+VA/10000)","v":2.6155145964696147E-2},null,33,{"$error":"#NAME?"},{"$error":"#NAME?"},{"$error":"#NAME?"},{"$error":"#NAME?"}]
[null,34,0,0,34,6.7800584737407465E-3,null,34,6.7571772431167503E-3,2.7169467477757503E-2,null,34,{"$f":"AVERAGE(N$15:N48)","v":7.6388690806084864E-3},2.7169467477757503E-2,null,34,{"$error":"#NAME?"},{"$error":"#NAME?"},{"$error":"#NAME?"},{"$error":"#NAME?"}]
[null,35,0,0,35,7.3938084889249023E-3,null,35,7.3666082800763928E-3,2.808726353670421E-2,null,35,{"$f":"AVERAGE(N$15:N49)","v":8.2231089222112221E-3},2.808726353670421E-2,null,35,{"$error":"#NAME?"},{"$error":"#NAME?"},{"$error":"#NAME?"},{"$error":"#NAME?"}]
[null,36,0,0,36,7.997057265482832E-3,null,36,7.9652502654341591E-3,2.8917719752955984E-2,null,36,{"$f":"AVERAGE(N$15:N50)","v":8.7979592230652427E-3},2.8917719752955984E-2,null,36,{"$error":"#NAME?"},{"$error":"#NAME?"},{"$error":"#NAME?"},{"$error":"#NAME?"}]
[null,37,0,0,37,8.5885135487726583E-3,null,37,8.551842085597311E-3,2.9669147611470825E-2,null,37,{"$f":"AVERAGE(N$15:N51)","v":9.3620453957248533E-3},2.9669147611470825E-2,null,37,{"$error":"#NAME?"},{"$error":"#NAME?"},{"$error":"#NAME?"},{"$error":"#NAME?"}]
[null,38,0,0,38,9.1672171750911691E-3,null,38,9.125453284786882E-3,3.0349067654800999E-2,null,38,{"$f":"AVERAGE(N$15:N52)","v":9.9143354551742245E-3},3.0349067654800999E-2,null,38,{"$error":"#NAME?"},{"$error":"#NAME?"},{"$error":"#NAME?"},{"$error":"#NAME?"}]
[null,39,0,0,39,9.7324788296642151E-3,null,39,9.6854233223892892E-3,3.0964284751280768E-2,null,39,{"$f":"AVERAGE(N$15:N53)","v":1.0454077744817982E-2},3.0964284751280768E-2,null,39,{"$error":"#NAME?"},{"$error":"#NAME?"},{"$error":"#NAME?"},{"$error":"#NAME?"}]
[null,40,1,0.04,40,1.0283830472670896E-2,null,40,1.0231311644339255E-2,3.1520956200387917E-2,null,40,{"$f":"AVERAGE(N$15:N54)","v":1.0980749706207231E-2},3.1520956200387917E-2,null,40,{"$error":"#NAME?"},{"$error":"#NAME?"},{"$error":"#NAME?"},{"$error":"#NAME?"}]
[null,41,0,0,41,1.0820984458427274E-2,null,41,1.0762856564162704E-2,3.2024653357100641E-2,null,41,{"$f":"AVERAGE(N$15:N55)","v":1.1494015648911948E-2},3.2024653357100641E-2,null,41,{"$error":"#NAME?"},{"$error":"#NAME?"},{"$error":"#NAME?"},{"$error":"#NAME?"}]
[null,42,0,0,42,1.1343799764694351E-2,null,42,1.1279941345774095E-2,3.2480417391841154E-2,null,42,{"$f":"AVERAGE(N$15:N56)","v":1.1993691880886453E-2},3.2480417391841154E-2,null,42,{"$error":"#NAME?"},{"$error":"#NAME?"},{"$error":"#NAME?"},{"$error":"#NAME?"}]
[null,43,0,0,43,1.1852254056962552E-2,null,43,1.1782566192251112E-2,3.2892809744285822E-2,null,43,{"$f":"AVERAGE(N$15:N57)","v":1.2479717877709696E-2},3.2892809744285822E-2,null,43,{"$error":"#NAME?"},{"$error":"#NAME?"},{"$error":"#NAME?"},{"$error":"#NAME?"}]
[null,44,0,0,44,1.234642055588786E-2,null,44,1.2270825091874321E-2,3.3265957775672317E-2,null,44,{"$f":"AVERAGE(N$15:N58)","v":1.2952132420845209E-2},3.3265957775672317E-2,null,44,{"$error":"#NAME?"},{"$error":"#NAME?"},{"$error":"#NAME?"},{"$error":"#NAME?"}]
[null,45,0,0,45,1.2826448869438511E-2,null,45,1.2744886669320568E-2,3.36035960769554E-2,null,45,{"$f":"AVERAGE(N$15:N59)","v":1.3411053835425436E-2},3.36035960769554E-2,null,45,{"$error":"#NAME?"},{"$error":"#NAME?"},{"$error":"#NAME?"},{"$error":"#NAME?"}]
[null,46,0,0,46,1.3292549105763385E-2,null,46,1.3204978347067875E-2,3.3909103845696675E-2,null,46,{"$f":"AVERAGE(N$15:N60)","v":1.3856663618257419E-2},3.3909103845696675E-2,null,46,{"$error":"#NAME?"},{"$error":"#NAME?"},{"$error":"#NAME?"},{"$error":"#NAME?"}]
[null,47,0,0,47,1.3744978706791366E-2,null,47,1.3651373248329643E-2,3.4185538706370977E-2,null,47,{"$f":"AVERAGE(N$15:N61)","v":1.4289192875451325E-2},3.4185538706370977E-2,null,47,{"$error":"#NAME?"},{"$error":"#NAME?"},{"$error":"#NAME?"},{"$error":"#NAME?"}]
[null,48,0,0,48,1.4184031542527009E-2,null,48,1.4084379374655197E-2,3.4435667311956242E-2,null,48,{"$f":"AVERAGE(N$15:N62)","v":1.470891109287851E-2},3.4435667311956242E-2,null,48,{"$error":"#NAME?"},{"$error":"#NAME?"},{"$error":"#NAME?"},{"$error":"#NAME?"}]
[null,49,0,0,49,1.4610028886971271E-2,null,49,1.4504330673817406E-2,3.46619930336034E-2,null,49,{"$f":"AVERAGE(N$15:N63)","v":1.5116116846770855E-2},3.46619930336034E-2,null,49,{"$error":"#NAME?"},{"$error":"#NAME?"},{"$error":"#NAME?"},{"$error":"#NAME?"}]
[null,50,1,0.03,50,1.5023311962402364E-2,null,50,1.4911579680645522E-2,3.4866781015223225E-2,null,50,{"$f":"AVERAGE(N$15:N64)","v":1.5511130130139904E-2},3.4866781015223225E-2,null,50,{"$error":"#NAME?"},{"$error":"#NAME?"},{"$error":"#NAME?"},{"$error":"#NAME?"}]
[null,null,null,null,51,1.542423579245833E-2,null,51,1.5306491468157392E-2,3.5052080843750888E-2,null,51,{"$f":"AVERAGE(N$15:N65)","v":1.5894286026485217E-2},3.5052080843750888E-2,null,51,{"$error":"#NAME?"},{"$error":"#NAME?"},{"$error":"#NAME?"},{"$error":"#NAME?"}]
[null,null,null,null,52,1.581316414844669E-2,null,52,1.5689438691118784E-2,3.5219747062149809E-2,null,52,{"$f":"AVERAGE(N$15:N66)","v":1.6265929507940306E-2},3.5219747062149809E-2,null,52,{"$error":"#NAME?"},{"$error":"#NAME?"},{"$error":"#NAME?"},{"$error":"#NAME?"}]
[null,null,null,null,53,1.6190465409437804E-2,null,53,1.6060797540914992E-2,3.5371457730317801E-2,null,53,{"$f":"AVERAGE(N$15:N67)","v":1.6626411172513466E-2},3.5371457730317801E-2,null,53,{"$error":"#NAME?"},{"$error":"#NAME?"},{"$error":"#NAME?"},{"$error":"#NAME?"}]
[null,null,null,null,54,1.6556509186476109E-2,null,54,1.6420944460890183E-2,3.5508731219575318E-2,null,54,{"$f":"AVERAGE(N$15:N68)","v":1.6976083765977572E-2},3.5508731219575318E-2,null,54,{"$error":"#NAME?"},{"$error":"#NAME?"},{"$error":"#NAME?"},{"$error":"#NAME?"}]
[null,null,null,null,55,1.691166358586238E-2,null,55,1.6770253496313444E-2,3.5632941409169505E-2,null,55,{"$f":"AVERAGE(N$15:N69)","v":1.7315299359490156E-2},3.5632941409169505E-2,null,55,{"$error":"#NAME?"},{"$error":"#NAME?"},{"$error":"#NAME?"},{"$error":"#NAME?"}]
[null,null,null,null,56,1.7256293006847168E-2,null,56,1.71090941738152E-2,3.5745331436411787E-2,null,56,{"$f":"AVERAGE(N$15:N70)","v":1.7644407075149467E-2},3.5745331436411787E-2,null,56,{"$error":"#NAME?"},{"$error":"#NAME?"},{"$error":"#NAME?"},{"$error":"#NAME?"}]
[null,null,null,null,57,1.759075638602825E-2,null,57,1.7437829822318035E-2,3.584702613847679E-2,null,57,{"$f":"AVERAGE(N$15:N71)","v":1.796375126924293E-2},3.584702613847679E-2,null,57,{"$error":"#NAME?"},{"$error":"#NAME?"},{"$error":"#NAME?"},{"$error":"#NAME?"}]
[null,null,null,null,58,1.7915405814849628E-2,null,58,1.7756816261762828E-2,3.5939043310115992E-2,null,58,{"$f":"AVERAGE(N$15:N72)","v":1.8273670097533844E-2},3.5939043310115992E-2,null,58,{"$error":"#NAME?"},{"$error":"#NAME?"},{"$error":"#NAME?"},{"$error":"#NAME?"}]
[null,null,null,null,59,1.8230585468377525E-2,null,59,1.8066400797836852E-2,3.6022303890130392E-2,null,59,{"$f":"AVERAGE(N$15:N73)","v":1.8574494399103275E-2},3.6022303890130392E-2,null,59,{"$error":"#NAME?"},{"$error":"#NAME?"},{"$error":"#NAME?"},{"$error":"#NAME?"}]
[null,null,null,null,60,1.8536630793370756E-2,null,60,1.8366921470845579E-2,3.6097641178360451E-2,null,60,{"$f":"AVERAGE(N$15:N74)","v":1.8866546845424229E-2},3.6097641178360451E-2,null,60,{"$error":"#NAME?"},{"$error":"#NAME?"},{"$error":"#NAME?"},{"$error":"#NAME?"}]
[null,null,null,null,61,1.8833867911915103E-2,null,61,1.8658706515187879E-2,3.616580917572576E-2,null,61,{"$f":"AVERAGE(N$15:N75)","v":1.9150141309855401E-2},3.616580917572576E-2,null,61,{"$error":"#NAME?"},{"$error":"#NAME?"},{"$error":"#NAME?"},{"$error":"#NAME?"}]
[null,null,null,null,62,1.9122613203806038E-2,null,62,1.8942073992853518E-2,3.6227490130457563E-2,null,62,{"$f":"AVERAGE(N$15:N76)","v":1.9425582419865115E-2},3.6227490130457563E-2,null,62,{"$error":"#NAME?"},{"$error":"#NAME?"},{"$error":"#NAME?"},{"$error":"#NAME?"}]
[null,null,null,null,63,1.9403173036683707E-2,null,63,1.9217331570209467E-2,3.628330136627822E-2,null,63,{"$f":"AVERAGE(N$15:N77)","v":1.9693165260284369E-2},3.628330136627822E-2,null,63,{"$error":"#NAME?"},{"$error":"#NAME?"},{"$error":"#NAME?"},{"$error":"#NAME?"}]
[null,null,null,null,64,1.9675843617816824E-2,null,64,1.9484776412249726E-2,3.633380146078613E-2,null,64,{"$f":"AVERAGE(N$15:N78)","v":1.995317520091721E-2},3.633380146078613E-2,null,64,{"$error":"#NAME?"},{"$error":"#NAME?"},{"$error":"#NAME?"},{"$error":"#NAME?"}]
[null,null,null,null,65,1.9940910945556833E-2,null,65,{"$f":"LN(1+F79)","v":1.9744695172614131E-2},3.6379495835936027E-2,null,65,{"$f":"AVERAGE(N$15:N79)","v":2.0205887826071346E-2},{"$f":"J79+($L79<=FSP)*LN(1+VA/10000)","v":3.6379495835936027E-2},null,65,{"$error":"#NAME?"},{"$error":"#NAME?"},{"$error":"#NAME?"},{"$error":"#NAME?"}]
[null,null,null,null,66,2.019865084195871E-2,null,66,1.9997364061155522E-2,{"$f":"$H80*I80-$H79*I79","v":3.6420841816345861E-2},null,66,{"$f":"AVERAGE(N$15:N80)","v":2.0451568947136112E-2},3.6420841816345861E-2,null,66,{"$error":"#NAME?"},{"$error":"#NAME?"},{"$error":"#NAME?"},{"$f":"Q80-F80","v":{"$error":"#NAME?"}}]
[null,null,null,null,67,2.0449329051009046E-2,null,67,2.0243048973772756E-2,3.6458253206510305E-2,null,67,{"$f":"AVERAGE(N$15:N81)","v":2.0690474682350652E-2},3.6458253206510305E-2,null,67,{"$error":"#NAME?"},{"$error":"#NAME?"},{"$error":"#NAME?"},{"$error":"#NAME?"}]
[null,null,null,null,68,2.0693201389375693E-2,null,68,2.0482005671690822E-2,3.64921044322013E-2,null,68,{"$f":"AVERAGE(N$15:N82)","v":2.0922851590436692E-2},3.64921044322013E-2,null,68,{"$error":"#NAME?"},{"$error":"#NAME?"},{"$error":"#NAME?"},{"$error":"#NAME?"}]
[null,null,null,null,69,2.0930513938697271E-2,null,69,2.0714479999461084E-2,3.6522734287838921E-2,null,69,{"$f":"AVERAGE(N$15:N83)","v":2.114893684692078E-2},3.6522734287838921E-2,null,69,{"$error":"#NAME?"},{"$error":"#NAME?"},{"$error":"#NAME?"},{"$error":"#NAME?"}]
[null,null,null,null,70,2.1161503270206383E-2,null,70,2.0940708132716292E-2,3.6550449327325429E-2,null,70,{"$f":"AVERAGE(N$15:N84)","v":2.1368958453783705E-2},3.6550449327325429E-2,null,70,{"$error":"#NAME?"},{"$error":"#NAME?"},{"$error":"#NAME?"},{"$error":"#NAME?"}]
[null,null,null,null,71,2.1386396693980902E-2,null,71,2.1160916848200765E-2,3.6575526932113966E-2,null,71,{"$f":"AVERAGE(N$15:N85)","v":2.1583135474605258E-2},3.6575526932113966E-2,null,71,{"$error":"#NAME?"},{"$error":"#NAME?"},{"$error":"#NAME?"},{"$error":"#NAME?"}]
[null,null,null,null,72,2.1605412526390921E-2,null,72,2.1375323809854338E-2,3.6598218087258161E-2,null,72,{"$f":"AVERAGE(N$15:N86)","v":2.1791678288669881E-2},3.6598218087258161E-2,null,72,{"$error":"#NAME?"},{"$error":"#NAME?"},{"$error":"#NAME?"},{"$error":"#NAME?"}]
[null,null,null,null,73,2.1818760370390544E-2,null,73,2.1584137865794963E-2,3.6618749893519764E-2,null,73,{"$f":"AVERAGE(N$15:N87)","v":2.1994788858599332E-2},3.6618749893519764E-2,null,73,{"$error":"#NAME?"},{"$error":"#NAME?"},{"$error":"#NAME?"},{"$error":"#NAME?"}]
[null,null,null,null,74,2.2026641404207181E-2,null,74,2.1787559351933779E-2,3.6637327840067346E-2,null,74,{"$f":"AVERAGE(N$15:N88)","v":2.2192661006997547E-2},3.6637327840067346E-2,null,74,{"$error":"#NAME?"},{"$error":"#NAME?"},{"$error":"#NAME?"},{"$error":"#NAME?"}]
[null,null,null,null,75,2.2229248674763724E-2,null,75,2.1985780398724657E-2,3.6654137861249714E-2,null,75,{"$f":"AVERAGE(N$15:N89)","v":2.2385480698387576E-2},3.6654137861249714E-2,null,75,{"$error":"#NAME?"},{"$error":"#NAME?"},{"$error":"#NAME?"},{"$error":"#NAME?"}]
[null,null,null,null,76,2.2426767392813352E-2,null,76,2.217898523818115E-2,3.6669348197418072E-2,null,76,{"$f":"AVERAGE(N$15:N90)","v":2.2573426323374821E-2},3.6669348197418072E-2,null,76,{"$error":"#NAME?"},{"$error":"#NAME?"},{"$error":"#NAME?"},{"$error":"#NAME?"}]
[null,null,null,null,77,2.2619375227323602E-2,null,77,2.2367350508837567E-2,3.668311107872535E-2,null,77,{"$f":"AVERAGE(N$15:N91)","v":2.2756668982535217E-2},3.668311107872535E-2,null,77,{"$error":"#NAME?"},{"$error":"#NAME?"},{"$error":"#NAME?"},{"$error":"#NAME?"}]
[null,null,null,null,78,2.2807242597112198E-2,null,78,2.2551045556784777E-2,3.6695564248719892E-2,null,78,{"$f":"AVERAGE(N$15:N92)","v":2.2935372767999122E-2},3.6695564248719892E-2,null,78,{"$error":"#NAME?"},{"$error":"#NAME?"},{"$error":"#NAME?"},{"$error":"#NAME?"}]
[null,null,null,null,79,2.2990532958129695E-2,null,79,2.2730232731292457E-2,3.6706832342891405E-2,null,79,{"$f":"AVERAGE(N$15:N93)","v":2.3109695041099023E-2},3.6706832342891405E-2,null,79,{"$error":"#NAME?"},{"$error":"#NAME?"},{"$error":"#NAME?"},{"$error":"#NAME?"}]
[null,null,null,null,80,2.3169403085117946E-2,null,80,2.2905067673852978E-2,3.67170281361342E-2,null,80,{"$f":"AVERAGE(N$15:N94)","v":2.3279786704786965E-2},3.67170281361342E-2,null,80,{"$error":"#NAME?"},{"$error":"#NAME?"},{"$error":"#NAME?"},{"$error":"#NAME?"}]
[null,null,null,null,81,2.3344003346649211E-2,null,81,2.3075699599748173E-2,3.6726253671363729E-2,null,81,{"$f":"AVERAGE(N$15:N95)","v":2.344579246980643E-2},3.6726253671363729E-2,null,81,{"$error":"#NAME?"},{"$error":"#NAME?"},{"$error":"#NAME?"},{"$error":"#NAME?"}]
[null,null,null,null,82,2.3514477972788494E-2,null,82,2.3242271571469013E-2,3.6734601280857149E-2,null,82,{"$f":"AVERAGE(N$15:N96)","v":2.3607851113843635E-2},3.6734601280857149E-2,null,82,{"$error":"#NAME?"},{"$error":"#NAME?"},{"$error":"#NAME?"},{"$error":"#NAME?"}]
[null,null,null,null,83,2.3680965314814229E-2,null,83,2.3404920763502583E-2,3.6742154510255309E-2,null,83,{"$f":"AVERAGE(N$15:N97)","v":2.3766095733077509E-2},3.6742154510255309E-2,null,83,{"$error":"#NAME?"},{"$error":"#NAME?"},{"$error":"#NAME?"},{"$error":"#NAME?"}]
[null,null,null,null,84,2.3843598096600749E-2,null,84,2.3563778718161323E-2,3.6748988954836692E-2,null,84,{"$f":"AVERAGE(N$15:N98)","v":2.3920653985717501E-2},3.6748988954836692E-2,null,84,{"$error":"#NAME?"},{"$error":"#NAME?"},{"$error":"#NAME?"},{"$error":"#NAME?"}]
[null,null,null,null,85,2.4002503657397423E-2,null,85,2.3718971592254258E-2,3.6755173016060683E-2,null,85,{"$f":"AVERAGE(N$15:N99)","v":2.4071648327250946E-2},3.6755173016060683E-2,null,85,{"$error":"#NAME?"},{"$error":"#NAME?"},{"$error":"#NAME?"},{"$error":"#NAME?"}]
[null,null,null,null,86,2.4157804185853005E-2,null,86,2.3870620394507186E-2,3.6760768586006076E-2,null,86,{"$f":"AVERAGE(N$15:N100)","v":2.4219196237236472E-2},3.6760768586006076E-2,null,86,{"$error":"#NAME?"},{"$error":"#NAME?"},{"$error":"#NAME?"},{"$error":"#NAME?"}]
[null,null,null,null,87,2.4309616945233259E-2,null,87,2.4018841213732482E-2,3.6765831667108007E-2,null,87,{"$f":"AVERAGE(N$15:N101)","v":2.4363410437579822E-2},3.6765831667108007E-2,null,87,{"$error":"#NAME?"},{"$error":"#NAME?"},{"$error":"#NAME?"},{"$error":"#NAME?"}]
[null,null,null,null,88,2.4458054489842951E-2,null,88,2.4163745437807287E-2,3.6770412932315644E-2,null,88,{"$f":"AVERAGE(N$15:N102)","v":2.4504399102292729E-2},3.6770412932315644E-2,null,88,{"$error":"#NAME?"},{"$error":"#NAME?"},{"$error":"#NAME?"},{"$error":"#NAME?"}]
[null,null,null,null,89,2.4603224872740137E-2,null,89,2.430543996359056E-2,3.6774558232518295E-2,null,89,{"$f":"AVERAGE(N$15:N103)","v":2.4642266058812118E-2},3.6774558232518295E-2,null,89,{"$error":"#NAME?"},{"$error":"#NAME?"},{"$error":"#NAME?"},{"$error":"#NAME?"}]
[null,null,null,null,90,2.4745231844867099E-2,null,90,2.4444027397941964E-2,3.6778309055216951E-2,null,90,{"$f":"AVERAGE(N$15:N104)","v":2.4777110980994395E-2},3.6778309055216951E-2,null,90,{"$error":"#NAME?"},{"$error":"#NAME?"},{"$error":"#NAME?"},{"$error":"#NAME?"}]
[null,null,null,null,91,2.4884175045773116E-2,null,91,2.457960625005224E-2,3.678170293997729E-2,null,91,{"$f":"AVERAGE(N$15:N105)","v":2.4909029573950251E-2},3.678170293997729E-2,null,91,{"$error":"#NAME?"},{"$error":"#NAME?"},{"$error":"#NAME?"},{"$error":"#NAME?"}]
[null,null,null,null,92,2.5020150186124246E-2,null,92,2.4712271115311428E-2,3.6784773853897335E-2,null,92,{"$f":"AVERAGE(N$15:N106)","v":2.5038113750906196E-2},3.6784773853897335E-2,null,92,{"$error":"#NAME?"},{"$error":"#NAME?"},{"$error":"#NAME?"},{"$error":"#NAME?"}]
[null,null,null,null,93,2.5153249222228835E-2,null,93,2.4842112850971439E-2,3.6787552531692302E-2,null,93,{"$f":"AVERAGE(N$15:N107)","v":2.5164451802312499E-2},3.6787552531692302E-2,null,93,{"$error":"#NAME?"},{"$error":"#NAME?"},{"$error":"#NAME?"},{"$error":"#NAME?"}]
[null,null,null,null,94,2.5283560522819881E-2,null,94,2.4969218743869148E-2,3.6790066783356057E-2,null,94,{"$f":"AVERAGE(N$15:N108)","v":2.5288128557429984E-2},3.6790066783356057E-2,null,94,{"$error":"#NAME?"},{"$error":"#NAME?"},{"$error":"#NAME?"},{"$error":"#NAME?"}]
[null,null,null,null,95,2.5411169028346281E-2,null,95,2.5093672670484582E-2,3.679234177233548E-2,null,95,{"$f":"AVERAGE(N$15:N109)","v":2.5409225538639515E-2},3.679234177233548E-2,null,95,{"$error":"#NAME?"},{"$error":"#NAME?"},{"$error":"#NAME?"},{"$error":"#NAME?"}]
[null,null,null,null,96,2.5536156403038746E-2,null,96,2.5215555249619961E-2,3.6794400267480931E-2,null,96,{"$f":"AVERAGE(N$15:N110)","v":2.5527821108731613E-2},3.6794400267480931E-2,null,96,{"$error":"#NAME?"},{"$error":"#NAME?"},{"$error":"#NAME?"},{"$error":"#NAME?"}]
[null,null,null,null,97,2.5658601180016616E-2,null,97,{"$f":"LN(1+F111)","v":2.5334943987983926E-2},3.6796262870924856E-2,null,97,{"$f":"AVERAGE(N$15:N111)","v":2.5643990611434637E-2},{"$f":"J111+($L111<=FSP)*LN(1+VA/10000)","v":3.6796262870924856E-2},null,97,{"$error":"#NAME?"},{"$error":"#NAME?"},{"$error":"#NAME?"},{"$error":"#NAME?"}]
[null,null,null,null,98,2.5778578899704474E-2,null,98,2.5451913418965955E-2,3.6797948224222665E-2,null,98,{"$f":"AVERAGE(N$15:N112)","v":2.5757806505442678E-2},3.6797948224222665E-2,null,98,{"$error":"#NAME?"},{"$error":"#NAME?"},{"$error":"#NAME?"},{"$error":"#NAME?"}]
[null,null,null,null,99,2.5896162241828113E-2,null,99,2.5566535234884936E-2,3.679947319494481E-2,null,99,{"$f":"AVERAGE(N$15:N113)","v":2.5869338492205324E-2},3.679947319494481E-2,null,99,{"$error":"#NAME?"},{"$error":"#NAME?"},{"$error":"#NAME?"},{"$error":"#NAME?"}]
[null,null,null,null,100,2.6011421151256098E-2,null,100,2.567887841299105E-2,3.6800853045496407E-2,null,100,{"$f":"AVERAGE(N$15:N114)","v":2.5978653637738235E-2},3.6800853045496407E-2,null,100,{"$error":"#NAME?"},{"$error":"#NAME?"},{"$error":"#NAME?"},{"$error":"#NAME?"}]
[null,null,null,null,101,2.6124422957949811E-2,null,101,2.5789009335495335E-2,3.6802101585923896E-2,null,101,{"$f":"AVERAGE(N$15:N115)","v":2.6085816488710372E-2},3.6802101585923896E-2,null,101,{"$error":"#NAME?"},{"$error":"#NAME?"},{"$error":"#NAME?"},{"$error":"#NAME?"}]
[null,null,null,null,102,2.6235232491277127E-2,null,102,2.5896991903892427E-2,3.6803231311998807E-2,null,102,{"$f":"AVERAGE(N$15:N116)","v":2.6190889183056336E-2},3.6803231311998807E-2,null,102,{"$error":"#NAME?"},{"$error":"#NAME?"},{"$error":"#NAME?"},{"$error":"#NAME?"}]
[null,null,null,null,103,2.6343912188943941E-2,null,103,2.6002887647839788E-2,3.6804253530470454E-2,null,103,{"$f":"AVERAGE(N$15:N117)","v":2.6293931555361329E-2},3.6804253530470454E-2,null,103,{"$error":"#NAME?"},{"$error":"#NAME?"},{"$error":"#NAME?"},{"$error":"#NAME?"}]
[null,null,null,null,104,2.64505222007827E-2,null,104,2.6106755828840873E-2,3.6805178471952971E-2,null,104,{"$f":"AVERAGE(N$15:N118)","v":2.6395001237251633E-2},3.6805178471952971E-2,null,104,{"$error":"#NAME?"},{"$error":"#NAME?"},{"$error":"#NAME?"},{"$error":"#NAME?"}]
[null,null,null,null,105,2.6555120487640194E-2,null,105,2.6208653538981629E-2,3.6806015393620051E-2,null,105,{"$f":"AVERAGE(N$15:N119)","v":2.6494153753026568E-2},3.6806015393620051E-2,null,105,{"$error":"#NAME?"},{"$error":"#NAME?"},{"$error":"#NAME?"},{"$error":"#NAME?"}]
[null,null,null,null,106,2.665776291558819E-2,null,106,2.6308635794950498E-2,3.6806772671681642E-2,null,106,{"$f":"AVERAGE(N$15:N120)","v":2.6591442610749732E-2},3.6806772671681642E-2,null,106,{"$error":"#NAME?"},{"$error":"#NAME?"},{"$error":"#NAME?"},{"$error":"#NAME?"}]
[null,null,null,null,107,2.6758503345678752E-2,null,107,2.6406755627569539E-2,3.6807457885188022E-2,null,107,{"$f":"AVERAGE(N$15:N121)","v":2.6686919389015507E-2},3.6807457885188022E-2,null,107,{"$error":"#NAME?"},{"$error":"#NAME?"},{"$error":"#NAME?"},{"$error":"#NAME?"}]
[null,null,null,null,108,2.6857393719457612E-2,null,108,2.6503064167055061E-2,3.6808077892005908E-2,null,108,{"$f":"AVERAGE(N$15:N122)","v":2.6780633819598752E-2},3.6808077892005908E-2,null,108,{"$error":"#NAME?"},{"$error":"#NAME?"},{"$error":"#NAME?"},{"$error":"#NAME?"}]
[null,null,null,null,109,2.6954484140437218E-2,null,109,2.6597610724214033E-2,3.6808638897383172E-2,null,109,{"$f":"AVERAGE(N$15:N123)","v":2.687263386618393E-2},3.6808638897383172E-2,null,109,{"$error":"#NAME?"},{"$error":"#NAME?"},{"$error":"#NAME?"},{"$error":"#NAME?"}]
[null,null,null,null,110,2.7049822951725311E-2,null,110,2.669044286777612E-2,3.6809146516043612E-2,null,110,{"$f":"AVERAGE(N$15:N124)","v":2.6962965799364472E-2},3.6809146516043612E-2,null,110,{"$error":"#NAME?"},{"$error":"#NAME?"},{"$error":"#NAME?"},{"$error":"#NAME?"}]
[null,null,null,null,111,2.7143456809996191E-2,null,111,2.678160649805203E-2,3.6809605828401981E-2,null,111,{"$f":"AVERAGE(N$15:N125)","v":2.7051674268094541E-2},3.6809605828401981E-2,null,111,{"$error":"#NAME?"},{"$error":"#NAME?"},{"$error":"#NAME?"},{"$error":"#NAME?"}]
[null,null,null,null,112,2.7235430755983003E-2,null,112,2.6871145917099732E-2,3.6810021431394446E-2,null,112,{"$f":"AVERAGE(N$15:N126)","v":2.7138802367766862E-2},3.6810021431394446E-2,null,112,{"$error":"#NAME?"},{"$error":"#NAME?"},{"$error":"#NAME?"},{"$error":"#NAME?"}]
[null,null,null,null,113,2.7325788281662433E-2,null,113,2.6959103895572632E-2,3.6810397484537738E-2,null,113,{"$f":"AVERAGE(N$15:N127)","v":2.7224391705083419E-2},3.6810397484537738E-2,null,113,{"$error":"#NAME?"},{"$error":"#NAME?"},{"$error":"#NAME?"},{"$error":"#NAME?"}]
[null,null,null,null,114,2.7414571394293707E-2,null,114,2.7045521736414117E-2,3.6810737751501676E-2,null,114,{"$f":"AVERAGE(N$15:N128)","v":2.7308482459876562E-2},3.6810737751501676E-2,null,114,{"$error":"#NAME?"},{"$error":"#NAME?"},{"$error":"#NAME?"},{"$error":"#NAME?"}]
[null,null,null,null,115,2.7501820677467759E-2,null,115,2.713043933555645E-2,3.6811045637782591E-2,null,115,{"$f":"AVERAGE(N$15:N129)","v":2.7391113444032267E-2},3.6811045637782591E-2,null,115,{"$error":"#NAME?"},{"$error":"#NAME?"},{"$error":"#NAME?"},{"$error":"#NAME?"}]
[null,null,null,null,116,2.7587575349314886E-2,null,116,2.7213895239774237E-2,3.6811324224819586E-2,null,116,{"$f":"AVERAGE(N$15:N130)","v":2.7472322157659743E-2},3.6811324224819586E-2,null,116,{"$error":"#NAME?"},{"$error":"#NAME?"},{"$error":"#NAME?"},{"$error":"#NAME?"}]
[null,null,null,null,117,2.7671873318010798E-2,null,117,2.7295926701834023E-2,3.6811576300769477E-2,null,117,{"$f":"AVERAGE(N$15:N131)","v":2.7552144842643587E-2},3.6811576300769477E-2,null,117,{"$error":"#NAME?"},{"$error":"#NAME?"},{"$error":"#NAME?"},{"$error":"#NAME?"}]
[null,null,null,null,118,2.7754751234716935E-2,null,118,2.7376569733077314E-2,3.6811804388542146E-2,null,118,{"$f":"AVERAGE(N$15:N132)","v":2.7630616533710524E-2},3.6811804388542146E-2,null,118,{"$error":"#NAME?"},{"$error":"#NAME?"},{"$error":"#NAME?"},{"$error":"#NAME?"}]
[null,null,null,null,119,2.7836244544079847E-2,null,119,2.7455859153563158E-2,3.6812010770892911E-2,null,119,{"$f":"AVERAGE(N$15:N133)","v":2.7707771107132226E-2},3.6812010770892911E-2,null,119,{"$error":"#NAME?"},{"$error":"#NAME?"},{"$error":"#NAME?"},{"$error":"#NAME?"}]
[null,null,null,null,120,2.7916387532413101E-2,null,120,2.7533828639894693E-2,3.68121975133473E-2,null,120,{"$f":"AVERAGE(N$15:N134)","v":2.7783641327184017E-2},3.68121975133473E-2,null,120,{"$error":"#NAME?"},{"$error":"#NAME?"},{"$error":"#NAME?"},{"$error":"#NAME?"}]
[null,null,null,null,121,2.7995213373676275E-2,null,121,2.7610510770845323E-2,3.6812366484920922E-2,null,121,{"$f":"AVERAGE(N$15:N135)","v":2.78582588904711E-2},3.6812366484920922E-2,null,121,{"$error":"#NAME?"},{"$error":"#NAME?"},{"$error":"#NAME?"},{"$error":"#NAME?"}]
[null,null,null,null,122,2.8072754173359415E-2,null,122,2.7685937070893576E-2,3.6812519376732133E-2,null,122,{"$f":"AVERAGE(N$15:N136)","v":2.7931654468227336E-2},3.6812519376732133E-2,null,122,{"$error":"#NAME?"},{"$error":"#NAME?"},{"$error":"#NAME?"},{"$error":"#NAME?"}]
[null,null,null,null,123,2.8149041010377518E-2,null,123,2.776013805177199E-2,3.6812657718938269E-2,null,123,{"$f":"AVERAGE(N$15:N137)","v":2.8003857746688402E-2},3.6812657718938269E-2,null,123,{"$error":"#NAME?"},{"$error":"#NAME?"},{"$error":"#NAME?"},{"$error":"#NAME?"}]
[null,null,null,null,124,2.8224103977074533E-2,null,124,2.7833143252130033E-2,3.6812782896169516E-2,null,124,{"$f":"AVERAGE(N$15:N138)","v":2.807489746563583E-2},3.6812782896169516E-2,null,124,{"$error":"#NAME?"},{"$error":"#NAME?"},{"$error":"#NAME?"},{"$error":"#NAME?"}]
[null,null,null,null,125,2.8297972217427692E-2,null,125,2.7904981275402429E-2,3.6812896161179332E-2,null,125,{"$f":"AVERAGE(N$15:N139)","v":2.8144801455200177E-2},3.6812896161179332E-2,null,125,{"$error":"#NAME?"},{"$error":"#NAME?"},{"$error":"#NAME?"},{"$error":"#NAME?"}]
[null,null,null,null,126,2.8370673963544757E-2,null,126,2.7975679825975801E-2,3.6812998647647532E-2,null,126,{"$f":"AVERAGE(N$15:N140)","v":2.8213596671013252E-2},3.6812998647647532E-2,null,126,{"$error":"#NAME?"},{"$error":"#NAME?"},{"$error":"#NAME?"},{"$error":"#NAME?"}]
[null,null,null,null,127,2.8442236570533463E-2,null,127,2.8045265743733387E-2,3.6813091381189267E-2,null,127,{"$f":"AVERAGE(N$15:N141)","v":2.8281309227786291E-2},3.6813091381189267E-2,null,127,{"$error":"#NAME?"},{"$error":"#NAME?"},{"$error":"#NAME?"},{"$error":"#NAME?"}]
[null,null,null,null,128,2.8512686549828858E-2,null,128,2.8113765037063618E-2,3.6813175290002942E-2,null,128,{"$f":"AVERAGE(N$15:N142)","v":2.8347964431397359E-2},3.6813175290002942E-2,null,128,{"$error":"#NAME?"},{"$error":"#NAME?"},{"$error":"#NAME?"},{"$error":"#NAME?"}]
[null,null,null,null,129,2.8582049601048487E-2,null,129,{"$f":"LN(1+F143)","v":2.8181202914402903E-2},3.6813251213831499E-2,null,129,{"$f":"AVERAGE(N$15:N143)","v":2.8413586809555764E-2},{"$f":"J143+($L143<=FSP)*LN(1+VA/10000)","v":3.6813251213831499E-2},null,129,{"$error":"#NAME?"},{"$error":"#NAME?"},{"$error":"#NAME?"},{"$error":"#NAME?"}]
[null,null,null,null,130,2.8650350642451139E-2,null,130,2.82476038143884E-2,{"$f":"$H144*I144-$H143*I143","v":3.681331991251735E-2},null,130,{"$f":"AVERAGE(N$15:N144)","v":2.8478200141117006E-2},3.681331991251735E-2,null,130,{"$error":"#NAME?"},{"$error":"#NAME?"},{"$error":"#NAME?"},{"$f":"Q144-F144","v":{"$error":"#NAME?"}}]
[null,null,null,null,131,2.871761384006688E-2,null,131,2.8312991434688618E-2,3.6813382073717094E-2,null,131,{"$f":"AVERAGE(N$15:N145)","v":2.8541827484113953E-2},3.6813382073717094E-2,null,131,{"$error":"#NAME?"},{"$error":"#NAME?"},{"$error":"#NAME?"},{"$error":"#NAME?"}]
[null,null,null,null,132,2.8783862635559432E-2,null,132,2.8377388759573095E-2,3.6813438319439395E-2,null,132,{"$f":"AVERAGE(N$15:N146)","v":2.8604491202563389E-2},3.6813438319439395E-2,null,132,{"$error":"#NAME?"},{"$error":"#NAME?"},{"$error":"#NAME?"},{"$error":"#NAME?"}]
[null,null,null,null,133,2.8849119772888399E-2,null,133,2.8440818086288556E-2,3.6813489212729422E-2,null,133,{"$f":"AVERAGE(N$15:N147)","v":2.8666212992113509E-2},3.6813489212729422E-2,null,133,{"$error":"#NAME?"},{"$error":"#NAME?"},{"$error":"#NAME?"},{"$error":"#NAME?"}]
[null,null,null,null,134,2.8913407323822193E-2,null,134,2.8503301050292584E-2,3.6813535262828267E-2,null,134,{"$f":"AVERAGE(N$15:N148)","v":2.872701390458153E-2},3.6813535262828267E-2,null,134,{"$error":"#NAME?"},{"$error":"#NAME?"},{"$error":"#NAME?"},{"$error":"#NAME?"}]
[null,null,null,null,135,2.8976746712363832E-2,null,135,2.8564858649406812E-2,3.681357693071341E-2,null,135,{"$f":"AVERAGE(N$15:N149)","v":2.8786914371441766E-2},3.681357693071341E-2,null,135,{"$error":"#NAME?"},{"$error":"#NAME?"},{"$error":"#NAME?"},{"$error":"#NAME?"}]
[null,null,null,null,136,2.9039158738135784E-2,null,136,2.8625511266935948E-2,3.6813614633369518E-2,null,136,{"$f":"AVERAGE(N$15:N150)","v":2.8845934226308882E-2},3.6813614633369518E-2,null,136,{"$error":"#NAME?"},{"$error":"#NAME?"},{"$error":"#NAME?"},{"$error":"#NAME?"}]
[null,null,null,null,137,2.9100663598777388E-2,null,137,2.8685278693805983E-2,3.6813648748130756E-2,null,137,{"$f":"AVERAGE(N$15:N151)","v":2.8904092726468166E-2},3.6813648748130756E-2,null,137,{"$error":"#NAME?"},{"$error":"#NAME?"},{"$error":"#NAME?"},{"$error":"#NAME?"}]
[null,null,null,null,138,2.9161280911400578E-2,null,138,2.8744180149767304E-2,3.6813679616467976E-2,null,138,{"$f":"AVERAGE(N$15:N152)","v":2.896140857349715E-2},3.6813679616467976E-2,null,138,{"$error":"#NAME?"},{"$error":"#NAME?"},{"$error":"#NAME?"},{"$error":"#NAME?"}]
[null,null,null,null,139,2.9221029733147441E-2,null,139,2.8802234303706216E-2,3.6813707547276309E-2,null,139,{"$f":"AVERAGE(N$15:N153)","v":2.9017899933020737E-2},3.6813707547276309E-2,null,139,{"$error":"#NAME?"},{"$error":"#NAME?"},{"$error":"#NAME?"},{"$error":"#NAME?"}]
[null,null,null,null,140,2.927992858089401E-2,null,140,2.8859459293109069E-2,3.6813732820105471E-2,null,140,{"$f":"AVERAGE(N$15:N154)","v":2.9073584453642772E-2},3.6813732820105471E-2,null,140,{"$error":"#NAME?"},{"$error":"#NAME?"},{"$error":"#NAME?"},{"$error":"#NAME?"}]
[null,null,null,null,141,2.9337995450139154E-2,null,141,2.8915872742717862E-2,3.681375568794909E-2,null,141,{"$f":"AVERAGE(N$15:N155)","v":2.9128479285091751E-2},3.681375568794909E-2,null,141,{"$error":"#NAME?"},{"$error":"#NAME?"},{"$error":"#NAME?"},{"$error":"#NAME?"}]
[null,null,null,null,142,2.9395247833115423E-2,null,142,2.8971491782414063E-2,3.6813776379577945E-2,null,142,{"$f":"AVERAGE(N$15:N156)","v":2.9182601095616302E-2},3.6813776379577945E-2,null,142,{"$error":"#NAME?"},{"$error":"#NAME?"},{"$error":"#NAME?"},{"$error":"#NAME?"}]
[null,null,null,null,143,2.9451702736162044E-2,null,143,2.9026333064370607E-2,3.6813795102200508E-2,null,143,{"$f":"AVERAGE(N$15:N157)","v":2.9235966088669338E-2},3.6813795102200508E-2,null,143,{"$error":"#NAME?"},{"$error":"#NAME?"},{"$error":"#NAME?"},{"$error":"#NAME?"}]
[null,null,null,null,144,2.9507376696388254E-2,null,144,2.9080412779500374E-2,3.6813812043056338E-2,null,144,{"$f":"AVERAGE(N$15:N158)","v":2.9288590018908139E-2},3.6813812043056338E-2,null,144,{"$error":"#NAME?"},{"$error":"#NAME?"},{"$error":"#NAME?"},{"$error":"#NAME?"}]
[null,null,null,null,145,2.9562285797666732E-2,null,145,2.9133746673240504E-2,3.6813827371819485E-2,null,145,{"$f":"AVERAGE(N$15:N159)","v":2.9340488207548907E-2},3.6813827371819485E-2,null,145,{"$error":"#NAME?"},{"$error":"#NAME?"},{"$error":"#NAME?"},{"$error":"#NAME?"}]
[null,null,null,null,146,2.9616445685981319E-2,null,146,2.9186350060696874E-2,3.6813841241870371E-2,null,146,{"$f":"AVERAGE(N$15:N160)","v":2.9391675557099053E-2},3.6813841241870371E-2,null,146,{"$error":"#NAME?"},{"$error":"#NAME?"},{"$error":"#NAME?"},{"$error":"#NAME?"}]
[null,null,null,null,147,2.9669871584162344E-2,null,147,2.9238237841181753E-2,3.6813853791974438E-2,null,147,{"$f":"AVERAGE(N$15:N161)","v":2.9442166565499566E-2},3.6813853791974438E-2,null,147,{"$error":"#NAME?"},{"$error":"#NAME?"},{"$error":"#NAME?"},{"$error":"#NAME?"}]
[null,null,null,null,148,2.9722578306037306E-2,null,148,2.9289424512172296E-2,3.6813865147782288E-2,null,148,{"$f":"AVERAGE(N$15:N162)","v":2.9491975339704178E-2},3.6813865147782288E-2,null,148,{"$error":"#NAME?"},{"$error":"#NAME?"},{"$error":"#NAME?"},{"$error":"#NAME?"}]
[null,null,null,null,149,2.9774580270021778E-2,null,149,2.933992418271467E-2,3.6813875422986087E-2,null,149,{"$f":"AVERAGE(N$15:N163)","v":2.9541115608719495E-2},3.6813875422986087E-2,null,149,{"$error":"#NAME?"},{"$error":"#NAME?"},{"$error":"#NAME?"},{"$error":"#NAME?"}]
[null,null,null,null,150,2.9825891512175629E-2,null,150,2.9389750586298728E-2,3.6813884720323209E-2,null,150,{"$f":"AVERAGE(N$15:N164)","v":2.9589600736130185E-2},3.6813884720323209E-2,null,150,{"$error":"#NAME?"},{"$error":"#NAME?"},{"$error":"#NAME?"},{"$error":"#NAME?"}]

{"sheet":"2020 Review Term Structures","index":5,"n_rows":173,"n_cols":70,"rows_kept":173,"cut":false,"hidden":true,"merged":[[6,16,6,17],[6,8,6,9],[6,10,6,11],[6,18,6,19],[6,2,6,3],[6,4,6,5],[6,6,6,7],[6,12,6,13],[6,14,6,15],[6,38,6,39],[6,40,6,41],[6,42,6,43],[6,26,6,27],[6,28,6,29],[6,30,6,31],[6,20,6,21],[6,22,6,23],[6,24,6,25],[7,2,7,3],[7,4,7,5],[7,6,7,7],[21,18,21,19],[7,66,7,67],[7,68,7,69],[7,46,7,47],[7,48,7,49],[7,50,7,51],[7,52,7,53],[7,54,7,55],[7,56,7,57],[7,34,7,35],[7,36,7,37],[7,38,7,39],[7,40,7,41],[7,42,7,43],[7,44,7,45],[7,18,7,19],[7,20,7,21],[7,22,7,23],[7,24,7,25],[7,16,7,17],[7,12,7,13],[7,14,7,15],[7,8,7,9],[7,10,7,11],[21,20,21,21],[21,22,21,23],[21,24,21,25],[21,16,21,17],[21,12,21,13],[21,14,21,15],[21,8,21,9],[21,10,21,11],[21,2,21,3],[21,4,21,5],[21,6,21,7],[21,36,21,37],[21,38,21,39],[21,40,21,41],[21,42,21,43],[21,44,21,45],[21,26,21,27],[21,28,21,29],[21,30,21,31],[21,32,21,33],[21,34,21,35],[21,58,21,59],[21,60,21,61],[21,62,21,63],[21,64,21,65],[21,66,21,67],[21,68,21,69],[21,46,21,47],[21,48,21,49],[21,50,21,51],[21,52,21,53],[21,54,21,55],[21,56,21,57],[6,68,6,69],[7,26,7,27],[7,28,7,29],[7,30,7,31],[7,32,7,33],[7,58,7,59],[7,60,7,61],[7,62,7,63],[7,64,7,65],[6,56,6,57],[6,58,6,59],[6,60,6,61],[6,62,6,63],[6,64,6,65],[6,66,6,67],[6,44,6,45],[6,46,6,47],[6,48,6,49],[6,50,6,51],[6,52,6,53],[6,54,6,55],[6,32,6,33],[6,34,6,35],[6,36,6,37]]}
["RFR Term Structures as of end of June 2020"]
[" Alternative Extrapolation - Without VA"]
["All source data are Refinitiv based"]
[]
[null,null,"Country","Currency","Country","Currency","Country","Currency","Country","Currency","Country","Currency","Country","Currency","Country","Currency","Country","Currency","Country","Currency","Country","Currency","Country","Currency","Country","Currency","Country","Currency","Country","Currency","Country","Currency","Country","Currency","Country","Currency","Country","Currency","Country","Currency","Country","Currency","Country","Currency","Country","Currency","Country","Currency","Country","Currency","Country","Currency","Country","Currency","Country","Currency","Country","Currency","Country","Currency","Country","Currency","Country","Currency","Country","Currency","Country","Currency","Country","Currency"]
[null,null,"Euro","EUR","Bulgaria","EUR","Croatia","HRK","Czechia","CZK","Denmark","EUR","Hungary","HUF","Iceland","ISK","Liechtenstein","CHF","Norway","NOK","Poland","PLN","Romania","RON","Russia","RUB","Sweden","SEK","Switzerland","CHF","United Kingdom","GBP","Australia","AUD","Brazil","BRL","Canada","CAD","Chile","CLP","China","CNY","Colombia","COP","Hong Kong","HKD","India","INR","Japan","JPY","Malaysia","MYR","Mexico","MXN","New Zealand","NZD","Singapore","SGD","South Africa","ZAR","South Korea","KRW","Taiwan","TWD","Thailand","THB","Turkey","TRY","United States","USD"]
[null,null,"Date",null,"Date",null,"Date",null,"Date",null,"Date",null,"Date",null,"Date",null,"Date",null,"Date",null,"Date",null,"Date",null,"Date",null,"Date",null,"Date",null,"Date",null,"Date",null,"Date",null,"Date",null,"Date",null,"Date",null,"Date",null,"Date",null,"Date",null,"Date",null,"Date",null,"Date",null,"Date",null,"Date",null,"Date",null,"Date",null,"Date",null,"Date",null,"Date",null,"Date"]
[null,null,"2020-06-30",null,"2020-06-30",null,"2020-06-30",null,"2020-06-30",null,"2020-06-30",null,"2020-06-30",null,"2020-06-30",null,"2020-06-30",null,"2020-06-30",null,"2020-06-30",null,"2020-06-30",null,"2020-06-30",null,"2020-06-30",null,"2020-06-30",null,"2020-06-30",null,"2020-06-30",null,"2020-06-30",null,"2020-06-30",null,"2020-06-30",null,"2020-06-30",null,"2020-06-30",null,"2020-06-30",null,"2020-06-30",null,"2020-06-30",null,"2020-06-30",null,"2020-06-30",null,"2020-06-30",null,"2020-06-30",null,"2020-06-30",null,"2020-06-30",null,"2020-06-30",null,"2020-06-30",null,"2020-06-30",null,"2020-06-30"]
[null,null,"CRA","UFR","CRA","UFR","CRA","UFR","CRA","UFR","CRA","UFR","CRA","UFR","CRA","UFR","CRA","UFR","CRA","UFR","CRA","UFR","CRA","UFR","CRA","UFR","CRA","UFR","CRA","UFR","CRA","UFR","CRA","UFR","CRA","UFR","CRA","UFR","CRA","UFR","CRA","UFR","CRA","UFR","CRA","UFR","CRA","UFR","CRA","UFR","CRA","UFR","CRA","UFR","CRA","UFR","CRA","UFR","CRA","UFR","CRA","UFR","CRA","UFR","CRA","UFR","CRA","UFR","CRA","UFR"]
[null,null,10,3.75,15.000000000000002,3.75,10,3.75,10,3.75,11,3.75,10,4.5,10,3.75,10,2.75,11,3.75,10,3.75,10,3.75,35,4.6500000000000004,11,3.75,10,2.75,14.000000000000002,3.75,14.000000000000002,3.75,35,5.5,18,3.75,35,4.5,35,4.5,35,4.5,35,3.75,35,5.5,10,3.5000000000000004,35,3.75,35,4.75,21,3.75,27,3.75,35,5.5,35,3.75,15,3.75,35,3.75,35,5.5,20,3.75]
[null,null,null,"Alternative",null,"Alternative",null,"Alternative",null,"Alternative",null,"Alternative",null,"Alternative",null,"Alternative",null,"Alternative",null,"Alternative",null,"Alternative",null,"Alternative",null,"Alternative","SW","Alternative",null,"Alternative",null,"Alternative",null,"Alternative",null,"Alternative",null,"Alternative",null,"Alternative",null,"Alternative",null,"Alternative",null,"Alternative",null,"Alternative",null,"Alternative",null,"Alternative",null,"Alternative",null,"Alternative",null,"Alternative",null,"Alternative",null,"Alternative",null,"Alternative",null,"Alternative",null,"Alternative",null,"Alternative"]
[null,null,null,"Instrument",null,"Instrument",null,"Instrument",null,"Instrument",null,"Instrument",null,"Instrument",null,"Instrument",null,"Instrument",null,"Instrument",null,"Instrument",null,"Instrument",null,"Instrument","Instrument","Instrument",null,"Instrument",null,"Instrument",null,"Instrument",null,"Instrument",null,"Instrument",null,"Instrument",null,"Instrument",null,"Instrument",null,"Instrument",null,"Instrument",null,"Instrument",null,"Instrument",null,"Instrument",null,"Instrument",null,"Instrument",null,"Instrument",null,"Instrument",null,"Instrument",null,"Instrument",null,"Instrument",null,"Instrument"]
[null,null,null,"SWP",null,"SWP",null,"GVT",null,"SWP",null,"SWP",null,"SWP",null,"GVT",null,"SWP",null,"SWP",null,"SWP",null,"GVT",null,"GVT","SWP","SWP",null,"SWP",null,"SWP",null,"SWP",null,"GVT",null,"SWP",null,"GVT",null,"SWP",null,"GVT",null,"SWP",null,"GVT",null,"SWP",null,"GVT",null,"SWP",null,"SWP",null,"SWP",null,"SWP",null,"SWP",null,"GVT",null,"GVT",null,"GVT",null,"SWP"]
[null,null,null,"CouponFreq",null,"CouponFreq",null,"CouponFreq",null,"CouponFreq",null,"CouponFreq",null,"CouponFreq",null,"CouponFreq",null,"CouponFreq",null,"CouponFreq",null,"CouponFreq",null,"CouponFreq",null,"CouponFreq","CouponFreq","CouponFreq",null,"CouponFreq",null,"CouponFreq",null,"CouponFreq",null,"CouponFreq",null,"CouponFreq",null,"CouponFreq",null,"CouponFreq",null,"CouponFreq",null,"CouponFreq",null,"CouponFreq",null,"CouponFreq",null,"CouponFreq",null,"CouponFreq",null,"CouponFreq",null,"CouponFreq",null,"CouponFreq",null,"CouponFreq",null,"CouponFreq",null,"CouponFreq",null,"CouponFreq",null,"CouponFreq"]
[null,null,null,1,null,1,null,0,null,1,null,1,null,1,null,0,null,1,null,1,null,1,null,0,null,0,1,1,null,1,null,2,null,2,null,0,null,2,null,0,null,4,null,0,null,4,null,0,null,2,null,0,null,13,null,2,null,2,null,4,null,4,null,0,null,0,null,0,null,2]
[null,null,null,"FSP",null,"FSP",null,"FSP",null,"FSP",null,"FSP",null,"FSP",null,"FSP",null,"FSP",null,"FSP",null,"FSP",null,"FSP",null,"FSP","LLP","FSP",null,"FSP",null,"FSP",null,"FSP",null,"FSP",null,"FSP",null,"FSP",null,"FSP",null,"FSP",null,"FSP",null,"FSP",null,"FSP",null,"FSP",null,"FSP",null,"FSP",null,"FSP",null,"FSP",null,"FSP",null,"FSP",null,"FSP",null,"FSP",null,"FSP"]
[null,null,null,20,null,20,null,12,null,10,null,20,null,10,null,8,null,10,null,10,null,10,null,10,null,15,10,10,null,10,null,40,null,15,null,10,null,30,null,10,null,10,null,10,null,15,null,10,null,25,null,20,null,20,null,20,null,20,null,15,null,20,null,10,null,15,null,9,null,25]
[null,null,null,"Mean Rev",null,"Mean Rev",null,"Mean Rev",null,"Mean Rev",null,"Mean Rev",null,"Mean Rev",null,"Mean Rev",null,"Mean Rev",null,"Mean Rev",null,"Mean Rev",null,"Mean Rev",null,"Mean Rev","ConvHorizon","Mean Rev",null,"Mean Rev",null,"Mean Rev",null,"Mean Rev",null,"Mean Rev",null,"Mean Rev",null,"Mean Rev",null,"Mean Rev",null,"Mean Rev",null,"Mean Rev",null,"Mean Rev",null,"Mean Rev",null,"Mean Rev",null,"Mean Rev",null,"Mean Rev",null,"Mean Rev",null,"Mean Rev",null,"Mean Rev",null,"Mean Rev",null,"Mean Rev",null,"Mean Rev",null,"Mean Rev"]
[null,null,null,0.1,null,0.1,null,0.1,null,0.1,null,0.1,null,0.1,null,0.1,null,0.1,null,0.1,null,0.1,null,0.1,null,0.1,10,0.4,null,0.1,null,0.1,null,0.1,null,0.1,null,0.1,null,0.1,null,0.1,null,0.1,null,0.1,null,0.1,null,0.1,null,0.1,null,0.1,null,0.1,null,0.1,null,0.1,null,0.1,null,0.1,null,0.1,null,0.1,null,0.1]
[null,null,null,"LLFR",null,"LLFR",null,"LLFR",null,"LLFR",null,"LLFR",null,"LLFR",null,"LLFR",null,"LLFR",null,"LLFR",null,"LLFR",null,"LLFR",null,"LLFR","Fitted Alfa","LLFR",null,"LLFR",null,"LLFR",null,"LLFR",null,"LLFR",null,"LLFR",null,"LLFR",null,"LLFR",null,"LLFR",null,"LLFR",null,"LLFR",null,"LLFR",null,"LLFR",null,"LLFR",null,"LLFR",null,"LLFR",null,"LLFR",null,"LLFR",null,"LLFR",null,"LLFR",null,"LLFR",null,"LLFR"]
[null,null,null,-3.7349246878853084E-4,null,-8.7253247955160641E-4,null,1.708111533679707E-2,null,7.6825605645413162E-3,null,-4.7327864282471034E-4,null,1.7824882391908787E-2,null,3.4371571821516164E-2,null,-1.7314643730710344E-3,null,1.0376485605311741E-2,null,1.0962382883805702E-2,null,4.3143937098812257E-2,null,6.6867002715159288E-2,0.534663,4.9831302077030497E-3,null,-1.7314643730710344E-3,null,1.0134515847775567E-3,null,1.2990836244438706E-2,null,8.655597322171027E-2,null,1.3997393124372749E-2,null,4.4904819175232986E-2,null,2.9036739863313843E-2,null,0.11875634012192859,null,1.0554235215969668E-2,null,6.8628595874984488E-2,null,4.2054581641210644E-3,null,4.8469845425169231E-2,null,7.3488929273724704E-2,null,1.3824569626813433E-2,null,8.4741506656315999E-3,null,0.10254447814417311,null,2.4979765680606496E-3,null,4.5781095193812502E-3,null,2.0144669076213872E-2,null,0.15314818145619125,null,7.8402543704461907E-3]
[null,null,"Zero Rates AC",null,"Zero Rates AC",null,"Zero Rates AC",null,"Zero Rates AC",null,"Zero Rates AC",null,"Zero Rates AC",null,"Zero Rates AC",null,"Zero Rates AC",null,"Zero Rates AC",null,"Zero Rates AC",null,"Zero Rates AC",null,"Zero Rates AC",null,"Zero Rates AC",null,"Zero Rates AC",null,"Zero Rates AC",null,"Zero Rates AC",null,"Zero Rates AC",null,"Zero Rates AC",null,"Zero Rates AC",null,"Zero Rates AC",null,"Zero Rates AC",null,"Zero Rates AC",null,"Zero Rates AC",null,"Zero Rates AC",null,"Zero Rates AC",null,"Zero Rates AC",null,"Zero Rates AC",null,"Zero Rates AC",null,"Zero Rates AC",null,"Zero Rates AC",null,"Zero Rates AC",null,"Zero Rates AC",null,"Zero Rates AC",null,"Zero Rates AC"]
[null,"Tenor",null,"Alternative","SW","Alternative","SW","Alternative","SW","Alternative","SW","Alternative","SW","Alternative","SW","Alternative","SW","Alternative","SW","Alternative","SW","Alternative","SW","Alternative","SW","Alternative","SW","Alternative","SW","Alternative","SW","Alternative","SW","Alternative","SW","Alternative","SW","Alternative","SW","Alternative","SW","Alternative","SW","Alternative","SW","Alternative","SW","Alternative","SW","Alternative","SW","Alternative","SW","Alternative","SW","Alternative","SW","Alternative","SW","Alternative","SW","Alternative","SW","Alternative","SW","Alternative","SW","Alternative","SW","Alternative"]
[null,1,null,-4.449999999999843E-3,null,-4.9499999999998989E-3,null,-1.8976200000000443E-3,null,2.0500000000001073E-3,null,-4.550000000000054E-3,null,5.3000000000000824E-3,null,1.2542339999999985E-2,null,-7.3750000000001315E-3,null,2.5200000000000777E-3,null,1.0460000000001024E-3,null,2.9081310000000027E-2,null,3.9422190000000024E-2,-1.0799999999954099E-3,-1.0800000000000809E-3,null,-7.3750000000001315E-3,null,9.7223619600006472E-4,null,5.2006759999989605E-4,null,2.1401379999999914E-2,null,3.9188318062501892E-3,null,1.0807000000001565E-4,null,1.7919167876639275E-2,null,1.786872000000006E-2,null,4.106308058666519E-3,null,3.377081000000004E-2,null,-1.1626618577500469E-3,null,1.6450660000000061E-2,null,4.1732964977121645E-2,null,3.5003062500016391E-4,null,-2.4998437500023396E-4,null,3.279579006867217E-2,null,4.2066196317154247E-3,null,3.9626000000003714E-4,null,1.0133999999999421E-3,null,8.4659290000000054E-2,null,6.2009610000002269E-4]
[null,2,null,-4.7492877139407863E-3,null,-5.2492127364905938E-3,null,2.0690599999999559E-3,null,2.4504901959587766E-3,null,-4.8492727184503703E-3,null,4.9992502246527515E-3,null,1.2542339999999985E-2,null,-7.3600552008294962E-3,null,3.6520645808553187E-3,null,1.825711391421736E-3,null,3.1771760000000038E-2,null,4.2030910000000032E-2,-1.1749441928002868E-3,-1.1749441928031734E-3,null,-7.3600552008294962E-3,null,4.6693660067376186E-4,null,9.6044181025312092E-4,null,3.2514710000000058E-2,null,3.9188318062501892E-3,null,-5.0021000000000093E-4,null,1.843063833933245E-2,null,2.6429019999999914E-2,null,3.7043939707370743E-3,null,3.8776759999999966E-2,null,-1.2245869051017433E-3,null,1.8323909999999888E-2,null,4.1256117704527639E-2,null,-2.4995157436147331E-5,null,2.5007815626243435E-4,null,3.446424091689515E-2,null,4.5082779672240836E-3,null,6.6644999999998511E-4,null,1.1060199999999298E-3,null,9.1878040000000105E-2,null,2.3946877783953546E-4]
[null,3,null,-4.8490311393776242E-3,null,-5.3489313459798016E-3,null,5.2340699999999796E-3,null,3.2309320497485583E-3,null,-4.9490111793651925E-3,null,5.4016245574859401E-3,null,1.4881799999999945E-2,null,-6.8357407481980381E-3,null,4.1536465454317106E-3,null,3.219850313311623E-3,null,3.3485079999999945E-2,null,4.4637129999999914E-2,-1.0800683695545432E-3,-1.0800683695567637E-3,null,-6.8357407481980381E-3,null,4.7998303711382917E-4,null,1.3812596796882737E-3,null,4.2435159999999916E-2,null,4.5379315335805082E-3,null,6.8130000000055091E-5,null,1.975240951602264E-2,null,3.2369789999999954E-2,null,3.7046416192785259E-3,null,4.3453100000000022E-2,null,-1.2745036142998156E-3,null,1.9616410000000029E-2,null,4.2342264741790592E-2,null,1.7502078591302705E-4,null,8.7588533143723168E-4,null,3.8190735315966284E-2,null,4.8105803747038323E-3,null,9.2620000000009917E-4,null,2.1079399999999193E-3,null,9.7229110000000007E-2,null,3.2001077599441707E-4]
[null,4,null,-4.6506939059682839E-3,null,-5.1507680700138003E-3,null,7.7254600000000728E-3,null,3.6213807973002332E-3,null,-4.7507087457504538E-3,null,6.3484079859970066E-3,null,1.7866511065179003E-2,null,-6.5734796770350323E-3,null,4.8583202085734634E-3,null,3.9176471360955478E-3,null,3.4769269999999963E-2,null,4.7078540000000002E-2,-7.703946551241847E-4,-7.7039465512596106E-4,null,-6.5734796770350323E-3,null,7.0027216548651516E-4,null,2.02382905616183E-3,null,5.0137209999999932E-2,null,5.2448085282905677E-3,null,2.4976999999999361E-3,null,2.0413938263528664E-2,null,3.6883320000000053E-2,null,4.1464162980568986E-3,null,4.7692539999999894E-2,null,-1.2495900001914251E-3,null,2.1027499999999977E-2,null,4.4222498076468275E-2,null,6.7565903156796558E-4,null,1.8804630835538294E-3,null,4.5387193384663682E-2,null,5.0377082139643203E-3,null,1.1784599999999923E-3,null,3.4511999999999876E-3,null,0.10227943000000006,null,6.7044115545833449E-4]
[null,5,null,-4.4523045769666592E-3,null,-4.9525621853834245E-3,null,9.6425799999999562E-3,null,3.8557229824889294E-3,null,-4.5523561201467055E-3,null,6.9169059491620555E-3,null,1.9661549431238212E-2,null,-6.4160897934560923E-3,null,5.4944962987475421E-3,null,4.3365581798262554E-3,null,3.5797580000000107E-2,null,4.9337329999999957E-2,-4.2046659697170252E-4,-4.2046659697303479E-4,null,-6.4160897934560923E-3,null,9.9801284142664315E-4,null,2.7993855077079743E-3,null,5.606046000000009E-2,null,5.8577884927222268E-3,null,5.7649099999999009E-3,null,2.0811061483177129E-2,null,4.1244119999999995E-2,null,4.411574433216936E-3,null,5.1320339999999964E-2,null,-1.1877794490013915E-3,null,2.2545540000000086E-2,null,4.5966849932685294E-2,null,1.3531597546605489E-3,null,2.4836936508660923E-3,null,4.9728990424094288E-2,null,5.1639075376386234E-3,null,1.4246200000000986E-3,null,4.8164200000000434E-3,null,0.10731684999999991,null,1.2573611643609262E-3]
[null,6,null,-4.1548916903217936E-3,null,-4.6554776877683057E-3,null,1.1074540000000077E-2,null,4.4974339412242603E-3,null,-4.2550089475041908E-3,null,8.7531453310534246E-3,null,2.0860000000000101E-2,null,-5.6365996249465589E-3,null,6.3154872368471615E-3,null,5.4478349301350093E-3,null,3.6708279889136719E-2,null,5.1574448658395555E-2,1.1102230246251565E-15,0,null,-5.6365996249465589E-3,null,1.2549987086163394E-3,null,3.8818073163879863E-3,null,6.0615150000000062E-2,null,6.4965200753526187E-3,null,9.8461576011539265E-3,null,2.2247888459326681E-2,null,4.6115059999999986E-2,null,5.2279267383750216E-3,null,5.4251480000000019E-2,null,-1.0751139910568641E-3,null,2.4025570000000052E-2,null,4.8734110396014163E-2,null,2.1338351046198412E-3,null,3.5330946074354497E-3,null,5.7426168014032664E-2,null,5.3265922449494685E-3,null,1.6647000000000745E-3,null,6.0981399999999741E-3,null,0.11327000868246007,null,1.9609517080387828E-3]
[null,7,null,-3.8573434612039215E-3,null,-4.3582912012856134E-3,null,1.2112689999999926E-2,null,4.9560500462340062E-3,null,-3.9575331183911988E-3,null,1.006679470492533E-2,null,2.2863748236232384E-2,null,-5.0794465558896551E-3,null,6.9023197176185658E-3,null,6.2423567768288279E-3,null,3.7359270000000055E-2,null,5.3175310000000087E-2,4.5137448957266457E-4,4.5137448957155435E-4,null,-5.0794465558896551E-3,null,1.5305247263837085E-3,null,4.6556810039337648E-3,null,6.4210740000000044E-2,null,6.9530052328918845E-3,null,1.2771469999999896E-2,null,2.3275431470551222E-2,null,5.1640329999999901E-2,null,5.8114417232693061E-3,null,5.6557439999999959E-2,null,-9.2549903281990975E-4,null,2.5342479999999945E-2,null,5.07152062503895E-2,null,2.9687685360575422E-3,null,4.2833392118313274E-3,null,6.2958682940415622E-2,null,5.4428117276865695E-3,null,1.8994299999999242E-3,null,7.2710600000001069E-3,null,0.11754185000000006,null,2.6237791070959915E-3]
[null,8,null,-3.460578737007669E-3,null,-3.962101611659441E-3,null,1.2842360000000053E-2,null,5.3001495300009083E-3,null,-3.5608835192585397E-3,null,1.1053154260860287E-2,null,2.43691399999999E-2,null,-4.6613768960799273E-3,null,7.342668643339767E-3,null,6.8386601577232753E-3,null,3.7986049999999993E-2,null,5.4866310500929716E-2,5.9955935448630093E-4,1.0182729335794782E-3,null,-4.6613768960799273E-3,null,1.8025511166324115E-3,null,5.8711000949254188E-3,null,6.7103939999999973E-2,null,7.5929673367360895E-3,null,1.6857896980521092E-2,null,2.4046766490235294E-2,null,5.7661490000000093E-2,null,6.2493002354935268E-3,null,5.8367099999999894E-2,null,-7.3784621428274466E-4,null,2.6479740000000085E-2,null,5.2964530730979842E-2,null,3.7827274925135157E-3,null,4.8463907231839354E-3,null,6.7127056966506338E-2,null,5.6557636288230295E-3,null,2.1301700000000423E-3,null,8.3389499999999561E-3,null,0.1234267158661293,null,3.3160571363126667E-3]
[null,9,null,-3.0631946140144972E-3,null,-3.565342781914449E-3,null,1.333855000000006E-2,null,5.5678639159228993E-3,null,-3.1636245816493158E-3,null,1.1820988678307831E-2,null,2.55549949052154E-2,null,-4.336090154873018E-3,null,7.6852953882271535E-3,null,7.3026959719380002E-3,null,3.8555850000000058E-2,null,5.6183410000000045E-2,9.1075004552476635E-4,1.4594160204097761E-3,null,-4.336090154873018E-3,null,2.0589744586327896E-3,null,6.8174425348825896E-3,null,6.949383000000009E-2,null,8.0909968180764569E-3,null,2.0047624995999991E-2,null,2.4647095678028696E-2,null,6.3873700000000033E-2,null,6.5899886332372315E-3,null,5.9775139999999949E-2,null,-5.2599887510296206E-4,null,2.7492059999999929E-2,null,5.4717333863941509E-2,null,4.550163484039027E-3,null,5.2845379117449909E-3,null,7.0380423455617347E-2,null,5.8214240671117246E-3,null,2.3557700000000903E-3,null,9.2998600000000486E-3,null,0.12802525000000009,null,3.9093485926040561E-3]
[null,10,null,-2.6651020891858002E-3,null,-3.167931996373885E-3,null,1.3684280000000104E-2,null,5.7820867548015187E-3,null,-2.765668564951862E-3,null,1.2435676040531085E-2,null,2.6527371837319569E-2,null,-4.0757842225341845E-3,null,7.9594806891560843E-3,null,7.6740786025855101E-3,null,3.9107760000000047E-2,null,5.7404840000000013E-2,1.8139744312470896E-3,1.8124704604303155E-3,null,-4.0757842225341845E-3,null,2.2977218578379421E-3,null,7.5751574891180784E-3,null,7.1567500000000006E-2,null,8.4895976355674474E-3,null,2.2606609999999971E-2,null,2.5127612409618028E-2,null,6.9937939999999976E-2,null,6.8626223999317393E-3,null,6.0896110000000059E-2,null,-3.0083157560067963E-4,null,2.8450129999999962E-2,null,5.612167693887149E-2,null,5.2707262590048209E-3,null,5.6351932124862891E-3,null,7.2990256580048429E-2,null,5.9539720656358597E-3,null,2.5788300000000319E-3,null,1.0169410000000045E-2,null,0.13117244781172244,null,4.4251950277911511E-3]
[null,11,null,-2.3428351222567478E-3,null,-2.8462146794580034E-3,null,1.3955039999999919E-2,null,6.0862752241959139E-3,null,-2.4435116796582834E-3,null,1.3055560206432393E-2,null,2.7342329935805987E-2,null,-3.736321410971577E-3,null,8.30109079140251E-3,null,8.0926387865605243E-3,null,3.9530603075497162E-2,null,5.8467523402213395E-2,3.4750896648074736E-3,2.611339553430847E-3,null,-3.736321410971577E-3,null,2.4951107848560916E-3,null,8.2604766576284128E-3,null,7.3111313625501939E-2,null,8.9979705115301734E-3,null,2.4701097978969022E-2,null,2.5588491026252269E-2,null,7.4572046670601244E-2,null,7.2027296871333135E-3,null,6.1743699012685171E-2,null,-5.4566014167534149E-5,null,2.9470139416485575E-2,null,5.7936453780789154E-2,null,6.0540169872491667E-3,null,5.8962146244643243E-3,null,7.6125530515742001E-2,null,5.6395837094747048E-3,null,2.9035342261103381E-3,null,1.0981058286688272E-2,null,0.13282462308781584,null,4.8904500359756575E-3]
[null,12,null,-1.8664394833945996E-3,null,-2.3708545771684575E-3,null,1.4227369999999961E-2,null,6.561097025576057E-3,null,-1.9673234521341287E-3,null,1.3772783295999069E-2,null,2.8037469579449859E-2,null,-3.2362800382416124E-3,null,8.7871004574067157E-3,null,8.6383293632614766E-3,null,3.9833430034851736E-2,null,5.9353908682928669E-2,5.4542769196608276E-3,4.0009355683618963E-3,null,-3.2362800382416124E-3,null,2.6596312517519483E-3,null,8.8319320238228194E-3,null,7.4131867917734962E-2,null,9.4218103291507926E-3,null,2.6442903169824561E-2,null,2.6088706694034958E-2,null,7.784102609188448E-2,null,7.4862401838580173E-3,null,6.2329574834997015E-2,null,1.5070162769426076E-4,null,3.0320920000000084E-2,null,5.9451149703264816E-2,null,6.7072254630013983E-3,null,6.1137842208038862E-3,null,7.8745255845091178E-2,null,5.377668469903174E-3,null,3.4182743775827973E-3,null,1.1657929999999928E-2,null,0.13343209751552831,null,5.2783271631511308E-3]
[null,13,null,-1.5785481548286073E-3,null,-2.0834925413927285E-3,null,1.4532352304102991E-2,null,7.147960384307428E-3,null,-1.6795381695298151E-3,null,1.4547541717214285E-2,null,2.8638997194123883E-2,null,-2.6315567172846555E-3,null,9.3667094439817689E-3,null,9.2647417176929814E-3,null,4.0048239529642871E-2,null,6.0104506741181618E-2,7.4466524824143843E-3,5.6266377340559171E-3,null,-2.6315567172846555E-3,null,2.7829846600213592E-3,null,9.2256646958464028E-3,null,7.4772487663755216E-2,null,9.7805830774175817E-3,null,2.7913297622755406E-2,null,2.6609087117635211E-2,null,8.010589819092595E-2,null,7.7261960118362172E-3,null,6.2724497147156777E-2,null,4.125409680644232E-4,null,3.1351341571177249E-2,null,6.0734509223579147E-2,null,7.2602715764928938E-3,null,6.297918327333285E-3,null,8.0966927107957387E-2,null,5.1561011635536946E-3,null,4.0580223140136429E-3,null,1.232383314629093E-2,null,0.13330236113969951,null,5.602910644572745E-3]
[null,14,null,-1.2510909281734373E-3,null,-1.7567558651444548E-3,null,1.4923377515777103E-2,null,7.8067299507105226E-3,null,-1.3522253237795434E-3,null,1.535292353217943E-2,null,2.9165771422010822E-2,null,-1.9603993481487336E-3,null,1.000518528058647E-2,null,9.9402369086047937E-3,null,4.0197525836336734E-2,null,6.0748299785327919E-2,9.32697318295439E-3,7.3017735492144631E-3,null,-1.9603993481487336E-3,null,2.8887282313725393E-3,null,9.5632721483887018E-3,null,7.5133893443559252E-2,null,1.0088204066898365E-2,null,2.917047244773463E-2,null,2.7136821576931203E-2,null,8.1622794277070199E-2,null,7.9319179227954617E-3,null,6.2978178503203308E-2,null,6.3702924751551926E-4,null,3.2235380233279765E-2,null,6.1835768924570322E-2,null,7.7345529136869651E-3,null,6.455774383190116E-3,null,8.2874858147307995E-2,null,4.9662251942297342E-3,null,4.7782235783739857E-3,null,1.2894956125404589E-2,null,0.13265040699031561,null,5.8812084691857169E-3]
[null,15,null,-9.4192697808626047E-4,null,-1.4483087895335034E-3,null,1.5371834826583219E-2,null,8.5094032385950591E-3,null,-1.0432050447034547E-3,null,1.6170469951825694E-2,null,2.9631735834648953E-2,null,-1.2494562320073399E-3,null,1.0678355588288557E-2,null,1.0642877458408195E-2,null,4.0297472433834081E-2,null,6.1306569999999949E-2,1.1051575871933839E-2,8.9310222266421047E-3,null,-1.2494562320073399E-3,null,2.9803816794884419E-3,null,9.8559566259501796E-3,null,7.5288419819690811E-2,null,1.0354884727711955E-2,null,3.0257176143275943E-2,null,2.7663261066453781E-2,null,8.2577222599266031E-2,null,8.1102442162472865E-3,null,6.3126341730112223E-2,null,8.3162650310253383E-4,null,3.3002159999999892E-2,null,6.2791118785583633E-2,null,8.1457773776847375E-3,null,6.5926029949703313E-3,null,8.4531122134636094E-2,null,4.8016950342413267E-3,null,5.5477809893322849E-3,null,1.3390189999999969E-2,null,0.13162942930198795,null,6.1224622155462427E-3]
[null,16,null,-7.7497898425404887E-4,null,-1.2815963303649536E-3,null,1.5857284830581353E-2,null,9.2361828006470859E-3,null,-8.7630432999952212E-4,null,1.6987417941670024E-2,null,3.0047442382566958E-2,null,-5.1753357565920144E-4,null,1.1369186136179987E-2,null,1.1357278325170972E-2,null,4.0359948274666602E-2,null,6.1726550500755373E-2,1.2613505653637835E-2,1.046905246792984E-2,null,-5.1753357565920144E-4,null,3.0199374033088588E-3,null,1.0129636738564596E-2,null,7.5288950645724162E-2,null,1.058828806208223E-2,null,3.120550917470144E-2,null,2.8182551347685436E-2,null,8.3105869439167313E-2,null,8.3463584021294945E-3,null,6.319513940992505E-2,null,1.0447046162445073E-3,null,3.4035715301968361E-2,null,6.3627754981299134E-2,null,8.5057364360492382E-3,null,6.7123432896272206E-3,null,8.5821546920015201E-2,null,4.6577532406688604E-3,null,6.3446977615881917E-3,null,1.3874813978799194E-2,null,0.13035024454158917,null,6.3353534322125871E-3]
[null,17,null,-6.276487632096428E-4,null,-1.1344739876330001E-3,null,1.6364959795784673E-2,null,9.9729514821138565E-3,null,-7.2901583660545111E-4,null,1.7794928313088043E-2,null,3.0421039104022274E-2,null,2.2198924734784242E-4,null,1.2065580963086742E-2,null,1.2072582596199366E-2,null,4.0393798696326311E-2,null,6.1976100425194636E-2,1.4021492311130146E-2,1.1897756728324049E-2,null,2.2198924734784242E-4,null,3.0548408080668388E-3,null,1.0499411175395768E-2,null,7.5174721906448916E-2,null,1.0794276957091231E-2,null,3.2040037673421784E-2,null,2.8690754786833805E-2,null,8.3310904374719108E-2,null,8.6958328152648701E-3,null,6.320401586717983E-2,null,1.2327523887489811E-3,null,3.4948534604267056E-2,null,6.4366510311263614E-2,null,8.8234541008067602E-3,null,6.8180083195297225E-3,null,8.6677725119280069E-2,null,4.5307628999129435E-3,null,7.1532775822897854E-3,null,1.4392687416568961E-2,null,0.12889396579097889,null,6.5232360322458049E-3]
[null,18,null,-4.9667033020839302E-4,null,-1.0036803775551606E-3,null,1.6884108321585378E-2,null,1.0709601605989549E-2,null,-5.9807450332927115E-4,null,1.8586914014841804E-2,null,3.0758929946557823E-2,null,9.5956141176500864E-4,null,1.2758926525780367E-2,null,1.2781122053022287E-2,null,4.0405704818694321E-2,null,6.2094422355507106E-2,1.5290064608737497E-2,1.3213577563972789E-2,null,9.5956141176500864E-4,null,3.0858670763864726E-3,null,1.0937843430880889E-2,null,7.4975197824214135E-2,null,1.0977413445057982E-2,null,3.2779875688620619E-2,null,2.9185270109658656E-2,null,8.3269619713277843E-2,null,9.1272043903656286E-3,null,6.3167614574068942E-2,null,1.3999356197083035E-3,null,3.5760606002240403E-2,null,6.5023612464714997E-2,null,9.1059538306492716E-3,null,6.9119421011905047E-3,null,8.7196780893084247E-2,null,4.4178960726515282E-3,null,7.9622719662009178E-3,null,1.493025506890322E-2,null,0.12732049727312722,null,6.6902722355244304E-3]
[null,19,null,-3.7946454996118373E-4,null,-8.8663999886040568E-4,null,1.7406871258244916E-2,null,1.1438901338576057E-2,null,-4.8090192433947188E-4,null,1.9359246166624988E-2,null,3.1066227210714281E-2,null,1.688376320346574E-3,null,1.3443104016865437E-2,null,1.3477508729818677E-2,null,4.0400770230778926E-2,null,6.2111535615588576E-2,1.6434989991876092E-2,1.442042186463155E-2,null,1.688376320346574E-3,null,3.1136282352075551E-3,null,1.1424308726420307E-2,null,7.4712723756322541E-2,null,1.1141300533359155E-2,null,3.3440113674075844E-2,null,2.9664439741265092E-2,null,8.3041077525481732E-2,null,9.6167781675284836E-3,null,6.3097081338868044E-2,null,1.5495442784081437E-3,null,3.6487736297651008E-2,null,6.5611889828644632E-2,null,9.3587838017765712E-3,null,6.9959955449345745E-3,null,8.7453439171783609E-2,null,4.3169207134763354E-3,null,8.7636233581780409E-3,null,1.5477531284125323E-2,null,0.12567435978648822,null,6.839749177384169E-3]
[null,20,null,-2.7396759664655157E-4,null,-7.8129193413889464E-4,null,1.7927501622521325E-2,null,1.2155708813206267E-2,null,-3.7543485762148165E-4,null,2.010920468900923E-2,null,3.1347069014125317E-2,null,2.4036200251362771E-3,null,1.4113804824187781E-2,null,1.4158005556527575E-2,null,4.0382930377167003E-2,null,6.2050640690907821E-2,1.7471283406676585E-2,1.5525712171781114E-2,null,2.4036200251362771E-3,null,3.1386139350517706E-3,null,1.1943191001281717E-2,null,7.4404380807282733E-2,null,1.1288821627780665E-2,null,3.4032820707784683E-2,null,3.0127278632885668E-2,null,8.2670786665414608E-2,null,1.0146572997520531E-2,null,6.3000974161362411E-2,null,1.6842111816410821E-3,null,3.7142589999999975E-2,null,6.6141617275958575E-2,null,9.5863849363118092E-3,null,7.0716496433811393E-3,null,8.7505706978651787E-2,null,4.2260515695038414E-3,null,9.5515938296146796E-3,null,1.602714218049095E-2,null,0.1239887662420931,null,6.9742974015749581E-3]
[null,21,null,-1.9306145426889465E-4,null,-6.9887113740951801E-4,null,1.8441812926331069E-2,null,1.2856417105718165E-2,null,-2.9422553667202145E-4,null,2.0835091298752273E-2,null,3.1604846646144269E-2,null,3.1019405352334939E-3,null,1.4768047248854721E-2,null,1.4820082288299563E-2,null,4.0355243771345251E-2,null,6.1929807083015209E-2,1.8412448375416224E-2,1.6538214129795614E-2,null,3.1019405352334939E-3,null,3.1258850590385467E-3,null,1.2482606819764097E-2,null,7.4063306689985176E-2,null,1.1422311639698313E-2,null,3.4567761760095683E-2,null,3.0573283723070332E-2,null,8.219405260433077E-2,null,1.0702867928124471E-2,null,6.2885910646955256E-2,null,1.8092037299506369E-3,null,3.7707570694326842E-2,null,6.655458172948836E-2,null,9.8458308188287269E-3,null,7.2058534505552441E-3,null,8.7398955346889462E-2,null,4.2232224239628913E-3,null,1.0322149703309247E-2,null,1.6573648027625953E-2,null,0.12228852307557547,null,7.0343154290264387E-3]
[null,22,null,3.356441626500839E-5,null,-4.6889206691891339E-4,null,1.8946782570081311E-2,null,1.3538555878484626E-2,null,-6.6928725923731669E-5,null,2.1535952660645119E-2,null,3.1842370397622721E-2,null,3.78106702845038E-3,null,1.540382981506494E-2,null,1.5462097178335243E-2,null,4.0320102693013338E-2,null,6.176319818976328E-2,1.9270294557661938E-2,1.7466872842072378E-2,null,3.78106702845038E-3,null,3.1143134937319239E-3,null,1.3033486468267741E-2,null,7.3699651978112124E-2,null,1.1543681486587021E-2,null,3.5052920211414929E-2,null,3.1002298081450164E-2,null,8.163841467170041E-2,null,1.127515558973391E-2,null,6.2757036454740955E-2,null,1.9228468537444421E-3,null,3.8171644562022822E-2,null,6.6811207352599489E-2,null,1.0177339023304421E-2,null,7.4453900707360798E-3,null,8.7168898075834278E-2,null,4.3625125168489376E-3,null,1.1072519846186957E-2,null,1.7113055818667622E-2,null,0.12059212758101934,null,7.088880376353357E-3]
[null,23,null,3.7305572938839404E-4,null,-1.2462625305220687E-4,null,1.9440262593195978E-2,null,1.4200501446125058E-2,null,2.7351782373230549E-4,null,2.2211379726487346E-2,null,3.206199252714903E-2,null,4.4395327991790801E-3,null,1.6019879105278578E-2,null,1.6083065657036766E-2,null,4.0279387942109501E-2,null,6.1561973291187178E-2,2.0055009911230659E-2,1.832022099246311E-2,null,4.4395327991790801E-3,null,3.1037482680729145E-3,null,1.3588902109810341E-2,null,7.3321282497905704E-2,null,1.1654510153358721E-2,null,3.5494884604953425E-2,null,3.1414412843406847E-2,null,8.1025444231789701E-2,null,1.1855376979797549E-2,null,6.2618369313861555E-2,null,2.0266192254203563E-3,null,3.8552417624808433E-2,null,6.6942621518495837E-2,null,1.0562880791471718E-2,null,7.7658914521030464E-3,null,8.6843795797967749E-2,null,4.6125201492206447E-3,null,1.1800874139931805E-2,null,1.764246350927734E-2,null,0.11891330449359439,null,7.1387031277265756E-3]
[null,24,null,7.9932639103041936E-4,null,3.075094436548742E-4,null,1.9920766061820361E-2,null,1.4841263187121534E-2,null,7.0096185138912581E-4,null,2.2861360671249109E-2,null,3.2265699817069171E-2,null,5.0764712477977536E-3,null,1.6615464149294379E-2,null,1.6682490258237648E-2,null,4.0234584036197729E-2,null,6.1334960471019828E-2,2.077533126270259E-2,1.9106108013105194E-2,null,5.0764712477977536E-3,null,3.0940635756397938E-3,null,1.4143569917604459E-2,null,7.2934301929908685E-2,null,1.17561137649973E-2,null,3.5899139052947504E-2,null,3.1809895700519952E-2,null,8.037208796378259E-2,null,1.2437354348225682E-2,null,6.2473055011515344E-2,null,2.1217533412822842E-3,null,3.8864173492390686E-2,null,6.6973824952399674E-2,null,1.0988222716794116E-2,null,8.1480341163711056E-3,null,8.6446107170424336E-2,null,4.9482803639506745E-3,null,1.2506086573513819E-2,null,1.8159797024398072E-2,null,0.11726214512680366,null,7.1843761484371438E-3]
[null,25,null,1.2915728598819065E-3,null,8.0644798877993473E-4,null,2.0387307583177083E-2,null,1.5460324552028393E-2,null,1.1945471061907131E-3,null,2.3486172107208603E-2,null,3.2455184195982145E-2,null,5.6914640982819176E-3,null,1.7190258398739333E-2,null,1.7260234323657642E-2,null,4.0186865994329857E-2,null,6.1089164530347295E-2,2.1438739662211548E-2,1.9831606118578149E-2,null,5.6914640982819176E-3,null,3.085153741183122E-3,null,1.4693476713317333E-2,null,7.25434451160194E-2,null,1.1849598100177605E-2,null,3.6270284158858246E-2,null,3.2189138327856526E-2,null,7.9691682540155684E-2,null,1.3016365816778341E-2,null,6.2323560128478395E-2,null,2.2092847050900755E-3,null,3.9118568744385129E-2,null,6.6924989773372356E-2,null,1.1442091783236963E-2,null,8.5764330208171202E-3,null,8.5993739708584371E-2,null,5.3498547659045492E-3,null,1.3187558851418535E-2,null,1.8663613660452327E-2,null,0.11564596069687316,null,7.2263971568067298E-3]
[null,26,null,1.8331481078603939E-3,null,1.3553316583436725E-3,null,2.0839283097689121E-2,null,1.6057523656777928E-2,null,1.7375844122586859E-3,null,2.4086298003078932E-2,null,3.2631897302161317E-2,null,6.2844274784052967E-3,null,1.7744236193910412E-2,null,1.7816427427750581E-2,null,4.0137165419702026E-2,null,6.0830154382207846E-2,2.2051647853257528E-2,2.0503010432884272E-2,null,6.2844274784052967E-3,null,3.0528886640113218E-3,null,1.5235597003399048E-2,null,7.2152377094653053E-2,null,1.1935898999297256E-2,null,3.6612207088871029E-2,null,3.2552617490829716E-2,null,7.8994728759384847E-2,null,1.3588822889696761E-2,null,6.2171818682189794E-2,null,2.3426381217259706E-3,null,3.9325166253482813E-2,null,6.6812455239628532E-2,null,1.1915541419659226E-2,null,9.038802134128332E-3,null,8.5501006861841145E-2,null,5.8012622613969889E-3,null,1.3845087880808959E-2,null,1.915295368133485E-2,null,0.11406992741942301,null,7.3054838975492586E-3]
[null,27,null,2.4106989351067032E-3,null,1.9406383145725847E-3,null,2.1276378532289364E-2,null,1.6632962932451312E-2,null,2.316686775500898E-3,null,2.4662368894183828E-2,null,3.2797093126137211E-2,null,6.8555257869882258E-3,null,1.8277594539701125E-2,null,1.8351394066170368E-2,null,4.008622130503614E-2,null,6.0562361311757185E-2,2.2619567193049805E-2,2.1125886020117779E-2,null,6.8555257869882258E-3,null,3.0230145179221957E-3,null,1.5767676511977413E-2,null,7.1763922538463865E-2,null,1.2015813802180197E-2,null,3.6928213928054676E-2,null,3.2900866146726715E-2,null,7.828948746021025E-2,null,1.4152023644288692E-2,null,6.2019344752895833E-2,null,2.567662823191208E-3,null,3.9491848256899109E-2,null,6.6649498656687678E-2,null,1.2401465233740083E-2,null,9.5253107133574932E-3,null,8.4979366955586721E-2,null,6.289659577436435E-3,null,1.4478765469764676E-2,null,1.962722734109601E-2,null,0.11253757811599452,null,7.4766188204804518E-3]
[null,28,null,3.0134986404870556E-3,null,2.5515055696596622E-3,null,2.1698499900120183E-2,null,1.7186940338849155E-2,null,2.921100352435424E-3,null,2.5215116109786662E-2,null,3.2951861691641327E-2,null,7.4051061781417182E-3,null,1.8790693655567958E-2,null,1.8865599590349724E-2,null,4.0034619431260188E-2,null,6.0289310559460185E-2,2.3147250819676835E-2,2.1705135296477218E-2,null,7.4051061781417182E-3,null,2.9952750360995317E-3,null,1.6288065208542646E-2,null,7.1380243227820994E-2,null,1.2090026055810332E-2,null,3.7221133718466692E-2,null,3.3234451921419605E-2,null,7.758244194370234E-2,null,1.4703962250844915E-2,null,6.1867319714094204E-2,null,2.8652766227912352E-3,null,3.9625139163277145E-2,null,6.6446937217690349E-2,null,1.2894220588146155E-2,null,1.0028084989839536E-2,null,8.4437998382469237E-2,null,6.8047071360568534E-3,null,1.5088901933414833E-2,null,2.0086128245759616E-2,null,0.1110511794789022,null,7.7209977919825423E-3]
[null,29,null,3.6329263050836058E-3,null,3.1792034520958801E-3,null,2.2105719497979459E-2,null,1.7719896738791041E-2,null,3.5421824099521881E-3,null,2.5745337216940278E-2,null,3.309715592035789E-2,null,7.9336484923233641E-3,null,1.9284011587416439E-2,null,1.9359609049873994E-2,null,3.9982823158592584E-2,null,6.0013802507212555E-2,2.3638814059549151E-2,2.2245071289343832E-2,null,7.9336484923233641E-3,null,2.9694493116119158E-3,null,1.6795587570831438E-2,null,7.1002976326279166E-2,null,1.2159125115012159E-2,null,3.7493400993871662E-2,null,3.3553961075244221E-2,null,7.6878659404560512E-2,null,1.5243180871799655E-2,null,6.1716660304196758E-2,null,3.2198916208165951E-3,null,3.9730459885627845E-2,null,6.6213601431999392E-2,null,1.3389334797735852E-2,null,1.0540819136878543E-2,null,8.3884250640695379E-2,null,7.338074082539281E-3,null,1.5675967620431441E-2,null,2.052956649879456E-2,null,0.10961202334346432,null,8.0232442798957582E-3]
[null,30,null,4.2620572835279091E-3,null,3.8167197069287617E-3,null,2.2498234296264963E-2,null,1.8232375489796837E-2,null,4.1729907781735687E-3,null,2.6253869909507621E-2,null,3.3233813255864275E-2,null,8.4417268610768037E-3,null,1.9758109442816751E-2,null,1.9834055777456339E-2,null,3.993119765914388E-2,null,5.9738055410577529E-2,2.4097834686253927E-2,2.2749489125237332E-2,null,8.4417268610768037E-3,null,2.9453459020469808E-3,null,1.7289441132037453E-2,null,7.063334281134992E-2,null,1.2223621826623399E-2,null,3.7747121814971418E-2,null,3.3859986584438451E-2,null,7.6182075263208082E-2,null,1.57686537568269E-2,null,6.1568072106305216E-2,null,3.6187469422617191E-3,null,3.9812329725138484E-2,null,6.5956710121846562E-2,null,1.3883274111018862E-2,null,1.1058469227364753E-2,null,8.332400038283283E-2,null,7.8830488949079847E-3,null,1.6240547989826881E-2,null,2.0957616843329196E-2,null,0.10822065273044945,null,8.3707558877792465E-3]
[null,31,null,4.895338870999133E-3,null,4.458431359259496E-3,null,2.2876333638342405E-2,null,1.8724991343453068E-2,null,4.8079586965323884E-3,null,2.6741572299839644E-2,null,3.3362573217275315E-2,null,8.9299802016236107E-3,null,2.0213604712807864E-2,null,2.0289617382081682E-2,null,3.9880029108003923E-2,null,5.9463818535375079E-2,2.4527436039581518E-2,2.322173207465883E-2,null,8.9299802016236107E-3,null,2.8879205726419777E-3,null,1.7769116702233578E-2,null,7.0272232988639161E-2,null,1.2320003486035569E-2,null,3.7984127022022918E-2,null,3.4153119327285042E-2,null,7.549571814807754E-2,null,1.627969601456547E-2,null,6.1422091817479263E-2,null,4.0513802072921212E-3,null,3.9874527721065478E-2,null,6.5682169328508122E-2,null,1.4373260848829617E-2,null,1.1577010817069855E-2,null,8.2761934180803021E-2,null,8.4342308811800049E-3,null,1.678330901333025E-2,null,2.1370478266476756E-2,null,0.10687703802397874,null,8.753186645787725E-3]
[null,32,null,5.5283317896184236E-3,null,5.0998429345163743E-3,null,2.3240374099273708E-2,null,1.9198406483953656E-2,null,5.4426356467598414E-3,null,2.7209308093161244E-2,null,3.3484091761851076E-2,null,9.3990895268458718E-3,null,2.0651150790228279E-2,null,2.0726997411568027E-2,null,3.982953996749794E-2,null,5.9192462335395213E-2,2.493035587213277E-2,2.3664750690569836E-2,null,9.3990895268458718E-3,null,2.8340873124859112E-3,null,1.8234335331096307E-2,null,6.9920274272804894E-2,null,1.2475743408392415E-2,null,3.8206015495429568E-2,null,3.4433941624077535E-2,null,7.4821888843550566E-2,null,1.6775891450002245E-2,null,6.1279120836807754E-2,null,4.5092059875559976E-3,null,3.9920222416885753E-2,null,6.539481194033181E-2,null,1.4857127796979785E-2,null,1.2093245733754143E-2,null,8.2201774319521359E-2,null,8.9872841977214346E-3,null,1.7304970499829153E-2,null,2.1768442429079604E-2,null,0.10558071476421627,null,9.1620340116267407E-3]
[null,33,null,6.1575029522564773E-3,null,5.7373766065427212E-3,null,2.3590759885596668E-2,null,1.9653312074923379E-2,null,6.0734795933985453E-3,null,2.7657935503644149E-2,null,3.3598953123843867E-2,null,9.8497605107388253E-3,null,2.1071421263569201E-2,null,2.1146911377835975E-2,null,3.9779901221455694E-2,null,5.8925050690165293E-2,2.5309003444604183E-2,2.4081154773987645E-2,null,9.8497605107388253E-3,null,2.783519306444493E-3,null,1.8684998295057431E-2,null,6.9577885149538776E-2,null,1.2679438279772581E-2,null,3.8414189540346255E-2,null,3.4703022568455255E-2,null,7.4162303282949704E-2,null,1.7257035239832463E-2,null,6.1139452082124013E-2,null,4.9851774755085287E-3,null,3.9952076829325556E-2,null,6.5098590808746248E-2,null,1.5333201643701111E-2,null,1.2604647224516263E-2,null,8.1646459988856002E-2,null,9.5387405864095776E-3,null,1.7806285534054833E-2,null,2.2151868935564201E-2,null,0.10433089170607968,null,9.5903073281355944E-3]
[null,34,null,6.7800584737407465E-3,null,6.3682031023306607E-3,null,2.392792754776818E-2,null,2.0090414077771568E-2,null,6.6976895735921804E-3,null,2.8088299048840915E-2,null,3.3707679640826216E-2,null,1.0282710126620298E-2,null,2.147509790919977E-2,null,2.1550076154876585E-2,null,3.9731242212246665E-2,null,5.8662399031054857E-2,2.5665506997262222E-2,2.4473258512561769E-2,null,1.0282710126620298E-2,null,2.7359282183132549E-3,null,1.9121147283344353E-2,null,6.9245318299623992E-2,null,1.2921586173974209E-2,null,3.8609884014793483E-2,null,3.4960914725623571E-2,null,7.351820728006353E-2,null,1.7723088231870854E-2,null,6.1003291490040246E-2,null,5.4735133877275022E-3,null,3.9972333811561178E-2,null,6.4796735127392591E-2,null,1.5800209223670203E-2,null,1.3109235224195714E-2,null,8.1098293331906879E-2,null,1.0085840359085996E-2,null,1.8288024658383639E-2,null,2.2521165936240539E-2,null,0.10312653571613972,null,1.0032260147838867E-2]
[null,35,null,7.3938084889249023E-3,null,6.9901048152780643E-3,null,2.4252334065623105E-2,null,2.0510422396635919E-2,null,7.313070174093772E-3,null,2.8501223564627587E-2,null,3.3810739962731651E-2,null,1.0698656454650735E-2,null,2.1862861559371227E-2,null,2.1937201993814659E-2,null,3.9683658581914916E-2,null,5.8405121299176299E-2,2.6001753353277035E-2,2.4843119418074266E-2,null,1.0698656454650735E-2,null,2.6910586896500277E-3,null,1.9542932617356401E-2,null,6.8922695173380788E-2,null,1.3194260901483901E-2,null,3.8794190451512556E-2,null,3.5208151874980054E-2,null,7.2890468916867013E-2,null,1.8174140405110562E-2,null,6.0870775316209214E-2,null,5.9694763794797545E-3,null,3.9982885813970137E-2,null,6.4491877617626647E-2,null,1.6257201787494679E-2,null,1.360547543530477E-2,null,8.0559057637163978E-2,null,1.062640361443612E-2,null,1.8750963749977867E-2,null,2.2876774908101138E-2,null,0.10196643853722831,null,1.0483172996592183E-2]
[null,36,null,7.997057265482832E-3,null,7.6013645321191259E-3,null,2.4564447582992699E-2,null,2.0914042622996787E-2,null,7.9179213668068016E-3,null,2.8897509936196331E-2,null,3.3908555951723374E-2,null,1.1098310963843838E-2,null,2.2235385213556835E-2,null,2.230898657455227E-2,null,3.9637218705371957E-2,null,5.8153668015000326E-2,2.6319421085271744E-2,2.5192571784548479E-2,null,1.1098310963843838E-2,null,2.6486837561456866E-3,null,1.9950587831131461E-2,null,6.861003378486985E-2,null,1.3490846311094318E-2,null,3.8968077146575686E-2,null,3.5445247550718539E-2,null,7.2279653171720692E-2,null,1.8610381587936375E-2,null,6.0741984099783819E-2,null,6.4691924067856732E-3,null,3.9985332153207986E-2,null,6.4186158383546577E-2,null,1.6703493603154707E-2,null,1.409219734747591E-2,null,8.0030113329972341E-2,null,1.1158725502404598E-2,null,1.9195874787072187E-2,null,2.3219158724572475E-2,null,0.10084926929571369,null,1.0939176237957149E-2]
[null,37,null,8.5885135487726583E-3,null,8.2006746467535585E-3,null,2.4864740230275073E-2,null,2.1301969817298927E-2,null,8.5109486273791113E-3,null,2.9277932156103414E-2,null,3.4001508515013601E-2,null,1.1482372730930113E-2,null,2.2593328903934395E-2,null,2.2666110645332527E-2,null,3.9591968917959797E-2,null,5.7908357237784758E-2,2.6620008404931061E-2,2.5523255386286303E-2,null,1.1482372730930113E-2,null,2.6086010078194555E-3,null,2.0344409312623934E-2,null,6.8307271103189571E-2,null,1.3805818491091415E-2,null,3.9132405977798435E-2,null,3.5672694191157595E-2,null,7.1686082362920622E-2,null,1.9032077954917126E-2,null,6.061695396498612E-2,null,6.9695028393461644E-3,null,3.9981026223916416E-2,null,6.3881310024569204E-2,null,1.7138612015130672E-2,null,1.4568527406250809E-2,null,7.951247618136259E-2,null,1.1681490727093014E-2,null,1.9623518880248936E-2,null,2.354879232398277E-2,null,9.9773615755358369E-2,null,1.1397105015455766E-2]
[null,38,null,9.1672171750911691E-3,null,8.7870628472339618E-3,null,2.5153682597309768E-2,null,2.1674883889654994E-2,null,9.0911893631540064E-3,null,2.9643235407932567E-2,null,3.4089942562315789E-2,null,1.1851524177771466E-2,null,2.2937335934549052E-2,null,2.3009234901635089E-2,null,3.9547937774501163E-2,null,5.7669399810403643E-2,2.6904856713335423E-2,2.5836640084394347E-2,null,1.1851524177771466E-2,null,2.5706293559253357E-3,null,2.0724739988265295E-2,null,6.8014281119723741E-2,null,1.4134566469733434E-2,null,3.9287946555627729E-2,null,3.5890962750822153E-2,null,7.1109885212457424E-2,null,1.943955314406498E-2,null,6.0495685787244735E-2,null,7.4678429173795635E-3,null,3.9971114570618305E-2,null,6.3578727618353481E-2,null,1.7562256709193091E-2,null,1.503383436216521E-2,null,7.9006881207036583E-2,null,1.2193703522443311E-2,null,2.0034641082788296E-2,null,2.3866155437965331E-2,null,9.873801665963744E-2,null,1.1854380000815956E-2]
[null,39,null,9.7324788296642151E-3,null,9.3598311128628708E-3,null,2.5431739513455565E-2,null,2.2033446237088805E-2,null,9.6579525189433024E-3,null,2.9994134941007999E-2,null,3.4174171240768825E-2,null,1.2206428000281155E-2,null,2.3268030196845091E-2,null,2.3338997832298425E-2,null,3.9505139526935906E-2,null,5.743691999142575E-2,2.7175170570165497E-2,2.6134046939218614E-2,null,1.2206428000281155E-2,null,2.5346062975948325E-3,null,2.1091956249876365E-2,null,6.773088944125627E-2,null,1.4473244031286914E-2,null,3.9435388185727227E-2,null,3.6100502662297806E-2,null,7.0551036743224937E-2,null,1.9833173082710598E-2,null,6.0378152639783522E-2,null,7.9621415098671822E-3,null,3.9956569339637538E-2,null,6.3279526435648936E-2,null,1.7974266407237316E-2,null,1.5487684459324358E-2,null,7.8513835002015586E-2,null,1.2694630132665363E-2,null,2.0429966599908811E-2,null,2.4171726956949247E-2,null,9.7740986997722601E-2,null,1.2308909011470526E-2]
[null,40,null,1.0283830472670896E-2,null,9.9185055135369016E-3,null,2.56993668646186E-2,null,2.2378297368216948E-2,null,1.0210768877682685E-2,null,3.0331315552972526E-2,null,3.4254479570007934E-2,null,1.2547725032047374E-2,null,2.3586014328224714E-2,null,2.3656014319607843E-2,null,3.9463576968993497E-2,null,5.7210972349178491E-2,2.7432034695807017E-2,2.6416666349942552E-2,null,1.2547725032047374E-2,null,2.5003855910581407E-3,null,2.1446457490063242E-2,null,6.7456885082092688E-2,null,1.4818646809200864E-2,null,3.9575350026745726E-2,null,3.6301742060179221E-2,null,7.0009390765343404E-2,null,2.0213333800084721E-2,null,6.0264305850374233E-2,null,8.450738180176165E-3,null,3.9938215322635529E-2,null,6.2984589666052138E-2,null,1.8374591583933286E-2,null,1.592980460692095E-2,null,7.8033658693124286E-2,null,1.3183751443795133E-2,null,2.0810198098135002E-2,null,2.4465980599243098E-2,null,9.6781037639063427E-2,null,1.2759005586641337E-2]
[null,41,null,1.0820984458427274E-2,null,1.0462794811623377E-2,null,2.5957009233450234E-2,null,2.2710055303158505E-2,null,1.0749350076133313E-2,null,3.0655431536769751E-2,null,3.4331127576483489E-2,null,1.2876032840264395E-2,null,2.389186852984948E-2,null,2.396087482561815E-2,null,3.9423243766315785E-2,null,5.6991555615778733E-2,2.7676428505023054E-2,2.6685573669365636E-2,null,1.2876032840264395E-2,null,2.5064497010418574E-3,null,2.1788657741977913E-2,null,6.7192029990926772E-2,null,1.5168110011178904E-2,null,3.9708389751984541E-2,null,3.6495088198928993E-2,null,6.9484706351112813E-2,null,2.0580451652235654E-2,null,6.015407993096944E-2,null,8.9323143765842605E-3,null,3.991675256287075E-2,null,6.2694607978984074E-2,null,1.8763272082285454E-2,null,1.6360052053032925E-2,null,7.7566523252422304E-2,null,1.3660723889421744E-2,null,2.1176013879099731E-2,null,2.4749381619524335E-2,null,9.5856690479102724E-2,null,1.320332140568925E-2]
[null,42,null,1.1343799764694351E-2,null,1.0992556263462516E-2,null,2.6205098192972232E-2,null,2.3029314580766957E-2,null,1.127355474860825E-2,null,3.0967106979426617E-2,null,3.4404353007563504E-2,null,1.3191944893941709E-2,null,2.418614989846235E-2,null,2.4254145032421848E-2,null,3.938412636691746E-2,null,5.6778624060728866E-2,2.7909238578532447E-2,2.6941742675262947E-2,null,1.3191944893941709E-2,null,2.5896140247703148E-3,null,2.2118979020680385E-2,null,6.6936066740776123E-2,null,1.5519423058797166E-2,null,3.9835010964907047E-2,null,3.6680928011584735E-2,null,6.8976669419300363E-2,null,2.093495550016744E-2,null,6.004739659053504E-2,null,9.4058361978077709E-3,null,3.9892775306486605E-2,null,6.2410112387240479E-2,null,1.9140418728171404E-2,null,1.6778389373723224E-2,null,7.7112478570459997E-2,null,1.4125347125859111E-2,null,2.152806673123564E-2,null,2.5022384346620852E-2,null,9.4966490003038695E-2,null,1.3640790051601348E-2]
[null,43,null,1.1852254056962552E-2,null,1.150776732933001E-2,null,2.6444051118403866E-2,null,2.3336645739980177E-2,null,1.1783360520380537E-2,null,3.1266936324133132E-2,null,3.4474373691254279E-2,null,1.3496030177529983E-2,null,2.4469392157197456E-2,null,2.4536365831782314E-2,null,3.9346205568384862E-2,null,5.6572096834713648E-2,2.8131269404860104E-2,2.7186057221111559E-2,null,1.3496030177529983E-2,null,2.7373229889897654E-3,null,2.2437846042995035E-2,null,6.6688724725864068E-2,null,1.5870758150702047E-2,null,3.9955669571938746E-2,null,3.6859628768002972E-2,null,6.8484910329981386E-2,null,2.1277280472683735E-2,null,5.9944168000178211E-2,null,9.870506679856561E-3,null,3.9866787932070435E-2,null,6.2131501598645889E-2,null,1.9506198219280124E-2,null,1.7184863821332774E-2,null,7.66714774168471E-2,null,1.4577537264544249E-2,null,2.1866983311296551E-2,null,2.5285430382889107E-2,null,9.4109011990004543E-2,null,1.4070580108282105E-2]
[null,44,null,1.234642055588786E-2,null,1.2008502247092157E-2,null,2.6674270409168033E-2,null,2.363259516938121E-2,null,1.227884081635322E-2,null,3.1555485126004701E-2,null,3.4541389595639016E-2,null,1.3788833149185553E-2,null,2.4742105694079752E-2,null,2.4808053581323097E-2,null,3.930945780356021E-2,null,5.6371865647967478E-2,2.834325266537685E-2,2.7419321338419067E-2,null,1.3788833149185553E-2,null,2.9388404651145006E-3,null,2.2745682065669737E-2,null,6.644972514257641E-2,null,1.6220610330671681E-2,null,4.0070779279008484E-2,null,3.7031538800512465E-2,null,6.8009018217491946E-2,null,2.1607863017003792E-2,null,5.9844299447080918E-2,null,1.0325725942202491E-2,null,3.9839218373344698E-2,null,6.1859064817676224E-2,null,1.9860820702504389E-2,null,1.7579590258397504E-2,null,7.6243395200571662E-2,null,1.5017304680640553E-2,null,2.2193363937927035E-2,null,2.5538947330935091E-2,null,9.3282869934827817E-2,null,1.4492055963770012E-2]
[null,45,null,1.2826448869438511E-2,null,1.249491262058644E-2,null,2.6896143034573772E-2,null,2.3917685240623765E-2,null,1.2760145644445275E-2,null,3.1833290946777337E-2,null,3.4605584632738662E-2,null,1.4070873963501596E-2,null,2.5004777835647696E-2,null,2.5069700561636488E-2,null,3.9273856194823376E-2,null,5.6177801078967304E-2,2.8545855287572586E-2,2.7642268019876681E-2,null,1.4070873963501596E-2,null,3.1849809260116047E-3,null,2.3042905631614374E-2,null,6.6218784978629319E-2,null,1.6567747095314278E-2,null,4.0180716348670265E-2,null,3.7196988272049758E-2,null,6.7548552650964266E-2,null,2.1927136997059726E-2,null,5.9747691487829879E-2,null,1.0771057842152931E-2,null,3.9810429455393592E-2,null,6.1593000780511664E-2,null,2.0204529564081142E-2,null,1.7962737048712762E-2,null,7.5828046271249727E-2,null,1.544473560057158E-2,null,2.2507782703447443E-2,null,2.5783347939917878E-2,null,9.248671964973898E-2,null,1.4904744995904551E-2]
[null,46,null,1.3292549105763385E-2,null,1.2967211330156214E-2,null,2.7110040333777397E-2,null,2.4192414658482875E-2,null,1.322748566798837E-2,null,3.2100864345430358E-2,null,3.4667128243910383E-2,null,1.434264889486081E-2,null,2.5257873297987565E-2,null,2.5321775582273887E-2,null,3.9239371417777225E-2,null,5.5989757754342895E-2,2.8739686452859958E-2,2.7855566876261229E-2,null,1.434264889486081E-2,null,3.4678828150402907E-3,null,2.3329928053831717E-2,null,6.5995620192291771E-2,null,1.6911165937553374E-2,null,4.0285823730830339E-2,null,3.7356289967503731E-2,null,6.7103053101647436E-2,null,2.2235530644739709E-2,null,5.965424169106015E-2,null,1.1206202034431456E-2,null,3.9780728489043016E-2,null,6.1333433664019221E-2,null,2.0537593044812175E-2,null,1.8334514393014034E-2,null,7.5425197365474261E-2,null,1.5859976817998112E-2,null,2.2810787828988932E-2,null,2.6019029584746889E-2,null,9.1719262417295999E-2,null,1.5308310059921171E-2]
[null,47,null,1.3744978706791366E-2,null,1.3425659198311513E-2,null,2.7316318014269259E-2,null,2.4457258973908935E-2,null,1.3681119005736209E-2,null,3.2358689931020646E-2,null,3.4726176797745589E-2,null,1.4604630910568961E-2,null,2.5501834769272591E-2,null,2.556472469537785E-2,null,3.9205972407676981E-2,null,5.5807578596860363E-2,2.8925303713775774E-2,2.8059830829538335E-2,null,1.4604630910568961E-2,null,3.7808169463380281E-3,null,2.360715149857695E-2,null,6.5779948229633289E-2,null,1.7250058511550037E-2,null,4.0386414660835035E-2,null,3.7509740093442101E-2,null,6.6672046607746616E-2,null,2.253346420568314E-2,null,5.9563846042730795E-2,null,1.1630970532001683E-2,null,3.9750375406963689E-2,null,6.1080426394098719E-2,null,2.086029736339956E-2,null,1.869516468979171E-2,null,7.5034578692365406E-2,null,1.6263223005573479E-2,null,2.3102902203250064E-2,null,2.6246374008308537E-2,null,9.0979246993221796E-2,null,1.5702526392345373E-2]
[null,48,null,1.4184031542527009E-2,null,1.387055394470682E-2,null,2.7515316304052018E-2,null,2.4712671217322901E-2,null,1.412134029829426E-2,null,3.2607227451395104E-2,null,3.4782874826424059E-2,null,1.4857270353289653E-2,null,2.5737083587312748E-2,null,2.579897198431591E-2,null,3.917362693592108E-2,null,5.5631098302836968E-2,2.9103218349815441E-2,2.8255621979125678E-2,null,1.4857270353289653E-2,null,4.1180240902358722E-3,null,2.3874967554954329E-2,null,6.557149000051643E-2,null,1.7583780337767196E-2,null,4.0482775803023952E-2,null,3.7657619074916049E-2,null,6.6255053956292276E-2,null,2.2821348150472209E-2,null,5.9476400073997571E-2,null,1.2045268024564404E-2,null,3.9719589675640377E-2,null,6.0833991785813613E-2,null,2.1172941087888919E-2,null,1.9044954576811213E-2,null,7.4655893063614087E-2,null,1.6654706184829005E-2,null,2.3384624057205983E-2,null,2.6465747270351336E-2,null,9.0265470699821826E-2,null,1.6087262202632013E-2]
[null,49,null,1.4610028886971271E-2,null,1.4302221046593955E-2,null,2.7707360221447708E-2,null,2.4959082618104089E-2,null,1.4548471660946083E-2,null,3.284691289730568E-2,null,3.4837356122366936E-2,null,1.5100995700603415E-2,null,2.5964020483160821E-2,null,2.6024920401545026E-2,null,3.9142302079057112E-2,null,5.5460146181599113E-2,2.9273900070166503E-2,2.844345675696669E-2,null,1.5100995700603415E-2,null,4.4745769613092623E-3,null,2.4133756198875256E-2,null,6.5369971412051475E-2,null,1.791182515538714E-2,null,4.0575170005076266E-2,null,3.7800192340799343E-2,null,6.585159464396817E-2,null,2.3099581845678507E-2,null,5.9391799760842634E-2,null,1.2449075341018023E-2,null,3.9688556177195133E-2,null,6.0594101872266437E-2,null,2.147583054135227E-2,null,1.9384168369666055E-2,null,7.4288823401406523E-2,null,1.7034686993479209E-2,null,2.3656427736774788E-2,null,2.6677499857495679E-2,null,8.9576779804125595E-2,null,1.6462462351168661E-2]
[null,50,null,1.5023311962402364E-2,null,1.472100618754113E-2,null,2.7892759933525912E-2,null,2.5196903383187585E-2,null,1.4962855208822345E-2,null,3.3078159606131363E-2,null,3.4889744713654025E-2,null,1.5336214376162172E-2,null,2.6183026367843754E-2,null,2.6242952635430861E-2,null,3.9111964598796067E-2,null,5.5294548466271465E-2,2.9437781154380893E-2,2.8623810469271982E-2,null,1.5336214376162172E-2,null,4.8462626789051999E-3,null,2.4383885076092016E-2,null,6.517512454041352E-2,null,1.8233803182423403E-2,null,4.0663838717995171E-2,null,3.7937711091316828E-2,null,6.5461190832128535E-2,null,2.336855259835624E-2,null,5.930994223586783E-2,null,1.2842435547741227E-2,null,3.9657430222281409E-2,null,6.0360695717706747E-2,null,2.1769276065411569E-2,null,1.9713102663085458E-2,null,7.3933038899165027E-2,null,1.7403447451993959E-2,null,2.3918764543206628E-2,null,2.6881966917583267E-2,null,8.8912069337467425E-2,null,1.6828134615652912E-2]
[null,51,null,1.542423579245833E-2,null,1.512726903159356E-2,null,2.8071811179844586E-2,null,2.5426523513314425E-2,null,1.5364846894199369E-2,null,3.3301359353121729E-2,null,3.4940155733879763E-2,null,1.5563313592257488E-2,null,2.6394463144135294E-2,null,2.6453431990141274E-2,null,3.9082581248307324E-2,null,5.5134130186148544E-2,2.9595260107811994E-2,2.8797121307913898E-2,null,1.5563313592257488E-2,null,5.2294824566110343E-3,null,2.4625709042654043E-2,null,6.4986688507426837E-2,null,1.8549422668792781E-2,null,4.0749004127947686E-2,null,3.8070413043136631E-2,null,6.5083370473228985E-2,null,2.3628635003129395E-2,null,5.9230726345520512E-2,null,1.3225442260723197E-2,null,3.9626341828424172E-2,null,6.0133685960130023E-2,null,2.2053588995762929E-2,null,2.0032061901021914E-2,null,7.3588200062386422E-2,null,1.776128498233609E-2,null,2.4172063617200257E-2,null,2.7079468588648625E-2,null,8.8270282483047913E-2,null,1.718433813225495E-2]
[null,52,null,1.581316414844669E-2,null,1.5521378104579098E-2,null,2.8244795742804696E-2,null,2.564831363998743E-2,null,1.5754811439809391E-2,null,3.3516883421052857E-2,null,3.4988696199796498E-2,null,1.5782661207915494E-2,null,2.6598674529183519E-2,null,2.6656703266269455E-2,null,3.9054119017430278E-2,null,5.4978716675357919E-2,2.9746704896878917E-2,2.8963793902014645E-2,null,1.5782661207915494E-2,null,5.6211658331246639E-3,null,2.4859569912246915E-2,null,6.4804410116526379E-2,null,1.8858474229905164E-2,null,4.0830871039046368E-2,null,3.8198523148770036E-2,null,6.4717669754874141E-2,null,2.3880190533704493E-2,null,5.9154053080203051E-2,null,1.3598229820163565E-2,null,3.959539937613088E-2,null,5.9912964287419435E-2,null,2.2329079228878612E-2,null,2.0341354754529695E-2,null,7.3253962817868779E-2,null,1.8108507473574509E-2,null,2.4416732847778455E-2,null,2.7270310398523234E-2,null,8.7650409633627024E-2,null,1.7531173667105993E-2]
[null,53,null,1.6190465409437804E-2,null,1.5903706600847611E-2,null,2.8411981949643561E-2,null,2.5862625869828015E-2,null,1.6133118188263573E-2,null,3.3725083641535925E-2,null,3.5035465708163072E-2,null,1.5994606590098215E-2,null,2.6795986876924971E-2,null,2.6853093632670078E-2,null,3.9026545327277562E-2,null,5.482813477975701E-2,2.9892455819439112E-2,2.9124202469849259E-2,null,1.5994606590098215E-2,null,6.0186972093108082E-3,null,2.508579636894992E-2,null,6.4628044293044473E-2,null,1.9160817532427377E-2,null,4.090962854023128E-2,null,3.8322254288087665E-2,null,6.4363634982293583E-2,null,2.4123567331003404E-2,null,5.9079825899946314E-2,null,1.3960965034198081E-2,null,3.9564692736902884E-2,null,5.9698406017209438E-2,null,2.259605327957015E-2,null,2.0641291173550957E-2,null,7.2929981847623893E-2,null,1.8445429223435506E-2,null,2.465315979101157E-2,null,2.7454783715736841E-2,null,8.7051487201744937E-2,null,1.7868775430520678E-2]
[null,54,null,1.6556509186476109E-2,null,1.6274628963890869E-2,null,2.8573625194128205E-2,null,2.6069794625969145E-2,null,1.6500137717547769E-2,null,3.3926293403110597E-2,null,3.5080557061595519E-2,null,1.6199481468375687E-2,null,2.6986709991754898E-2,null,2.7042913482262954E-2,null,3.8999828182928686E-2,null,5.4682213813527669E-2,3.0032828057394489E-2,2.9278693622422969E-2,null,1.6199481468375687E-2,null,6.4198528259156173E-3,null,2.5304704011388734E-2,null,6.4457354365866415E-2,null,1.9456369973223309E-2,null,4.0985451484479185E-2,null,3.8441807930604144E-2,null,6.4020823999210386E-2,null,2.4359100148618085E-2,null,5.9007950974417689E-2,null,1.4313840246280796E-2,null,3.9534295952235565E-2,null,5.9489873922677683E-2,null,2.2854812746005315E-2,null,2.0932180001043577E-2,null,7.2615913277454203E-2,null,1.877236761317036E-2,null,2.4881712586942051E-2,null,2.7633166236158857E-2,null,8.6472596248847289E-2,null,1.8197304193237285E-2]
[null,55,null,1.691166358586238E-2,null,1.6634518114206909E-2,null,2.8729968468462985E-2,null,2.6270137478488165E-2,null,1.6856239097221781E-2,null,3.4120828622739463E-2,null,3.5124056831853823E-2,null,1.6397600775678534E-2,null,2.717113792693393E-2,null,2.722645726638806E-2,null,3.8973936291445188E-2,null,5.4540786308269418E-2,3.0168113951827058E-2,2.9427588862728005E-2,null,1.6397600775678534E-2,null,6.8227466198333975E-3,null,2.5516595500348238E-2,null,6.4292112221006725E-2,null,1.9745097049874705E-2,null,4.1058501804445591E-2,null,3.8557374767836494E-2,null,6.3688807229927535E-2,null,2.4587110423254233E-2,null,5.8938337352808956E-2,null,1.4657067520362999E-2,null,3.9504269530203473E-2,null,5.9287221423353742E-2,null,2.310565311270163E-2,null,2.1214327056328308E-2,null,7.231141682845621E-2,null,1.9089640396521057E-2,null,2.510274086571429E-2,null,2.780572249290536E-2,null,8.591286098666262E-2,null,1.8516941502778383E-2]
[null,56,null,1.7256293006847168E-2,null,1.6983743218424552E-2,null,2.8881242897924153E-2,null,2.6463955957787499E-2,null,1.7201787680401814E-2,null,3.430898867850396E-2,null,3.5166045867853324E-2,null,1.6589263469556581E-2,null,2.7349549762853975E-2,null,2.7404004303745344E-2,null,3.8948839151230485E-2,null,5.4403688590254795E-2,3.0298585035225978E-2,2.9571186818464712E-2,null,1.6589263469556581E-2,null,7.2257836468629932E-3,null,2.5721760786939774E-2,null,6.4132098352305045E-2,null,2.0027004168831297E-2,null,4.1128929685177118E-2,null,3.8669135315548386E-2,null,6.3367168411308628E-2,null,2.4807906443587102E-2,null,5.8870897076492845E-2,null,1.4990873770883928E-2,null,3.947466241584463E-2,null,5.9090295240837643E-2,null,2.3348862833565853E-2,null,2.148803360981133E-2,null,7.2016157521754387E-2,null,1.9397563502967952E-2,null,2.5316576636030153E-2,null,2.7972704379546132E-2,null,8.5371447193600236E-2,null,1.8827884830229014E-2]
[null,57,null,1.759075638602825E-2,null,1.7322667910866896E-2,null,2.9027668272356033E-2,null,2.6651536346380844E-2,null,1.7537143343591577E-2,null,3.4491057302231454E-2,null,3.5206599754711521E-2,null,1.6774753329814596E-2,null,2.7522210361588861E-2,null,2.7575819561129311E-2,null,3.8924507117752416E-2,null,5.4270761215577945E-2,3.0424493850532253E-2,2.9709765240770736E-2,null,1.6774753329814596E-2,null,7.6276199657379085E-3,null,2.5920477402537889E-2,null,6.3977101830036576E-2,null,2.0302129676892822E-2,null,4.119687461162358E-2,null,3.8777260486085208E-2,null,6.3055505071647922E-2,null,2.5021783595674973E-2,null,5.8805545245141033E-2,null,1.5315496691929553E-2,null,3.944551368287974E-2,null,5.8898937603374835E-2,null,2.3584722646610379E-2,null,2.1753595183911401E-2,null,7.1729807011886582E-2,null,1.9696449271554117E-2,null,2.5523535150783871E-2,null,2.8134351678698266E-2,null,8.4847560580300518E-2,null,1.9130343504528247E-2]
[null,58,null,1.7915405814849628E-2,null,1.7651648893014293E-2,null,2.9169453569986237E-2,null,2.6833150445769061E-2,null,1.7862659100577494E-2,null,3.4667303431517471E-2,null,3.5245789229320534E-2,null,1.6954339729572609E-2,null,2.7689371095208193E-2,null,2.7742154404090336E-2,null,3.8900911449812225E-2,null,5.4141849288014576E-2,3.0546075582641885E-2,2.9843582797046242E-2,null,1.6954339729572609E-2,null,8.0271280499337738E-3,null,2.611301079511108E-2,null,6.3826920204591575E-2,null,2.0570538934850946E-2,null,4.1262466306219547E-2,null,3.8881912131296437E-2,null,6.275342880375212E-2,null,2.5229024666994393E-2,null,5.8742200045177162E-2,null,1.5631181362746993E-2,null,3.9416853987057188E-2,null,5.8712988069929084E-2,null,2.3813505079932407E-2,null,2.201130062558776E-2,null,7.1452044611895582E-2,null,1.998660504501415E-2,null,2.5723915746098669E-2,null,2.82908925897567E-2,null,8.434044513146155E-2,null,1.9424535313731228E-2]
[null,59,null,1.8230585468377525E-2,null,1.7971034848254908E-2,null,2.9306797470083357E-2,null,2.7009056316092739E-2,null,1.8178680028399175E-2,null,3.4837982021171721E-2,null,3.5283680557226527E-2,null,1.7128278377726458E-2,null,2.7851270546167983E-2,null,2.7903247316398705E-2,null,3.8878024339856987E-2,null,5.4016802680325382E-2,3.0663549524547085E-2,2.9972880682184178E-2,null,1.7128278377726458E-2,null,8.4233669368056763E-3,null,2.6299614699387019E-2,null,6.3681359359361256E-2,null,2.0832319279820322E-2,null,4.1325825569714647E-2,null,3.8983243556766523E-2,null,6.2460565371527554E-2,null,2.5429900194386068E-2,null,5.8680782747927429E-2,null,1.5938177425873779E-2,null,3.9388706815328245E-2,null,5.8532285033289888E-2,null,2.403547411516449E-2,null,2.2261431404654308E-2,null,7.1182558062891532E-2,null,2.0268332065129346E-2,null,2.5918002651108552E-2,null,2.8442544250879109E-2,null,8.3849381445329163E-2,null,1.9710683671395834E-2]
[null,60,null,1.8536630793370756E-2,null,1.8281165619277617E-2,null,2.9439888851852558E-2,null,2.7179498987035755E-2,null,1.8485542453288373E-2,null,3.5003334814552645E-2,null,3.5320335874996056E-2,null,1.7296812031536879E-2,null,2.8008135178762439E-2,null,2.8059324587768719E-2,null,3.885581893124912E-2,null,5.3895476176318402E-2,3.077712039734104E-2,3.0097884069300029E-2,null,1.7296812031536879E-2,null,8.8155564431497968E-3,null,2.648053153061003E-2,null,6.3540233324477224E-2,null,2.1087575746047582E-2,null,4.1387065036671666E-2,null,3.9081400008234013E-2,null,6.2176554682709106E-2,null,2.5624668843875043E-2,null,5.8621217683578752E-2,null,1.6236736750137926E-2,null,3.9361089559943219E-2,null,5.835666695245556E-2,null,2.4250884980129506E-2,null,2.2504261099425715E-2,null,7.09210440922734E-2,null,2.0541924619611684E-2,null,2.6106065766712927E-2,null,2.858951325145731E-2,null,8.3373685087588578E-2,null,1.9989015261921095E-2]
[null,61,null,1.8833867911915103E-2,null,1.8582371603815595E-2,null,2.9568907277667922E-2,null,2.7344711139092093E-2,null,1.8783573352725291E-2,null,3.5163591075593859E-2,null,3.5355813501734223E-2,null,1.7460171178663497E-2,null,2.8160179981144839E-2,null,2.821060096975625E-2,null,3.8834269324927284E-2,null,5.3777729548150077E-2,3.0886979540802884E-2,3.0218803418294859E-2,null,1.7460171178663497E-2,null,9.2030548764858722E-3,null,2.6655992793578109E-2,null,6.3403364060980572E-2,null,2.1336427433536143E-2,null,4.1446289855536556E-2,null,3.9176519131192578E-2,null,6.1901050654812106E-2,null,2.5813577812543897E-2,null,5.8563432196011567E-2,null,1.6527111504221148E-2,null,3.9334014442255372E-2,null,5.8185973356726928E-2,null,2.4459984047047412E-2,null,2.2740055037395512E-2,null,7.0667208797625891E-2,null,2.0807669398664519E-2,null,2.6288361412242889E-2,null,2.8731996132203008E-2,null,8.2912704972591733E-2,null,2.0259758091835334E-2]
[null,62,null,1.9122613203806038E-2,null,1.8874973331456379E-2,null,2.9694023459302832E-2,null,2.7504913754806903E-2,null,1.9073089936708199E-2,null,3.5318968282566754E-2,null,3.5390168222971807E-2,null,1.7618574688428312E-2,null,2.8307609077848017E-2,null,2.8357280300098875E-2,null,3.8813350577494798E-2,null,5.3663427580965317E-2,3.0993305989130304E-2,3.0335835658244825E-2,null,1.7618574688428312E-2,null,9.5853397555840658E-3,null,2.6826219500231119E-2,null,6.3270581223280331E-2,null,2.1579004430308135E-2,null,4.150359830189676E-2,null,3.9268731404746404E-2,null,6.1633720996784547E-2,null,2.5996863244473589E-2,null,5.8507356582702785E-2,null,1.6809552577776055E-2,null,3.9307489307379928E-2,null,5.8020045657404706E-2,null,2.4663008816509402E-2,null,2.2969070063802777E-2,null,7.0420767887316105E-2,null,2.1065845025959984E-2,null,2.6465133039540456E-2,null,2.8870179870720936E-2,null,8.2465821781774862E-2,null,2.0523139885110675E-2]
[null,63,null,1.9403173036683707E-2,null,1.9159281190123112E-2,null,2.9815399706287327E-2,null,2.7660316739999802E-2,null,1.9354399377159881E-2,null,3.5469672784811168E-2,null,3.5423451549756013E-2,null,1.7772230432459235E-2,null,2.8450616313048238E-2,null,2.8499556096046819E-2,null,3.879303869242845E-2,null,5.3552440054987382E-2,3.109626744453875E-2,3.0449165257576905E-2,null,1.7772230432459235E-2,null,9.9619911247528226E-3,null,2.6991422590380454E-2,null,6.3141721906332382E-2,null,2.1815445208038575E-2,null,4.1559082332444541E-2,null,3.9358160550831522E-2,null,6.1374246924975395E-2,null,2.6174750654284429E-2,null,5.8452924023171704E-2,null,1.708430829662877E-2,null,3.9281518307781482E-2,null,5.7858727797461817E-2,null,2.4860187970666248E-2,null,2.3191554415280757E-2,null,7.0181446803794678E-2,null,2.1316721734314426E-2,null,2.6636611914397479E-2,null,2.9004242351033049E-2,null,8.2032446426612893E-2,null,2.0779386769925745E-2]
[null,64,null,1.9675843617816824E-2,null,1.9435595275788309E-2,null,2.9933190355874384E-2,null,2.7811119515281479E-2,null,1.9627798659298978E-2,null,3.5615900423783931E-2,null,3.5455711955447722E-2,null,1.7921335875152211E-2,null,2.8589385805076084E-2,null,2.8637612117427658E-2,null,3.8773310605823674E-2,null,5.3444641693500383E-2,3.1196021159866305E-2,3.0558965194261933E-2,null,1.7921335875152211E-2,null,1.0332677106390298E-2,null,2.7151803351258108E-2,null,6.3016630382791705E-2,null,2.2045894422571877E-2,null,4.161282808621225E-2,null,3.9444923919948582E-2,null,6.1122322828829345E-2,null,2.634745535307248E-2,null,5.8400070498837442E-2,null,1.7351623386639314E-2,null,3.9256102491250555E-2,null,5.7701866764917842E-2,null,2.505174148179834E-2,null,2.3407747679418778E-2,null,6.9948980751392442E-2,null,2.1560561161005465E-2,null,2.6803017765643755E-2,null,2.9134352816007736E-2,null,8.1612018561425081E-2,null,2.1028722212199424E-2]
[null,65,null,1.9940910945556833E-2,null,1.9704205343159531E-2,null,3.0047542184400644E-2,null,2.7957511578413419E-2,null,1.989357453294005E-2,null,3.575783711986924E-2,null,3.5486995092439022E-2,null,1.8066078634595195E-2,null,2.8724092472860008E-2,null,2.8771622900352289E-2,null,3.8754144167855609E-2,null,5.3339912083774532E-2,3.1292714739951988E-2,3.0665397836756147E-2,null,1.8066078634595195E-2,null,1.0697141387105757E-2,null,2.730755383246164E-2,null,6.2895157834397475E-2,null,2.227050106081796E-2,null,4.1664916338828739E-2,null,3.9529132854542182E-2,null,6.0877655899034933E-2,null,2.65151828725807E-2,null,5.8348734706649585E-2,null,1.7611738147609968E-2,null,3.9231240306526916E-2,null,5.7549312991715507E-2,null,2.5237880764711562E-2,null,2.3617880824135851E-2,null,6.9723114646864204E-2,null,2.1797616241609141E-2,null,2.6964559402443022E-2,null,2.926067230202567E-2,null,8.120400514971271E-2,null,2.1271366157887606E-2]
[null,66,null,2.019865084195871E-2,null,1.9965390838593278E-2,null,3.0158594800050009E-2,null,2.8099673038243456E-2,null,2.0152003545176544E-2,null,3.5895659426429027E-2,null,3.5517343990755013E-2,null,1.8206637014775984E-2,null,2.8854902535129456E-2,null,2.8901754262572465E-2,null,3.8735518120932788E-2,null,5.3238135576806345E-2,3.138648687037815E-2,3.0768615745118133E-2,null,1.8206637014775984E-2,null,1.1055192375853284E-2,null,2.7458857253616298E-2,null,6.2777162081038895E-2,null,2.2489416883988422E-2,null,4.1715422914848865E-2,null,3.9610893031170269E-2,null,6.0639965728610967E-2,null,2.667812938430747E-2,null,5.8298857968433593E-2,null,1.7864887804398544E-2,null,3.9206928037931466E-2,null,5.7400920656585752E-2,null,2.5418808863322706E-2,null,2.3822176283350371E-2,null,6.9503603007969428E-2,null,2.2028131184549826E-2,null,2.7121435300561325E-2,null,2.9383354055542377E-2,null,8.0807899086383417E-2,null,2.1507534351704161E-2]
[null,67,null,2.0449329051009046E-2,null,2.0219420999479043E-2,null,3.0266481017214408E-2,null,2.8237775121070063E-2,null,2.0403352138839814E-2,null,3.6029535052610084E-2,null,3.5546799240280702E-2,null,1.8343180509994506E-2,null,2.8981973983307041E-2,null,2.9028163781573246E-2,null,3.8717412075360835E-2,null,5.3139201170763872E-2,3.1477467981142482E-2,3.0868762400621419E-2,null,1.8343180509994506E-2,null,1.1406693809203894E-2,null,2.7605888402689072E-2,null,6.2662507310269344E-2,null,2.2702795124354802E-2,null,4.1764419062589653E-2,null,3.9690304782567631E-2,null,6.0408983895541724E-2,null,2.6836482110975224E-2,null,5.82503841375408E-2,null,1.8111302007286278E-2,null,3.918316017877399E-2,null,5.725654790757817E-2,null,2.5594720663408399E-2,null,2.4020848087599411E-2,null,6.92902097928636E-2,null,2.2252341511360019E-2,null,2.7273834158516586E-2,null,2.9502543931439362E-2,null,8.0423217877162001E-2,null,2.1737437804723925E-2]
[null,68,null,2.0693201389375693E-2,null,2.0466555006834586E-2,null,3.0371327212781685E-2,null,2.8371980650399475E-2,null,2.0647876803618903E-2,null,3.6159623356408099E-2,null,3.5575399158172205E-2,null,1.8475870282502305E-2,null,2.9105457029088067E-2,null,2.9151001246536801E-2,null,3.8699806483186938E-2,null,5.3043002382195725E-2,3.1565780851940506E-2,3.0965972871192404E-2,null,1.8475870282502305E-2,null,1.1751556610159586E-2,null,2.7748814023391688E-2,null,6.2551063809468399E-2,null,2.2910789398838283E-2,null,4.1811971795391534E-2,null,3.9767463400698588E-2,null,6.0184453534012361E-2,null,2.6990419728367465E-2,null,5.8203259504094884E-2,null,1.8351204457808912E-2,null,3.9159929751930278E-2,null,5.7116057017555288E-2,null,2.5765803124844E-2,null,2.421410203011054E-2,null,6.9082708200985943E-2,null,2.2470474150019237E-2,null,2.742193542463145E-2,null,2.9618380773265729E-2,null,8.0049502375647563E-2,null,2.1961282387409131E-2]
[null,69,null,2.0930513938697271E-2,null,2.0707042179993751E-2,null,3.0473253664793143E-2,null,2.850244450110706E-2,null,2.0885824268831232E-2,null,3.6286075809484952E-2,null,3.5603179942831575E-2,null,1.8604859614429259E-2,null,2.9225494527743034E-2,null,2.9270409085329963E-2,null,3.8682682610785557E-2,null,5.2949437108372965E-2,3.1651541164963604E-2,3.1060374419166648E-2,null,1.8604859614429259E-2,null,1.2089731833618833E-2,null,2.7887793190527033E-2,null,6.244270770238769E-2,null,2.3113552807981996E-2,null,4.185814420275169E-2,null,3.9842459421841392E-2,null,5.9966128899979321E-2,null,2.7140112756034451E-2,null,5.8157432699885714E-2,null,1.8584812639795834E-2,null,3.9137228584815942E-2,null,5.6979314483929677E-2,null,2.59322355278091E-2,null,2.4402135860372542E-2,null,6.8880880444342818E-2,null,2.2682747570746731E-2,null,2.7565909796086308E-2,null,2.9730996775620078E-2,null,7.9686315577811806E-2,null,2.2179268528070617E-2]
[null,70,null,2.1161503270206383E-2,null,2.0941122204055862E-2,null,3.0572374873987229E-2,null,2.8629314029065434E-2,null,2.1117431728611802E-2,null,3.6409036435202324E-2,null,3.5630175815686282E-2,null,1.8730294335100872E-2,null,2.9342222378214045E-2,null,2.9386522767682832E-2,null,3.8666022510638554E-2,null,5.2858407483538761E-2,3.1734858010446176E-2,3.1152087057114031E-2,null,1.8730294335100872E-2,null,1.242120455445006E-2,null,2.8022977672474525E-2,null,6.2337320691426834E-2,null,2.3311237193323286E-2,null,4.1902995734387716E-2,null,3.9915378894724629E-2,null,5.9753774935726423E-2,null,2.7285723935766892E-2,null,5.8112854603755038E-2,null,1.8812337638369092E-2,null,3.9115047544979742E-2,null,5.6846191082212894E-2,null,2.609418972838573E-2,null,2.4585139498563446E-2,null,6.8684517496603315E-2,null,2.2889371955313598E-2,null,2.7705919691111136E-2,null,2.9840517829039737E-2,null,7.933324147320997E-2,null,2.2391590999727429E-2]
[null,71,null,2.1386396693980902E-2,null,2.116902538229315E-2,null,3.0668799868804886E-2,null,2.8752729477319106E-2,null,2.1342927091795971E-2,null,3.6528642221294039E-2,null,3.5656419151883556E-2,null,1.8852313224853479E-2,null,2.9455769901068019E-2,null,2.9499471185710391E-2,null,3.8649808992689216E-2,null,5.2769819731357526E-2,3.1815834349609773E-2,3.1241224056834938E-2,null,1.8852313224853479E-2,null,1.2745988573708233E-2,null,2.8154512280282651E-2,null,6.2234789806664192E-2,null,2.3503992530014006E-2,null,4.1946582459936765E-2,null,3.9986303632683073E-2,null,5.9547166837135679E-2,null,2.7427408597069602E-2,null,5.8069478248141904E-2,null,1.9033984032220008E-2,null,3.9093376741682784E-2,null,5.6716561881485772E-2,null,2.6251830419794064E-2,null,2.4763295265309626E-2,null,6.8493418826155228E-2,null,2.3090549392390081E-2,null,2.7842119695489664E-2,null,2.9947063847861832E-2,null,7.8989883951781525E-2,null,2.2598438780855323E-2]
[null,72,null,2.1605412526390921E-2,null,2.139097290700076E-2,null,3.0762632494475861E-2,null,2.8872824359885252E-2,null,2.1562529250049201E-2,null,3.6645023508560248E-2,null,3.5681940600888806E-2,null,1.897104839646202E-2,null,2.9566260195377891E-2,null,2.9609377012920213E-2,null,3.8634025595574606E-2,null,5.2683584015435381E-2,3.1894567439132215E-2,3.1327892416066483E-2,null,1.897104839646202E-2,null,1.3064121835335341E-2,null,2.8282535203069781E-2,null,6.2135007162406053E-2,null,2.3691966434797873E-2,null,4.1988957306693164E-2,null,4.0055311450764464E-2,null,5.9346089626651777E-2,null,2.7565315009128177E-2,null,5.8027258727323394E-2,null,1.9249949846665393E-2,null,3.9072205698098994E-2,null,5.6590306228664122E-2,null,2.6405315396183182E-2,null,2.4936778122175207E-2,null,6.8307392118217569E-2,null,2.3286474092655274E-2,null,2.7974656984543156E-2,null,3.0050749081577122E-2,null,7.8655865764805322E-2,null,2.2799994977653837E-2]
[null,73,null,2.1818760370390544E-2,null,2.1607177143366352E-2,null,3.0853971686822135E-2,null,2.8989725824261514E-2,null,2.1776448358872491E-2,null,3.6758304356909077E-2,null,3.5706769197885402E-2,null,1.908662565527508E-2,null,2.9673810475577822E-2,null,2.9716357042816277E-2,null,3.8618656557981579E-2,null,5.25996142894396E-2,3.1971149220822781E-2,3.1412193286946222E-2,null,1.908662565527508E-2,null,1.3375662460125115E-2,null,2.8407178329608263E-2,null,6.2037869721798033E-2,null,2.387530377227276E-2,null,4.2030170277518986E-2,null,4.0122476388672945E-2,null,5.9150337734272362E-2,null,2.7699584718992476E-2,null,5.7986153107756788E-2,null,1.9460426556856314E-2,null,3.9051523498131013E-2,null,5.6467307707379399E-2,null,2.6554795816471355E-2,null,2.5105755919079487E-2,null,6.8126252990205582E-2,null,2.3477332618427882E-2,null,2.810367172177175E-2,null,3.0151682410255898E-2,null,7.8330827538358516E-2,null,2.2996436797304343E-2]
[null,74,null,2.2026641404207181E-2,null,2.1817841921855319E-2,null,3.0942911731435707E-2,null,2.9103554993696878E-2,null,2.1984886127035086E-2,null,3.6868602890025359E-2,null,3.5730932466779164E-2,null,1.9199164839135197E-2,null,2.9778532389319379E-2,null,2.982052250818179E-2,null,3.8603686790329217E-2,null,5.2517828148052059E-2,3.2045666679786811E-2,3.1494222369832681E-2,null,1.9199164839135197E-2,null,1.3680685316167507E-2,null,2.8528567556121764E-2,null,6.1943279069860413E-2,null,2.4054146344753224E-2,null,4.2070268650830522E-2,null,4.0187868920390946E-2,null,5.8959714588381118E-2,null,2.7830352875866105E-2,null,5.7946120340840457E-2,null,1.9665599132097089E-2,null,3.9031318911300961E-2,null,5.6347454076395742E-2,null,2.6700416466209242E-2,null,2.5270389645507096E-2,null,6.7949824703792405E-2,null,2.3663304123460405E-2,null,2.8229297435300227E-2,null,3.0249967624647933E-2,null,7.8014426837458073E-2,null,2.3187935563253381E-2]
[null,75,null,2.2229248674763724E-2,null,2.2023162835397292E-2,null,3.1029542508887342E-2,null,2.9214427290261913E-2,null,2.2188036110747156E-2,null,3.6976031619885497E-2,null,3.5754456515527666E-2,null,1.9308780139134285E-2,null,2.9880532317327679E-2,null,2.9921979382083297E-2,null,3.8589101846930873E-2,null,5.2438146679745223E-2,3.2118202174009403E-2,3.1574070275713684E-2,null,1.9308780139134285E-2,null,1.3979279055702731E-2,null,2.8646823080434869E-2,null,6.185114119517543E-2,null,2.4228632653132243E-2,null,4.2109297164359294E-2,null,4.0251556151276624E-2,null,5.8774032217794092E-2,null,2.7957748541541649E-2,null,5.7907121178320642E-2,null,1.9865646113602642E-2,null,3.9011580498703458E-2,null,5.6230637191725164E-2,null,2.684231601584397E-2,null,2.5430833682938969E-2,null,6.7777937876480454E-2,null,2.3844560599271425E-2,null,2.8351661373258397E-2,null,3.0345703691582626E-2,null,7.7706337278963256E-2,null,2.3374656764897805E-2]
[null,76,null,2.2426767392813352E-2,null,2.2223327538315685E-2,null,3.1113949726623291E-2,null,2.9322452739724447E-2,null,2.2386084009555551E-2,null,3.7080697752283731E-2,null,3.5777366124452925E-2,null,1.9415580402219357E-2,null,2.9979911656221825E-2,null,3.0020828661605936E-2,null,3.8574887898762178E-2,null,5.236049432216916E-2,3.2188833737988976E-2,3.1651822860084833E-2,null,1.9415580402219357E-2,null,1.4271543557555999E-2,null,2.876205968271095E-2,null,6.1761366280318919E-2,null,2.4398897717898604E-2,null,4.2147298184200599E-2,null,4.0313602003396953E-2,null,5.8593110866031362E-2,null,2.8081894987131983E-2,null,5.7869118090510652E-2,null,2.0060739719179654E-2,null,3.8992296702605955E-2,null,5.6116752915946977E-2,null,2.6980627274100888E-2,null,2.5587236056409335E-2,null,6.7610430194956272E-2,null,2.40212671250295E-2,null,2.8470884839194355E-2,null,3.0438985005305286E-2,null,7.7406247691246266E-2,null,2.3556760135193144E-2]
[null,77,null,2.2619375227323602E-2,null,2.2418516044503178E-2,null,3.1196215138190597E-2,null,2.9427736259202808E-2,null,2.2579207961486158E-2,null,3.7182703474475609E-2,null,3.5799684828125011E-2,null,1.9519669416630858E-2,null,3.007676708522955E-2,null,3.0117166635280634E-2,null,3.8561031706928706E-2,null,5.2284798720758419E-2,3.2257635362770154E-2,3.1727561530882076E-2,null,1.9519669416630858E-2,null,1.4557587722319631E-2,null,2.8874386993082091E-2,null,6.1673868501049833E-2,null,2.4565072951002298E-2,null,4.2184311860507417E-2,null,4.0374067389808088E-2,null,5.8416778618522791E-2,null,2.8202909976334345E-2,null,5.7832075187430165E-2,null,2.0251045969313042E-2,null,3.8973455921932354E-2,null,5.6005701017685761E-2,null,2.7115477435481816E-2,null,2.5739738683494995E-2,null,6.7447146132059821E-2,null,2.4193582118523072E-2,null,2.8587083508579969E-2,null,3.0529901625383715E-2,null,7.711386131860487E-2,null,2.3734399750687363E-2]
[null,78,null,2.2807242597112198E-2,null,2.2608901022818317E-2,null,3.1276416750430913E-2,null,2.9530377928533635E-2,null,2.2767578835432456E-2,null,3.7282146225994239E-2,null,3.582143499135082E-2,null,1.9621146181117544E-2,null,3.0171190817686044E-2,null,3.021108513512627E-2,null,3.8547520596902363E-2,null,5.2210990591033957E-2,3.2324677254489176E-2,3.1801363532795834E-2,null,1.9621146181117544E-2,null,1.4837527574351306E-2,null,2.8983909746529868E-2,null,6.1588565834183262E-2,null,2.4727286070567844E-2,null,4.2220376271046467E-2,null,4.0433010378458256E-2,null,5.824487104321685E-2,null,2.8320906035538052E-2,null,5.7795958142927706E-2,null,2.043672482999126E-2,null,3.8955046575571695E-2,null,5.5897385063729432E-2,null,2.7246988321117049E-2,null,2.5888477619384176E-2,null,6.7287936668817938E-2,null,2.4361657586213559E-2,null,2.8700367727434228E-2,null,3.0618539501816144E-2,null,7.6828895068391967E-2,null,2.3907724149319076E-2]
[null,79,null,2.2990532958129695E-2,null,2.2794648088079406E-2,null,3.1354629019250124E-2,null,2.9630473246250011E-2,null,2.2951360519181119E-2,null,3.7379118953632107E-2,null,3.5842637879754502E-2,null,1.9720105158826495E-2,null,3.0263270838174483E-2,null,3.0302671774186996E-2,null,3.8534342433583113E-2,null,5.2139003584945165E-2,3.2390026073332079E-2,3.1873302210047472E-2,null,1.9720105158826495E-2,null,1.5111484630641048E-2,null,2.9090728025414903E-2,null,6.1505379874018162E-2,null,2.4885661051585517E-2,null,4.2255527553705763E-2,null,4.0490486346351107E-2,null,5.8077230844853167E-2,null,2.8435990711137782E-2,null,5.7760734121810708E-2,null,2.0617930368329374E-2,null,3.8937057155183696E-2,null,5.5791712305867547E-2,null,2.7375276612406241E-2,null,2.6033583296950269E-2,null,6.713265902267862E-2,null,2.4525639370738483E-2,null,2.8810842794043667E-2,null,3.0704980687960903E-2,null,7.6551078798839933E-2,null,2.4076876462038044E-2]
[null,80,null,2.3169403085117946E-2,null,2.2975916086365178E-2,null,3.1430923034566183E-2,null,2.9728113371032761E-2,null,2.3130710201799243E-2,null,3.7473710351536127E-2,null,3.586331372538698E-2,null,1.9816636516736041E-2,null,3.0353091126117393E-2,null,3.0392010170400052E-2,null,3.85214855972138E-2,null,5.2068774161510678E-2,3.2453745154615632E-2,3.1943447249513035E-2,null,1.9816636516736041E-2,null,1.5379584501783228E-2,null,2.919493749008506E-2,null,6.142423565714128E-2,null,2.5040318106684056E-2,null,4.2289800028934454E-2,null,4.0546548124565263E-2,null,5.7913707532997849E-2,null,2.8548266814448109E-2,null,5.7726371709984292E-2,null,2.0794810917671436E-2,null,3.8919476268962194E-2,null,5.5688593564183986E-2,null,2.7500454077045156E-2,null,2.6175180761005112E-2,null,6.698117638281853E-2,null,2.4685667394561017E-2,null,2.8918609224723335E-2,null,3.078930354189291E-2,null,7.6280154645605114E-2,null,2.4241994554920376E-2]
[null,81,null,2.3344003346649211E-2,null,2.315285737361461E-2,null,3.150536669500581E-2,null,2.9823385349452058E-2,null,2.3305778649385323E-2,null,3.7566005087304344E-2,null,3.5883481787763571E-2,null,1.991082635145025E-2,null,3.0440731866596904E-2,null,3.0479180157588104E-2,null,3.8508938960175154E-2,null,5.2000241461920949E-2,3.251589471352978E-2,3.2011864905885368E-2,null,1.991082635145025E-2,null,1.5641955694784437E-2,null,2.9296629598003721E-2,null,6.1345061495391429E-2,null,2.5191373691926255E-2,null,4.2323226312997564E-2,null,4.06012461346974E-2,null,5.775415710380849E-2,null,2.8657832654651827E-2,null,5.7692840847562321E-2,null,2.096750924938795E-2,null,3.8902292677609918E-2,null,5.5587943108248217E-2,null,2.7622627787173171E-2,null,2.6313389896094552E-2,null,6.6833357653173442E-2,null,2.484187589872966E-2,null,2.902376300451337E-2,null,3.0871582916778939E-2,null,7.6015876385086667E-2,null,2.4403211178975148E-2]
[null,82,null,2.3514477972788494E-2,null,2.3325618086757594E-2,null,3.1578024872905841E-2,null,2.9916372330780705E-2,null,2.347671047342681E-2,null,3.7656084014925817E-2,null,3.5903160410695856E-2,null,2.000275690213793E-2,null,3.0526269649139515E-2,null,3.0564257984329712E-2,null,3.8496691864667643E-2,null,5.1933347189209167E-2,3.257653203493649E-2,3.207861821040181E-2,null,2.000275690213793E-2,null,1.5898728591343891E-2,null,2.9395891811858421E-2,null,6.1267788816746549E-2,null,2.5338940533290888E-2,null,4.2355837422840548E-2,null,4.0654628517255764E-2,null,5.7598441735388972E-2,null,2.876478226022483E-2,null,5.7660112764912785E-2,null,2.1136162749032961E-2,null,3.8885495323621067E-2,null,5.5489678537401943E-2,null,2.7741900329487867E-2,null,2.6448325647375759E-2,null,6.6689077203661684E-2,null,2.4994393675940918E-2,null,2.9126395823665607E-2,null,3.0951890340838784E-2,null,7.5758008832640611E-2,null,2.4560654125291181E-2]
[null,83,null,2.3680965314814229E-2,null,2.3494338406806259E-2,null,3.1648959570144575E-2,null,3.0007153769620709E-2,null,2.3643644391194041E-2,null,3.7744024375359952E-2,null,3.5922367075244432E-2,null,2.0092506751357542E-2,null,3.0609777655164816E-2,null,3.0647316501420496E-2,null,3.8484734101283724E-2,null,5.186803549253538E-2,3.2635711649478871E-2,3.2143767164526826E-2,null,2.0092506751357542E-2,null,1.615003457863029E-2,null,2.9492807797110165E-2,null,6.1192352013866635E-2,null,2.5483127670128392E-2,null,4.2387662873281107E-2,null,4.0706741252502177E-2,null,5.7446429496507578E-2,null,2.8869205589295621E-2,null,5.7628159921569555E-2,null,2.1300903594919651E-2,null,3.8869073354818262E-2,null,5.5393720661124135E-2,null,2.7858370007262989E-2,null,2.6580098234250782E-2,null,6.6548214629914115E-2,null,2.5143344297288595E-2,null,2.9226595300737124E-2,null,3.103029418744363E-2,null,7.5506327273865415E-2,null,2.4714446383552469E-2]
[null,84,null,2.3843598096600749E-2,null,2.3659152813500395E-2,null,3.1718230065312714E-2,null,3.0095805617047944E-2,null,2.3806713477776853E-2,null,3.7829899985498905E-2,null,3.5941118449096754E-2,null,2.0180151014473457E-2,null,3.0691325834755867E-2,null,3.0728425338598431E-2,null,3.8473055888463614E-2,null,5.1804252856085364E-2,3.2693485497142127E-2,3.2207368919831669E-2,null,2.0180151014473457E-2,null,1.6396005312532047E-2,null,2.9587457609442813E-2,null,6.1118688300022761E-2,null,2.5624040512412183E-2,null,4.2418730767176394E-2,null,4.0757628274211921E-2,null,5.7297994068388869E-2,null,2.8971188729398856E-2,null,5.7596955947937456E-2,null,2.1461858937502409E-2,null,3.885301614296055E-2,null,5.5299993380277579E-2,null,2.797213103428664E-2,null,2.6708813356545846E-2,null,6.6410654521703583E-2,null,2.5288846332245818E-2,null,2.9324445193055881E-2,null,3.1106859835879463E-2,null,7.5260616927202761E-2,null,2.4864706302285322E-2]
[null,85,null,2.4002503657397423E-2,null,2.3820190331241831E-2,null,3.1785893052705738E-2,null,3.0182400500938567E-2,null,2.3966045409492764E-2,null,3.7913781416218706E-2,null,3.595943043264338E-2,null,2.0265761518326153E-2,null,3.0770981073383386E-2,null,3.0807651071170117E-2,null,3.846164785282169E-2,null,5.1741947992548054E-2,3.2749903079293707E-2,3.2269477945210179E-2,null,2.0265761518326153E-2,null,1.6636772095917962E-2,null,2.967991787257529E-2,null,6.1046737572125531E-2,null,2.5761780909075993E-2,null,4.2449067879151592E-2,null,4.0807331576786066E-2,null,5.7153014479236708E-2,null,2.9070814087086561E-2,null,5.7566475589712285E-2,null,2.1619151078235532E-2,null,3.8837313298137444E-2,null,5.5208423569893528E-2,null,2.8083273720787894E-2,null,2.6834572393123368E-2,null,6.6276286240158244E-2,null,2.5431013561559856E-2,null,2.9420025595294552E-2,null,3.1181649823280866E-2,null,7.5020672436165503E-2,null,2.5011547749478336E-2]
[null,86,null,2.4157804185853005E-2,null,2.397757476616369E-2,null,3.1852002773593346E-2,null,3.026700789611092E-2,null,2.4121762698523952E-2,null,3.7995736160180593E-2,null,3.597731820200667E-2,null,2.0349406969786932E-2,null,3.0848807349168395E-2,null,3.0885057377136427E-2,null,3.8450501010329541E-2,null,5.1681071741109585E-2,3.2805011600142153E-2,3.2330146182459218E-2,null,2.0349406969786932E-2,null,1.6872465356685407E-2,null,2.9770261946877818E-2,null,6.097644228056609E-2,null,2.5896447225118191E-2,null,4.2478699733421221E-2,null,4.0855891316132764E-2,null,5.7011374851108299E-2,null,2.9168160567850654E-2,null,5.7536694654921394E-2,null,2.1772897646821221E-2,null,3.8821954679565396E-2,null,5.5118940964010488E-2,null,2.8191884651477928E-2,null,2.6957472592892273E-2,null,6.614500370376164E-2,null,2.5569955182848103E-2,null,2.9513413126842414E-2,null,3.125472398821727E-2,null,7.4786297389581202E-2,null,2.5155080272453612E-2]
[null,87,null,2.4309616945233259E-2,null,2.4131424934277224E-2,null,3.1916611140207829E-2,null,3.0349694284877771E-2,null,2.427398291871774E-2,null,3.8075828790003374E-2,null,3.5994796249247729E-2,null,2.0431153114795153E-2,null,3.0924865881246655E-2,null,3.096070518538685E-2,null,3.8439606748333244E-2,null,5.1621576969873129E-2,3.2858856098459954E-2,3.2389423191153011E-2,null,2.0431153114795153E-2,null,1.7103214212313311E-2,null,2.9858560089239594E-2,null,6.0907747305582571E-2,null,2.6028134425509775E-2,null,4.2507650676185893E-2,null,4.0903345904697019E-2,null,5.6872964158734218E-2,null,2.9263303746807301E-2,null,5.7507589963498029E-2,null,2.1923211775962681E-2,null,3.880693040331562E-2,null,5.5031478042986137E-2,null,2.8298046855863568E-2,null,2.7077607258242375E-2,null,6.6016705183076008E-2,null,2.5705776008779546E-2,null,2.9604681108627462E-2,null,3.1326139606396852E-2,null,7.4557303868304503E-2,null,2.5295409256075985E-2]
[null,88,null,2.4458054489842951E-2,null,2.4281854880715326E-2,null,3.1979767852860608E-2,null,3.043052330856999E-2,null,2.4422818922575029E-2,null,3.8154121107391914E-2,null,3.6011878419965893E-2,null,2.0511062888431963E-2,null,3.0999215269756242E-2,null,3.1034652815490782E-2,null,3.8428956808381987E-2,null,5.1563418482601708E-2,3.2911479570347124E-2,3.2447356283666462E-2,null,2.0511062888431963E-2,null,1.7329146109334781E-2,null,2.9944879604609342E-2,null,6.0840599839861786E-2,null,2.6156934164227819E-2,null,4.2535943943039056E-2,null,4.094973210100572E-2,null,5.6737675999854797E-2,null,2.9356316030582308E-2,null,5.7479139299288384E-2,null,2.2070202272917339E-2,null,3.8792230847442877E-2,null,5.4945969923601456E-2,null,2.8401839971023746E-2,null,2.7195065920985861E-2,null,6.5891293104064941E-2,null,2.5838576657802204E-2,null,2.9693899730010465E-2,null,3.1395951518920606E-2,null,7.4333512016931058E-2,null,2.5432636078561055E-2]
[null,89,null,2.4603224872740137E-2,null,2.4428974090152433E-2,null,3.2041520510582844E-2,null,3.05095559105657E-2,null,2.456837904950504E-2,null,3.8230672283772194E-2,null,3.6028577948481688E-2,null,2.0589196556565659E-2,null,3.1071911627949644E-2,null,3.1106956109591355E-2,null,3.8418543269846062E-2,null,5.1506552929660998E-2,3.2962923083736051E-2,3.2503990651116199E-2,null,2.0589196556565659E-2,null,1.7550386527626527E-2,null,3.0029284989627536E-2,null,6.077494927709659E-2,null,2.6282934877003949E-2,null,4.2563601721783639E-2,null,4.0995085094063022E-2,null,5.6605408376638744E-2,null,2.9447266810823436E-2,null,5.7451321364398122E-2,null,2.2213973787285513E-2,null,3.8777846654908243E-2,null,5.4862354252199319E-2,null,2.850334039706115E-2,null,2.7309934510926892E-2,null,6.5768673859855298E-2,null,2.5968453737438058E-2,null,2.978113620632894E-2,null,3.1464212253508483E-2,null,7.4114749639111688E-2,null,2.5566858264284953E-2]
[null,90,null,2.4745231844867099E-2,null,2.4572887688534051E-2,null,3.2101914715656932E-2,null,3.0586850471321592E-2,null,2.4710767325476946E-2,null,3.8305538992943644E-2,null,3.6044907490779377E-2,null,2.066561184956428E-2,null,3.1143008706893793E-2,null,3.1177668556872762E-2,null,3.8408358534294251E-2,null,5.1450938723036854E-2,3.3013225885278663E-2,3.2559369480927192E-2,null,2.066561184956428E-2,null,1.7767058740695507E-2,null,3.0111838068747732E-2,null,6.0710747106219376E-2,null,2.6406221876584146E-2,null,4.2590645211018519E-2,null,4.1039438582914256E-2,null,5.6476063487737704E-2,null,2.9536222609754637E-2,null,5.7424115735780434E-2,null,2.2354626974605551E-2,null,3.8763768734648041E-2,null,5.4780571101036069E-2,null,2.8602621445457999E-2,null,2.7422295517213424E-2,null,6.5648757630733634E-2,null,2.6095500020215656E-2,null,2.9866454927644837E-2,null,3.1530972139090396E-2,null,7.3900851815138058E-2,null,2.5698169633132872E-2]
[null,91,null,2.4884175045773116E-2,null,2.4713696636287308E-2,null,3.2160994172395041E-2,null,3.0662462935881152E-2,null,2.485008365423913E-2,null,3.8378775536238141E-2,null,3.6060879155373149E-2,null,2.0740364088543517E-2,null,3.1212558013196556E-2,null,3.1246841411042059E-2,null,3.8398395310605293E-2,null,5.1396535955286149E-2,3.306242550020233E-2,3.2613534066663785E-2,null,2.0740364088543517E-2,null,1.7979283624278697E-2,null,3.0192598123230718E-2,null,6.0647946811039244E-2,null,2.6526877449502662E-2,null,4.2617094674825662E-2,null,4.1082824851678135E-2,null,5.6349547530537336E-2,null,2.9623247218171889E-2,null,5.7397502823967272E-2,null,2.2492258655420594E-2,null,3.8749988261083779E-2,null,5.470056286797087E-2,null,2.8699753480577739E-2,null,2.7532228142650883E-2,null,6.5531458212161331E-2,null,2.6219804612357178E-2,null,2.9949917599211062E-2,null,3.1596279414140005E-2,null,7.369166054054066E-2,null,2.5826660446023109E-2]
[null,92,null,2.5020150186124246E-2,null,2.4851497913215281E-2,null,3.2218800780491996E-2,null,3.0736446934301664E-2,null,2.4986424000307039E-2,null,3.8450433960635522E-2,null,3.6076504532245757E-2,null,2.0813506304595109E-2,null,3.1280608920179809E-2,null,3.1314523801246219E-2,null,3.8388646600784337E-2,null,5.1343306322281901E-2,3.311055782566652E-2,3.266652391071756E-2,null,2.0813506304595109E-2,null,1.8187179506546469E-2,null,3.027162201338518E-2,null,6.0586503775026168E-2,null,2.6644980953519193E-2,null,4.2642969493856597E-2,null,4.1125274840320136E-2,null,5.6225770513158357E-2,null,2.9708401826265884E-2,null,5.7371463833850722E-2,null,2.2626961969583137E-2,null,3.8736496672334697E-2,null,5.462227417956611E-2,null,2.8794804054559364E-2,null,2.763980845117997E-2,null,6.5416692850557734E-2,null,2.63414531153634E-2,null,3.0031583374145354E-2,null,3.1660180329101006E-2,null,7.3487024384502275E-2,null,2.595241754633526E-2]
[null,93,null,2.5153249222228835E-2,null,2.4986384695303121E-2,null,3.2275374723268468E-2,null,3.0808853895417876E-2,null,2.5119880563944985E-2,null,3.8520564170260618E-2,null,3.6091794719994574E-2,null,2.0885089351407871E-2,null,3.134720877287922E-2,null,3.1380762836816123E-2,null,3.8379105686459081E-2,null,5.1291213049607487E-2,3.3157657218110037E-2,3.2718376820382256E-2,null,2.0885089351407871E-2,null,1.8390862054066037E-2,null,3.0348964294404146E-2,null,6.0526375190979254E-2,null,2.6760608915022743E-2,null,4.2668288213093764E-2,null,4.1166818211432421E-2,null,5.6104646075777476E-2,null,2.9791745147638826E-2,null,5.7345980727418144E-2,null,2.2758826525629106E-2,null,3.8723285667352947E-2,null,5.4545651797641703E-2,null,2.8887838035857483E-2,null,2.7745109508728882E-2,null,6.5304382086596391E-2,null,2.6460527780668208E-2,null,3.0111508978770463E-2,null,3.1722719243249209E-2,null,7.3286798166959377E-2,null,2.6075524497050528E-2]
[null,94,null,2.5283560522819881E-2,null,2.5118446523679561E-2,null,3.2330754551097574E-2,null,3.0879733154336453E-2,null,2.5250541948383498E-2,null,3.858921403166482E-2,null,3.6106760351315437E-2,null,2.0955162011671691E-2,null,3.1412402987244237E-2,null,3.1445603706200975E-2,null,3.8369766116022497E-2,null,5.1240220822455385E-2,3.3203756575032273E-2,3.2769128997813812E-2,null,2.0955162011671691E-2,null,1.8590444188426369E-2,null,3.042467732613896E-2,null,6.0467519975341277E-2,null,2.6873835125816647E-2,null,4.2693068586535876E-2,null,4.1207483413263413E-2,null,5.5986091320839426E-2,null,2.9873333536872604E-2,null,5.7321036188352936E-2,null,2.2887938545123054E-2,null,3.8710347202178585E-2,null,5.4470644529290402E-2,null,2.8978917731683262E-2,null,2.7848201517665316E-2,null,6.5194449605750382E-2,null,2.6577107657553389E-2,null,3.0189748831052299E-2,null,3.1783938716300586E-2,null,7.3090842653318999E-2,null,2.6196061713468E-2]
[null,95,null,2.5411169028346281E-2,null,2.5247769465992942E-2,null,3.2384977260295322E-2,null,3.0949132054028716E-2,null,2.5378493319528905E-2,null,3.865642947326231E-2,null,3.6121411616936161E-2,null,2.1023771097635979E-2,null,3.1476235143876208E-2,null,3.1509089770446197E-2,null,3.836062169239951E-2,null,5.1190295718882561E-2,3.3248887411623462E-2,3.2818815124318501E-2,null,2.1023771097635979E-2,null,1.8786036029086572E-2,null,3.0498811377130064E-2,null,6.0409898686919483E-2,null,2.6984730738811358E-2,null,4.2717327619038903E-2,null,4.1247297739223088E-2,null,5.5870026651745563E-2,null,2.9953221100985195E-2,null,5.7296613588409873E-2,null,2.3014381001921214E-2,null,3.869767348547315E-2,null,5.439720314033436E-2,null,2.9068103004597168E-2,null,2.7949151945078077E-2,null,6.5086822095808294E-2,null,2.669126873452754E-2,null,3.026635515254239E-2,null,3.1843879595070179E-2,null,7.2899024265785872E-2,null,2.631410659142186E-2]
[null,96,null,2.5536156403038746E-2,null,2.5374436270467537E-2,null,3.2438078367735379E-2,null,3.1017096041371595E-2,null,2.550381655842604E-2,null,3.8722254579274917E-2,null,3.6135758288109443E-2,null,2.1090961546162523E-2,null,3.1538747076632623E-2,null,3.1571262651532095E-2,null,3.8351666461407419E-2,null,5.1141405146282626E-2,3.329307993261188E-2,3.2867468439386816E-2,null,2.1090961546162523E-2,null,1.8977744858580836E-2,null,3.0571414723204571E-2,null,6.0353473449788142E-2,null,2.7093364362229089E-2,null,4.2741081605519371E-2,null,4.1286287384081355E-2,null,5.5756375619614218E-2,null,3.0031459805097915E-2,null,5.7272696955478875E-2,null,2.3138233756351045E-2,null,3.8685256973480797E-2,null,5.4325280272186749E-2,null,2.915545138350617E-2,null,2.8048025645121877E-2,null,6.4981429111095279E-2,null,2.6803084074384698E-2,null,3.0341378074206782E-2,null,3.1902581095463178E-2,null,7.2711214810343261E-2,null,2.6429733630965346E-2]
[null,97,null,2.5658601180016616E-2,null,2.5498526512908848E-2,null,3.2490091981437041E-2,null,3.1083668757959648E-2,null,2.5626590406746752E-2,null,3.8786731678512432E-2,null,3.614980973776416E-2,null,2.1156776508600483E-2,null,3.1599978956394992E-2,null,3.1632162315883727E-2,null,3.8342894700682528E-2,null,5.1093517780930409E-2,3.3336363099678135E-2,3.2915120814848375E-2,null,2.1156776508600483E-2,null,1.9165675106710633E-2,null,3.0642533740933953E-2,null,6.0298207880156385E-2,null,2.7199802152015451E-2,null,4.2764346167714296E-2,null,4.1324477497056256E-2,null,5.5645064777721798E-2,null,3.0108099572621505E-2,null,5.7249270943257047E-2,null,2.32595736843344E-2,null,3.8673090364534257E-2,null,5.4254830362061135E-2,null,2.9241018169308353E-2,null,2.814488497565959E-2,null,6.4878202943116969E-2,null,2.6912623943164959E-2,null,3.0414865736499541E-2,null,3.1960080880063302E-2,null,7.2527291218489554E-2,null,2.6543014555520328E-2]
[null,98,null,2.5778578899704474E-2,null,2.5620116736935206E-2,null,3.2541050867358035E-2,null,3.1148892126000804E-2,null,2.5746890605567119E-2,null,3.8849901428298139E-2,null,3.6163574960405009E-2,null,2.1221257435786844E-2,null,3.1659969370290586E-2,null,3.1691827153334851E-2,null,3.833430090914991E-2,null,5.1046603510461308E-2,3.3378764694749208E-2,3.2961802824498232E-2,null,2.1221257435786844E-2,null,1.9349928350803181E-2,null,3.0712212996224508E-2,null,6.0244067016992142E-2,null,2.7304107902200725E-2,null,4.278713628867381E-2,null,4.1361892231984054E-2,null,5.5536023543249602E-2,null,3.018318838025591E-2,null,5.7226320802445052E-2,null,2.3378474801511784E-2,null,3.8661166593212837E-2,null,5.4185809566460019E-2,null,2.9324856535429378E-2,null,2.8239789909433766E-2,null,6.4777078497360918E-2,null,2.7019955933240469E-2,null,3.0486864384018819E-2,null,3.2016415131573828E-2,null,7.2347135302881727E-2,null,2.6654018426531145E-2]
[null,99,null,2.5896162241828113E-2,null,2.573928058770325E-2,null,3.2590986512611497E-2,null,3.1212806429575579E-2,null,2.5864790027712026E-2,null,3.8911802893828673E-2,null,3.6177062590844411E-2,null,2.1284444158457205E-2,null,3.1718755396631826E-2,null,3.1750294051813954E-2,null,3.8325879797008522E-2,null,5.1000633379150395E-2,3.3420311379463996E-2,3.3007543809510542E-2,null,2.1284444158457205E-2,null,1.9530603329485086E-2,null,3.0780495328311286E-2,null,6.0191017256208124E-2,null,2.7406343133026478E-2,null,4.2809466345148373E-2,null,4.1398554794741749E-2,null,5.5429184065969972E-2,null,3.0256772348079553E-2,null,5.720383235339388E-2,null,2.349500838245322E-2,null,3.8649478824239525E-2,null,5.4118175687862813E-2,null,2.9407017623482856E-2,null,2.8332798140001669E-2,null,6.4677993175985327E-2,null,2.7125145080756807E-2,null,3.0557418455063878E-2,null,3.207161862234531E-2,null,7.2170633526089656E-2,null,2.6762811753674232E-2]
[null,100,null,2.6011421151256098E-2,null,2.585608893939928E-2,null,3.2639929185313443E-2,null,3.1275450391539339E-2,null,2.5980358803924908E-2,null,3.8972473623238191E-2,null,3.6190280921848839E-2,null,2.1346374963339576E-2,null,3.1776372675827336E-2,null,3.180759846800818E-2,null,3.8317626276206607E-2,null,5.0955579535861828E-2,3.3461028751078814E-2,3.3052371939937153E-2,null,2.1346374963339576E-2,null,1.970779596776584E-2,null,3.0847421929401042E-2,null,6.01390262882191E-2,null,2.750656717668476E-2,null,4.2831350138019086E-2,null,4.1434487488090532E-2,null,5.5324481103525169E-2,null,3.0328895824994984E-2,null,5.7181791960128958E-2,null,2.360924307505452E-2,null,3.8638020446196908E-2,null,5.4051888104524881E-2,null,2.9487550634282655E-2,null,2.8423965182657218E-2,null,6.4580886766133716E-2,null,2.7228253977651828E-2,null,3.0626570666385744E-2,null,3.2125724780215359E-2,null,7.1997676781703657E-2,null,2.6869458600703888E-2]
[null,101,null,2.6124422957949811E-2,null,2.5970610016762707E-2,null,3.2687907991254761E-2,null,3.1336861246316294E-2,null,2.609366444313288E-2,null,3.9031949718623338E-2,null,3.6203237920765075E-2,null,2.1407086665177877E-2,null,3.1832855477496702E-2,null,3.186377449423583E-2,null,3.8309535451385379E-2,null,5.0911415184538455E-2,3.3500941395057993E-2,3.3096314272560878E-2,null,2.1407086665177877E-2,null,1.9881599411513573E-2,null,3.0913032420201603E-2,null,6.0088063038693296E-2,null,2.7604837260566173E-2,null,4.2852800920908152E-2,null,4.1469711754092309E-2,null,5.5221851902965469E-2,null,3.0399601469780269E-2,null,5.7160186505678112E-2,null,2.3721245010233982E-2,null,3.8626785065121183E-2,null,5.398690770329595E-2,null,2.9566502914428527E-2,null,2.8513344470563196E-2,null,6.4485701333621748E-2,null,2.7329342878480878E-2,null,3.0694362093419914E-2,null,3.2178765750870086E-2,null,7.1828160187088486E-2,null,2.6974020687025924E-2]
[null,102,null,2.6235232491277127E-2,null,2.6082909510900087E-2,null,3.2734950927580053E-2,null,3.1397074808824366E-2,null,2.62047719470615E-2,null,3.9090265903264587E-2,null,3.6215941245199001E-2,null,2.1466614674927387E-2,null,3.1888236764015421E-2,null,3.1918854921753947E-2,null,3.8301602611268803E-2,null,5.0868114537112596E-2,3.3540072934575171E-2,3.3139396805352161E-2,null,2.1466614674927387E-2,null,2.005210406966218E-2,null,3.0977364921566108E-2,null,6.0038097612325814E-2,null,2.7701208587947113E-2,null,4.2873831427095777E-2,null,4.1504248214244477E-2,null,5.5121236088224945E-2,null,3.0468930327984811E-2,null,5.7139003368639418E-2,null,2.3831077907059184E-2,null,3.8615766498033777E-2,null,5.3923196815358398E-2,null,2.9643920038676219E-2,null,2.860098744631201E-2,null,6.4392381121744391E-2,null,2.7428469802265099E-2,null,3.0760832246253589E-2,null,3.2230772456926182E-2,null,7.1661982887119446E-2,null,2.7076557485104624E-2]
[null,103,null,2.6343912188943941E-2,null,2.6193050689646391E-2,null,3.2781084933644289E-2,null,3.1456125539758961E-2,null,2.631374391945096E-2,null,3.9147455585268665E-2,null,3.6228398257804884E-2,null,2.1524993064340858E-2,null,3.1942548250691649E-2,null,3.1972871300707251E-2,null,3.8293823220473477E-2,null,5.0825652768718532E-2,3.357844607713889E-2,3.3181644528760046E-2,null,2.1524993064340858E-2,null,2.0219397662712746E-2,null,3.1040456122458204E-2,null,5.9989101239474429E-2,null,2.779573441606642E-2,null,4.2894453894859907E-2,null,4.1538116707467321E-2,null,5.5022575553231201E-2,null,3.0536921904895431E-2,null,5.7118230400924119E-2,null,2.3938803173436662E-2,null,3.8604958766453423E-2,null,5.3860719154783965E-2,null,2.9719845888297458E-2,null,2.8686943649120389E-2,null,6.4300872454968516E-2,null,2.7525690629581323E-2,null,3.0826019141584338E-2,null,3.2281774653919237E-2,null,7.1499047868264443E-2,null,2.717712631381608E-2]
[null,104,null,2.64505222007827E-2,null,2.6301094502718447E-2,null,3.2826335939210471E-2,null,3.1514046607441504E-2,null,2.6420640670118845E-2,null,3.9203550917843222E-2,null,3.6240616040247087E-2,null,2.1582254627156905E-2,null,3.1995820462776159E-2,null,3.2025853996914488E-2,null,3.8286192911723083E-2,null,5.0784005975093471E-2,3.3616082658532109E-2,3.3223081474050176E-2,null,2.1582254627156905E-2,null,2.0383565276290261E-2,null,3.1102341344445339E-2,null,5.9941046225503225E-2,null,2.788846613157725E-2,null,4.2914680091345359E-2,null,4.1571336326070352E-2,null,5.4925814360358372E-2,null,3.0603614234784304E-2,null,5.7097855906610651E-2,null,2.4044480002506585E-2,null,3.8594356089929116E-2,null,5.3799439759809609E-2,null,2.9794322725625655E-2,null,2.8771260797866516E-2,null,6.4211123647273105E-2,null,2.7621059195104936E-2,null,3.088995937089356E-2,null,3.2331800983375514E-2,null,7.1339261782428887E-2,null,2.7275782427873763E-2]
[null,105,null,2.6555120487640194E-2,null,2.6407099681899693E-2,null,3.2870728910137537E-2,null,3.1570869946434765E-2,null,2.6525520314106599E-2,null,3.9258582856396051E-2,null,3.6252601406380203E-2,null,2.1638430937083619E-2,null,3.2048082789483789E-2,null,3.2077832245673399E-2,null,3.8278707478442975E-2,null,5.0743151132059738E-2,3.3653003684245286E-2,3.3263730758887444E-2,null,2.1638430937083619E-2,null,2.0544689418683371E-2,null,3.1163054602906692E-2,null,5.989390590268906E-2,null,2.7979453323369485E-2,null,4.2934521335061371E-2,null,4.1603925449819501E-2,null,5.4830898643944748E-2,null,3.0669043946642827E-2,null,5.7077868621857597E-2,null,2.414816546488896E-2,null,3.858395287962435E-2,null,5.3739324936727506E-2,null,2.9867391264976284E-2,null,2.8853984870161664E-2,null,6.4123084914917694E-2,null,2.7714627375807765E-2,null,3.095268816505814E-2,null,3.2380879023129916E-2,null,7.1182534780001916E-2,null,2.7372579103445371E-2]
[null,106,null,2.665776291558819E-2,null,2.6511122836490042E-2,null,3.2914287891704141E-2,null,3.1626626313107087E-2,null,2.6628438866138415E-2,null,3.9312581212648467E-2,null,3.6264360914705529E-2,null,2.1693552402766159E-2,null,3.2099363535201819E-2,null,3.2128834202759693E-2,null,3.8271362867717151E-2,null,5.0703066056982271E-2,3.3689229368569107E-2,3.330361463034226E-2,null,2.1693552402766159E-2,null,2.0702850081446345E-2,null,3.1222628665135588E-2,null,5.9847654584553656E-2,null,2.8068743852781353E-2,null,4.2953988517098862E-2,null,4.1635901778210194E-2,null,5.4737776518611225E-2,null,3.073324632659169E-2,null,5.7058257695813852E-2,null,2.4249914596926159E-2,null,3.8573743731980636E-2,null,5.3680342206287035E-2,null,2.9939090740121799E-2,null,2.8935160177647301E-2,null,6.4036708293421896E-2,null,2.7806445175013739E-2,null,3.1014239455601889E-2,null,3.2429035335050038E-2,null,7.1028780351581444E-2,null,2.7467567720097952E-2]
[null,107,null,2.6758503345678752E-2,null,2.6613218544242256E-2,null,3.2957036049700017E-2,null,3.1681345338324007E-2,null,2.6729450330612581E-2,null,3.9365574705930939E-2,null,3.6275900880142542E-2,null,2.1747648319905943E-2,null,3.2149689968044015E-2,null,3.2178886992779487E-2,null,3.8264155173590053E-2,null,5.066372937210506E-2,3.3724779171499186E-2,3.3342754505490513E-2,null,2.1747648319905943E-2,null,2.0858124802274336E-2,null,3.1281095105507806E-2,null,5.9802267522490071E-2,null,2.8156383921228434E-2,null,4.2973092121151968E-2,null,4.1667282361057989E-2,null,5.4646397992132112E-2,null,3.0796255377146808E-2,null,5.7039012672477574E-2,null,2.4349780485073191E-2,null,3.8563723422481599E-2,null,5.3622460252509274E-2,null,3.0009458968494274E-2,null,2.901482943770084E-2,null,6.3951947558552602E-2,null,2.7896560802502801E-2,null,3.1074645932780198E-2,null,3.2476295510306841E-2,null,7.0877915177887774E-2,null,2.756079783919807E-2]
[null,108,null,2.6857393719457612E-2,null,2.6713439437998421E-2,null,3.2998995709411894E-2,null,3.1735055577426285E-2,null,2.6828606787339782E-2,null,3.9417591011825515E-2,null,3.6287227385163323E-2,null,2.1800746920698888E-2,null,3.219908836590335E-2,null,3.2228016755026623E-2,null,3.8257080630695217E-2,null,5.0625120469669715E-2,3.3759671833593963E-2,3.3381171009763122E-2,null,2.1800746920698888E-2,null,2.1010588729473811E-2,null,3.1338484357873231E-2,null,5.9757720864560548E-2,null,2.8242418135291603E-2,null,4.2991842242422251E-2,null,4.1698083627497828E-2,null,5.4556714882616264E-2,null,3.0858103873512288E-2,null,5.702012347345331E-2,null,2.4447814346580721E-2,null,3.8553886899533207E-2,null,5.3565648873812099E-2,null,3.0078532412278758E-2,null,2.9093033841719906E-2,null,6.3868758151115701E-2,null,2.7985020750847633E-2,null,3.1133939100678409E-2,null,3.2522684212336062E-2,null,7.0729858987397698E-2,null,2.7652317278899829E-2]
[null,109,null,2.6954484140437218E-2,null,2.6811836288236579E-2,null,3.3040188392622794E-2,null,3.1787784557654186E-2,null,2.6925958473230427E-2,null,3.9468656808309133E-2,null,3.6298346290325911E-2,null,2.1852875420741436E-2,null,3.2247584060146606E-2,null,3.2276248686989861E-2,null,3.8250135608192126E-2,null,5.0587219478725132E-2,3.3793925408916126E-2,3.3418884013188155E-2,null,2.1852875420741436E-2,null,2.116031468745061E-2,null,3.139482576532493E-2,null,5.9713991616349826E-2,null,2.8326889569314284E-2,null,4.3010248605476864E-2,null,4.1728321413488034E-2,null,5.4468680739775399E-2,null,3.0918823417062313E-2,null,5.7001580381559558E-2,null,2.4544065606619814E-2,null,3.8544229278479003E-2,null,5.3509878936347732E-2,null,3.0146346236556321E-2,null,2.916981312015654E-2,null,6.3787097105370005E-2,null,2.8071869868162125E-2,null,3.1192149329491325E-2,null,3.256822521761471E-2,null,7.0584534421270329E-2,null,2.774217218585262E-2]
[null,110,null,2.7049822951725311E-2,null,2.6908458081719822E-2,null,3.3080634852737933E-2,null,3.1839558823156811E-2,null,2.7021553860128389E-2,null,3.9518797819534379E-2,null,3.630926324424566E-2,null,2.1904060063550279E-2,null,3.229520147708298E-2,null,3.2323607085638084E-2,null,3.8243316603999489E-2,null,5.0550007233544747E-2,3.3827557296183475E-2,3.3455912664660081E-2,null,2.1904060063550279E-2,null,2.1307373242724026E-2,null,3.145014762748688E-2,null,5.9671057603760458E-2,null,2.8409839825562555E-2,null,4.3028320581129487E-2,null,4.1758010987903438E-2,null,5.438225077006309E-2,null,3.0978444486163159E-2,null,5.6983374025241895E-2,null,2.4638581971991647E-2,null,3.853474583575478E-2,null,5.3455122329460369E-2,null,3.0212934364643784E-2,null,2.9245205604459645E-2,null,6.3706922980879988E-2,null,2.8157151427433691E-2,null,3.1249305905147517E-2,null,3.2612941454377431E-2,null,7.0441866905147199E-2,null,2.7830407103757171E-2]
[null,111,null,2.7143456809996191E-2,null,2.7003352096443001E-2,null,3.31203551081376E-2,null,3.1890403977727688E-2,null,2.7115439728975899E-2,null,3.956803885739002E-2,null,3.6319983693038127E-2,null,2.1954326162829885E-2,null,3.2341964177333704E-2,null,3.2370115386616494E-2,null,3.823662023930563E-2,null,5.0513465243568145E-2,3.386058426823535E-2,3.3492275424360285E-2,null,2.1954326162829885E-2,null,2.1451832770052803E-2,null,3.1504477245455131E-2,null,5.9628897437651318E-2,null,2.8491309092013584E-2,null,4.3046067202403338E-2,null,4.1787167077297571E-2,null,5.4297381765483044E-2,null,3.1036996484479662E-2,null,5.6965495363749508E-2,null,2.473140950156294E-2,null,3.8525432003197135E-2,null,5.3401351923167084E-2,null,3.0278329530776249E-2,null,2.9319248286076904E-2,null,6.3628195797631681E-2,null,2.824090719260286E-2,null,3.1305437076422304E-2,null,3.2656855039387311E-2,null,7.0301784527447619E-2,null,2.7917065038899347E-2]
[null,112,null,2.7235430755983003E-2,null,2.7096563973052046E-2,null,3.3159368473860917E-2,null,3.1940344725389203E-2,null,2.7207661240492786E-2,null,3.9616403860959659E-2,null,3.6330512889265698E-2,null,2.2003698142611938E-2,null,3.2387894893218805E-2,null,3.2415796201466174E-2,null,3.8230043253343782E-2,null,5.0477575664788388E-2,3.3893022499925429E-2,3.3527990094443849E-2,null,2.2003698142611938E-2,null,2.1593759518320432E-2,null,3.1557840964519857E-2,null,5.9587490480212946E-2,null,2.8571336197837915E-2,null,4.3063497179637755E-2,null,4.1815803889410974E-2,null,5.4214032035870607E-2,null,3.1094507786902481E-2,null,5.6947935673034911E-2,null,2.4822592673567678E-2,null,3.8516283362507009E-2,null,5.3348541527574955E-2,null,3.0342563330261862E-2,null,2.9391976872664261E-2,null,6.3550876974254988E-2,null,2.8323177481547779E-2,null,3.136057009968507E-2,null,3.2699987312867496E-2,null,7.0164217923792238E-2,null,2.8002187522785826E-2]
[null,113,null,2.7325788281662433E-2,null,2.7188137782914401E-2,null,3.3197693591709543E-2,null,3.1989404908950858E-2,null,2.7298262002537044E-2,null,3.9663915934002203E-2,null,3.6340855900417468E-2,null,2.2052199575389952E-2,null,3.2433015564274692E-2,null,3.2460671352978254E-2,null,3.8223582498419839E-2,null,5.0442321272512025E-2,3.3924887594536157E-2,3.3563073848100977E-2,null,2.2052199575389952E-2,null,2.1733217675886429E-2,null,3.1610264214787964E-2,null,5.9546816812995784E-2,null,2.8649958666642439E-2,null,4.3080618914787427E-2,null,4.1843935135495336E-2,null,5.4132161344467855E-2,null,3.115100578322183E-2,null,5.6930686532339569E-2,null,2.4912174449909452E-2,null,3.8507295639877093E-2,null,5.3296665854144054E-2,null,3.0405666267245834E-2,null,2.9463425841639523E-2,null,6.3474929269190072E-2,null,2.8404001226122633E-2,null,3.1414731281411479E-2,null,3.2742358871697297E-2,null,7.0029100167215308E-2,null,2.8085814672004883E-2]
[null,114,null,2.7414571394293707E-2,null,2.7278116093002014E-2,null,3.3235348458861225E-2,null,3.2037607546650859E-2,null,2.7387284134313683E-2,null,3.9710597380561596E-2,null,3.6351017616951253E-2,null,2.2099853218356724E-2,null,3.2477347371004717E-2,null,3.2504761908789925E-2,null,3.8217234935176148E-2,null,5.0407685435421179E-2,3.3956194608803614E-2,3.3597543257090523E-2,null,2.2099853218356724E-2,null,2.1870269435161571E-2,null,3.1661771549820195E-2,null,5.9506857206492958E-2,null,2.8727212767547972E-2,null,4.3097440514968444E-2,null,4.1871574051521421E-2,null,5.4051730846619073E-2,null,3.1206516919672023E-2,null,5.6913739811426556E-2,null,2.5000196337593206E-2,null,3.8498464700781332E-2,null,5.3245700478716351E-2,null,3.0467667800195608E-2,null,2.9533628491215325E-2,null,6.3400316724649741E-2,null,2.8483416029398301E-2,null,3.1467946018583159E-2,null,3.2783989600967622E-2,null,6.989636666384591E-2,null,2.8167985245430627E-2]
[null,115,null,2.7501820677467759E-2,null,2.7366540027745412E-2,null,3.3272350455072486E-2,null,3.2084974866988247E-2,null,2.7474768327583998E-2,null,3.9756469738811528E-2,null,3.63610027599226E-2,null,2.2146681047852557E-2,null,3.252091076696173E-2,null,3.2548088213318005E-2,null,3.8210997628082666E-2,null,5.0373652090871524E-2,3.3986958076640761E-2,3.3631414317840225E-2,null,2.2146681047852557E-2,null,2.2004975056203468E-2,null,3.1712386683389271E-2,null,5.9467593091204529E-2,null,2.8803133564173855E-2,null,4.3113969805293584E-2,null,4.1898733418332723E-2,null,5.3972703031420322E-2,null,3.1261066738459187E-2,null,5.6897087658430934E-2,null,2.5086698447416733E-2,null,3.8489786544930293E-2,null,5.3195621806224391E-2,null,3.0528596385234419E-2,null,2.9602616989034214E-2,null,6.3327004613240145E-2,null,2.8561458220234925E-2,null,3.1520238837094317E-2,null,3.2824898703983862E-2,null,6.9765955053753048E-2,null,2.8248736698887944E-2]
[null,116,null,2.7587575349314886E-2,null,2.7453449328008528E-2,null,3.3308716368551261E-2,null,3.2131528341845517E-2,null,2.7560753905027546E-2,null,3.9801553813233692E-2,null,3.6370815888224994E-2,null,2.2192704292121501E-2,null,3.2563725509253016E-2,null,3.259066991812043E-2,null,3.8204867741141513E-2,null,5.0340205721361997E-2,3.4017192031634336E-2,3.3664702476200015E-2,null,2.2192704292121501E-2,null,2.2137392929170163E-2,null,3.176213252445792E-2,null,5.9429006530095752E-2,null,2.8877754961599722E-2,null,4.3130214341043027E-2,null,4.1925425580801923E-2,null,5.389504166617054E-2,null,3.1314679915378285E-2,null,5.6880722488289681E-2,null,2.5171719550040716E-2,null,3.8481257301392624E-2,null,5.3146407037006238E-2,null,3.058847951742294E-2,null,2.9670422418528464E-2,null,6.3254959387100573E-2,null,2.8638162905325837E-2,null,3.1571633428272516E-2,null,3.2865104730805061E-2,null,6.9637805116674167E-2,null,2.8328105237387824E-2]
[null,117,null,2.7671873318010798E-2,null,2.7538882407327936E-2,null,3.3344462420568322E-2,null,3.2177288717994745E-2,null,2.7645278875894519E-2,null,3.9845869705219972E-2,null,3.6380461405464803E-2,null,2.2237943462468435E-2,null,3.2605810687557746E-2,null,3.263252601077582E-2,null,3.8198842533795352E-2,null,5.0307331332115623E-2,3.4046910028391775E-2,3.3697422650926567E-2,null,2.2237943462468435E-2,null,2.2267579635498302E-2,null,3.1811031210476015E-2,null,5.939108019238204E-2,null,2.8951109751382154E-2,null,4.3146181419207341E-2,null,4.19516624660492E-2,null,5.3818711743478298E-2,null,3.1367380295626246E-2,null,5.6864636971726501E-2,null,2.5255297129558318E-2,null,3.8472873223879489E-2,null,5.3098034134648753E-2,null,3.0647343770101365E-2,null,2.9737074823117604E-2,null,6.3184148629436887E-2,null,2.8713564018830073E-2,null,3.1622152683620675E-2,null,3.2904625605395088E-2,null,6.9511858682357097E-2,null,2.840612586504454E-2]
[null,118,null,2.7754751234716935E-2,null,2.7622876405550389E-2,null,3.337960428887965E-2,null,3.2222276047076059E-2,null,2.7728379989085283E-2,null,3.9889436842186043E-2,null,3.6389943566491612E-2,null,2.2282418382905345E-2,null,3.2647184751734448E-2,null,3.2673674842358835E-2,null,3.8192919357027399E-2,null,5.0275014429717046E-2,3.4076125162801896E-2,3.3729589255978798E-2,null,2.2282418382905345E-2,null,2.2395590007702859E-2,null,3.1859104139081662E-2,null,5.9353797328566937E-2,null,2.9023229654693505E-2,null,4.3161878089444272E-2,null,4.1977455600771263E-2,null,5.3743679430882985E-2,null,3.1419190927899354E-2,null,5.6848824024759104E-2,null,2.5337467434677352E-2,null,3.8464630686193768E-2,null,5.305048179528904E-2,null,3.0705214832387417E-2,null,2.9802603248351378E-2,null,6.3114541008329139E-2,null,2.8787694369718064E-2,null,3.1671818727872836E-2,null,3.2943478651463076E-2,null,6.9388059545264058E-2,null,2.8482832432773941E-2]
[null,119,null,2.7836244544079847E-2,null,2.7705467239999226E-2,null,3.3414157130020827E-2,null,3.2266509714132585E-2,null,2.7810092783783213E-2,null,3.9932274005278323E-2,null,3.6399266483604586E-2,null,2.2326148218367869E-2,null,3.2687865538097549E-2,null,3.2714134153591035E-2,null,3.8187095649646174E-2,null,5.0243241001750594E-2,3.4104850091278394E-2,3.3761216221687373E-2,null,2.2326148218367869E-2,null,2.2521477187717354E-2,null,3.1906371998294158E-2,null,5.9317141746666469E-2,null,2.9094145363659951E-2,null,4.3177311164478871E-2,null,4.2002816127729048E-2,null,5.3669912022859645E-2,null,3.147013409687438E-2,null,5.6833276798700982E-2,null,2.5418265527622719E-2,null,3.8456526177838013E-2,null,5.3003729418304335E-2,null,3.0762117544923084E-2,null,2.9867035782101814E-2,null,6.30461062326928E-2,null,2.8860585686938167E-2,null,3.1720652950459005E-2,null,3.2981680617063081E-2,null,6.926635338340259E-2,null,2.8558257683880761E-2]
[null,120,null,2.7916387532413101E-2,null,2.7786689654292873E-2,null,3.3448135600536943E-2,null,3.231000846477694E-2,null,2.7890451637764713E-2,null,3.9974399355749757E-2,null,3.6408434132450873E-2,null,2.2369151501581142E-2,null,3.2727870294434247E-2,null,3.2753921099735184E-2,null,3.8181368934741888E-2,null,5.021199749738714E-2,3.4133097049040328E-2,3.3792317014871731E-2,null,2.2369151501581142E-2,null,2.264529268371529E-2,null,3.195285479527743E-2,null,5.9281097789559922E-2,null,2.9163886580965359E-2,null,4.3192487229984922E-2,null,4.202775482144494E-2,null,5.3597377895088005E-2,null,3.1520231354150496E-2,null,5.6817988670635478E-2,null,2.5497725330867027E-2,null,3.8448556299780945E-2,null,5.2957757078324397E-2,null,3.0818075933962685E-2,null,2.9930399592903001E-2,null,6.2978815010290567E-2,null,2.8932268662517968E-2,null,3.176867603546274E-2,null,3.3019247698020004E-2,null,6.9146687681057806E-2,null,2.8632433297622661E-2]
[null,121,null,2.7995213373676275E-2,null,2.786657726493047E-2,null,3.3481553877203751E-2,null,3.2352790431065648E-2,null,2.7969489813498116E-2,null,4.0015830460076174E-2,null,3.6417450357635994E-2,null,2.2411446158644877E-2,null,3.2767215703830788E-2,null,3.2793052274305179E-2,null,3.8175736816308481E-2,null,5.0181270808873801E-2,3.4160877867489781E-2,3.3822904657958119E-2,null,2.2411446158644877E-2,null,2.2767086425367955E-2,null,3.199857188374966E-2,null,5.9245650313407339E-2,null,2.9232482057790499E-2,null,4.3207412653972987E-2,null,4.2052282103145489E-2,null,5.3526046460860455E-2,null,3.156950354773902E-2,null,5.6802953234335041E-2,null,2.557587967178665E-2,null,3.8440717760378496E-2,null,5.2912545498505992E-2,null,3.0873113243883754E-2,null,2.9992720966529163E-2,null,6.2912639007687732E-2,null,2.9002772992694936E-2,null,3.1815907990154324E-2,null,3.3056195560244861E-2,null,6.9029011655219685E-2,null,2.8705389930851588E-2]
[null,122,null,2.8072754173359415E-2,null,2.7945162605755636E-2,null,3.3514425676292703E-2,null,3.2394873156150084E-2,null,2.804723950214516E-2,null,4.0056584313883148E-2,null,3.6426318878063357E-2,null,2.2453049533409208E-2,null,3.2805917907368753E-2,null,3.2831543731651314E-2,null,3.8170196976021309E-2,null,5.0151048253879393E-2,3.4188203990735078E-2,3.385299174716061E-2,null,2.2453049533409208E-2,null,2.2886906817515484E-2,null,3.2043541990107949E-2,null,5.92107846670753E-2,null,2.9299959630159078E-2,null,4.3222093595717714E-2,null,4.2076408054995795E-2,null,5.3455888129525508E-2,null,3.1617970850174038E-2,null,5.6788164291602605E-2,null,2.5652760325342694E-2,null,3.8433007371445393E-2,null,5.2868076025003763E-2,null,3.092725196820223E-2,null,3.0054025340900292E-2,null,6.2847550812052733E-2,null,2.9072127417180793E-2,null,3.1862368172173916E-2,null,3.3092539360996431E-2,null,6.8913276185501804E-2,null,2.8777157257815933E-2]
[null,123,null,2.8149041010377518E-2,null,2.8022477170405402E-2,null,3.3546764271933371E-2,null,3.2436273617768352E-2,null,2.8123731865566493E-2,null,4.009667736474376E-2,null,3.6435043292012637E-2,null,2.2493978410703885E-2,null,3.2843992525756649E-2,null,3.2869411008483951E-2,null,3.8164747170163826E-2,null,5.0121317558650347E-2,3.4215086491308444E-2,3.3882590469776597E-2,null,2.2493978410703885E-2,null,2.3004800792231883E-2,null,3.2087783238340606E-2,null,5.9176486672522843E-2,null,2.936634625375012E-2,null,4.3236536014247262E-2,null,4.2100142433662224E-2,null,5.3386874266858841E-2,null,3.166565278531519E-2,null,5.677361584401508E-2,null,2.5728398054876589E-2,null,3.8425422044473079E-2,null,5.282433060258751E-2,null,3.0980513879165672E-2,null,3.011433733940061E-2,null,6.2783523894710758E-2,null,2.9140359756646417E-2,null,3.1908075315437934E-2,null,3.3128293769147721E-2,null,6.8799433747372074E-2,null,2.8847764008211207E-2]
[null,124,null,2.8224103977074533E-2,null,2.8098551452841791E-2,null,3.3578582513618782E-2,null,3.247700825063915E-2,null,2.8198997076430254E-2,null,4.0136125533910105E-2,null,3.6443627081978347E-2,null,2.2534249038483001E-2,null,3.2881454679947852E-2,null,3.2906669144389111E-2,null,3.815938522669482E-2,null,5.009206684194023E-2,3.4241536085126478E-2,3.3911712620646517E-2,null,2.2534249038483001E-2,null,2.3120813859283995E-2,null,3.2131313173782816E-2,null,5.9142742606094201E-2,null,2.943166803724595E-2,null,4.3250745676421953E-2,null,4.2123494683237173E-2,null,5.3318977157260639E-2,null,3.171256825391322E-2,null,5.6759302085045205E-2,null,2.5802822651110446E-2,null,3.8417958786991502E-2,null,5.2781291751345494E-2,null,3.103292005599867E-2,null,3.0173680802684677E-2,null,6.272053257636423E-2,null,2.9207496948518985E-2,null,3.1953047554836411E-2,null,3.3163472984508502E-2,null,6.868743834851454E-2,null,2.8917238003560053E-2]
[null,125,null,2.8297972217427692E-2,null,2.8173414986062406E-2,null,3.3609892842899391E-2,null,3.2517092967817129E-2,null,2.8273064356518107E-2,null,4.0174944237033383E-2,null,3.6452073619276826E-2,null,2.2573877148940102E-2,null,3.2918319010802666E-2,null,3.2943332701391936E-2,null,3.8154109042447537E-2,null,5.0063284599668689E-2,3.4267563145732316E-2,3.3940369617825761E-2,null,2.2573877148940102E-2,null,2.3234990154986201E-2,null,3.2174148785781176E-2,null,5.9109539180673298E-2,null,2.949595027427443E-2,null,4.32647281646239E-2,null,4.2146473947562768E-2,null,5.325216996769111E-2,null,3.1758735557999795E-2,null,5.6745217392548009E-2,null,2.5876062969435232E-2,null,3.8410614699069034E-2,null,5.2738942544422907E-2,null,3.1084490911867491E-2,null,3.0232078819051544E-2,null,6.2658551993890255E-2,null,2.9273565081170849E-2,null,3.1997302449782827E-2,null,3.3198090756252574E-2,null,6.8577245468160131E-2,null,2.898560619199908E-2]
[null,126,null,2.8370673963544757E-2,null,2.8247096379078629E-2,null,3.3640707309308571E-2,null,3.2556543181064157E-2,null,2.834596201331907E-2,null,4.0213148403926535E-2,null,3.646038616843672E-2,null,2.2612877978650303E-2,null,3.2954599697842424E-2,null,3.297941578261665E-2,null,3.8148916580459824E-2,null,5.0034959690276937E-2,3.4293177717859891E-2,3.3968572517510065E-2,null,2.2612877978650303E-2,null,2.3347372489466167E-2,null,3.2216306529321947E-2,null,5.9076863528654711E-2,null,2.9559217474006916E-2,null,4.3278488884080923E-2,null,4.2169089081983024E-2,null,5.3186426713249579E-2,null,3.1804172424163335E-2,null,5.6731356321584769E-2,null,2.5948146965566021E-2,null,3.8403386969946496E-2,null,5.2697266586748448E-2,null,3.1135246219626156E-2,null,3.0289553753453324E-2,null,6.2597558068644199E-2,null,2.9338589426582518E-2,null,3.2040857006680135E-2,null,3.3232160400498145E-2,null,6.8468811999228718E-2,null,2.9052894681546038E-2]
[null,127,null,2.8442236570533463E-2,null,2.8319623352248247E-2,null,3.3671037585558006E-2,null,3.2595373820284657E-2,null,2.8417717474991111E-2,null,4.0250752497420272E-2,null,3.6468567891383419E-2,null,2.2651266287789351E-2,null,3.2990310477143403E-2,null,3.3014932050089651E-2,null,3.81438058674195E-2,null,5.0007081320744051E-2,3.4318389530360482E-2,3.3996332028258358E-2,null,2.2651266287789351E-2,null,2.3458002392359623E-2,null,3.2257802345675435E-2,null,5.9044703185690883E-2,null,2.9621493390468601E-2,null,4.329203306984275E-2,null,4.2191348664555539E-2,null,5.312172222431788E-2,null,3.1848896025766793E-2,null,5.6717713597576713E-2,null,2.6019101729645389E-2,null,3.8396272874801962E-2,null,5.2656247994698369E-2,null,3.1185205136409211E-2,null,3.0346127275209245E-2,null,6.2537527476187238E-2,null,2.9402594471552801E-2,null,3.2083727700355391E-2,null,3.3265694817083746E-2,null,6.8362096193135935E-2,null,2.9119128771922353E-2]
[null,128,null,2.8512686549828858E-2,null,2.839102277104133E-2,null,3.3700894982042318E-2,null,3.2633599352077658E-2,null,2.8488357323776414E-2,null,4.0287770531356459E-2,null,3.6476621851429858E-2,null,2.2689056378476957E-2,null,3.3025464658415382E-2,null,3.30498947417317E-2,null,3.8138774991228308E-2,null,4.9979639033228551E-2,3.4343208008522197E-2,3.402365852454925E-2,null,2.2689056378476957E-2,null,2.3566920156958826E-2,null,3.2298651682105772E-2,null,5.9013046075172992E-2,null,2.9682801050617824E-2,null,4.3305365793429695E-2,null,4.2213261006751823E-2,null,5.3058032115187004E-2,null,3.1892923004163576E-2,null,5.6704284109764469E-2,null,2.6088953518860869E-2,null,3.8389269771639478E-2,null,5.261587137665491E-2,null,3.1234386227124045E-2,null,3.0401820384487799E-2,null,6.2478437617370375E-2,null,2.9465603947526953E-2,null,3.2125930494521393E-2,null,3.3298706505582087E-2,null,6.8257057607127081E-2,null,2.9184332984992345E-2]
[null,129,null,2.8582049601048487E-2,null,2.8461320678318858E-2,null,3.3730290460689094E-2,null,3.2671233797449073E-2,null,2.8557907327941168E-2,null,4.0324216087769038E-2,null,3.6484551017082367E-2,null,2.2726262112289008E-2,null,3.3060075141308154E-2,null,3.3084316687580939E-2,null,3.8133822098672665E-2,null,4.9952622692307713E-2,3.4367642285818567E-2,3.4050562059708467E-2,null,2.2726262112289008E-2,null,2.3674164882842463E-2,null,3.2338869510697199E-2,null,5.8981880493412575E-2,null,2.9743162781247667E-2,null,4.3318491969173367E-2,null,4.2234834163669355E-2,null,5.2995332754090851E-2,null,3.1936269488959779E-2,null,5.6691062904961731E-2,null,2.6157727788655105E-2,null,3.8382375098302113E-2,null,5.2576121814416066E-2,null,3.1282807486900488E-2,null,3.0456653437617609E-2,null,6.2420266590707207E-2,null,2.9527640859111859E-2,null,3.2167480861309494E-2,null,3.333120758059116E-2,null,6.8153657054006667E-2,null,2.9248531093888808E-2]
[null,130,null,2.8650350642451139E-2,null,2.8530542325193586E-2,null,3.3759234648185643E-2,null,3.2708290748727498E-2,null,2.8626392472315132E-2,null,4.0360102333288017E-2,null,3.6492358265672431E-2,null,2.2762896926983744E-2,null,3.3094154430982403E-2,null,3.3118210325284059E-2,null,3.8128945393198332E-2,null,4.9926022472781773E-2,3.4391701215115145E-2,3.4077052378240102E-2,null,2.2762896926983744E-2,null,2.3779774517020735E-2,null,3.2378470346339228E-2,null,5.8951195095482634E-2,null,2.9802600234761112E-2,null,4.3331416360262054E-2,null,4.225607594378511E-2,null,5.2933601234579797E-2,null,3.1978951117373589E-2,null,5.6678045181586478E-2,null,2.6225449222585739E-2,null,3.837558636959848E-2,null,5.2536984845416024E-2,null,3.1330486362549426E-2,null,3.0510646171284073E-2,null,6.2362993165970826E-2,null,2.9588727511341562E-2,null,3.2208393799927126E-2,null,3.3363209786338555E-2,null,6.8051856554139478E-2,null,2.9311746150886275E-2]
[null,131,null,2.871761384006688E-2,null,2.8598712200545329E-2,null,3.3787737848614441E-2,null,3.2744783385723952E-2,null,2.8693836987497834E-2,null,4.0395442034812046E-2,null,3.6500046386824581E-2,null,2.2798973852479421E-2,null,3.3127714652986473E-2,null,3.3151587714897124E-2,null,3.8124143132782784E-2,null,4.9899828848017025E-2,3.4415393379364057E-2,3.4103138927594756E-2,null,2.2798973852479421E-2,null,2.3883785893627607E-2,null,3.2417468263911564E-2,null,5.8920978881692232E-2,null,2.9861134413869284E-2,null,4.3344143584510553E-2,null,4.2276993918270778E-2,null,5.2872815348163682E-2,null,3.2020983052734042E-2,null,5.6665226283957315E-2,null,2.6292141760906551E-2,null,3.8368901174544057E-2,null,5.2498446445715663E-2,null,3.1377439773075944E-2,null,3.0563817725668407E-2,null,6.2306596758954003E-2,null,2.9648885535752623E-2,null,3.2248683854480431E-2,null,3.3394724510634077E-2,null,6.7951619289609022E-2,null,2.9374000514075682E-2]
[null,132,null,2.8783862635559432E-2,null,2.866585405925326E-2,null,3.3815810055530582E-2,null,3.2780724491173974E-2,null,2.8760264377796441E-2,null,4.0430247574481992E-2,null,3.6507618085766191E-2,null,2.2834505526123428E-2,null,3.3160767567471217E-2,null,3.3184460553026707E-2,null,3.8119413627901499E-2,null,4.987403257880052E-2,3.4438727101812061E-2,3.4128830869403437E-2,null,2.2834505526123428E-2,null,2.3986234772201298E-2,null,3.2455876914712301E-2,null,5.8891221184655507E-2,null,2.9918785695261407E-2,null,4.3356678119867098E-2,null,4.2297595429893864E-2,null,5.281295355816229E-2,null,3.2062380002166213E-2,null,5.6652601696841165E-2,null,2.6357828627923796E-2,null,3.836231717371108E-2,null,5.2460493013730458E-2,null,3.1423684129298968E-2,null,3.0616186666577949E-2,null,6.2251057407338273E-2,null,2.9708135915329059E-2,null,3.2288365131006413E-2,null,3.3425762798206637E-2,null,6.7852909560421892E-2,null,2.9435315872904155E-2]
[null,133,null,2.8849119772888399E-2,null,2.8731990949210084E-2,null,3.384346096350499E-2,null,3.2816126465500695E-2,null,2.8825697447955934E-2,null,4.0464530963995271E-2,null,3.6515075986489842E-2,null,2.2869504207287283E-2,null,3.3193324582778239E-2,null,3.3216840186347518E-2,null,3.811475523958241E-2,null,4.9848624702680144E-2,3.4461710455750971E-2,3.4154137090204095E-2,null,2.2869504207287283E-2,null,2.4087155874585653E-2,null,3.249370954216535E-2,null,5.8861911656930888E-2,null,2.9975573852288884E-2,null,4.3369024309670712E-2,null,4.231788760152333E-2,null,5.2753994974704232E-2,null,3.2103156233500352E-2,null,5.664016704023922E-2,null,2.6422532358189699E-2,null,3.8355832096681475E-2,null,5.2423111354656049E-2,null,3.1469235352616254E-2,null,3.0667771006618771E-2,null,6.2196355747612397E-2,null,2.9766499008370806E-2,null,3.2327451313755251E-2,null,3.3456335363449163E-2,null,6.7755692742654139E-2,null,2.9495713272625457E-2]
[null,134,null,2.8913407323822193E-2,null,2.8797145237174249E-2,null,3.3870699979161811E-2,null,3.2851001340927333E-2,null,2.8890158328743087E-2,null,4.0498303858289564E-2,null,3.6522422634774676E-2,null,2.2903981791321026E-2,null,3.3225396768431947E-2,null,3.3248737624528291E-2,null,3.8110166377545607E-2,null,4.9823596523768998E-2,3.4484351273829317E-2,3.41790662116912E-2,null,2.2903981791321026E-2,null,2.4186582920496358E-2,null,3.253097899684243E-2,null,5.8833040259199221E-2,null,3.0031518076713226E-2,null,4.3381186367674962E-2,null,4.2337877344264641E-2,null,5.2695919330814966E-2,null,3.2143325591443839E-2,null,5.6627918064399818E-2,null,2.6486274821584166E-2,null,3.8349443739601252E-2,null,5.2386288665562608E-2,null,3.1514108892958914E-2,null,3.0718588225455701E-2,null,6.2142472992995135E-2,null,2.9823994571336332E-2,null,3.2365955680755842E-2,null,3.3486452602611294E-2,null,6.7659935248444603E-2,null,2.9555213137717251E-2]
[null,135,null,2.8976746712363832E-2,null,2.8861338633517697E-2,null,3.3897536231737524E-2,null,3.2885360794978391E-2,null,2.8953668501433993E-2,null,4.0531577568632127E-2,null,3.6529660501074535E-2,null,2.2937949822902315E-2,null,3.3256994867565615E-2,null,3.328016355259189E-2,null,3.8105645498421659E-2,null,4.9798939602988312E-2,3.450665715695278E-2,3.4203626600508352E-2,null,2.2937949822902315E-2,null,2.4284548661791083E-2,null,3.2567697750835123E-2,null,5.8804597248956814E-2,null,3.008663699955072E-2,null,4.3393168382845904E-2,null,4.2357571365235325E-2,null,5.2638706959543313E-2,null,3.2182901513054363E-2,null,5.6615850645047372E-2,null,2.6549077247338682E-2,null,3.8343149962831058E-2,null,5.2350012521121148E-2,null,3.1558319745973673E-2,null,3.0768655289205915E-2,null,6.2089390912308362E-2,null,2.9880641780710482E-2,null,3.2403891118708339E-2,null,3.3516124605456277E-2,null,6.7565604487737518E-2,null,2.9613835294311386E-2]
[null,136,null,2.9039158738135784E-2,null,2.8924592215921807E-2,null,3.3923978583180192E-2,null,3.2919216163394882E-2,null,2.9016248821262192E-2,null,4.0564363075140442E-2,null,3.6536791983280192E-2,null,2.2971419508805102E-2,null,3.3288129308809644E-2,null,3.3311128342741858E-2,null,3.8101191104049192E-2,null,4.9774645748729807E-2,3.4528635482792502E-2,3.4227826377610571E-2,null,2.2971419508805102E-2,null,2.4381084915482187E-2,null,3.260387791150654E-2,null,5.8776573169693425E-2,null,3.0140948711063542E-2,null,4.3404974323949519E-2,null,4.2376976175006575E-2,null,5.2582338772073856E-2,null,3.2221897042545633E-2,null,5.6603960778817131E-2,null,2.6610960247051008E-2,null,3.833694868868931E-2,null,5.2314270859938894E-2,null,3.1601882469472375E-2,null,3.0817988669003871E-2,null,6.2037091809756806E-2,null,2.9936459253942171E-2,null,3.2441270137228084E-2,null,3.3545361166418708E-2,null,6.7472668831693339E-2,null,2.9671598991681369E-2]
[null,137,null,2.9100663598777388E-2,null,2.8986926452071016E-2,null,3.3950035637818399E-2,null,3.2952578452494441E-2,null,2.9077919539875596E-2,null,4.0596671038764409E-2,null,3.6543819409359024E-2,null,2.3004401730119861E-2,null,3.3318810217668249E-2,null,3.3341642065680688E-2,null,3.8096801739841535E-2,null,4.9750707007916173E-2,3.4550293413919242E-2,3.4251673427216689E-2,null,2.3004401730119861E-2,null,2.4476222595533503E-2,null,3.2639531234655905E-2,null,5.8748958840538101E-2,null,3.0194470779926652E-2,null,4.3416608043938432E-2,null,4.2396098094722889E-2,null,5.2526796236777917E-2,null,3.226032484546093E-2,null,5.6592244578884676E-2,null,2.667194383673821E-2,null,3.8330837899284598E-2,null,5.227905197146776E-2,null,3.1644811199181166E-2,null,3.0866604358782412E-2,null,6.1985558505571303E-2,null,2.9991465069498791E-2,null,3.2478104882480041E-2,null,3.3574171795280217E-2,null,6.738109757768096E-2,null,2.9728522922834566E-2]
[null,138,null,2.9161280911400578E-2,null,2.9048361221393204E-2,null,3.39757157516134E-2,null,3.2985458351003194E-2,null,2.9138700326848399E-2,null,4.0628511812756285E-2,null,3.6550745039882759E-2,null,2.3036907053953559E-2,null,3.3349047427410072E-2,null,3.3371714501442051E-2,null,3.8092475993225072E-2,null,4.9727115657440812E-2,3.4571637905587371E-2,3.4275175405373393E-2,null,2.3036907053953559E-2,null,2.4569991743484731E-2,null,3.2674669137121581E-2,null,5.8721745346343335E-2,null,3.0247220271615305E-2,null,4.3428073284146551E-2,null,4.241494326291595E-2,null,5.2472061359155608E-2,null,3.2298197222243141E-2,null,5.6580698270780827E-2,null,2.6732047457971087E-2,null,3.8324815634432907E-2,null,5.2244344483464156E-2,null,3.168711966382376E-2,null,3.0914517892302706E-2,null,6.1934774317471408E-2,null,3.0045676786076392E-2,null,3.2514407150229463E-2,null,3.3602565727391065E-2,null,6.7290860915774298E-2,null,2.9784625244247964E-2]
[null,139,null,2.9221029733147441E-2,null,2.9108915835889926E-2,null,3.4001027041022036E-2,null,3.3017866241386473E-2,null,2.9198610290294358E-2,null,4.0659895453652561E-2,null,3.6557571070446215E-2,null,2.3068945744630032E-2,null,3.337885048949607E-2,null,3.3401355149764278E-2,null,3.8088212492143336E-2,null,4.9703864195969061E-2,3.459267571318092E-2,3.4298339748151108E-2,null,2.3068945744630032E-2,null,2.4662421557936964E-2,null,3.2709302708852972E-2,null,5.8694924028191986E-2,null,3.0299213766038946E-2,null,4.3439373678304083E-2,null,4.2433517642029406E-2,null,5.2418116662629854E-2,null,3.2335526121232583E-2,null,5.6569318188384177E-2,null,2.6791289998135293E-2,null,3.8318879989657217E-2,null,5.2210137349971042E-2,null,3.1728821199573654E-2,null,3.0961744359471188E-2,null,6.1884723042912038E-2,null,3.0099111461007633E-2,null,3.255018839833923E-2,null,3.3630551933456987E-2,null,6.7201929896680168E-2,null,2.9839923594786599E-2]
[null,140,null,2.927992858089401E-2,null,2.9168609060101103E-2,null,3.4025977391482831E-2,null,3.3049812210699914E-2,null,2.9257667996621439E-2,null,4.0690831731792443E-2,null,3.6564299633981889E-2,null,2.3100527774419621E-2,null,3.3408228683567298E-2,null,3.3430573240026407E-2,null,3.8084009903622151E-2,null,4.9680945336082249E-2,3.4613413399342097E-2,3.4321173679486394E-2,null,2.3100527774419621E-2,null,2.475354042294553E-2,null,3.2743442724473271E-2,null,5.8668486474302561E-2,null,3.0350467374464785E-2,null,4.3450512756378679E-2,null,4.245182702466832E-2,null,5.2364945170148003E-2,null,3.2372323151117044E-2,null,5.6558100770082609E-2,null,2.684968980985647E-2,null,3.8313029114265262E-2,null,5.2176419839801591E-2,null,3.1769928763899946E-2,null,3.1008298421977276E-2,null,6.1835388942072411E-2,null,3.0151785667905218E-2,null,3.258545975874072E-2,null,3.3658139128914799E-2,null,6.7114276401027073E-2,null,2.9894435113844819E-2]
[null,141,null,2.9337995450139154E-2,null,2.9227459130244382E-2,null,3.4050574465549932E-2,null,3.3081306060987137E-2,null,2.9315891489470891E-2,null,4.0721330141395562E-2,null,3.657093280297774E-2,null,2.3131662833818289E-2,null,3.3437191027014812E-2,null,3.3459377740766127E-2,null,3.8079866932396733E-2,null,4.9658351996749728E-2,3.4633857340796714E-2,3.4343684218694603E-2,null,2.3131662833818289E-2,null,2.484337593535435E-2,null,3.2777099654359931E-2,null,5.8642424511315294E-2,null,3.0400996755754361E-2,null,4.3461493948254715E-2,null,4.2469877039584381E-2,null,5.231253038655348E-2,null,3.2408599592864018E-2,null,5.654704255509313E-2,null,2.6907264729630453E-2,null,3.8307261209503674E-2,null,5.2143181525495574E-2,null,3.1810454948839384E-2,null,3.1054194328282492E-2,null,6.178675672155598E-2,null,3.0203715513573925E-2,null,3.2620232048900855E-2,null,3.3685335782914549E-2,null,6.7027873109950287E-2,null,2.9948176458743481E-2]
[null,142,null,2.9395247833115423E-2,null,2.9285483772567344E-2,null,3.4074825710684431E-2,null,3.3112357319242669E-2,null,2.9373298307878271E-2,null,4.0751399910218256E-2,null,3.657747259160038E-2,null,2.3162360341399513E-2,null,3.3465746284148778E-2,null,3.3487777368802485E-2,null,3.8075782319593188E-2,null,4.9636077296113967E-2,3.4654013734891187E-2,3.4365878187663235E-2,null,2.3162360341399513E-2,null,2.4931954931113331E-2,null,3.281028367526595E-2,null,5.8616730195942379E-2,null,3.0450817131947527E-2,null,4.3472320587255808E-2,null,4.2487673157413086E-2,null,5.2260856281691304E-2,null,3.2444366411157111E-2,null,5.6536140179936023E-2,null,2.696403209569187E-2,null,3.8301574526782733E-2,null,5.2110412272732276E-2,null,3.1850411993721295E-2,null,3.1099445927993186E-2,null,6.1738811518764702E-2,null,3.0254916654230302E-2,null,3.2654515782814419E-2,null,3.3712150126928186E-2,null,6.6942693476908621E-2,null,3.0001163821419041E-2]
[null,143,null,2.9451702736162044E-2,null,2.9342700220948981E-2,null,3.4098738366726389E-2,null,3.3142975246964745E-2,null,2.9429905503689291E-2,null,4.0781050008811048E-2,null,3.6583920957730998E-2,null,2.319262945325673E-2,null,3.3493902974990331E-2,null,3.3515780597979328E-2,null,3.8071754841467298E-2,null,4.9614114544570764E-2,3.4673888605856407E-2,3.4387762217744866E-2,null,2.319262945325673E-2,null,2.5019303510613655E-2,null,3.2843004680502164E-2,null,5.8591395806961266E-2,null,3.0499943303223809E-2,null,4.3482995913520783E-2,null,4.2505220696171797E-2,null,5.2209907274212153E-2,null,3.2479634265359714E-2,null,5.6525390375055107E-2,null,2.7020008765160863E-2,null,3.8295967365972183E-2,null,5.2078102230175061E-2,null,3.1889811797368273E-2,null,3.114406668564329E-2,null,6.169153888691925E-2,null,3.0305404311056661E-2,null,3.2688321181539193E-2,null,3.3738590163002513E-2,null,6.68587117006747E-2,null,3.0053412944435642E-2]
[null,144,null,2.9507376696388254E-2,null,2.9399125233786627E-2,null,3.4122319473058438E-2,null,3.3173168849312873E-2,null,2.948572965827001E-2,null,4.081028915939422E-2,null,3.6590279804915582E-2,null,2.3222479072058544E-2,null,3.3521669383699715E-2,null,3.3543395667549714E-2,null,3.8067783308191938E-2,null,4.9592457238135657E-2,3.4693487810810497E-2,3.4409342756362093E-2,null,2.3222479072058544E-2,null,2.510544706307849E-2,null,3.2875272289700996E-2,null,5.8566413837540132E-2,null,3.0548389662265585E-2,null,4.3493523077237084E-2,null,4.2522524826531516E-2,null,5.2159668216042121E-2,null,3.2514413520031482E-2,null,5.6514789961574774E-2,null,2.7075211130494381E-2,null,3.8290438073761424E-2,null,5.2046241819729833E-2,null,3.1928665929801259E-2,null,3.1188069693917075E-2,null,6.1644924780690946E-2,null,3.035519328512537E-2,null,3.272165818329964E-2,null,3.376466367167108E-2,null,6.6775902699445E-2,null,3.0104939136351261E-2]
[null,145,null,2.9562285797666732E-2,null,2.9454775110199227E-2,null,3.4145575875475842E-2,null,3.3202946883892581E-2,null,2.9540786898541782E-2,null,4.0839125844370772E-2,null,3.6596550984235643E-2,null,2.325191785573355E-2,null,3.354905356666138E-2,null,3.357063059021792E-2,null,3.8063866562695559E-2,null,4.9571099052077683E-2,3.47128170455131E-2,3.4430626073342463E-2,null,2.325191785573355E-2,null,2.5190410290044873E-2,null,3.2907095858185187E-2,null,5.8541776987873106E-2,null,3.0596170208051499E-2,null,4.3503905141742294E-2,null,4.2539590576873065E-2,null,5.2110124377489075E-2,null,3.2548714255014932E-2,null,5.6504335848190035E-2,null,2.712965513528065E-2,null,3.8284985042085662E-2,null,5.201482172719607E-2,null,3.196698564346856E-2,null,3.123146768633589E-2,null,6.159895554242123E-2,null,3.0404297971717398E-2,null,3.2754536453176497E-2,null,3.3790378219546557E-2,null,6.6694242086012601E-2,null,3.0155757286468354E-2]
[null,146,null,2.9616445685981319E-2,null,2.9509665705580002E-2,null,3.4168514232778779E-2,null,3.3232317869182681E-2,null,2.9595092912368948E-2,null,4.0867568314493896E-2,null,3.6602736296101002E-2,null,2.3280954225802342E-2,null,3.3576063360239328E-2,null,3.3597493159853942E-2,null,3.8060003479547966E-2,null,4.9550033834812268E-2,3.4731881849884738E-2,3.4451618266989614E-2,null,2.3280954225802342E-2,null,2.5274217227969853E-2,null,3.293848448595349E-2,null,5.851747815811903E-2,null,3.0643298559105192E-2,null,4.3514145086496647E-2,null,4.2556422838136321E-2,null,5.2061261432950312E-2,null,3.25825462751137E-2,null,5.6494025028184236E-2,null,2.718335628939994E-2,null,3.8279606706610902E-2,null,5.1983832893295556E-2,null,3.2004781884021449E-2,null,3.1274273049434864E-2,null,6.1553617888896683E-2,null,3.0452732374068425E-2,null,3.2786965392402889E-2,null,3.381574116660091E-2,null,6.6613706143955342E-2,null,3.0205881878994312E-2]
[null,147,null,2.9669871584162344E-2,null,2.9563812446528281E-2,null,3.419114102309817E-2,null,3.3261290092623241E-2,null,2.9648662963335015E-2,null,4.0895624596702929E-2,null,3.6608837491971746E-2,null,2.3309596375373109E-2,null,3.3602706388219827E-2,null,3.3623990958896233E-2,null,3.8056192963889179E-2,null,4.95292556020408E-2,3.4750687613299691E-2,3.4472325269909954E-2,null,2.3309596375373109E-2,null,2.5356891269996629E-2,null,3.296944702630733E-2,null,5.8493510441621099E-2,null,3.0689787966222237E-2,null,4.3524245809935636E-2,null,4.2573026368476263E-2,null,5.2013065447201301E-2,null,3.2615919119381998E-2,null,5.6483854576564019E-2,null,2.723632968358447E-2,null,3.8274301545278444E-2,null,5.195326650505927E-2,null,3.2042065300659894E-2,null,3.1316497834451118E-2,null,6.1508898898659625E-2,null,3.050051011656274E-2,null,3.2818954147286528E-2,null,3.3840759673153809E-2,null,6.65342718047921E-2,null,3.0255327006640576E-2]
[null,148,null,2.9722578306037306E-2,null,2.9617230345186263E-2,null,3.421346254996771E-2,null,3.3289871618377598E-2,null,2.9701511904929312E-2,null,4.0923302501645997E-2,null,3.6614856276008689E-2,null,2.3337852276816173E-2,null,3.3628990068955922E-2,null,3.3650131365458025E-2,null,3.8052433950403142E-2,null,4.9508758531122909E-2,3.4769239579665268E-2,3.449275285460196E-2,null,2.3337852276816173E-2,null,2.5438455186911124E-2,null,3.299999209413107E-2,null,5.8469867118402297E-2,null,3.0735651324700353E-2,null,4.3534210132206042E-2,null,4.2589405797727631E-2,null,5.1965522862232438E-2,null,3.2648842070041706E-2,null,5.6473821647311295E-2,null,2.7288590003404334E-2,null,3.8269068076905555E-2,null,5.1923113987556668E-2,null,3.2078846256063498E-2,null,3.1358153768547892E-2,null,6.1464785999824523E-2,null,3.0547644457405321E-2,null,3.285051161777286E-2,null,3.3865440706582151E-2,null,6.6455916626059874E-2,null,3.0304106383685525E-2]
[null,149,null,2.9774580270021778E-2,null,2.9669934013011323E-2,null,3.4235484948152983E-2,null,3.3318070294786395E-2,null,2.9753654194174306E-2,null,4.0950609630902912E-2,null,3.66207943066581E-2,null,2.3365729689133863E-2,null,3.365492162222683E-2,null,3.3675921560150535E-2,null,3.804872540233073E-2,null,4.9488536955673679E-2,3.4787542852298126E-2,3.4512906638821672E-2,null,2.3365729689133863E-2,null,2.5518931147320068E-2,null,3.3030128073842757E-2,null,5.8446541648917272E-2,null,3.0780901186091336E-2,null,4.3544040797791617E-2,null,4.2605565631695708E-2,null,5.1918620484611822E-2,null,3.2681324161045744E-2,null,5.6463923470744248E-2,null,2.7340151542701197E-2,null,3.8263904859839437E-2,null,5.1893366995953372E-2,null,3.2115134835930759E-2,null,3.1399252265594368E-2,null,6.1421266958380238E-2,null,3.0594148300791435E-2,null,3.288164646566738E-2,null,3.3889791047759132E-2,null,6.6378618770271069E-2,null,3.0352233358522884E-2]
[null,150,null,2.9825891512175629E-2,null,2.9721937674005883E-2,null,3.4257214189251872E-2,null,3.3345893761525636E-2,null,2.9805103904718244E-2,null,4.0977553383920728E-2,null,3.6626653198174042E-2,null,2.3393236165036191E-2,null,3.3680508075824456E-2,null,3.370136853263439E-2,null,3.8045066310522291E-2,null,4.9468585360374018E-2,3.4805602398602531E-2,3.4532792090732789E-2,null,2.3393236165036191E-2,null,2.5598340737083225E-2,null,3.3059863127031131E-2,null,5.8423527668053366E-2,null,3.0825549769499361E-2,null,4.3553740478033953E-2,null,4.2621510256273032E-2,null,5.1872345473348735E-2,null,3.2713374186302602E-2,null,5.6454157350981138E-2,null,2.7391028216499747E-2,null,3.8258810490661599E-2,null,5.1864017407879714E-2,null,3.2150940858141075E-2,null,3.1439804436521834E-2,null,6.1378329866954573E-2,null,3.0640034208600619E-2,null,3.2912367122532427E-2,null,3.3913817297240856E-2,null,6.630235698470921E-2,null,3.0399720925720519E-2]

{"sheet":"RfrAltConfig","index":6,"n_rows":113,"n_cols":59,"rows_kept":113,"cut":false,"hidden":true,"merged":[]}
[]
[null,"The DLT points for the alternative extrapolation method define the tenors for which input rates should be observed from Refinitiv."]
[null,"For DLT tenors starting at the FSP-tenor up to and including the LLP-tenor there is a separte table of weights to determine the LLFR below the first table."]
[]
[null,"Country","Order","ISO4217","Instrument","CouponFreq","FSP","LLP","UFR","DLT1","DLT2","DLT3","DLT4","DLT5","DLT6","DLT7","DLT8","DLT9","DLT10","DLT11","DLT12","DLT13","DLT14","DLT15","DLT16","DLT17","DLT18","DLT19","DLT20","DLT21","DLT22","DLT23","DLT24","DLT25","DLT26","DLT27","DLT28","DLT29","DLT30","DLT31","DLT32","DLT33","DLT34","DLT35","DLT36","DLT37","DLT38","DLT39","DLT40","DLT41","DLT42","DLT43","DLT44","DLT45","DLT46","DLT47","DLT48","DLT49","DLT50"]
[null,"Euro",1,"EUR","SWP",1,20,50,3.75,1,1,1,1,1,1,1,1,1,1,1,1,1,1,1,0,0,0,0,1,0,0,0,0,1,0,0,0,0,1,0,0,0,0,0,0,0,0,0,1,0,0,0,0,0,0,0,0,0,1]
[null,"Bulgaria",2,"BGN","SWP",1,20,20,3.75,1,1,1,1,1,1,1,1,1,1,1,1,1,1,1,0,0,0,0,1,0,0,0,0,0,0,0,0,0,0,0,0,0,0,0,0,0,0,0,0,0,0,0,0,0,0,0,0,0,0]
[null,"Croatia",3,"HRK","GVT",0,12,12,3.75,1,1,1,1,1,1,1,1,1,1,1,1,0,0,0,0,0,0,0,0,0,0,0,0,0,0,0,0,0,0,0,0,0,0,0,0,0,0,0,0,0,0,0,0,0,0,0,0,0,0]
[null,"Czech Republic",4,"CZK","SWP",1,10,10,3.75,1,1,0,0,1,0,0,0,0,1,0,0,0,0,0,0,0,0,0,0,0,0,0,0,0,0,0,0,0,0,0,0,0,0,0,0,0,0,0,0,0,0,0,0,0,0,0,0,0,0]
[null,"Denmark",5,"DKK","SWP",1,20,20,3.75,1,1,1,1,1,1,1,1,1,1,1,1,1,1,1,0,0,0,0,1,0,0,0,0,0,0,0,0,0,0,0,0,0,0,0,0,0,0,0,0,0,0,0,0,0,0,0,0,0,0]
[null,"Hungary",6,"HUF","SWP",1,10,10,4.5,1,1,1,0,1,0,0,0,0,1,0,0,0,0,0,0,0,0,0,0,0,0,0,0,0,0,0,0,0,0,0,0,0,0,0,0,0,0,0,0,0,0,0,0,0,0,0,0,0,0]
[null,"Iceland",7,"ISK","GVT",0,8,8,3.75,0,1,1,0,0,1,0,1,0,0,0,0,0,0,0,0,0,0,0,0,0,0,0,0,0,0,0,0,0,0,0,0,0,0,0,0,0,0,0,0,0,0,0,0,0,0,0,0,0,0]
[null,"Liechtenstein",8,"CHF","SWP",1,10,10,2.75,1,1,0,0,1,0,0,0,0,1,0,0,0,0,0,0,0,0,0,0,0,0,0,0,0,0,0,0,0,0,0,0,0,0,0,0,0,0,0,0,0,0,0,0,0,0,0,0,0,0]
[null,"Norway",9,"NOK","SWP",1,10,10,3.75,1,1,1,1,1,0,0,0,0,1,0,0,0,0,0,0,0,0,0,0,0,0,0,0,0,0,0,0,0,0,0,0,0,0,0,0,0,0,0,0,0,0,0,0,0,0,0,0,0,0]
[null,"Poland",10,"PLN","SWP",1,10,10,3.75,1,1,0,0,1,0,0,0,0,1,0,0,0,0,0,0,0,0,0,0,0,0,0,0,0,0,0,0,0,0,0,0,0,0,0,0,0,0,0,0,0,0,0,0,0,0,0,0,0,0]
[null,"Romania",11,"RON","GVT",0,10,15,3.75,1,1,1,1,1,0,1,1,1,1,0,0,0,0,1,0,0,0,0,0,0,0,0,0,0,0,0,0,0,0,0,0,0,0,0,0,0,0,0,0,0,0,0,0,0,0,0,0,0,0]
[null,"Russia",12,"RUB","GVT",0,15,15,4.6500000000000004,1,1,1,1,1,0,1,0,1,1,0,0,0,0,1,0,0,0,0,0,0,0,0,0,0,0,0,0,0,0,0,0,0,0,0,0,0,0,0,0,0,0,0,0,0,0,0,0,0,0]
[null,"Sweden",13,"SEK","SWP",1,10,10,3.75,1,1,1,1,1,1,1,0,0,1,0,0,0,0,0,0,0,0,0,0,0,0,0,0,0,0,0,0,0,0,0,0,0,0,0,0,0,0,0,0,0,0,0,0,0,0,0,0,0,0]
[null,"Switzerland",14,"CHF","SWP",1,10,10,2.75,1,1,0,0,1,0,0,0,0,1,0,0,0,0,0,0,0,0,0,0,0,0,0,0,0,0,0,0,0,0,0,0,0,0,0,0,0,0,0,0,0,0,0,0,0,0,0,0,0,0]
[null,"United Kingdom",15,"GBP","SWP",2,40,50,3.75,1,1,1,1,1,1,1,1,1,1,0,1,0,0,1,0,0,0,0,1,0,0,0,0,1,0,0,0,0,1,0,0,0,0,0,0,0,0,0,1,0,0,0,0,0,0,0,0,0,1]
[null,"Australia",16,"AUD","SWP",2,15,30,3.75,1,1,1,1,1,0,1,0,0,1,0,1,0,0,1,0,0,0,0,1,0,0,0,0,1,0,0,0,0,1,0,0,0,0,0,0,0,0,0,0,0,0,0,0,0,0,0,0,0,0]
[null,"Brazil",17,"BRL","GVT",0,10,10,5.5,1,1,1,1,1,1,1,1,1,1,0,0,0,0,0,0,0,0,0,0,0,0,0,0,0,0,0,0,0,0,0,0,0,0,0,0,0,0,0,0,0,0,0,0,0,0,0,0,0,0]
[null,"Canada",18,"CAD","SWP",2,30,30,3.75,1,1,1,1,1,0,1,0,0,1,0,0,0,0,0,0,0,0,0,0,0,0,0,0,0,0,0,0,0,1,0,0,0,0,0,0,0,0,0,0,0,0,0,0,0,0,0,0,0,0]
[null,"Chile",19,"CLP","GVT",0,10,10,4.5,1,1,1,1,1,0,1,0,0,1,0,0,0,0,0,0,0,0,0,0,0,0,0,0,0,0,0,0,0,0,0,0,0,0,0,0,0,0,0,0,0,0,0,0,0,0,0,0,0,0]
[null,"China",20,"CNY","SWP",4,10,10,4.5,1,1,0,0,1,0,0,0,0,1,0,0,0,0,0,0,0,0,0,0,0,0,0,0,0,0,0,0,0,0,0,0,0,0,0,0,0,0,0,0,0,0,0,0,0,0,0,0,0,0]
[null,"Colombia",21,"COP","GVT",0,10,10,4.5,1,1,1,1,1,1,1,1,1,1,0,0,0,0,0,0,0,0,0,0,0,0,0,0,0,0,0,0,0,0,0,0,0,0,0,0,0,0,0,0,0,0,0,0,0,0,0,0,0,0]
[null,"Hong Kong",22,"HKD","SWP",4,15,15,3.75,1,1,1,0,1,0,0,0,0,1,0,0,0,0,1,0,0,0,0,0,0,0,0,0,0,0,0,0,0,0,0,0,0,0,0,0,0,0,0,0,0,0,0,0,0,0,0,0,0,0]
[null,"India",23,"INR","GVT",0,10,10,5.5,1,1,1,1,1,1,1,1,1,1,0,0,0,0,0,0,0,0,0,0,0,0,0,0,0,0,0,0,0,0,0,0,0,0,0,0,0,0,0,0,0,0,0,0,0,0,0,0,0,0]
[null,"Japan",24,"JPY","SWP",2,25,40,3.5,1,1,1,1,1,1,1,1,1,1,0,1,0,0,1,0,0,0,0,1,0,0,0,0,1,0,0,0,0,1,0,0,0,0,0,0,0,0,0,1,0,0,0,0,0,0,0,0,0,0]
[null,"Malaysia",25,"MYR","GVT",0,20,20,3.75,1,1,1,1,1,1,1,1,1,1,0,1,0,0,1,0,0,0,0,1,0,0,0,0,0,0,0,0,0,0,0,0,0,0,0,0,0,0,0,0,0,0,0,0,0,0,0,0,0,0]
[null,"Mexico",26,"MXN","SWP",13,20,20,4.75,1,1,1,1,1,0,1,0,0,1,0,0,0,0,0,0,0,0,0,1,0,0,0,0,0,0,0,0,0,0,0,0,0,0,0,0,0,0,0,0,0,0,0,0,0,0,0,0,0,0]
[null,"New Zealand",27,"NZD","SWP",2,20,20,3.75,1,1,1,1,1,1,1,1,1,1,0,0,0,0,0,0,0,0,0,1,0,0,0,0,0,0,0,0,0,0,0,0,0,0,0,0,0,0,0,0,0,0,0,0,0,0,0,0,0,0]
[null,"Singapore",28,"SGD","SWP",2,20,20,3.75,1,1,1,0,1,0,0,0,0,1,0,0,0,0,0,0,0,0,0,1,0,0,0,0,0,0,0,0,0,0,0,0,0,0,0,0,0,0,0,0,0,0,0,0,0,0,0,0,0,0]
[null,"South Africa",29,"ZAR","SWP",4,15,15,5.5,1,1,1,0,1,0,0,0,0,1,0,0,0,0,1,0,0,0,0,0,0,0,0,0,0,0,0,0,0,0,0,0,0,0,0,0,0,0,0,0,0,0,0,0,0,0,0,0,0,0]
[null,"South Korea",30,"KRW","SWP",4,20,20,3.75,1,1,1,1,1,0,1,0,0,1,0,0,0,0,0,0,0,0,0,1,0,0,0,0,0,0,0,0,0,0,0,0,0,0,0,0,0,0,0,0,0,0,0,0,0,0,0,0,0,0]
[null,"Taiwan",31,"TWD","GVT",0,10,10,3.75,1,1,1,1,1,1,1,1,1,1,0,0,0,0,0,0,0,0,0,0,0,0,0,0,0,0,0,0,0,0,0,0,0,0,0,0,0,0,0,0,0,0,0,0,0,0,0,0,0,0]
[null,"Thailand",32,"THB","GVT",0,15,15,3.75,1,1,1,1,1,1,1,1,1,1,0,1,0,0,1,0,0,0,0,0,0,0,0,0,0,0,0,0,0,0,0,0,0,0,0,0,0,0,0,0,0,0,0,0,0,0,0,0,0,0]
[null,"Turkey",33,"TRY","GVT",0,9,9,5.5,1,1,1,1,1,0,1,0,1,0,0,0,0,0,0,0,0,0,0,0,0,0,0,0,0,0,0,0,0,0,0,0,0,0,0,0,0,0,0,0,0,0,0,0,0,0,0,0,0,0]
[null,"United States",34,"USD","SWP",2,25,30,3.75,1,1,1,1,1,1,1,1,1,1,0,1,0,0,1,0,0,0,0,1,0,0,0,0,1,0,0,0,0,1,0,0,0,0,0,0,0,0,0,0,0,0,0,0,0,0,0,0,0,0]
[]
[]
[null,"Weights used to calculate the LLFR for the alternative extrapolation method"]
[]
[null,"Country","Order","ISO4217","Instrument","FSP","LLP","UFR","1","2","3","4","5","6","7","8","9","10","11","12","13","14","15","16","17","18","19","20","21","22","23","24","25","26","27","28","29","30","31","32","33","34","35","36","37","38","39","40","41","42","43","44","45","46","47","48","49","50"]
[null,"Euro",1,"EUR","SWP",20,50,3.75,0,0,0,0,0,0,0,0,0,0,0,0,0,0,0,0,0,0,0,0.33,0,0,0,0,0.12,0,0,0,0,0.48,0,0,0,0,0,0,0,0,0,0.04,0,0,0,0,0,0,0,0,0,0.03]
[null,"Bulgaria",4,"BGN","SWP",20,20,3.75,0,0,0,0,0,0,0,0,0,0,0,0,0,0,0,0,0,0,0,1,0,0,0,0,0,0,0,0,0,0,0,0,0,0,0,0,0,0,0,0,0,0,0,0,0,0,0,0,0,0]
[null,"Croatia",5,"HRK","GVT",12,12,3.75,0,0,0,0,0,0,0,0,0,0,0,1,0,0,0,0,0,0,0,0,0,0,0,0,0,0,0,0,0,0,0,0,0,0,0,0,0,0,0,0,0,0,0,0,0,0,0,0,0,0]
[null,"Czech Republic",7,"CZK","SWP",10,10,3.75,0,0,0,0,0,0,0,0,0,1,0,0,0,0,0,0,0,0,0,0,0,0,0,0,0,0,0,0,0,0,0,0,0,0,0,0,0,0,0,0,0,0,0,0,0,0,0,0,0,0]
[null,"Denmark",8,"DKK","SWP",20,20,3.75,0,0,0,0,0,0,0,0,0,0,0,0,0,0,0,0,0,0,0,1,0,0,0,0,0,0,0,0,0,0,0,0,0,0,0,0,0,0,0,0,0,0,0,0,0,0,0,0,0,0]
[null,"Hungary",14,"HUF","SWP",10,10,4.5,0,0,0,0,0,0,0,0,0,1,0,0,0,0,0,0,0,0,0,0,0,0,0,0,0,0,0,0,0,0,0,0,0,0,0,0,0,0,0,0,0,0,0,0,0,0,0,0,0,0]
[null,"Iceland",15,"ISK","GVT",8,8,3.75,0,0,0,0,0,0,0,1,0,0,0,0,0,0,0,0,0,0,0,0,0,0,0,0,0,0,0,0,0,0,0,0,0,0,0,0,0,0,0,0,0,0,0,0,0,0,0,0,0,0]
[null,"Liechtenstein",19,"CHF","SWP",10,10,2.75,0,0,0,0,0,0,0,0,0,1,0,0,0,0,0,0,0,0,0,0,0,0,0,0,0,0,0,0,0,0,0,0,0,0,0,0,0,0,0,0,0,0,0,0,0,0,0,0,0,0]
[null,"Norway",24,"NOK","SWP",10,10,3.75,0,0,0,0,0,0,0,0,0,1,0,0,0,0,0,0,0,0,0,0,0,0,0,0,0,0,0,0,0,0,0,0,0,0,0,0,0,0,0,0,0,0,0,0,0,0,0,0,0,0]
[null,"Poland",25,"PLN","SWP",10,10,3.75,0,0,0,0,0,0,0,0,0,1,0,0,0,0,0,0,0,0,0,0,0,0,0,0,0,0,0,0,0,0,0,0,0,0,0,0,0,0,0,0,0,0,0,0,0,0,0,0,0,0]
[null,"Romania",27,"RON","GVT",10,15,3.75,0,0,0,0,0,0,0,0,0,1,0,0,0,0,0,0,0,0,0,0,0,0,0,0,0,0,0,0,0,0,0,0,0,0,0,0,0,0,0,0,0,0,0,0,0,0,0,0,0,0]
[null,"Russia",28,"RUB","GVT",15,15,4.6500000000000004,0,0,0,0,0,0,0,0,0,0,0,0,0,0,1,0,0,0,0,0,0,0,0,0,0,0,0,0,0,0,0,0,0,0,0,0,0,0,0,0,0,0,0,0,0,0,0,0,0,0]
[null,"Sweden",32,"SEK","SWP",10,10,3.75,0,0,0,0,0,0,0,0,0,1,0,0,0,0,0,0,0,0,0,0,0,0,0,0,0,0,0,0,0,0,0,0,0,0,0,0,0,0,0,0,0,0,0,0,0,0,0,0,0,0]
[null,"Switzerland",33,"CHF","SWP",10,10,2.75,0,0,0,0,0,0,0,0,0,1,0,0,0,0,0,0,0,0,0,0,0,0,0,0,0,0,0,0,0,0,0,0,0,0,0,0,0,0,0,0,0,0,0,0,0,0,0,0,0,0]
[null,"United Kingdom",34,"GBP","SWP",40,50,3.75,0,0,0,0,0,0,0,0,0,0,0,0,0,0,0,0,0,0,0,0,0,0,0,0,0,0,0,0,0,0,0,0,0,0,0,0,0,0,0,0.55000000000000004,0,0,0,0,0,0,0,0,0,0.45]
[null,"Australia",35,"AUD","SWP",15,30,3.75,0,0,0,0,0,0,0,0,0,0,0,0,0,0,0.48,0,0,0,0,0.25,0,0,0,0,7.0000000000000007E-2,0,0,0,0,0.2,0,0,0,0,0,0,0,0,0,0,0,0,0,0,0,0,0,0,0,0]
[null,"Brazil",36,"BRL","GVT",10,10,5.5,0,0,0,0,0,0,0,0,0,1,0,0,0,0,0,0,0,0,0,0,0,0,0,0,0,0,0,0,0,0,0,0,0,0,0,0,0,0,0,0,0,0,0,0,0,0,0,0,0,0]
[null,"Canada",37,"CAD","SWP",30,30,3.75,0,0,0,0,0,0,0,0,0,0,0,0,0,0,0,0,0,0,0,0,0,0,0,0,0,0,0,0,0,1,0,0,0,0,0,0,0,0,0,0,0,0,0,0,0,0,0,0,0,0]
[null,"Chile",38,"CLP","GVT",10,10,4.5,0,0,0,0,0,0,0,0,0,1,0,0,0,0,0,0,0,0,0,0,0,0,0,0,0,0,0,0,0,0,0,0,0,0,0,0,0,0,0,0,0,0,0,0,0,0,0,0,0,0]
[null,"China",39,"CNY","SWP",10,10,4.5,0,0,0,0,0,0,0,0,0,1,0,0,0,0,0,0,0,0,0,0,0,0,0,0,0,0,0,0,0,0,0,0,0,0,0,0,0,0,0,0,0,0,0,0,0,0,0,0,0,0]
[null,"Colombia",40,"COP","GVT",10,10,4.5,0,0,0,0,0,0,0,0,0,1,0,0,0,0,0,0,0,0,0,0,0,0,0,0,0,0,0,0,0,0,0,0,0,0,0,0,0,0,0,0,0,0,0,0,0,0,0,0,0,0]
[null,"Hong Kong",41,"HKD","SWP",15,15,3.75,0,0,0,0,0,0,0,0,0,0,0,0,0,0,1,0,0,0,0,0,0,0,0,0,0,0,0,0,0,0,0,0,0,0,0,0,0,0,0,0,0,0,0,0,0,0,0,0,0,0]
[null,"India",42,"INR","GVT",10,10,5.5,0,0,0,0,0,0,0,0,0,1,0,0,0,0,0,0,0,0,0,0,0,0,0,0,0,0,0,0,0,0,0,0,0,0,0,0,0,0,0,0,0,0,0,0,0,0,0,0,0,0]
[null,"Japan",43,"JPY","SWP",25,40,3.5,0,0,0,0,0,0,0,0,0,0,0,0,0,0,0,0,0,0,0,0,0,0,0,0,0.17,0,0,0,0,0.81,0,0,0,0,0,0,0,0,0,0.02,0,0,0,0,0,0,0,0,0,0]
[null,"Malaysia",44,"MYR","GVT",20,20,3.75,0,0,0,0,0,0,0,0,0,0,0,0,0,0,0,0,0,0,0,1,0,0,0,0,0,0,0,0,0,0,0,0,0,0,0,0,0,0,0,0,0,0,0,0,0,0,0,0,0,0]
[null,"Mexico",45,"MXN","SWP",20,20,4.75,0,0,0,0,0,0,0,0,0,0,0,0,0,0,0,0,0,0,0,1,0,0,0,0,0,0,0,0,0,0,0,0,0,0,0,0,0,0,0,0,0,0,0,0,0,0,0,0,0,0]
[null,"New Zealand",46,"NZD","SWP",20,20,3.75,0,0,0,0,0,0,0,0,0,0,0,0,0,0,0,0,0,0,0,1,0,0,0,0,0,0,0,0,0,0,0,0,0,0,0,0,0,0,0,0,0,0,0,0,0,0,0,0,0,0]
[null,"Singapore",47,"SGD","SWP",20,20,3.75,0,0,0,0,0,0,0,0,0,0,0,0,0,0,0,0,0,0,0,1,0,0,0,0,0,0,0,0,0,0,0,0,0,0,0,0,0,0,0,0,0,0,0,0,0,0,0,0,0,0]
[null,"South Africa",48,"ZAR","SWP",15,15,5.5,0,0,0,0,0,0,0,0,0,0,0,0,0,0,1,0,0,0,0,0,0,0,0,0,0,0,0,0,0,0,0,0,0,0,0,0,0,0,0,0,0,0,0,0,0,0,0,0,0,0]
[null,"South Korea",49,"KRW","SWP",20,20,3.75,0,0,0,0,0,0,0,0,0,0,0,0,0,0,0,0,0,0,0,1,0,0,0,0,0,0,0,0,0,0,0,0,0,0,0,0,0,0,0,0,0,0,0,0,0,0,0,0,0,0]
[null,"Taiwan",50,"TWD","GVT",10,10,3.75,0,0,0,0,0,0,0,0,0,1,0,0,0,0,0,0,0,0,0,0,0,0,0,0,0,0,0,0,0,0,0,0,0,0,0,0,0,0,0,0,0,0,0,0,0,0,0,0,0,0]
[null,"Thailand",51,"THB","GVT",15,15,3.75,0,0,0,0,0,0,0,0,0,0,0,0,0,0,1,0,0,0,0,0,0,0,0,0,0,0,0,0,0,0,0,0,0,0,0,0,0,0,0,0,0,0,0,0,0,0,0,0,0,0]
[null,"Turkey",52,"TRY","GVT",9,9,5.5,0,0,0,0,0,0,0,0,1,0,0,0,0,0,0,0,0,0,0,0,0,0,0,0,0,0,0,0,0,0,0,0,0,0,0,0,0,0,0,0,0,0,0,0,0,0,0,0,0,0]
[null,"United States",53,"USD","SWP",25,30,3.75,0,0,0,0,0,0,0,0,0,0,0,0,0,0,0,0,0,0,0,0,0,0,0,0,0.11,0,0,0,0,0.89,0,0,0,0,0,0,0,0,0,0,0,0,0,0,0,0,0,0,0,0]
[]
[null,"Currency"]
[null,"EUR"]
[null,"BGN"]
[null,"HRK"]
[null,"CZK"]
[null,"DKK"]
[null,"HUF"]
[null,"ISK"]
[null,"CHF"]
[null,"NOK"]
[null,"PLN"]
[null,"RON"]
[null,"RUB"]
[null,"SEK"]
[null,"GBP"]
[null,"AUD"]
[null,"BRL"]
[null,"CAD"]
[null,"CLP"]
[null,"CNY"]
[null,"COP"]
[null,"HKD"]
[null,"INR"]
[null,"JPY"]
[null,"MYR"]
[null,"MXN"]
[null,"NZD"]
[null,"SGD"]
[null,"ZAR"]
[null,"KRW"]
[null,"TWD"]
[null,"THB"]
[null,"TRY"]
[null,"USD"]

{"sheet":"Shocks","index":7,"n_rows":161,"n_cols":13,"rows_kept":161,"cut":false,"hidden":true,"merged":[[8,5,8,8],[8,9,8,12]]}
[]
[]
[null,"Standard calculation of the Solvency Capital Requirement"]
[]
[]
[null,"Interest rate risk submodule"]
[]
[]
[null,null,null,"Current SCR Shocks",null,"CP Scenario 1 Shocks",null,null,null,"Shocks until 10Y"]
[null,null,null,"Down Shock","Up Shock","smdown","bmdown ","smup","bmup","smdown","bmdown ","smup","bmup"]
[]
[null,1,null,0.75,0.7,0.57999999999999996,1.1599999999999999E-2,0.61,2.1399999999999999E-2,0.57999999999999996,1.1599999999999999E-2,0.61,2.1399999999999999E-2]
[null,2,null,0.65,0.7,0.51,9.9000000000000008E-3,0.53,1.8599999999999998E-2,0.51,9.9000000000000008E-3,0.53,1.8599999999999998E-2]
[null,3,null,0.56000000000000005,0.64,0.44,8.3000000000000001E-3,0.49,1.72E-2,0.44,8.3000000000000001E-3,0.49,1.72E-2]
[null,4,null,0.5,0.59,0.4,7.4000000000000003E-3,0.46,1.61E-2,0.4,7.4000000000000003E-3,0.46,1.61E-2]
[null,5,null,0.46,0.55000000000000004,0.4,7.1000000000000004E-3,0.45,1.5800000000000002E-2,0.4,7.1000000000000004E-3,0.45,1.5800000000000002E-2]
[null,6,null,0.42,0.52,0.38,6.7000000000000002E-3,0.41,1.44E-2,0.38,6.7000000000000002E-3,0.41,1.44E-2]
[null,7,null,0.39,0.49,0.37,6.3E-3,0.37,1.2999999999999999E-2,0.37,6.3E-3,0.37,1.2999999999999999E-2]
[null,8,null,0.36,0.47,0.38,6.1999999999999998E-3,0.34,1.1900000000000001E-2,0.38,6.1999999999999998E-3,0.34,1.1900000000000001E-2]
[null,9,null,0.33,0.44,0.39,6.1000000000000004E-3,0.32,1.12E-2,0.39,6.1000000000000004E-3,0.32,1.12E-2]
[null,10,null,0.31,0.42,0.4,6.1000000000000004E-3,0.3,1.0500000000000001E-2,0.4,6.1000000000000004E-3,0.3,1.0500000000000001E-2]
[null,11,null,0.3,0.39,0.41,6.0000000000000001E-3,0.3,1.0500000000000001E-2,{"$f":"$J$21+($B22-$B$21)*(0.2-$J$21)/(90-10)","v":0.39750000000000002},{"$f":"K$21+($B22-$B$21)*(0-$K$21)/(60-10)","v":5.9780000000000007E-3},{"$f":"$L$21+($B22-$B$21)*(0.2-$L$21)/(90-10)","v":0.29875000000000002},{"$f":"$M$21+($B22-$B$21)*(0-$M$21)/(60-10)","v":1.0290000000000001E-2}]
[null,12,null,0.28999999999999998,0.37,0.42,6.0000000000000001E-3,0.3,1.0500000000000001E-2,0.39500000000000002,5.8560000000000001E-3,0.29749999999999999,1.008E-2]
[null,13,null,0.28000000000000003,0.35,0.43,5.8999999999999999E-3,0.3,1.0500000000000001E-2,0.39250000000000002,5.7340000000000004E-3,0.29625000000000001,9.8700000000000003E-3]
[null,14,null,0.28000000000000003,0.34,0.44,5.7999999999999996E-3,0.28999999999999998,1.0200000000000001E-2,0.39,5.6120000000000007E-3,0.29499999999999998,9.6600000000000002E-3]
[null,15,null,0.27,0.33,0.45,5.7000000000000002E-3,0.28000000000000003,9.7999999999999997E-3,0.38750000000000001,5.4900000000000001E-3,0.29375000000000001,9.4500000000000001E-3]
[null,16,null,0.28000000000000003,0.31,0.47,5.5999999999999999E-3,0.28000000000000003,9.7999999999999997E-3,0.38500000000000001,5.3680000000000004E-3,0.29249999999999998,9.2399999999999999E-3]
[null,17,null,0.28000000000000003,0.3,0.48,5.4999999999999997E-3,0.27,9.4999999999999998E-3,0.38250000000000001,5.2460000000000007E-3,0.29125000000000001,9.0299999999999998E-3]
[null,18,null,0.28000000000000003,0.28999999999999998,0.49,5.4000000000000003E-3,0.26,9.1000000000000004E-3,0.38,5.1240000000000001E-3,0.28999999999999998,8.8200000000000014E-3]
[null,19,null,0.28999999999999998,0.27,0.49,5.1999999999999998E-3,0.26,9.1000000000000004E-3,0.3775,5.0020000000000004E-3,0.28875000000000001,8.6100000000000013E-3]
[null,20,null,0.28999999999999998,0.26,0.5,5.0000000000000001E-3,0.25,8.8000000000000005E-3,0.375,4.8800000000000007E-3,0.28749999999999998,8.4000000000000012E-3]
[null,21,null,0.2887142857142857,0.25914285714285717,0.49571428571428572,4.875E-3,0.24928571428571428,8.5800000000000008E-3,0.3725,4.7580000000000001E-3,0.28625,8.1900000000000011E-3]
[null,22,null,0.28742857142857142,0.25828571428571429,0.49142857142857144,4.7499999999999999E-3,0.24857142857142858,8.3600000000000011E-3,0.37,4.6360000000000004E-3,0.28499999999999998,7.980000000000001E-3]
[null,23,null,0.28614285714285714,0.25742857142857145,0.48714285714285716,4.6249999999999998E-3,0.24785714285714286,8.1400000000000014E-3,0.36750000000000005,4.5140000000000007E-3,0.28375,7.7700000000000009E-3]
[null,24,null,0.28485714285714286,0.25657142857142856,0.48285714285714287,4.5000000000000005E-3,0.24714285714285714,7.92E-3,0.36499999999999999,4.3920000000000001E-3,0.28249999999999997,7.5600000000000007E-3]
[null,25,null,0.28357142857142853,0.25571428571428573,0.47857142857142859,4.3750000000000004E-3,0.24642857142857144,7.7000000000000002E-3,0.36250000000000004,4.2700000000000004E-3,0.28125,7.3500000000000006E-3]
[null,26,null,0.28228571428571425,0.25485714285714289,0.47428571428571431,4.2500000000000003E-3,0.24571428571428572,7.4800000000000005E-3,0.36000000000000004,4.1480000000000006E-3,0.27999999999999997,7.1400000000000005E-3]
[null,27,null,0.28099999999999997,0.254,0.47,4.1250000000000002E-3,0.245,7.2600000000000008E-3,0.35750000000000004,4.0260000000000001E-3,0.27875,6.9300000000000004E-3]
[null,28,null,0.27971428571428569,0.25314285714285717,0.46571428571428569,4.0000000000000001E-3,0.24428571428571427,7.0400000000000003E-3,0.35500000000000004,3.9040000000000004E-3,0.27749999999999997,6.7200000000000003E-3]
[null,29,null,0.27842857142857141,0.25228571428571428,0.46142857142857141,3.875E-3,0.24357142857142858,6.8200000000000005E-3,0.35250000000000004,3.7820000000000002E-3,0.27625,6.5100000000000002E-3]
[null,30,null,0.27714285714285714,0.25142857142857145,0.45714285714285713,3.7499999999999999E-3,0.24285714285714285,6.6E-3,0.35000000000000003,3.6600000000000001E-3,0.27500000000000002,6.3E-3]
[null,31,null,0.27585714285714286,0.25057142857142856,0.45285714285714285,3.6250000000000002E-3,0.24214285714285716,6.3800000000000003E-3,0.34750000000000003,3.5379999999999999E-3,0.27374999999999999,6.0900000000000008E-3]
[null,32,null,0.27457142857142858,0.24971428571428572,0.44857142857142857,3.5000000000000001E-3,0.24142857142857144,6.1600000000000005E-3,0.34500000000000003,3.4160000000000002E-3,0.27250000000000002,5.8800000000000007E-3]
[null,33,null,0.2732857142857143,0.24885714285714286,0.44428571428571428,3.375E-3,0.24071428571428571,5.9400000000000008E-3,0.34250000000000003,3.2940000000000001E-3,0.27124999999999999,5.6700000000000006E-3]
[null,34,null,0.27199999999999996,0.248,0.44,3.2499999999999999E-3,0.24,5.7200000000000003E-3,0.34,3.1720000000000003E-3,0.27,5.4600000000000004E-3]
[null,35,null,0.27071428571428569,0.24714285714285716,0.43571428571428572,3.1250000000000002E-3,0.2392857142857143,5.5000000000000005E-3,0.33750000000000002,3.0500000000000006E-3,0.26874999999999999,5.2500000000000003E-3]
[null,36,null,0.26942857142857141,0.2462857142857143,0.43142857142857144,3.0000000000000001E-3,0.23857142857142857,5.28E-3,0.33500000000000002,2.928E-3,0.26750000000000002,5.0400000000000002E-3]
[null,37,null,0.26814285714285713,0.24542857142857144,0.42714285714285716,2.875E-3,0.23785714285714285,5.0600000000000003E-3,0.33250000000000002,2.8060000000000003E-3,0.26624999999999999,4.8300000000000001E-3]
[null,38,null,0.26685714285714285,0.24457142857142858,0.42285714285714288,2.7500000000000003E-3,0.23714285714285716,4.8400000000000006E-3,0.33,2.6840000000000002E-3,0.26500000000000001,4.62E-3]
[null,39,null,0.26557142857142857,0.24371428571428572,0.41857142857142859,2.6250000000000002E-3,0.23642857142857143,4.62E-3,0.32750000000000001,2.5620000000000005E-3,0.26374999999999998,4.4100000000000007E-3]
[null,40,null,0.26428571428571429,0.24285714285714285,0.41428571428571426,2.5000000000000001E-3,0.23571428571428571,4.4000000000000003E-3,0.32500000000000001,2.4399999999999999E-3,0.26250000000000001,4.2000000000000006E-3]
[null,41,null,0.26300000000000001,0.24200000000000002,0.41000000000000003,2.3750000000000004E-3,0.23500000000000001,4.1799999999999997E-3,0.32250000000000001,2.3180000000000002E-3,0.26124999999999998,3.9900000000000005E-3]
[null,42,null,0.26171428571428568,0.24114285714285716,0.40571428571428569,2.2500000000000003E-3,0.23428571428571429,3.96E-3,0.32,2.196E-3,0.26,3.7800000000000004E-3]
[null,43,null,0.2604285714285714,0.2402857142857143,0.40142857142857147,2.1250000000000002E-3,0.23357142857142857,3.7400000000000003E-3,{"$f":"$J$21+($B54-$B$21)*(0.2-$J$21)/(90-10)","v":0.3175},{"$f":"K$21+($B54-$B$21)*(0-$K$21)/(60-10)","v":2.0740000000000003E-3},{"$f":"$L$21+($B54-$B$21)*(0.2-$L$21)/(90-10)","v":0.25874999999999998},{"$f":"$M$21+($B54-$B$21)*(0-$M$21)/(60-10)","v":3.5700000000000003E-3}]
[null,44,null,0.25914285714285712,0.23942857142857144,0.39714285714285713,2E-3,0.23285714285714287,3.5200000000000006E-3,0.315,1.9520000000000006E-3,0.25750000000000001,3.3600000000000001E-3]
[null,45,null,0.25785714285714284,0.23857142857142857,0.39285714285714285,1.8749999999999999E-3,0.23214285714285715,3.3000000000000008E-3,0.3125,1.83E-3,0.25624999999999998,3.15E-3]
[null,46,null,0.25657142857142856,0.23771428571428571,0.38857142857142857,1.7499999999999998E-3,0.23142857142857143,3.0800000000000003E-3,0.31000000000000005,1.7080000000000003E-3,0.255,2.9400000000000008E-3]
[null,47,null,0.25528571428571428,0.23685714285714288,0.38428571428571429,1.6249999999999997E-3,0.23071428571428571,2.8600000000000006E-3,0.3075,1.5859999999999997E-3,0.25374999999999998,2.7300000000000007E-3]
[null,48,null,0.254,0.23600000000000002,0.38,1.4999999999999996E-3,0.23,2.64E-3,0.30500000000000005,1.464E-3,0.2525,2.5199999999999997E-3]
[null,49,null,0.25271428571428572,0.23514285714285715,0.37571428571428572,1.3750000000000004E-3,0.22928571428571429,2.4199999999999994E-3,0.30249999999999999,1.3419999999999994E-3,0.25124999999999997,2.3099999999999996E-3]
[null,50,null,0.25142857142857145,0.23428571428571429,0.37142857142857144,1.2500000000000002E-3,0.22857142857142859,2.2000000000000006E-3,0.30000000000000004,1.2199999999999997E-3,0.25,2.0999999999999994E-3]
[null,51,null,0.25014285714285711,0.23342857142857143,0.36714285714285716,1.1250000000000001E-3,0.22785714285714287,1.9799999999999991E-3,0.29749999999999999,1.0980000000000009E-3,0.24875,1.8899999999999993E-3]
[null,52,null,0.24885714285714286,0.2325714285714286,0.36285714285714288,1E-3,0.22714285714285715,1.7600000000000003E-3,0.29500000000000004,9.7599999999999944E-4,0.2475,1.6800000000000009E-3]
[null,53,null,0.24757142857142855,0.23171428571428573,0.35857142857142854,8.7499999999999991E-4,0.22642857142857142,1.5400000000000006E-3,0.29250000000000004,8.5399999999999972E-4,0.24625,1.4700000000000008E-3]
[null,54,null,0.24628571428571427,0.23085714285714287,0.35428571428571431,7.499999999999998E-4,0.22571428571428573,1.32E-3,0.29000000000000004,7.3200000000000001E-4,0.245,1.2600000000000007E-3]
[null,55,null,0.245,0.23,0.35,6.2499999999999969E-4,0.22500000000000001,1.1000000000000003E-3,0.28750000000000003,6.100000000000003E-4,0.24374999999999999,1.0500000000000006E-3]
[null,56,null,0.24371428571428572,0.22914285714285715,0.34571428571428575,5.0000000000000044E-4,0.22428571428571428,8.8000000000000057E-4,0.28500000000000003,4.8799999999999972E-4,0.24249999999999999,8.4000000000000047E-4]
[null,57,null,0.24242857142857144,0.22828571428571431,0.34142857142857141,3.7500000000000033E-4,0.22357142857142859,6.6000000000000086E-4,0.28250000000000003,3.6600000000000001E-4,0.24124999999999999,6.3000000000000035E-4]
[null,58,null,0.24114285714285713,0.22742857142857142,0.33714285714285713,2.5000000000000022E-4,0.22285714285714286,4.3999999999999942E-4,0.28000000000000003,2.4400000000000029E-4,0.24,4.2000000000000023E-4]
[null,59,null,0.23985714285714285,0.22657142857142859,0.33285714285714285,1.2500000000000011E-4,0.22214285714285714,2.1999999999999971E-4,0.27750000000000002,1.2200000000000058E-4,0.23875000000000002,2.1000000000000012E-4]
[null,60,null,0.23857142857142857,0.22571428571428573,0.32857142857142857,0,0.22142857142857145,0,0.27500000000000002,0,0.23749999999999999,0]
[null,61,null,0.23728571428571429,0.22485714285714287,0.32428571428571429,0,0.22071428571428572,0,0.27250000000000002,0,0.23625000000000002,0]
[null,62,null,0.23599999999999999,0.224,0.32,0,0.22,0,0.27,0,0.23499999999999999,0]
[null,63,null,0.23471428571428571,0.22314285714285714,0.31571428571428573,0,0.21928571428571431,0,0.26750000000000002,0,0.23375000000000001,0]
[null,64,null,0.23342857142857143,0.22228571428571431,0.31142857142857144,0,0.21857142857142858,0,0.26500000000000001,0,0.23250000000000001,0]
[null,65,null,0.23214285714285715,0.22142857142857145,0.30714285714285716,0,0.21785714285714286,0,0.26250000000000001,0,0.23125000000000001,0]
[null,66,null,0.23085714285714284,0.22057142857142858,0.30285714285714288,0,0.21714285714285714,0,0.26,0,0.23,0]
[null,67,null,0.22957142857142857,0.21971428571428572,0.2985714285714286,0,0.21642857142857144,0,0.25750000000000001,0,0.22875000000000001,0]
[null,68,null,0.22828571428571429,0.21885714285714286,0.29428571428571432,0,0.21571428571428572,0,0.255,0,0.22750000000000001,0]
[null,69,null,0.22700000000000001,0.218,0.29000000000000004,0,0.21500000000000002,0,0.2525,0,0.22625000000000001,0]
[null,70,null,0.2257142857142857,0.21714285714285714,0.2857142857142857,0,0.2142857142857143,0,0.25,0,0.22500000000000001,0]
[null,71,null,0.22442857142857142,0.2162857142857143,0.28142857142857147,0,0.21357142857142858,0,0.2475,0,0.22375,0]
[null,72,null,0.22314285714285714,0.21542857142857144,0.27714285714285714,0,0.21285714285714286,0,0.24500000000000002,0,0.2225,0]
[null,73,null,0.22185714285714286,0.21457142857142858,0.27285714285714291,0,0.21214285714285716,0,0.24249999999999999,0,0.22125,0]
[null,74,null,0.22057142857142858,0.21371428571428572,0.26857142857142857,0,0.21142857142857144,0,0.24000000000000002,0,0.22,0]
[null,75,null,0.21928571428571431,0.21285714285714286,0.26428571428571429,0,0.21071428571428572,0,{"$f":"$J$21+($B86-$B$21)*(0.2-$J$21)/(90-10)","v":0.23750000000000002},0,{"$f":"$L$21+($B86-$B$21)*(0.2-$L$21)/(90-10)","v":0.21875},0]
[null,76,null,0.218,0.21200000000000002,0.26,0,0.21000000000000002,0,0.23500000000000001,0,0.2175,0]
[null,77,null,0.21671428571428572,0.21114285714285716,0.25571428571428578,0,0.2092857142857143,0,0.23250000000000001,0,0.21625,0]
[null,78,null,0.21542857142857144,0.2102857142857143,0.25142857142857145,0,0.20857142857142857,0,0.23,0,0.215,0]
[null,79,null,0.21414285714285713,0.20942857142857144,0.24714285714285716,0,0.20785714285714285,0,0.22750000000000001,0,0.21375,0]
[null,80,null,0.21285714285714286,0.20857142857142857,0.24285714285714288,0,0.20714285714285716,0,0.22500000000000003,0,0.21250000000000002,0]
[null,81,null,0.21157142857142858,0.20771428571428574,0.23857142857142855,0,0.20642857142857143,0,0.2225,0,0.21124999999999999,0]
[null,82,null,0.2102857142857143,0.20685714285714288,0.23428571428571432,0,0.20571428571428574,0,0.22000000000000003,0,0.21000000000000002,0]
[null,83,null,0.20900000000000002,0.20600000000000002,0.23000000000000004,0,0.20500000000000002,0,0.2175,0,0.20875000000000002,0]
[null,84,null,0.20771428571428574,0.20514285714285715,0.2257142857142857,0,0.20428571428571429,0,0.21500000000000002,0,0.20750000000000002,0]
[null,85,null,0.20642857142857143,0.20428571428571429,0.22142857142857142,0,0.20357142857142857,0,0.21250000000000002,0,0.20625000000000002,0]
[null,86,null,0.20514285714285715,0.20342857142857143,0.21714285714285714,0,0.20285714285714287,0,0.21000000000000002,0,0.20500000000000002,0]
[null,87,null,0.20385714285714288,0.2025714285714286,0.21285714285714291,0,0.20214285714285715,0,0.20750000000000002,0,0.20375000000000001,0]
[null,88,null,0.20257142857142857,0.20171428571428573,0.20857142857142857,0,0.20142857142857143,0,0.20500000000000002,0,0.20250000000000001,0]
[null,89,null,0.20128571428571429,0.20085714285714287,0.20428571428571429,0,0.20071428571428573,0,0.20250000000000001,0,0.20125000000000001,0]
[null,90,null,0.2,0.2,0.2,0,0.2,0,0.2,0,0.2,0]
[null,91,null,0.2,0.2,0.2,0,0.2,0,0.2,0,0.19875000000000001,0]
[null,92,null,0.2,0.2,0.2,0,0.2,0,0.2,0,0.19750000000000001,0]
[null,93,null,0.2,0.2,0.2,0,0.2,0,0.2,0,0.19625000000000001,0]
[null,94,null,0.2,0.2,0.2,0,0.2,0,0.2,0,0.19500000000000001,0]
[null,95,null,0.2,0.2,0.2,0,0.2,0,0.2,0,0.19375000000000001,0]
[null,96,null,0.2,0.2,0.2,0,0.2,0,0.2,0,0.1925,0]
[null,97,null,0.2,0.2,0.2,0,0.2,0,0.2,0,0.19125000000000003,0]
[null,98,null,0.2,0.2,0.2,0,0.2,0,0.2,0,0.19000000000000003,0]
[null,99,null,0.2,0.2,0.2,0,0.2,0,0.2,0,0.18875,0]
[null,100,null,0.2,0.2,0.2,0,0.2,0,0.2,0,0.1875,0]
[null,101,null,0.2,0.2,0.2,0,0.2,0,0.2,0,0.18625000000000003,0]
[null,102,null,0.2,0.2,0.2,0,0.2,0,0.2,0,0.18500000000000003,0]
[null,103,null,0.2,0.2,0.2,0,0.2,0,0.2,0,0.18375000000000002,0]
[null,104,null,0.2,0.2,0.2,0,0.2,0,0.2,0,0.1825,0]
[null,105,null,0.2,0.2,0.2,0,0.2,0,0.2,0,0.18125000000000002,0]
[null,106,null,0.2,0.2,0.2,0,0.2,0,0.2,0,0.18000000000000002,0]
[null,107,null,0.2,0.2,0.2,0,0.2,0,0.2,0,{"$f":"$L$21+($B118-$B$21)*(0.2-$L$21)/(90-10)","v":0.17875000000000002},0]
[null,108,null,0.2,0.2,0.2,0,0.2,0,0.2,0,0.17750000000000002,0]
[null,109,null,0.2,0.2,0.2,0,0.2,0,0.2,0,0.17625000000000002,0]
[null,110,null,0.2,0.2,0.2,0,0.2,0,0.2,0,0.17500000000000002,0]
[null,111,null,0.2,0.2,0.2,0,0.2,0,0.2,0,0.17375000000000002,0]
[null,112,null,0.2,0.2,0.2,0,0.2,0,0.2,0,0.17250000000000001,0]
[null,113,null,0.2,0.2,0.2,0,0.2,0,0.2,0,0.17125000000000001,0]
[null,114,null,0.2,0.2,0.2,0,0.2,0,0.2,0,0.17,0]
[null,115,null,0.2,0.2,0.2,0,0.2,0,0.2,0,0.16875000000000001,0]
[null,116,null,0.2,0.2,0.2,0,0.2,0,0.2,0,0.16750000000000001,0]
[null,117,null,0.2,0.2,0.2,0,0.2,0,0.2,0,0.16625000000000001,0]
[null,118,null,0.2,0.2,0.2,0,0.2,0,0.2,0,0.16500000000000004,0]
[null,119,null,0.2,0.2,0.2,0,0.2,0,0.2,0,0.16375000000000003,0]
[null,120,null,0.2,0.2,0.2,0,0.2,0,0.2,0,0.16250000000000001,0]
[null,121,null,0.2,0.2,0.2,0,0.2,0,0.2,0,0.16125,0]
[null,122,null,0.2,0.2,0.2,0,0.2,0,0.2,0,0.16000000000000003,0]
[null,123,null,0.2,0.2,0.2,0,0.2,0,0.2,0,0.15875000000000003,0]
[null,124,null,0.2,0.2,0.2,0,0.2,0,0.2,0,0.15750000000000003,0]
[null,125,null,0.2,0.2,0.2,0,0.2,0,0.2,0,0.15625,0]
[null,126,null,0.2,0.2,0.2,0,0.2,0,0.2,0,0.15500000000000003,0]
[null,127,null,0.2,0.2,0.2,0,0.2,0,0.2,0,0.15375000000000003,0]
[null,128,null,0.2,0.2,0.2,0,0.2,0,0.2,0,0.15250000000000002,0]
[null,129,null,0.2,0.2,0.2,0,0.2,0,0.2,0,0.15125000000000002,0]
[null,130,null,0.2,0.2,0.2,0,0.2,0,0.2,0,0.15000000000000002,0]
[null,131,null,0.2,0.2,0.2,0,0.2,0,0.2,0,0.14875000000000002,0]
[null,132,null,0.2,0.2,0.2,0,0.2,0,0.2,0,0.14750000000000002,0]
[null,133,null,0.2,0.2,0.2,0,0.2,0,0.2,0,0.14625000000000002,0]
[null,134,null,0.2,0.2,0.2,0,0.2,0,0.2,0,0.14500000000000002,0]
[null,135,null,0.2,0.2,0.2,0,0.2,0,0.2,0,0.14375000000000004,0]
[null,136,null,0.2,0.2,0.2,0,0.2,0,0.2,0,0.14250000000000002,0]
[null,137,null,0.2,0.2,0.2,0,0.2,0,0.2,0,0.14125000000000001,0]
[null,138,null,0.2,0.2,0.2,0,0.2,0,0.2,0,0.14000000000000001,0]
[null,139,null,0.2,0.2,0.2,0,0.2,0,0.2,0,{"$f":"$L$21+($B150-$B$21)*(0.2-$L$21)/(90-10)","v":0.13875000000000004},0]
[null,140,null,0.2,0.2,0.2,0,0.2,0,0.2,0,0.13750000000000004,0]
[null,141,null,0.2,0.2,0.2,0,0.2,0,0.2,0,0.13625000000000001,0]
[null,142,null,0.2,0.2,0.2,0,0.2,0,0.2,0,0.13500000000000001,0]
[null,143,null,0.2,0.2,0.2,0,0.2,0,0.2,0,0.13375000000000004,0]
[null,144,null,0.2,0.2,0.2,0,0.2,0,0.2,0,0.13250000000000003,0]
[null,145,null,0.2,0.2,0.2,0,0.2,0,0.2,0,0.13125000000000003,0]
[null,146,null,0.2,0.2,0.2,0,0.2,0,0.2,0,0.13,0]
[null,147,null,0.2,0.2,0.2,0,0.2,0,0.2,0,0.12875000000000003,0]
[null,148,null,0.2,0.2,0.2,0,0.2,0,0.2,0,0.12750000000000003,0]
[null,149,null,0.2,0.2,0.2,0,0.2,0,0.2,0,0.12625000000000003,0]
[null,150,null,0.2,0.2,0.2,0,0.2,0,0.2,0,0.12500000000000003,0]